{"text_format":"1","workbook":"xlsx","n_sheets":26,"sheets":["Periodos","Premisas","Contenido","Resumen de Validaciones","110000 - Carátula","110010 - Administradores","110010 GeneraXBRL","800101 - Nota. Efect. y Equiv.","800111 - Nota. Cuentas x cobrar","800111a - Nota. Detalle de CxC.","800111A GeneraXBRL","800500 - Lista de Notas","800600 - Lista de Politicas","811000 - Cambios en Polític...","811000 GeneraXBRL","Lists","822100 - Nota. Prop, plan y eq.","823180 - Nota. Activos Intang.","828000 - Nota. Cuentas x pagar","210000 - Est. Situa. Financiera","310000 - Est. Resultados","410000 - Est. Resultados ORI","520000 - Est. Flujos de Efec.","610000 - Est. Camb. Patrimonio","Anotaciones","Data"],"not_rendered":{"charts":0,"images":8,"macros":1,"external_links":1,"defined_names":76,"comments":7,"pivot_tables":0},"unopened":[],"bounds":{"document_bytes":16777216,"sheet_cells":100000,"rows_first":2000,"rows_last":500,"rows_between":2000,"halvings":0,"cell_chars":16384,"cell_head_chars":4096},"cells_cut":0,"cells_raw":0,"read":"whole","date_system":"1900"}

{"sheet":"Periodos","index":0,"n_rows":9,"n_cols":5,"rows_kept":9,"cut":false,"hidden":true,"merged":[]}
[]
[null,"Time map","Periodo 1","Periodo 2","Periodo 3"]
[null,"Fecha inicio periodo:","2019-01-01","2018-01-01","2017-01-01"]
[null,"Fecha final periodo:","2019-12-31","2018-12-31","2017-12-31"]
[]
[]
[null,"Validaciones"]
[null,"CARÁTULA",{"$f":"'110000 - Carátula'!L13","v":25}]
[null,"ADMINISTRADORES",{"$f":"'110010 - Administradores'!Q13","v":2}]

{"sheet":"Premisas","index":1,"n_rows":48,"n_cols":21,"rows_kept":48,"cut":false,"hidden":true,"merged":[]}
[null,null,null,null,null,null,null,null,null,null,null,null,null,null,null,null,null,null,"Codename","Visible","Pwd"]
["Formulas",null,"Trama SD","Trama Omitir","Trama Ignorar",null,null,null,null,null,null,null,"aHojas:",null,null,"Exclusiones:",null,null,"Hoja00",0,false]
[{"$f":"IF(G3=\"\",\"/*\",\"\")","v":"/*"},null,null,null,null,null,null,null,null,null,null,null,null,null,null,"Premisas;Contenido;Resumen de Validaciones;Data",null,null,"Hoja03",0,false]
[null,null,null,null,null,null,null,null,null,null,null,null,null,null,null,null,null,null,"Hoja1",2,false]
["OutPutRange",null,null,null,null,null,null,null,null,null,null,null,null,null,null,null,null,null,"Hoja2",-1,true]
["Encabezado del documento:",{"$f":"Data!$B$5:$B$13","v":"xmlns:link = 'http://www.xbrl.org/2003/linkbase'"},null,null,null,null,null,null,null,null,null,null,null,null,null,null,null,null,"Hoja6",-1,true]
["Referencia al esquema:",{"$f":"Data!$B$14","v":"link:schemaRef xlink:type='simple' xlink:href='https://www.supervigilancia.gov.co/tools/Taxonomias/2019-12-31/Grupo2_2019-12-31.xsd'"},null,null,null,null,null,null,null,null,null,null,null,null,null,null,null,null,"Hoja4",-1,true]
["Centro del documento:",{"$f":"Data!B15:B20","v":{"$error":"#VALUE!"}},null,null,null,null,null,null,null,null,null,null,null,null,null,null,null,null,"Hoja12",-1,true]
["Cierre de instancia:",{"$f":"Data!B23","v":"</xbrli:xbrl>"},null,null,null,null,null,null,null,null,null,null,null,null,null,null,null,null,"Hoja13",0,false]
["Idioma del pie:",{"$f":"Data!B22","v":"\"en\""},null,null,null,null,null,null,null,null,null,null,null,null,null,null,null,null,"Hoja11",-1,true]
[null,null,null,null,null,null,null,null,null,null,null,null,null,null,null,null,null,null,"Hoja18",-1,true]
["Versión InExX:","Ver 2.0",null,null,null,null,null,null,null,null,null,null,null,null,null,null,null,null,"Hoja5",-1,true]
["Versión Plantilla:",{"$f":"Contenido!D8","v":"Versión 3.0"},null,null,null,null,null,null,null,null,null,null,null,null,null,null,null,null,null,0,false]
["Valida:","Si",null,null,null,null,null,null,null,null,null,null,null,null,null,null,null,null,"Hoja3",-1,true]
["Conteo:",{"$f":"'Resumen de Validaciones'!G30","v":121},null,null,null,null,null,null,null,null,null,null,null,null,null,null,null,null,"Hoja7",-1,true]
["Ruta web del punto de entrada","https://www.supervigilancia.gov.co/tools/Taxonomias/2019-12-31/Grupo2_2019-12-31.xsd",null,null,null,null,null,null,null,null,null,null,null,null,null,null,null,null,"Hoja8",-1,true]
["Nit",{"$f":"IF('110000 - Carátula'!F16=\"\",\"000000000\",'110000 - Carátula'!F16)","v":"000000000"},null,null,null,null,null,null,null,null,null,null,null,null,null,null,null,null,"Hoja9",-1,true]
["Fecha de Corte",{"$f":"'110000 - Carátula'!F18","v":"2019-12-31"},null,null,null,null,null,null,null,null,null,null,null,null,null,null,null,null,"Hoja14",-1,true]
["Grupo o Punto de entrada","Grupo 2",null,null,null,null,null,null,null,null,null,null,null,null,null,null,null,null,"Hoja16",-1,true]
["Nombre del archivo",{"$f":"\"N\"&cHNIT&\"A\"&MID(YEAR(cHFechaCorte),3,2)&\"G\"&MID(cHTx,7,1)&\".xbrl\"","v":"N000000000A19G2.xbrl"},null,null,null,null,null,null,null,null,null,null,null,null,null,null,null,null,"Hoja15",-1,true]
[null,null,null,null,null,null,null,null,null,null,null,null,null,null,null,null,null,null,"Hoja17",-1,true]
["Texto 1","Esta herramienta es una opción que facilita a los vigilados pertenecientes al ",null,null,null,null,null,null,null,null,null,null,null,null,null,null,null,null,"Hoja01",2,false]
["Texto 2"," de aplicación de normatividad financiera de la Superintendencia de Vigilancia y Seguridad Privada, la generación de los archivos (instancias) XBRL que la entidad requiere como parte de la presentación de la información financiera para el corte a diciembre 31 de 2019."]
[]
[]
["Local address"]
[{"$f":"'110000 - Carátula'!$E$13","v":0}]
[{"$f":"'110010 GeneraXBRL'!$D$10","v":"co-svsp-core:AdministradoresEje"}]
[{"$f":"'800101 - Nota. Efect. y Equiv.'!$E$13","v":0}]
[{"$f":"'800111 - Nota. Cuentas x cobrar'!$E$14","v":"co-svsp-core:CuentasPorCobrar_Eje"}]
[{"$f":"'800111 - Nota. Cuentas x cobrar'!$E$38","v":"co-svsp-core:CuentasPorCobrar_Eje"}]
[{"$f":"'800111A GeneraXBRL'!$D$10","v":"co-svsp-core:DetalleCuentasXCobrar_Eje"}]
[{"$f":"'800111A GeneraXBRL'!$D$181","v":"co-svsp-core:DetalleCuentasXCobrar_Eje"}]
[{"$f":"'800500 - Lista de Notas'!$E$13","v":0}]
[{"$f":"'800600 - Lista de Politicas'!$E$13","v":0}]
[{"$f":"'811000 GeneraXBRL'!$D$10","v":"co-svsp-core:InformacionarevelarSobreCambiosEnPoliticasContablesEstimacionesOErroresEje"}]
[{"$f":"'822100 - Nota. Prop, plan y eq.'!$E$14","v":"co-svsp-core:PropiedadesPlantaYEquipoEje_G2"}]
[{"$f":"'822100 - Nota. Prop, plan y eq.'!$E$47","v":"co-svsp-core:PropiedadesPlantaYEquipoEje_G2"}]
[{"$f":"'823180 - Nota. Activos Intang.'!$E$15","v":"co-svsp-core:ActivosIntangibles_Eje_G2"}]
[{"$f":"'823180 - Nota. Activos Intang.'!$E$38","v":"co-svsp-core:ActivosIntangibles_Eje_G2"}]
[{"$f":"'828000 - Nota. Cuentas x pagar'!$E$14","v":"co-svsp-core:CuentasXPagar_Eje"}]
[{"$f":"'828000 - Nota. Cuentas x pagar'!$E$27","v":"co-svsp-core:CuentasXPagar_Eje"}]
[{"$f":"'210000 - Est. Situa. Financiera'!$E$13","v":0}]
[{"$f":"'310000 - Est. Resultados'!$E$13","v":0}]
[{"$f":"'410000 - Est. Resultados ORI'!$E$13","v":0}]
[{"$f":"'520000 - Est. Flujos de Efec.'!$E$13","v":0}]
[{"$f":"'610000 - Est. Camb. Patrimonio'!$E$15","v":"ifrs-smes:ComponentsOfEquityAxis"}]
[{"$f":"'610000 - Est. Camb. Patrimonio'!$E$39","v":"ifrs-smes:ComponentsOfEquityAxis"}]

{"sheet":"Contenido","index":2,"n_rows":38,"n_cols":9,"rows_kept":38,"cut":false,"hidden":false,"merged":[[37,3,37,12],[31,3,31,12],[33,3,33,12],[35,3,35,12],[5,3,5,12],[6,3,6,12],[7,3,7,12],[27,6,27,9],[30,3,30,12],[28,6,28,9],[9,5,9,10]]}
[]
[]
[]
[]
[]
[null,null,null,{"$f":"\"Plantilla InExX \"&Premisas!B12&\" para generación de instancias XBRL \"","v":"Plantilla InExX Ver 2.0 para generación de instancias XBRL "}]
[null,null,null,{"$f":"Premisas!B19&\" - Corte a Diciembre 31 de 2019\"","v":"Grupo 2 - Corte a Diciembre 31 de 2019"}]
[null,null,null,"Versión 3.0"]
[]
[null,null,null,null,null,"Formularios"]
[]
[null,null,null,null,null,null,110000,null,"Carátula"]
[null,null,null,null,null,null,110010,null,"Administradores"]
[null,null,null,null,null,null,210000,null,"Estado de situación financiera"]
[null,null,null,null,null,null,310000,null,"Estado de Resultados"]
[null,null,null,null,null,null,410000,null,"Estado de Resultados - Otro Resultado Integral"]
[null,null,null,null,null,null,520000,null,"Estado de Flujos de Efectivo"]
[null,null,null,null,null,null,610000,null,"Estado de Cambios en el Patrimonio"]
[null,null,null,null,null,null,800101,null,"Nota de Efectivo y equivalentes al efectivo"]
[null,null,null,null,null,null,800111,null,"Nota de Cuentas por cobrar"]
[null,null,null,null,null,null,"800111a",null,"Nota de Detalle de Cuentas por cobrar"]
[null,null,null,null,null,null,800500,null,"Lista de Notas"]
[null,null,null,null,null,null,800600,null,"Lista de Políticas contables"]
[null,null,null,null,null,null,822100,null,"Nota de Propiedades, planta y equipo"]
[null,null,null,null,null,null,823180,null,"Nota de Activos Intangibles"]
[null,null,null,null,null,null,828000,null,"Nota de cuentas por pagar"]
[]
[null,null,null,null,null,null,"Resumen de validaciones"]
[null,null,null,null,null,null,"Anotaciones"]
[]
[]
[null,null,null,{"$f":"Texto_1&Premisas!B19&Texto_2","v":"Esta herramienta es una opción que facilita a los vigilados pertenecientes al Grupo 2 de aplicación de normatividad financiera de la Superintendencia de Vigilancia y Seguridad Privada, la generación de los archivos (instancias) XBRL que la entidad requiere como parte de la presentación de la información financiera para el corte a diciembre 31 de 2019."}]
[]
[null,null,null,"El uso de esta herramienta no es obligatorio, ni su comportamiento puede ser motivo para sustentar el no cumplimiento del requerimiento en los términos indicados en él."]
[]
[null,null,null,"Para consultar detalles sobre el uso de esta herramienta se puede acceder al botón de ayuda ubicado la barra de menú o consultar el portal web de la entidad."]
[]
[null,null,null,"Ver Certificado de licencia y condiciones de uso"]

{"sheet":"Resumen de Validaciones","index":3,"n_rows":30,"n_cols":10,"rows_kept":30,"cut":false,"hidden":false,"merged":[[29,1,29,5],[1,1,1,2],[2,1,2,2],[3,1,3,2],[5,2,7,5],[9,2,10,3],[9,4,10,5]]}
[null,null,null,null,null,null,null,0]
[]
[]
[]
[]
[null,null,"Resumen de validaciones"]
[]
[]
[null,{"$f":"MID(A9,27,2)","v":""}]
[null,{"$f":"MID(A10,34,2)","v":""},"Formulario",null,"Estado de validaciones por formulario"]
[null,{"$f":"MID(A11,48,2)","v":""}]
[null,null,110000,"Carátula",{"$f":"IF('110000 - Carátula'!L13=0,\"El formulario NO tiene validaciones pendientes\",\"El Formulario tiene validaciones pendientes\")","v":"El Formulario tiene validaciones pendientes"},{"$f":"'110000 - Carátula'!H13","v":"Formulario 'Carátula' con 25 Celdas por diligenciar"},null,null,{"$f":"MID(F12,27,2)","v":"25"},{"$f":"IF(F12=\"Formulario 'Carátula' Completo\",0,ABS(I12))","v":25}]
[null,null,110010,"Administradores",{"$f":"IF('110010 - Administradores'!Q13=0,\"El formulario NO tiene validaciones pendientes\",\"El Formulario tiene validaciones pendientes\")","v":"El Formulario tiene validaciones pendientes"},{"$f":"'110010 - Administradores'!M13","v":"Formulario 'Administradores' con 2 filas por diligenciar"},null,null,{"$f":"MID(F13,34,2)","v":"2 "},{"$f":"IF(F13=\"Formulario 'Administradores' Completo\",0,ABS(I13))","v":2}]
[null,null,210000,"Estado de situación financiera",{"$f":"IF('210000 - Est. Situa. Financiera'!M13=0,\"El formulario NO tiene validaciones pendientes\",\"El Formulario tiene validaciones pendientes\")","v":"El Formulario tiene validaciones pendientes"},{"$f":"'210000 - Est. Situa. Financiera'!I13","v":"Formulario 'Estado de Situación Financiera' con 6 inconsistencias"},null,null,{"$f":"MID(F14,49,2)","v":"6 "},{"$f":"IF(F14=\"Formulario 'Estado de Situación Financiera' Válido\",0,ABS(I14))","v":6}]
[null,null,310000,"Estado de Resultados",{"$f":"IF('310000 - Est. Resultados'!O13=0,\"El formulario NO tiene validaciones pendientes\",\"El Formulario tiene validaciones pendientes\")","v":"El Formulario tiene validaciones pendientes"},{"$f":"'310000 - Est. Resultados'!I13","v":"Formulario 'Estado de Resultados' con 4 inconsistencias"},null,null,{"$f":"MID(F15,39,2)","v":"4 "},{"$f":"IF(F15=\"Formulario 'Estado de Resultados' Válido\",0,ABS(I15))","v":4}]
[null,null,410000,"Estado de Resultados - Otro Resultado Integral",{"$f":"IF('410000 - Est. Resultados ORI'!N13=0,\"El formulario NO tiene validaciones pendientes\",\"El Formulario tiene validaciones pendientes\")","v":"El formulario NO tiene validaciones pendientes"},{"$f":"'410000 - Est. Resultados ORI'!I13","v":"Formulario 'Estado de Resultados - ORI' Válido"},null,null,{"$f":"MID(F16,44,2)","v":"id"},{"$f":"IF(F16=\"Formulario 'Estado de Resultados - ORI' Válido\",0,ABS(I16))","v":0}]
[null,null,520000,"Estado de Flujos de Efectivo",{"$f":"IF('520000 - Est. Flujos de Efec.'!P13=0,\"El formulario NO tiene validaciones pendientes\",\"El Formulario tiene validaciones pendientes\")","v":"El formulario NO tiene validaciones pendientes"},{"$f":"'520000 - Est. Flujos de Efec.'!I13","v":"Formulario 'Estado de Flujos de Efectivo' Válido"},null,null,{"$f":"MID(F17,47,2)","v":"do"},{"$f":"IF(F17=\"Formulario 'Estado de Flujos de Efectivo' Válido\",0,ABS(I17))","v":0}]
[null,null,610000,"Estado de Cambios en el Patrimonio",{"$f":"IF('610000 - Est. Camb. Patrimonio'!U13=0,\"El formulario NO tiene validaciones pendientes\",\"El Formulario tiene validaciones pendientes\")","v":"El Formulario tiene validaciones pendientes"},{"$f":"'610000 - Est. Camb. Patrimonio'!Q13","v":"Formulario 'Estado de Cambios en el Patrimonio' con 1 inconsistencias"},null,null,{"$f":"MID(F18,53,2)","v":"1 "},{"$f":"IF(F18=\"Formulario 'Estado de Cambios en el Patrimonio' Válido\",0,ABS(I18))","v":1}]
[null,null,800101,"Nota de Efectivo y equivalentes al efectivo",{"$f":"IF('800101 - Nota. Efect. y Equiv.'!P13=0,\"El formulario NO tiene validaciones pendientes\",\"El Formulario tiene validaciones pendientes\")","v":"El Formulario tiene validaciones pendientes"},{"$f":"'800101 - Nota. Efect. y Equiv.'!J13","v":"Formulario 'Nota de Efectivo...' con 1 inconsistencias"},null,null,{"$f":"MID(F19,37,2)","v":" 1"},{"$f":"IF(F19=\"Formulario 'Nota de Efectivo...' Válido\",0,ABS(I19))","v":1}]
[null,null,800111,"Nota de Cuentas por cobrar",{"$f":"IF('800111 - Nota. Cuentas x cobrar'!U12=0,\"El formulario NO tiene validaciones pendientes\",\"El Formulario tiene validaciones pendientes\")","v":"El formulario NO tiene validaciones pendientes"},{"$f":"'800111 - Nota. Cuentas x cobrar'!Q12","v":"Formulario 'Nota de Cuentas por cobrar' Válido"},null,null,{"$f":"MID(F20,45,2)","v":"do"},{"$f":"IF(F20=\"Formulario 'Nota de Cuentas por cobrar' Válido\",0,ABS(I20))","v":0}]
[null,null,"800111a","Nota de Detalle de Cuentas por cobrar",{"$f":"IF('800111a - Nota. Detalle de CxC.'!V12=0,\"El formulario NO tiene validaciones pendientes\",\"El Formulario tiene validaciones pendientes\")","v":"El formulario NO tiene validaciones pendientes"},{"$f":"'800111a - Nota. Detalle de CxC.'!S12","v":"Formulario 'Nota de Detalle de cuentas por cobrar' Válido"},null,null,{"$f":"MID(F21,55,2)","v":"id"},{"$f":"IF(F21=\"Formulario 'Nota de Detalle de cuentas por cobrar' Válido\",0,ABS(I21))","v":0}]
[null,null,800500,"Lista de Notas",{"$f":"IF('800500 - Lista de Notas'!K13=0,\"El formulario NO tiene validaciones pendientes\",\"El Formulario tiene validaciones pendientes\")","v":"El Formulario tiene validaciones pendientes"},{"$f":"'800500 - Lista de Notas'!H13","v":"Formulario 'Lista de notas' con 41 inconsistencias"},null,null,{"$f":"MID(F22,33,2)","v":"41"},{"$f":"IF(F22=\"Formulario 'Lista de notas' Válido\",0,ABS(I22))","v":41}]
[null,null,800600,"Lista de Políticas contables",{"$f":"IF('800600 - Lista de Politicas'!K13=0,\"El formulario NO tiene validaciones pendientes\",\"El Formulario tiene validaciones pendientes\")","v":"El Formulario tiene validaciones pendientes"},{"$f":"'800600 - Lista de Politicas'!H13","v":"Formulario 'Lista de políticas contables' con 41 inconsistencias"},null,null,{"$f":"MID(F23,47,2)","v":"41"},{"$f":"IF(F23=\"Formulario 'Lista de políticas contables' Válido\",0,ABS(I23))","v":41}]
[null,null,811000,"Nota de Cambios en Políticas …",{"$f":"IF('811000 - Cambios en Polític...'!Q12=0,\"El formulario NO tiene validaciones pendientes\",\"El Formulario tiene validaciones pendientes\")","v":"El formulario NO tiene validaciones pendientes"},{"$f":"'811000 - Cambios en Polític...'!M12","v":"Formulario 'Nota de Cambios en políticas...' Válido"},null,null,{"$f":"MID(F24,50,2)","v":"do"},{"$f":"IF(F24=\"Formulario 'Nota de Cambios en políticas...' Válido\",0,ABS(I24))","v":0}]
[null,null,822100,"Nota de Propiedades, planta y equipo",{"$f":"IF('822100 - Nota. Prop, plan y eq.'!AD12=0,\"El formulario NO tiene validaciones pendientes\",\"El Formulario tiene validaciones pendientes\")","v":"El formulario NO tiene validaciones pendientes"},{"$f":"'822100 - Nota. Prop, plan y eq.'!Z12","v":"Formulario 'Nota de Propiedades, planta y equipo' Válido"},null,null,{"$f":"MID(F25,70,2)","v":""},0]
[null,null,823180,"Nota de Activos Intangibles",{"$f":"IF('823180 - Nota. Activos Intang.'!T13=0,\"El formulario NO tiene validaciones pendientes\",\"El Formulario tiene validaciones pendientes\")","v":"El formulario NO tiene validaciones pendientes"},"Formulario 'Nota de Activos Intangibles' Válido",null,null,{"$f":"MID(F26,70,2)","v":""},0]
[null,null,828000,"Nota de cuentas por pagar",{"$f":"IF('828000 - Nota. Cuentas x pagar'!W12=0,\"El formulario NO tiene validaciones pendientes\",\"El Formulario tiene validaciones pendientes\")","v":"El formulario NO tiene validaciones pendientes"},{"$f":"'828000 - Nota. Cuentas x pagar'!S12","v":"Formulario 'Nota de Cuentas por pagar' Válido"},null,null,{"$f":"MID(F27,44,2)","v":"do"},{"$f":"IF(F27=\"Formulario 'Nota de Cuentas por pagar' Válido\",0,ABS(I27))","v":0}]
[]
[]
[null,{"$f":"IF(I30=0,\"El archivo NO tiene validaciones pendientes\",\"El archivo tiene validaciones pendientes:\")","v":"El archivo tiene validaciones pendientes:"},null,null,null,null,{"$f":"I30","v":121},null,{"$f":"J30","v":121},{"$f":"IFERROR(SUM(J12:J28),Check)","v":121}]

{"sheet":"110000 - Carátula","index":4,"n_rows":52,"n_cols":16,"rows_kept":52,"cut":false,"hidden":false,"merged":[[7,4,9,7]]}
[]
[]
[]
[]
[]
[]
[]
[null,null,null,null,"110000 - CARÁTULA"]
[]
[]
[]
[null,null,null,null,null,1]
[null,null,"Periodo",null,null,"INFORMACIÓN A REVELAR 2019-21-31",null,{"$f":"IF(L13=0,\"Formulario 'Carátula' Completo\",\"Formulario 'Carátula' con \"&L13&\" Celdas por diligenciar\")","v":"Formulario 'Carátula' con 25 Celdas por diligenciar"},null,null,null,{"$f":"SUM(L16:L52)","v":25}]
[null,null,1,"co-svsp-core:Caratula","Carátula"]
[null,null,1,"co-svsp-core:DatosBasicos","Datos Básicos"]
[null,null,1,"co-svsp-core:NIT","NIT",null,null,{"$f":"IF(F16<>\"\",\"CORRECTO\",\"Debe registrar información para '\"&E16&\"'\")","v":"Debe registrar información para 'NIT'"},null,null,null,{"$f":"IF(H16=\"CORRECTO\",0,1)","v":1}]
[null,null,1,"co-svsp-core:DV","DV",null,null,{"$f":"IF(F17<>\"\",\"CORRECTO\",\"Debe registrar información para '\"&E17&\"'\")","v":"Debe registrar información para 'DV'"},null,null,null,{"$f":"IF(H17=\"CORRECTO\",0,1)","v":1}]
[null,null,1,"co-svsp-core:FechadeCorte","Fecha de Corte","2019-12-31",null,{"$f":"IF(F18<>\"\",\"CORRECTO\",\"Debe registrar información para '\"&E18&\"'\")","v":"CORRECTO"},null,null,null,{"$f":"IF(H18=\"CORRECTO\",0,1)","v":0}]
[null,null,1,"co-svsp-core:SereunioelmaximoOrganoSocialparaconsiderarlosEstadosFinancieros","Se reunió el máximo Órgano Social para considerar los Estados Financieros",null,null,{"$f":"IF(F19<>\"\",\"CORRECTO\",\"Debe registrar información para '\"&E19&\"'\")","v":"Debe registrar información para 'Se reunió el máximo Órgano Social para considerar los Estados Financieros'"},null,null,null,{"$f":"IF(H19=\"CORRECTO\",0,1)","v":1},null,{"$f":"IF(OR(F19=\"\",F19=\"02. NO\"),0,1)","v":0}]
[null,null,1,"co-svsp-core:ActaNumero","Acta Número",null,null,{"$f":"IF(P20=\"CORRECTO\",\"CORRECTO\",\"Debe registrar información para '\"&E20&\"' cuando responda afirmativamente a la pregunta '\"&E19&\"', en caso contrario esta celda debe estar vacia\")","v":"CORRECTO"},null,null,null,{"$f":"IF(P20=\"CORRECTO\",0,1)","v":0},null,{"$f":"IF(F20=\"\",0,1)","v":0},null,{"$f":"IF(AND(N19=0,N20=0),\"CORRECTO\",IF(AND(N19<>0,N20<>0),\"CORRECTO\",\"INCORRECTO\"))","v":"CORRECTO"}]
[null,null,1,"co-svsp-core:FechadelActa","Fecha del Acta",null,null,{"$f":"IF(P21=\"CORRECTO\",\"CORRECTO\",\"Debe registrar información para '\"&E21&\"' cuando responda afirmativamente a la pregunta '\"&E20&\"', en caso contrario esta celda debe estar vacia\")","v":"CORRECTO"},null,null,null,{"$f":"IF(H21=\"CORRECTO\",0,1)","v":0},null,{"$f":"IF(F21=\"\",0,1)","v":0},null,{"$f":"IF(AND(N19=0,N21=0),\"CORRECTO\",IF(AND(N19<>0,N21<>0),\"CORRECTO\",\"INCORRECTO\"))","v":"CORRECTO"}]
[null,null,1,"co-svsp-core:FueronaprobadosenAsambleaGeneraldeAccionistasolaJuntadeSocios","Fueron aprobados en Asamblea General de Accionistas o la Junta de Socios",null,null,{"$f":"IF(P22=\"CORRECTO\",\"CORRECTO\",\"Debe registrar información para '\"&E22&\"' cuando responda afirmativamente a la pregunta '\"&E21&\"', en caso contrario esta celda debe estar vacia\")","v":"CORRECTO"},null,null,null,{"$f":"IF(H22=\"CORRECTO\",0,1)","v":0},null,{"$f":"IF(F22=\"\",0,1)","v":0},null,{"$f":"IF(AND(N19=0,N22=0),\"CORRECTO\",IF(AND(N19<>0,N22<>0),\"CORRECTO\",\"INCORRECTO\"))","v":"CORRECTO"}]
[null,null,1,"co-svsp-core:InformacionGeneral","Información General"]
[null,null,1,"co-svsp-core:RazonSocial","Razón Social",null,null,{"$f":"IF(F24<>\"\",\"CORRECTO\",\"Debe registrar información para '\"&E24&\"'\")","v":"Debe registrar información para 'Razón Social'"},null,null,null,{"$f":"IF(H24=\"CORRECTO\",0,1)","v":1}]
[null,null,1,"co-svsp-core:ObjetoSocialPrincipal","Objeto Social Principal",null,null,"Debe registrar información para 'Objeto Social Principal'",null,null,null,1]
[null,null,1,"co-svsp-core:ClasificacionIndustrialInternacionalUniformeVersion4AC","Clasificación Industrial Internacional Uniforme Versión 4 A.C",null,null,"Debe registrar información para 'Clasificación Industrial Internacional Uniforme Versión 4 A.C'",null,null,null,1]
[null,null,1,"co-svsp-core:GrupodePreparadoresdeInformacionFinanciera","Grupo de Preparadores de Información Financiera",null,null,"Debe registrar información para 'Grupo de Preparadores de Información Financiera'",null,null,null,1]
[null,null,1,"co-svsp-core:NaturalezadelaEmpresa","Naturaleza de la Empresa",null,null,"Debe registrar información para 'Naturaleza de la Empresa'",null,null,null,1]
[null,null,1,"co-svsp-core:TipoSocietario","Tipo Societario",null,null,"Debe registrar información para 'Tipo Societario'",null,null,null,1]
[null,null,1,"co-svsp-core:EstadoDeLaEmpresa","Estado de la Empresa",null,null,"Debe registrar información para 'Estado de la Empresa'",null,null,null,1]
[null,null,1,"co-svsp-core:DirecciondeNotificacionJudicial","Dirección de Notificación Judicial",null,null,"Debe registrar información para 'Dirección de Notificación Judicial'",null,null,null,1]
[null,null,1,"co-svsp-core:DepartamentodeNotificacionJudicial","Departamento de Notificación Judicial",null,null,"Debe registrar información para 'Departamento de Notificación Judicial'",null,null,null,1]
[null,null,1,"co-svsp-core:CiudaddeNotificacionJudicial","Ciudad de Notificación Judicial",null,null,{"$f":"IF(AND(F33<>\"\",MID(F32,1,2)=MID(F33,1,2)),\"CORRECTO\",\"Debe registrar información para '\"&E33&\"'. El valor seleccionado para '\"&E33&\"' debe corresponder con el valor seleccionado para '\"&E32&\"'.\")","v":"Debe registrar información para 'Ciudad de Notificación Judicial'. El valor seleccionado para 'Ciudad de Notificación Judicial' debe corresponder con el valor seleccionado para 'Departamento de Notificación Judicial'."},null,null,null,1]
[null,null,1,"co-svsp-core:CorreoElectronicoDeNotificacion","Correo electrónico de notificación",null,null,{"$f":"IF(AND(K34=FALSE,F34<>\"\"),\"CORRECTO\",\"Debe registrar información para '\"&E34&\"'\")","v":"Debe registrar información para 'Correo electrónico de notificación'"},null,null,{"$f":"ISERROR(AND(SEARCH(\"@\",F34),SEARCH(\".\",F34)))","v":true},1]
[null,null,1,"co-svsp-core:AutorizacionNotificacionJudicial","Autorizo a la Superintendencia de Vigilancia y Seguridad Privada a que me notifique y/o comunique cualquier decisión al correo electrónico suministrado en el marco de la aplicación del artículo 56 de la Ley 1437 de 2011",null,null,{"$f":"IF(F35<>\"\",\"CORRECTO\",\"Debe registrar información para '\"&E35&\"'\")","v":"Debe registrar información para 'Autorizo a la Superintendencia de Vigilancia y Seguridad Privada a que me notifique y/o comunique cualquier decisión al correo electrónico suministrado en el marco de la aplicación del artículo 56 de la Ley 1437 de 2011'"},null,null,null,{"$f":"IF(H35=\"CORRECTO\",0,1)","v":1},null,{"$f":"IF(OR(F35=\"\",F35=\"02. NO\"),0,1)","v":0}]
[null,null,1,"co-svsp-core:Celular","Celular",null,null,"Debe registrar información para 'Celular'",null,null,null,1]
[null,null,1,"co-svsp-core:TelefonoFijo","Teléfono Fijo",null,null,"Debe registrar información para 'Teléfono Fijo'",null,null,null,1]
[null,null,1,"co-svsp-core:InformacionAnteSupervigilancia","Información ante Supervigilancia"]
[null,null,1,"co-svsp-core:EstadoDeLicenciaDeFuncionamiento","Estado de Licencia de Funcionamiento",null,null,{"$f":"IF(F39<>\"\",\"CORRECTO\",\"Debe registrar información para '\"&E39&\"'\")","v":"Debe registrar información para 'Estado de Licencia de Funcionamiento'"},null,null,null,{"$f":"IF(H39=\"CORRECTO\",0,1)","v":1}]
[null,null,1,"co-svsp-core:TipoDeServicio","Tipo de Servicio",null,null,{"$f":"IF(F40<>\"\",\"CORRECTO\",\"Debe registrar información para '\"&E40&\"'\")","v":"Debe registrar información para 'Tipo de Servicio'"},null,null,null,{"$f":"IF(H40=\"CORRECTO\",0,1)","v":1}]
[null,null,1,"co-svsp-core:InformacionSobreLaRevisoriaFiscal","Información sobre la Revisoría Fiscal"]
[null,null,1,"co-svsp-core:LaCompaniaEstaObligadaARevisorFiscal","¿La compañía esta obligada a tener revisor fiscal?",null,null,{"$f":"IF(F42<>\"\",\"CORRECTO\",\"Debe registrar información para '\"&E42&\"'\")","v":"Debe registrar información para '¿La compañía esta obligada a tener revisor fiscal?'"},null,null,null,{"$f":"IF(H42=\"CORRECTO\",0,1)","v":1},null,{"$f":"IF(OR(F42=\"\",F42=\"02. NO\"),0,1)","v":0}]
[null,null,1,"co-svsp-core:RevisorFiscalPerteneceAFirma","¿El revisor fiscal pertenece a una firma?",null,null,{"$f":"IF(P43=\"CORRECTO\",\"CORRECTO\",\"Debe registrar información para '\"&E43&\"' cuando responde afirmativamente a '\"&E42&\"'. '\"&E43&\"' debe estar vacio cuando responde negativamente a '\"&E42&\"'\")","v":"CORRECTO"},null,null,null,{"$f":"IF(P43=\"CORRECTO\",0,1)","v":0},null,{"$f":"IF(F43=\"\",0,1)","v":0},{"$f":"IF(OR(F43=\"\",F43=\"02. NO\"),0,1)","v":0},{"$f":"IF(AND(N42=0,N43=0),\"CORRECTO\",IF(AND(N42<>0,N43<>0),\"CORRECTO\",\"INCORRECTO\"))","v":"CORRECTO"}]
[null,null,1,"co-svsp-core:RazonSocialRevisorFiscalPersonaJurídica","¿A que firma pertenece el revisor fiscal?",null,null,{"$f":"IF(P44=\"CORRECTO\",\"CORRECTO\",\"Debe registrar información para '\"&E44&\"' cuando responde afirmativamente a '\"&E43&\"'. '\"&E44&\"' debe estar vacio cuando responde negativamente a '\"&E43&\"'\")","v":"CORRECTO"},null,null,null,{"$f":"IF(H44=\"CORRECTO\",0,1)","v":0},null,null,{"$f":"IF(F44=\"\",0,1)","v":0},{"$f":"IF(AND(O43=0,O44=0),\"CORRECTO\",IF(AND(O43<>0,O44<>0),\"CORRECTO\",\"INCORRECTO\"))","v":"CORRECTO"}]
[null,null,1,"co-svsp-core:DirecciondeDomicilioRevisorFiscalPersonaJurídica","Dirección de Domicilio de la firma a la cual pertenece el revisor fiscal",null,null,{"$f":"IF(P45=\"CORRECTO\",\"CORRECTO\",\"Debe registrar información para '\"&E45&\"' cuando responde afirmativamente a '\"&E43&\"'. '\"&E45&\"' debe estar vacio cuando responde negativamente a '\"&E43&\"'\")","v":"CORRECTO"},null,null,null,{"$f":"IF(H45=\"CORRECTO\",0,1)","v":0},null,null,{"$f":"IF(F45=\"\",0,1)","v":0},{"$f":"IF(AND(O43=0,O45=0),\"CORRECTO\",IF(AND(O43<>0,O45<>0),\"CORRECTO\",\"INCORRECTO\"))","v":"CORRECTO"}]
[null,null,1,"co-svsp-core:RegistroJCCRevisorFiscalPersonaJurídica","Registro en la Junta Central de Contadores del Revisor fiscal",null,null,{"$f":"IF(P46=\"CORRECTO\",\"CORRECTO\",\"Debe registrar información para '\"&E46&\"' cuando responde afirmativamente a '\"&E42&\"'. '\"&E46&\"' debe estar vacio cuando responde negativamente a '\"&E42&\"'\")","v":"CORRECTO"},null,null,null,{"$f":"IF(P46=\"CORRECTO\",0,1)","v":0},null,{"$f":"IF(F46=\"\",0,1)","v":0},null,{"$f":"IF(AND(N42=0,N46=0),\"CORRECTO\",IF(AND(N42<>0,N46<>0),\"CORRECTO\",\"INCORRECTO\"))","v":"CORRECTO"}]
[null,null,1,"co-svsp-core:InformacionSobreConsolidacionDeEstadosFinancieros","Información sobre consolidación de Estados Financieros"]
[null,null,1,"co-svsp-core:LaCompaniaEsResponsableDeConsolidarInformacionParaEstePeriodo","¿La compañía es responsable de consolidar información para este periodo?",null,null,{"$f":"IF(F48<>\"\",\"CORRECTO\",\"Debe registrar información para '\"&E48&\"'\")","v":"Debe registrar información para '¿La compañía es responsable de consolidar información para este periodo?'"},null,null,null,{"$f":"IF(H48=\"CORRECTO\",0,1)","v":1}]
[null,null,1,"co-svsp-core:LaCompaniaEsSubordinadaOAsociadaDeOtraCompania","¿La compañía es subordinada o asociada de otra compañía?",null,null,{"$f":"IF(F49<>\"\",\"CORRECTO\",\"Debe registrar información para '\"&E49&\"'\")","v":"Debe registrar información para '¿La compañía es subordinada o asociada de otra compañía?'"},null,null,null,{"$f":"IF(H49=\"CORRECTO\",0,1)","v":1}]
[null,null,1,"co-svsp-core:LaCompaniaTieneSubordinadas","¿La compañía tiene subordinadas?",null,null,{"$f":"IF(F50<>\"\",\"CORRECTO\",\"Debe registrar información para '\"&E50&\"'\")","v":"Debe registrar información para '¿La compañía tiene subordinadas?'"},null,null,null,{"$f":"IF(H50=\"CORRECTO\",0,1)","v":1}]
[null,null,1,"co-svsp-core:LaCompaniaTieneAsociadas","¿La compañía tiene asociadas?",null,null,{"$f":"IF(F51<>\"\",\"CORRECTO\",\"Debe registrar información para '\"&E51&\"'\")","v":"Debe registrar información para '¿La compañía tiene asociadas?'"},null,null,null,{"$f":"IF(H51=\"CORRECTO\",0,1)","v":1}]
[null,null,1,"co-svsp-core:LaCompaniaTieneNegociosConjuntos","¿La compañía tiene negocios conjuntos?",null,null,{"$f":"IF(F52<>\"\",\"CORRECTO\",\"Debe registrar información para '\"&E52&\"'\")","v":"Debe registrar información para '¿La compañía tiene negocios conjuntos?'"},null,null,null,{"$f":"IF(H52=\"CORRECTO\",0,1)","v":1}]

{"sheet":"110010 - Administradores","index":5,"n_rows":17,"n_cols":17,"rows_kept":17,"cut":false,"hidden":false,"merged":[[7,4,9,12],[12,5,12,10]]}
[]
[]
[]
[]
[]
[]
[]
[null,null,null,null,"110010 - Información a revelar sobre administradores"]
[]
[]
[]
[]
[null,null,null,null,null,"Detalles de Administradores ",null,null,null,null,null,null,{"$f":"IF(Q13=0,\"Formulario 'Administradores' Completo\",\"Formulario 'Administradores' con \"&Q13&\" filas por diligenciar\")","v":"Formulario 'Administradores' con 2 filas por diligenciar"},null,null,null,{"$f":"SUM(Q15:Q17)","v":2}]
[null,null,null,null,"co-svsp-core_2017-12-31:AdministradoresEje","Tipo de documento","Numero de documento","Nombres","Apellidos","Email","Tarjeta profesional"]
[null,null,null,null,"Representante legal [miembro]",null,null,null,null,null,null,null,{"$f":"IF(AND(F15<>\"\",G15<>\"\",H15<>\"\",I15<>\"\",J15<>\"\",P15=FALSE),\"CORRECTO\",\"Registre de forma completa y adecuada la información de \"&E15&\"'\")","v":"Registre de forma completa y adecuada la información de Representante legal [miembro]'"},{"$f":"ISERROR(AND(SEARCH(\"@\",H15),SEARCH(\".\",H15)))","v":true},null,{"$f":"ISERROR(AND(SEARCH(\"@\",J15),SEARCH(\".\",J15)))","v":true},{"$f":"IF(M15=\"CORRECTO\",0,1)","v":1}]
[null,null,null,null,"Contador [miembro]",null,null,null,null,null,null,null,{"$f":"IF(AND(E16<>\"\",F16<>\"\",G16<>\"\",H16<>\"\",I16<>\"\",J16<>\"\",K16<>\"\",P16=FALSE),\"CORRECTO\",\"Registre de forma completa y adecuada la información de \"&E16&\"'\")","v":"Registre de forma completa y adecuada la información de Contador [miembro]'"},{"$f":"ISERROR(AND(SEARCH(\"@\",H16),SEARCH(\".\",H16)))","v":true},null,{"$f":"ISERROR(AND(SEARCH(\"@\",J16),SEARCH(\".\",J16)))","v":true},{"$f":"IF(M16=\"CORRECTO\",0,1)","v":1}]
[null,null,null,null,"Revisor fiscal [miembro]",null,null,null,null,null,null,null,{"$f":"IF(OR('110000 - Carátula'!F42=\"\",'110000 - Carátula'!F42=\"02. NO\"),\"CORRECTO\",IF(AND('110000 - Carátula'!F42=\"01. SI\",F17<>\"\",G17<>\"\",H17<>\"\",I17<>\"\",J17<>\"\",K17<>\"\",P17=FALSE),\"CORRECTO\",\"Se indíca en 'Carátula' la obligatoriedad de tener revisor fiscal, de forma completa y adecuada la información de \"&E17&\"'\"))","v":"CORRECTO"},{"$f":"ISERROR(AND(SEARCH(\"@\",H17),SEARCH(\".\",H17)))","v":true},null,{"$f":"ISERROR(AND(SEARCH(\"@\",J17),SEARCH(\".\",J17)))","v":true},{"$f":"IF(M17=\"CORRECTO\",0,1)","v":0}]

{"sheet":"110010 GeneraXBRL","index":6,"n_rows":16,"n_cols":7,"rows_kept":16,"cut":false,"hidden":true,"merged":[[3,3,5,9],[7,3,7,6]]}
[]
[]
[]
[null,null,null,"110010 - Información a revelar sobre administradores"]
[]
[]
[]
[]
[null,null,null,null,"co-svsp-core:RepresentantePrincipalMiembro","co-svsp-core:ContadorMiembro","co-svsp-core:RevisorFiscalMiembro"]
[null,"Periodo",null,"co-svsp-core:AdministradoresEje","Representante legal [miembro]","Contador [miembro]","Revisor fiscal [miembro]"]
[null,"1;1","co-svsp-core:TipoDeDocumento","Tipo de documento",{"$f":"IF('110010 - Administradores'!$F$15=\"\",\"\",'110010 - Administradores'!$F$15)","v":""},{"$f":"IF('110010 - Administradores'!$F$16=\"\",\"\",'110010 - Administradores'!$F$16)","v":""},{"$f":"IF('110010 - Administradores'!$F$17=\"\",\"\",'110010 - Administradores'!$F$17)","v":""}]
[null,"1;1","co-svsp-core:NumeroDeDocumento","Numero de documento",{"$f":"IF('110010 - Administradores'!$G$15=\"\",\"\",'110010 - Administradores'!$G$15)","v":""},{"$f":"IF('110010 - Administradores'!$G$16=\"\",\"\",'110010 - Administradores'!$G$16)","v":""},{"$f":"IF('110010 - Administradores'!$G$17=\"\",\"\",'110010 - Administradores'!$G$17)","v":""}]
[null,"1;1","co-svsp-core:Nombres","Nombres",{"$f":"IF('110010 - Administradores'!$H$15=\"\",\"\",'110010 - Administradores'!$H$15)","v":""},{"$f":"IF('110010 - Administradores'!$H$16=\"\",\"\",'110010 - Administradores'!$H$16)","v":""},{"$f":"IF('110010 - Administradores'!$H$17=\"\",\"\",'110010 - Administradores'!$H$17)","v":""}]
[null,"1;1","co-svsp-core:Apellidos","Apellidos",{"$f":"IF('110010 - Administradores'!$I$15=\"\",\"\",'110010 - Administradores'!$I$15)","v":""},{"$f":"IF('110010 - Administradores'!$I$16=\"\",\"\",'110010 - Administradores'!$I$16)","v":""},{"$f":"IF('110010 - Administradores'!$I$17=\"\",\"\",'110010 - Administradores'!$I$17)","v":""}]
[null,"1;1","co-svsp-core:Email","Email",{"$f":"IF('110010 - Administradores'!$J$15=\"\",\"\",'110010 - Administradores'!$J$15)","v":""},{"$f":"IF('110010 - Administradores'!$J$16=\"\",\"\",'110010 - Administradores'!$J$16)","v":""},{"$f":"IF('110010 - Administradores'!$J$17=\"\",\"\",'110010 - Administradores'!$J$17)","v":""}]
[null,"1;1","co-svsp-core:TarjetaProfesional","Tarjeta profesional",{"$f":"IF('110010 - Administradores'!$K$15=\"\",\"\",'110010 - Administradores'!$K$15)","v":""},{"$f":"IF('110010 - Administradores'!$K$16=\"\",\"\",'110010 - Administradores'!$K$16)","v":""},{"$f":"IF('110010 - Administradores'!$K$17=\"\",\"\",'110010 - Administradores'!$K$17)","v":""}]

{"sheet":"800101 - Nota. Efect. y Equiv.","index":7,"n_rows":25,"n_cols":17,"rows_kept":25,"cut":false,"hidden":false,"merged":[[6,3,8,11],[12,9,12,11]]}
[]
[]
[]
[]
[]
[]
[null,null,null,"800101 - Nota de Efectivo y equivalentes al efectivo"]
[]
[]
[]
[]
[null,null,null,null,null,1,2,3]
[null,null,null,null,null,"2019-12-31","2018-12-31","2017-12-31",null,{"$f":"IF(P13=0,\"Formulario 'Nota de Efectivo...' Válido\",\"Formulario 'Nota de Efectivo...' con \"&P13&\" inconsistencias\")","v":"Formulario 'Nota de Efectivo...' con 1 inconsistencias"},null,null,null,null,null,{"$f":"SUM(O18:XFD25)","v":1}]
[null,null,1,"ifrs-smes:CashAndCashEquivalentsAbstract","Efectivo y equivalentes al efectivo [resumen]"]
[null,null,1,"ifrs-smes:CashAbstract","Efectivo [resumen]"]
[null,null,1,"ifrs-smes:CashOnHand","Efectivo en caja"]
[null,null,1,"ifrs-smes:BalancesWithBanks","Saldos en bancos"]
[null,null,1,"ifrs-smes:Cash","Total efectivo",{"$f":"F16+F17","v":0},{"$f":"G16+G17","v":0},null,null,{"$f":"IF(F18<>\"\",\"CORRECTO\",\"Debe registrar información para '\"&E18&\"' en la columna correspondiente al periodo actual.\")","v":"CORRECTO"},{"$f":"IF(G18<>\"\",\"CORRECTO\",\"Debe registrar información para '\"&E18&\"' en la columna correspondiente al periodo actual.\")","v":"CORRECTO"},null,null,null,{"$f":"IF(J18=\"CORRECTO\",0,1)","v":0},{"$f":"IF(K18=\"CORRECTO\",0,1)","v":0}]
[null,null,1,"ifrs-smes:CashEquivalentsAbstract","Equivalentes al efectivo [resumen]"]
[null,null,1,"ifrs-smes:ShorttermDepositsClassifiedAsCashEquivalents","Depósitos a corto plazo, clasificados como equivalentes al efectivo"]
[null,null,1,"ifrs-smes:ShorttermInvestmentsClassifiedAsCashEquivalents","Inversiones a corto plazo, clasificados como equivalentes al efectivo"]
[null,null,1,"ifrs-smes:BankingArrangementsClassifiedAsCashEquivalents","Otros acuerdos bancarios, clasificados como equivalentes al efectivo"]
[null,null,1,"ifrs-smes:CashEquivalents","Total equivalentes al efectivo",{"$f":"F20+F21+F22","v":0},{"$f":"G20+G21+G22","v":0}]
[null,null,1,"ifrs-smes:OtherCashAndCashEquivalents","Otro efectivo y equivalentes al efectivo"]
[null,null,1,"ifrs-smes:CashAndCashEquivalents","Total de efectivo y equivalentes al efectivo",{"$f":"F16+F17+F20+F21+F22+F24","v":0},{"$f":"G16+G17+G20+G21+G22+G24","v":0},null,null,{"$f":"IF(F25<>\"\",\"CORRECTO\",\"Debe registrar información para '\"&E25&\"' en la columna correspondiente al periodo actual.\")","v":"CORRECTO"},{"$f":"IF(G25<>\"\",\"CORRECTO\",\"Debe registrar información para '\"&E25&\"'  en la columna correspondiente al periodo anterior.\")","v":"CORRECTO"},{"$f":"IF(H25<>\"\",\"CORRECTO\",\"Debe registrar información para '\"&E25&\"'  en la columna correspondiente al periodo 2017.\")","v":"Debe registrar información para 'Total de efectivo y equivalentes al efectivo'  en la columna correspondiente al periodo 2017."},null,null,{"$f":"IF(J25=\"CORRECTO\",0,1)","v":0},{"$f":"IF(K25=\"CORRECTO\",0,1)","v":0},{"$f":"IF(L25=\"CORRECTO\",0,1)","v":1}]

{"sheet":"800111 - Nota. Cuentas x cobrar","index":8,"n_rows":52,"n_cols":25,"rows_kept":52,"cut":false,"hidden":false,"merged":[[35,5,35,8],[35,9,35,14],[6,4,8,16],[10,5,10,14],[11,5,11,8],[11,9,11,14],[34,5,34,14]]}
[]
[]
[]
[]
[]
[]
[null,null,null,null,"800111 - Nota. Cuentas por cobrar (Para 2019 y 2018)"]
[]
[]
[]
[null,null,null,null,null,"Periodo Actual 31/12/2019"]
[null,null,null,null,null,"Nacional o del exterior [miembro]",null,null,null,"Bandas de tiempo acumuladas [miembro]",null,null,null,null,null,null,{"$f":"IF(U12=0,\"Formulario 'Nota de Cuentas por cobrar' Válido\",\"Formulario 'Nota de Cuentas por cobrar' con \"&U12&\" inconsistencias\")","v":"Formulario 'Nota de Cuentas por cobrar' Válido"},null,null,null,{"$f":"SUM(U17:U52)","v":0},{"$f":"SUM(U18:V25)","v":0}]
[null,null,null,null,null,"co-svsp-core:Nacionales_corrientes_CxC_Miembro","co-svsp-core:En_el_exterior_corrientes_CxC_Miembro","co-svsp-core:Nacionales_no_corrientes_CxC_Miembro","co-svsp-core:En_el_exterior_no_corrientes_CxC_Miembro","co-svsp-core:CxC_No_vencida_Miembro","co-svsp-core:CxC_Vencidas_1_a_90_dias_Miembro","co-svsp-core:CxC_Vencidas_91_a_180_dias_Miembro","co-svsp-core:CxC_Vencidas_181_a_360_dias_Miembro","co-svsp-core:CxC_Vencidas_mas_de_360_dias_Miembro","co-svsp-core:CxC_Total_Vencidas_Miembro"]
[null,null,null,null,"co-svsp-core:CuentasPorCobrar_Eje","Nacionales corrientes [miembro]","En el exterior corrientes [miembro]","Nacionales no corrientes [miembro]","En el exterior no corrientes [miembro]","Número de vencidas [miembro]","Valor vencidas de 1 a 90 días [miembro]","Valor vencidas de 91 a 180 días [miembro]","Valor vencidas de 181 a 360 días  [miembro]","Valor vencidas de mas de 360 días [miembro]","Total cuentas por cobrar vencidas [miembro]"]
[null,null,"1;1","co-svsp-core:CxC_Cuentas_comerciales_por_cobrar_y_otras_cuentas_por_cobrar","Cuentas comerciales por cobrar y otras cuentas por cobrar"]
[null,null,"1;1","co-svsp-core:CxC_Cuentas_comerciales_por_cobrar","Cuentas comerciales por cobrar"]
[null,null,"1;1","co-svsp-core:CxC_Cuentas_comerciales_por_cobrar_no_están_en_mora_ni_deterioradas_de_valor","Cuentas comerciales por cobrar que no están en mora ni deterioradas de valor",null,null,null,null,null,null,null,null,null,{"$f":"K17+L17+M17+N17","v":0},null,{"$f":"IF(Y17=\"CORRECTO\",\"CORRECTO\",\"Al indicar que se tienen cuentas vencidas para '\"&E17&\"', debe indicarse el monto en la columna correspondiente y viceversa.\")","v":"CORRECTO"},null,null,null,{"$f":"IF(Q17=\"CORRECTO\",0,1)","v":0},null,{"$f":"IF(OR(J17=\"\",J17=0),0,1)","v":0},{"$f":"K17+L17+M17+N17","v":0},{"$f":"IF(AND(W17=0,X17=0),\"CORRECTO\",IF(AND(W17<>0,X17<>0),\"CORRECTO\",\"INCORRECTO\"))","v":"CORRECTO"}]
[null,null,"1;1","co-svsp-core:CxC_Cuentas_comerciales_por_cobrar_en_mora_pero_no_deterioradas_de_valor","Cuentas comerciales por cobrar en mora pero no deterioradas de valor",null,null,null,null,null,null,null,null,null,{"$f":"K18+L18+M18+N18","v":0},null,{"$f":"IF(Y18=\"CORRECTO\",\"CORRECTO\",\"Al indicar que se tienen cuentas vencidas para '\"&E18&\"', debe indicarse el monto en la columna correspondiente y viceversa.\")","v":"CORRECTO"},null,null,null,{"$f":"IF(Q18=\"CORRECTO\",0,1)","v":0},null,{"$f":"IF(OR(J18=\"\",J18=0),0,1)","v":0},{"$f":"K18+L18+M18+N18","v":0},"CORRECTO"]
[null,null,"1;1","co-svsp-core:CxC_Cuentas_comerciales_por_cobrar_deterioradas_de_valor","Cuentas comerciales por cobrar deterioradas de valor",null,null,null,null,null,null,null,null,null,{"$f":"K19+L19+M19+N19","v":0},null,{"$f":"IF(Y19=\"CORRECTO\",\"CORRECTO\",\"Al indicar que se tienen cuentas vencidas para '\"&E19&\"', debe indicarse el monto en la columna correspondiente y viceversa.\")","v":"CORRECTO"},null,null,null,0,null,0,0,"CORRECTO"]
[null,null,"1;1","co-svsp-core:CxC_Deterioro_menor_valor","Deterioro (menor valor)",null,null,null,null,null,null,null,null,null,{"$f":"K20+L20+M20+N20","v":0},null,{"$f":"IF(Y20=\"CORRECTO\",\"CORRECTO\",\"Al indicar que se tienen cuentas vencidas para '\"&E20&\"', debe indicarse el monto en la columna correspondiente y viceversa.\")","v":"CORRECTO"},null,null,null,0,null,0,0,"CORRECTO"]
[null,null,"1;1","co-svsp-core:CxC_Total_cuentas_comerciales_por_cobrar","Total cuentas comerciales por cobrar",{"$f":"F17+F18+F19-F20","v":0},0,0,0,{"$f":"J17+J18+J19-J20","v":0},0,0,0,0,0]
[null,null,"1;1","co-svsp-core:CxC_Otras_cuentas_por_cobrar","Otras cuentas por cobrar"]
[null,null,"1;1","co-svsp-core:CxC_Cuentas_comerciales_por_cobrar_no_están_en_mora_ni_deterioradas_de_valor_OCxC","Otras cuentas por cobrar que no están en mora ni deterioradas de valor",null,null,null,null,null,null,null,null,null,{"$f":"K23+L23+M23+N23","v":0},null,{"$f":"IF(Y23=\"CORRECTO\",\"CORRECTO\",\"Al indicar que se tienen cuentas vencidas para '\"&E23&\"', debe indicarse el monto en la columna correspondiente y viceversa.\")","v":"CORRECTO"},null,null,null,{"$f":"IF(Q23=\"CORRECTO\",0,1)","v":0},null,{"$f":"IF(OR(J23=\"\",J23=0),0,1)","v":0},{"$f":"K23+L23+M23+N23","v":0},{"$f":"IF(AND(W23=0,X23=0),\"CORRECTO\",IF(AND(W23<>0,X23<>0),\"CORRECTO\",\"INCORRECTO\"))","v":"CORRECTO"}]
[null,null,"1;1","co-svsp-core:CxC_Cuentas_comerciales_por_cobrar_en_mora_pero_no_deterioradas_de_valor_OCxC","Otras cuentas por cobrar en mora pero no deterioradas de valor",null,null,null,null,null,null,null,null,null,{"$f":"K24+L24+M24+N24","v":0},null,{"$f":"IF(Y24=\"CORRECTO\",\"CORRECTO\",\"Al indicar que se tienen cuentas vencidas para '\"&E24&\"', debe indicarse el monto en la columna correspondiente y viceversa.\")","v":"CORRECTO"},null,null,null,0,null,0,0,"CORRECTO"]
[null,null,"1;1","co-svsp-core:CxC_Cuentas_comerciales_por_cobrar_deterioradas_de_valor_OCxC","Otras cuentas por cobrar deterioradas de valor",null,null,null,null,null,null,null,null,null,{"$f":"K25+L25+M25+N25","v":0},null,{"$f":"IF(Y25=\"CORRECTO\",\"CORRECTO\",\"Al indicar que se tienen cuentas vencidas para '\"&E25&\"', debe indicarse el monto en la columna correspondiente y viceversa.\")","v":"CORRECTO"},null,null,null,0,null,0,0,"CORRECTO"]
[null,null,"1;1","co-svsp-core:CxC_Deterioro_menor_valor_OCxC","Deterioro (menor valor)",null,null,null,null,null,null,null,null,null,{"$f":"K26+L26+M26+N26","v":0},null,{"$f":"IF(Y26=\"CORRECTO\",\"CORRECTO\",\"Al indicar que se tienen cuentas vencidas para '\"&E26&\"', debe indicarse el monto en la columna correspondiente y viceversa.\")","v":"CORRECTO"},null,null,null,0,null,0,0,"CORRECTO"]
[null,null,"1;1","co-svsp-core:CxC_Total_cuentas_comerciales_por_cobrar_OCxC","Total otras cuentas por cobrar",{"$f":"F23+F24+F25-F26","v":0},0,0,0,{"$f":"J23+J24+J25-J26","v":0},0,0,0,0,0]
[null,null,"1;1","co-svsp-core:CxC_Total_cuentas_por_cobrar_y_otras_cuentas_por_cobrar","Total cuentas por cobrar y otras cuentas por cobrar",{"$f":"F17+F18+F19-F20+F23+F24+F25-F26","v":0},0,0,0,{"$f":"+J21+J27","v":0},0,0,0,0,{"$f":"O21+O27","v":0}]
[]
[]
[]
[]
[]
[]
[null,null,null,null,null,"Periodo Anterior 31/12/2018"]
[null,null,null,null,null,"Nacional o del exterior [miembro]",null,null,null,"Bandas de tiempo acumuladas [miembro]"]
[null,null,null,null,null,"co-svsp-core:Nacionales_corrientes_CxC_Miembro","co-svsp-core:En_el_exterior_corrientes_CxC_Miembro","co-svsp-core:Nacionales_no_corrientes_CxC_Miembro","co-svsp-core:En_el_exterior_no_corrientes_CxC_Miembro","co-svsp-core:CxC_No_vencida_Miembro","co-svsp-core:CxC_Vencidas_1_a_90_dias_Miembro","co-svsp-core:CxC_Vencidas_91_a_180_dias_Miembro","co-svsp-core:CxC_Vencidas_181_a_360_dias_Miembro","co-svsp-core:CxC_Vencidas_mas_de_360_dias_Miembro","co-svsp-core:CxC_Total_Vencidas_Miembro"]
[null,null,null,null,"co-svsp-core:CuentasPorCobrar_Eje","Nacionales corrientes [miembro]","En el exterior corrientes [miembro]","Nacionales no corrientes [miembro]","En el exterior no corrientes [miembro]","Número de vencidas [miembro]","Valor vencidas de 1 a 90 días [miembro]","Valor vencidas de 91 a 180 días [miembro]","Valor vencidas de 181 a 360 días  [miembro]","Valor vencidas de mas de 360 días [miembro]","Total cuentas por cobrar vencidas [miembro]"]
[null,null,"1;2","co-svsp-core:CxC_Cuentas_comerciales_por_cobrar_y_otras_cuentas_por_cobrar","Cuentas comerciales por cobrar y otras cuentas por cobrar"]
[null,null,"1;2","co-svsp-core:CxC_Cuentas_comerciales_por_cobrar","Cuentas comerciales por cobrar"]
[null,null,"1;2","co-svsp-core:CxC_Cuentas_comerciales_por_cobrar_no_están_en_mora_ni_deterioradas_de_valor","Cuentas comerciales por cobrar que no están en mora ni deterioradas de valor",null,null,null,null,null,null,null,null,null,{"$f":"K41+L41+M41+N41","v":0},null,{"$f":"IF(Y41=\"CORRECTO\",\"CORRECTO\",\"Al indicar que se tienen cuentas vencidas para '\"&E41&\"', debe indicarse el monto en la columna correspondiente y viceversa.\")","v":"CORRECTO"},null,null,null,{"$f":"IF(Q41=\"CORRECTO\",0,1)","v":0},null,{"$f":"IF(OR(J41=\"\",J41=0),0,1)","v":0},{"$f":"K41+L41+M41+N41","v":0},{"$f":"IF(AND(W41=0,X41=0),\"CORRECTO\",IF(AND(W41<>0,X41<>0),\"CORRECTO\",\"INCORRECTO\"))","v":"CORRECTO"}]
[null,null,"1;2","co-svsp-core:CxC_Cuentas_comerciales_por_cobrar_en_mora_pero_no_deterioradas_de_valor","Cuentas comerciales por cobrar en mora pero no deterioradas de valor",null,null,null,null,null,null,null,null,null,{"$f":"K42+L42+M42+N42","v":0},null,{"$f":"IF(Y42=\"CORRECTO\",\"CORRECTO\",\"Al indicar que se tienen cuentas vencidas para '\"&E42&\"', debe indicarse el monto en la columna correspondiente y viceversa.\")","v":"CORRECTO"},null,null,null,0,null,0,0,"CORRECTO"]
[null,null,"1;2","co-svsp-core:CxC_Cuentas_comerciales_por_cobrar_deterioradas_de_valor","Cuentas comerciales por cobrar deterioradas de valor",null,null,null,null,null,null,null,null,null,{"$f":"K43+L43+M43+N43","v":0},null,"CORRECTO",null,null,null,0,null,0,0,"CORRECTO"]
[null,null,"1;2","co-svsp-core:CxC_Deterioro_menor_valor","Deterioro (menor valor)",null,null,null,null,null,null,null,null,null,{"$f":"K44+L44+M44+N44","v":0},null,"CORRECTO",null,null,null,0,null,0,0,"CORRECTO"]
[null,null,"1;2","co-svsp-core:CxC_Total_cuentas_comerciales_por_cobrar","Total cuentas comerciales por cobrar",{"$f":"F41+F42+F43-F44","v":0},0,0,0,{"$f":"J41+J42+J43-J44","v":0},0,0,0,0,0]
[null,null,"1;2","co-svsp-core:CxC_Otras_cuentas_por_cobrar","Otras cuentas por cobrar"]
[null,null,"1;2","co-svsp-core:CxC_Cuentas_comerciales_por_cobrar_no_están_en_mora_ni_deterioradas_de_valor_OCxC","Otras cuentas por cobrar que no están en mora ni deterioradas de valor",null,null,null,null,null,null,null,null,null,{"$f":"K47+L47+M47+N47","v":0},null,{"$f":"IF(Y47=\"CORRECTO\",\"CORRECTO\",\"Al indicar que se tienen cuentas vencidas para '\"&E47&\"', debe indicarse el monto en la columna correspondiente y viceversa.\")","v":"CORRECTO"},null,null,null,{"$f":"IF(Q47=\"CORRECTO\",0,1)","v":0},null,{"$f":"IF(OR(J47=\"\",J47=0),0,1)","v":0},{"$f":"K47+L47+M47+N47","v":0},{"$f":"IF(AND(W47=0,X47=0),\"CORRECTO\",IF(AND(W47<>0,X47<>0),\"CORRECTO\",\"INCORRECTO\"))","v":"CORRECTO"}]
[null,null,"1;2","co-svsp-core:CxC_Cuentas_comerciales_por_cobrar_en_mora_pero_no_deterioradas_de_valor_OCxC","Otras cuentas por cobrar en mora pero no deterioradas de valor",null,null,null,null,null,null,null,null,null,{"$f":"K48+L48+M48+N48","v":0},null,"CORRECTO",null,null,null,0,null,0,0,"CORRECTO"]
[null,null,"1;2","co-svsp-core:CxC_Cuentas_comerciales_por_cobrar_deterioradas_de_valor_OCxC","Otras cuentas por cobrar deterioradas de valor",null,null,null,null,null,null,null,null,null,{"$f":"K49+L49+M49+N49","v":0},null,"CORRECTO",null,null,null,0,null,0,0,"CORRECTO"]
[null,null,"1;2","co-svsp-core:CxC_Deterioro_menor_valor_OCxC","Deterioro (menor valor)",null,null,null,null,null,null,null,null,null,{"$f":"K50+L50+M50+N50","v":0},null,"CORRECTO",null,null,null,0,null,0,0,"CORRECTO"]
[null,null,"1;2","co-svsp-core:CxC_Total_cuentas_comerciales_por_cobrar_OCxC","Total otras cuentas por cobrar",{"$f":"F47+F48+F49-F50","v":0},0,0,0,{"$f":"J47+J48+J49-J50","v":0},0,0,0,0,0]
[null,null,"1;2","co-svsp-core:CxC_Total_cuentas_por_cobrar_y_otras_cuentas_por_cobrar","Total cuentas por cobrar y otras cuentas por cobrar",{"$f":"F41+F42+F43-F44+F47+F48+F49-F50","v":0},0,0,0,{"$f":"+J45+J51","v":0},0,0,0,0,{"$f":"O45+O51","v":0}]

{"sheet":"800111a - Nota. Detalle de CxC.","index":9,"n_rows":346,"n_cols":22,"rows_kept":346,"cut":false,"hidden":false,"merged":[[6,4,8,18],[10,5,10,16],[11,5,11,16],[181,5,181,16],[182,5,182,16]]}
[]
[]
[]
[]
[]
[]
[null,null,null,null,"800111a - Nota. Detalle de cuentas por cobrar (Para 2019 y 2018)"]
[]
[]
[]
[null,null,null,null,null,"Periodo Actual 31/12/2019"]
[null,null,null,null,null,"Detalle de Cuentas por cobrar",null,null,null,null,null,null,null,null,null,null,null,null,{"$f":"IF(V12=0,\"Formulario 'Nota de Detalle de cuentas por cobrar' Válido\",\"Formulario 'Nota de Detalle de cuentas por cobrar' con \"&V12&\" inconsistencias\")","v":"Formulario 'Nota de Detalle de cuentas por cobrar' Válido"},null,null,{"$f":"SUM(V17:V346)","v":0}]
[null,null,null,null,null,"co-svsp-core:TipoDeDocumentoDeudorCxC","co-svsp-core:NumeroIdentificacionDeudorCxC","co-svsp-core:PrimerApellidoDeudorCxC","co-svsp-core:SegundoApellidoDeudorCxC","co-svsp-core:PrimerNombreDeudorCxC","co-svsp-core:OtrosNombresDeudorCxC","co-svsp-core:RazonSocialDeudorCxC","co-svsp-core:DireccionDeudorCxC","co-svsp-core:DepartamentoDeudorCxC","co-svsp-core:MunicipioDeudorCxC","co-svsp-core:PaisDeudorCxC","co-svsp-core:SaldoCuentasPorCobrarCxC"]
[null,null,null,null,"co-svsp-core:DetalleCuentasXCobrar_Eje","Tipo de documento del deudor","Número de identificación del deudor","Primer apellido deudor","Segundo apellido deudor","Primer nombre deudor","Otros nombres deudor","Razón Social deudor","Dirección deudor","Departamento deudor","Municipio deudor","País deudor","Saldo cuentas por cobrar"]
[null,null,"1;1","co-svsp-core:RelacionCuentasXCobrarMiembro","Relación de cuentas por cobrar [miembro]"]
[null,null,"1;1","co-svsp-core:RelacionCuentasXCobrarClientesMiembro","Relación de cuentas por cobrar clientes [miembro]"]
[null,null,"1;1","co-svsp-core:DetalleCuentasXCobrarClientes1Miembro","Detalle de cuentas por cobrar clientes 1 [miembro]"]
[null,null,"1;1","co-svsp-core:DetalleCuentasXCobrarClientes2Miembro","Detalle de cuentas por cobrar clientes 2 [miembro]"]
[null,null,"1;1","co-svsp-core:DetalleCuentasXCobrarClientes3Miembro","Detalle de cuentas por cobrar clientes 3 [miembro]"]
[null,null,"1;1","co-svsp-core:DetalleCuentasXCobrarClientes4Miembro","Detalle de cuentas por cobrar clientes 4 [miembro]"]
[null,null,"1;1","co-svsp-core:DetalleCuentasXCobrarClientes5Miembro","Detalle de cuentas por cobrar clientes 5 [miembro]"]
[null,null,"1;1","co-svsp-core:DetalleCuentasXCobrarClientes6Miembro","Detalle de cuentas por cobrar clientes 6 [miembro]"]
[null,null,"1;1","co-svsp-core:DetalleCuentasXCobrarClientes7Miembro","Detalle de cuentas por cobrar clientes 7 [miembro]"]
[null,null,"1;1","co-svsp-core:DetalleCuentasXCobrarClientes8Miembro","Detalle de cuentas por cobrar clientes 8 [miembro]"]
[null,null,"1;1","co-svsp-core:DetalleCuentasXCobrarClientes9Miembro","Detalle de cuentas por cobrar clientes 9 [miembro]"]
[null,null,"1;1","co-svsp-core:DetalleCuentasXCobrarClientes10Miembro","Detalle de cuentas por cobrar clientes 10 [miembro]"]
[null,null,"1;1","co-svsp-core:DetalleCuentasXCobrarClientes11Miembro","Detalle de cuentas por cobrar clientes 11 [miembro]"]
[null,null,"1;1","co-svsp-core:DetalleCuentasXCobrarClientes12Miembro","Detalle de cuentas por cobrar clientes 12 [miembro]"]
[null,null,"1;1","co-svsp-core:DetalleCuentasXCobrarClientes13Miembro","Detalle de cuentas por cobrar clientes 13 [miembro]"]
[null,null,"1;1","co-svsp-core:DetalleCuentasXCobrarClientes14Miembro","Detalle de cuentas por cobrar clientes 14 [miembro]"]
[null,null,"1;1","co-svsp-core:DetalleCuentasXCobrarClientes15Miembro","Detalle de cuentas por cobrar clientes 15 [miembro]"]
[null,null,"1;1","co-svsp-core:DetalleCuentasXCobrarClientes16Miembro","Detalle de cuentas por cobrar clientes 16 [miembro]"]
[null,null,"1;1","co-svsp-core:DetalleCuentasXCobrarClientes17Miembro","Detalle de cuentas por cobrar clientes 17 [miembro]"]
[null,null,"1;1","co-svsp-core:DetalleCuentasXCobrarClientes18Miembro","Detalle de cuentas por cobrar clientes 18 [miembro]"]
[null,null,"1;1","co-svsp-core:DetalleCuentasXCobrarClientes19Miembro","Detalle de cuentas por cobrar clientes 19 [miembro]"]
[null,null,"1;1","co-svsp-core:DetalleCuentasXCobrarClientes20Miembro","Detalle de cuentas por cobrar clientes 20 [miembro]"]
[null,null,"1;1","co-svsp-core:DetalleCuentasXCobrarClientes21Miembro","Detalle de cuentas por cobrar clientes 21 [miembro]"]
[null,null,"1;1","co-svsp-core:DetalleCuentasXCobrarClientes22Miembro","Detalle de cuentas por cobrar clientes 22 [miembro]"]
[null,null,"1;1","co-svsp-core:DetalleCuentasXCobrarClientes23Miembro","Detalle de cuentas por cobrar clientes 23 [miembro]"]
[null,null,"1;1","co-svsp-core:DetalleCuentasXCobrarClientes24Miembro","Detalle de cuentas por cobrar clientes 24 [miembro]"]
[null,null,"1;1","co-svsp-core:DetalleCuentasXCobrarClientes25Miembro","Detalle de cuentas por cobrar clientes 25 [miembro]"]
[null,null,"1;1","co-svsp-core:DetalleCuentasXCobrarClientes26Miembro","Detalle de cuentas por cobrar clientes 26 [miembro]"]
[null,null,"1;1","co-svsp-core:DetalleCuentasXCobrarClientes27Miembro","Detalle de cuentas por cobrar clientes 27 [miembro]"]
[null,null,"1;1","co-svsp-core:DetalleCuentasXCobrarClientes28Miembro","Detalle de cuentas por cobrar clientes 28 [miembro]"]
[null,null,"1;1","co-svsp-core:DetalleCuentasXCobrarClientes29Miembro","Detalle de cuentas por cobrar clientes 29 [miembro]"]
[null,null,"1;1","co-svsp-core:DetalleCuentasXCobrarClientes30Miembro","Detalle de cuentas por cobrar clientes 30 [miembro]"]
[null,null,"1;1","co-svsp-core:DetalleCuentasXCobrarClientes31Miembro","Detalle de cuentas por cobrar clientes 31 [miembro]"]
[null,null,"1;1","co-svsp-core:DetalleCuentasXCobrarClientes32Miembro","Detalle de cuentas por cobrar clientes 32 [miembro]"]
[null,null,"1;1","co-svsp-core:DetalleCuentasXCobrarClientes33Miembro","Detalle de cuentas por cobrar clientes 33 [miembro]"]
[null,null,"1;1","co-svsp-core:DetalleCuentasXCobrarClientes34Miembro","Detalle de cuentas por cobrar clientes 34 [miembro]"]
[null,null,"1;1","co-svsp-core:DetalleCuentasXCobrarClientes35Miembro","Detalle de cuentas por cobrar clientes 35 [miembro]"]
[null,null,"1;1","co-svsp-core:DetalleCuentasXCobrarClientes36Miembro","Detalle de cuentas por cobrar clientes 36 [miembro]"]
[null,null,"1;1","co-svsp-core:DetalleCuentasXCobrarClientes37Miembro","Detalle de cuentas por cobrar clientes 37 [miembro]"]
[null,null,"1;1","co-svsp-core:DetalleCuentasXCobrarClientes38Miembro","Detalle de cuentas por cobrar clientes 38 [miembro]"]
[null,null,"1;1","co-svsp-core:DetalleCuentasXCobrarClientes39Miembro","Detalle de cuentas por cobrar clientes 39 [miembro]"]
[null,null,"1;1","co-svsp-core:DetalleCuentasXCobrarClientes40Miembro","Detalle de cuentas por cobrar clientes 40 [miembro]"]
[null,null,"1;1","co-svsp-core:DetalleCuentasXCobrarClientes41Miembro","Detalle de cuentas por cobrar clientes 41 [miembro]"]
[null,null,"1;1","co-svsp-core:DetalleCuentasXCobrarClientes42Miembro","Detalle de cuentas por cobrar clientes 42 [miembro]"]
[null,null,"1;1","co-svsp-core:DetalleCuentasXCobrarClientes43Miembro","Detalle de cuentas por cobrar clientes 43 [miembro]"]
[null,null,"1;1","co-svsp-core:DetalleCuentasXCobrarClientes44Miembro","Detalle de cuentas por cobrar clientes 44 [miembro]"]
[null,null,"1;1","co-svsp-core:DetalleCuentasXCobrarClientes45Miembro","Detalle de cuentas por cobrar clientes 45 [miembro]"]
[null,null,"1;1","co-svsp-core:DetalleCuentasXCobrarClientes46Miembro","Detalle de cuentas por cobrar clientes 46 [miembro]"]
[null,null,"1;1","co-svsp-core:DetalleCuentasXCobrarClientes47Miembro","Detalle de cuentas por cobrar clientes 47 [miembro]"]
[null,null,"1;1","co-svsp-core:DetalleCuentasXCobrarClientes48Miembro","Detalle de cuentas por cobrar clientes 48 [miembro]"]
[null,null,"1;1","co-svsp-core:DetalleCuentasXCobrarClientes49Miembro","Detalle de cuentas por cobrar clientes 49 [miembro]"]
[null,null,"1;1","co-svsp-core:DetalleCuentasXCobrarClientes50Miembro","Detalle de cuentas por cobrar clientes 50 [miembro]"]
[null,null,"1;1","co-svsp-core:DetalleCuentasXCobrarClientes51EnAdelante","Detalle de cuentas por cobrar clientes 51 en adelante [miembro]"]
[null,null,"1;1","co-svsp-core:TotalDetalleCuentasXCobrarClientesMiembro","Total Detalle de cuentas por cobrar clientes [miembro]",null,null,null,null,null,null,null,null,null,null,null,{"$f":"SUM(Q17:Q67)","v":0}]
[null,null,"1;1","co-svsp-core:RelacionCuentasXCobrarAccionistasSociosVinculadasMiembro","Relación de cuentas por cobrar, compañías accionostas, socios y compañías vinculadas [miembro]"]
[null,null,"1;1","co-svsp-core:DetalleCuentasXCobrarAccionistasSociosVinculadas1Miembro","Detalle de cuentas por cobrar a accionistas, socios o vinculadas 1 [miembro]"]
[null,null,"1;1","co-svsp-core:DetalleCuentasXCobrarAccionistasSociosVinculadas2Miembro","Detalle de cuentas por cobrar a accionistas, socios o vinculadas 2 [miembro]"]
[null,null,"1;1","co-svsp-core:DetalleCuentasXCobrarAccionistasSociosVinculadas3Miembro","Detalle de cuentas por cobrar a accionistas, socios o vinculadas 3 [miembro]"]
[null,null,"1;1","co-svsp-core:DetalleCuentasXCobrarAccionistasSociosVinculadas4Miembro","Detalle de cuentas por cobrar a accionistas, socios o vinculadas 4 [miembro]"]
[null,null,"1;1","co-svsp-core:DetalleCuentasXCobrarAccionistasSociosVinculadas5Miembro","Detalle de cuentas por cobrar a accionistas, socios o vinculadas 5 [miembro]"]
[null,null,"1;1","co-svsp-core:DetalleCuentasXCobrarAccionistasSociosVinculadas6Miembro","Detalle de cuentas por cobrar a accionistas, socios o vinculadas 6 [miembro]"]
[null,null,"1;1","co-svsp-core:DetalleCuentasXCobrarAccionistasSociosVinculadas7Miembro","Detalle de cuentas por cobrar a accionistas, socios o vinculadas 7 [miembro]"]
[null,null,"1;1","co-svsp-core:DetalleCuentasXCobrarAccionistasSociosVinculadas8Miembro","Detalle de cuentas por cobrar a accionistas, socios o vinculadas 8 [miembro]"]
[null,null,"1;1","co-svsp-core:DetalleCuentasXCobrarAccionistasSociosVinculadas9Miembro","Detalle de cuentas por cobrar a accionistas, socios o vinculadas 9 [miembro]"]
[null,null,"1;1","co-svsp-core:DetalleCuentasXCobrarAccionistasSociosVinculadas10Miembro","Detalle de cuentas por cobrar a accionistas, socios o vinculadas 10 [miembro]"]
[null,null,"1;1","co-svsp-core:DetalleCuentasXCobrarAccionistasSociosVinculadas11Miembro","Detalle de cuentas por cobrar a accionistas, socios o vinculadas 11 [miembro]"]
[null,null,"1;1","co-svsp-core:DetalleCuentasXCobrarAccionistasSociosVinculadas12Miembro","Detalle de cuentas por cobrar a accionistas, socios o vinculadas 12 [miembro]"]
[null,null,"1;1","co-svsp-core:DetalleCuentasXCobrarAccionistasSociosVinculadas13Miembro","Detalle de cuentas por cobrar a accionistas, socios o vinculadas 13 [miembro]"]
[null,null,"1;1","co-svsp-core:DetalleCuentasXCobrarAccionistasSociosVinculadas14Miembro","Detalle de cuentas por cobrar a accionistas, socios o vinculadas 14 [miembro]"]
[null,null,"1;1","co-svsp-core:DetalleCuentasXCobrarAccionistasSociosVinculadas15Miembro","Detalle de cuentas por cobrar a accionistas, socios o vinculadas 15 [miembro]"]
[null,null,"1;1","co-svsp-core:DetalleCuentasXCobrarAccionistasSociosVinculadas16Miembro","Detalle de cuentas por cobrar a accionistas, socios o vinculadas 16 [miembro]"]
[null,null,"1;1","co-svsp-core:DetalleCuentasXCobrarAccionistasSociosVinculadas17Miembro","Detalle de cuentas por cobrar a accionistas, socios o vinculadas 17 [miembro]"]
[null,null,"1;1","co-svsp-core:DetalleCuentasXCobrarAccionistasSociosVinculadas18Miembro","Detalle de cuentas por cobrar a accionistas, socios o vinculadas 18 [miembro]"]
[null,null,"1;1","co-svsp-core:DetalleCuentasXCobrarAccionistasSociosVinculadas19Miembro","Detalle de cuentas por cobrar a accionistas, socios o vinculadas 19 [miembro]"]
[null,null,"1;1","co-svsp-core:DetalleCuentasXCobrarAccionistasSociosVinculadas20Miembro","Detalle de cuentas por cobrar a accionistas, socios o vinculadas 20 [miembro]"]
[null,null,"1;1","co-svsp-core:DetalleCuentasXCobrarAccionistasSociosVinculadas21Miembro","Detalle de cuentas por cobrar a accionistas, socios o vinculadas 21 [miembro]"]
[null,null,"1;1","co-svsp-core:DetalleCuentasXCobrarAccionistasSociosVinculadas22Miembro","Detalle de cuentas por cobrar a accionistas, socios o vinculadas 22 [miembro]"]
[null,null,"1;1","co-svsp-core:DetalleCuentasXCobrarAccionistasSociosVinculadas23Miembro","Detalle de cuentas por cobrar a accionistas, socios o vinculadas 23 [miembro]"]
[null,null,"1;1","co-svsp-core:DetalleCuentasXCobrarAccionistasSociosVinculadas24Miembro","Detalle de cuentas por cobrar a accionistas, socios o vinculadas 24 [miembro]"]
[null,null,"1;1","co-svsp-core:DetalleCuentasXCobrarAccionistasSociosVinculadas25Miembro","Detalle de cuentas por cobrar a accionistas, socios o vinculadas 25 [miembro]"]
[null,null,"1;1","co-svsp-core:DetalleCuentasXCobrarAccionistasSociosVinculadas26Miembro","Detalle de cuentas por cobrar a accionistas, socios o vinculadas 26 [miembro]"]
[null,null,"1;1","co-svsp-core:DetalleCuentasXCobrarAccionistasSociosVinculadas27Miembro","Detalle de cuentas por cobrar a accionistas, socios o vinculadas 27 [miembro]"]
[null,null,"1;1","co-svsp-core:DetalleCuentasXCobrarAccionistasSociosVinculadas28Miembro","Detalle de cuentas por cobrar a accionistas, socios o vinculadas 28 [miembro]"]
[null,null,"1;1","co-svsp-core:DetalleCuentasXCobrarAccionistasSociosVinculadas29Miembro","Detalle de cuentas por cobrar a accionistas, socios o vinculadas 29 [miembro]"]
[null,null,"1;1","co-svsp-core:DetalleCuentasXCobrarAccionistasSociosVinculadas30Miembro","Detalle de cuentas por cobrar a accionistas, socios o vinculadas 30 [miembro]"]
[null,null,"1;1","co-svsp-core:DetalleCuentasXCobrarAccionistasSociosVinculadas31Miembro","Detalle de cuentas por cobrar a accionistas, socios o vinculadas 31 [miembro]"]
[null,null,"1;1","co-svsp-core:DetalleCuentasXCobrarAccionistasSociosVinculadas32Miembro","Detalle de cuentas por cobrar a accionistas, socios o vinculadas 32 [miembro]"]
[null,null,"1;1","co-svsp-core:DetalleCuentasXCobrarAccionistasSociosVinculadas33Miembro","Detalle de cuentas por cobrar a accionistas, socios o vinculadas 33 [miembro]"]
[null,null,"1;1","co-svsp-core:DetalleCuentasXCobrarAccionistasSociosVinculadas34Miembro","Detalle de cuentas por cobrar a accionistas, socios o vinculadas 34 [miembro]"]
[null,null,"1;1","co-svsp-core:DetalleCuentasXCobrarAccionistasSociosVinculadas35Miembro","Detalle de cuentas por cobrar a accionistas, socios o vinculadas 35 [miembro]"]
[null,null,"1;1","co-svsp-core:DetalleCuentasXCobrarAccionistasSociosVinculadas36Miembro","Detalle de cuentas por cobrar a accionistas, socios o vinculadas 36 [miembro]"]
[null,null,"1;1","co-svsp-core:DetalleCuentasXCobrarAccionistasSociosVinculadas37Miembro","Detalle de cuentas por cobrar a accionistas, socios o vinculadas 37 [miembro]"]
[null,null,"1;1","co-svsp-core:DetalleCuentasXCobrarAccionistasSociosVinculadas38Miembro","Detalle de cuentas por cobrar a accionistas, socios o vinculadas 38 [miembro]"]
[null,null,"1;1","co-svsp-core:DetalleCuentasXCobrarAccionistasSociosVinculadas39Miembro","Detalle de cuentas por cobrar a accionistas, socios o vinculadas 39 [miembro]"]
[null,null,"1;1","co-svsp-core:DetalleCuentasXCobrarAccionistasSociosVinculadas40Miembro","Detalle de cuentas por cobrar a accionistas, socios o vinculadas 40 [miembro]"]
[null,null,"1;1","co-svsp-core:DetalleCuentasXCobrarAccionistasSociosVinculadas41Miembro","Detalle de cuentas por cobrar a accionistas, socios o vinculadas 41 [miembro]"]
[null,null,"1;1","co-svsp-core:DetalleCuentasXCobrarAccionistasSociosVinculadas42Miembro","Detalle de cuentas por cobrar a accionistas, socios o vinculadas 42 [miembro]"]
[null,null,"1;1","co-svsp-core:DetalleCuentasXCobrarAccionistasSociosVinculadas43Miembro","Detalle de cuentas por cobrar a accionistas, socios o vinculadas 43 [miembro]"]
[null,null,"1;1","co-svsp-core:DetalleCuentasXCobrarAccionistasSociosVinculadas44Miembro","Detalle de cuentas por cobrar a accionistas, socios o vinculadas 44 [miembro]"]
[null,null,"1;1","co-svsp-core:DetalleCuentasXCobrarAccionistasSociosVinculadas45Miembro","Detalle de cuentas por cobrar a accionistas, socios o vinculadas 45 [miembro]"]
[null,null,"1;1","co-svsp-core:DetalleCuentasXCobrarAccionistasSociosVinculadas46Miembro","Detalle de cuentas por cobrar a accionistas, socios o vinculadas 46 [miembro]"]
[null,null,"1;1","co-svsp-core:DetalleCuentasXCobrarAccionistasSociosVinculadas47Miembro","Detalle de cuentas por cobrar a accionistas, socios o vinculadas 47 [miembro]"]
[null,null,"1;1","co-svsp-core:DetalleCuentasXCobrarAccionistasSociosVinculadas48Miembro","Detalle de cuentas por cobrar a accionistas, socios o vinculadas 48 [miembro]"]
[null,null,"1;1","co-svsp-core:DetalleCuentasXCobrarAccionistasSociosVinculadas49Miembro","Detalle de cuentas por cobrar a accionistas, socios o vinculadas 49 [miembro]"]
[null,null,"1;1","co-svsp-core:DetalleCuentasXCobrarAccionistasSociosVinculadas50Miembro","Detalle de cuentas por cobrar a accionistas, socios o vinculadas 50 [miembro]"]
[null,null,"1;1","co-svsp-core:DetalleCuentasXCobrarAccionistasSociosVinculadas51EnAdelante","Detalle de cuentas por cobrar a accionistas, socios o vinculadas 51 en adelante [miembro]"]
[null,null,"1;1","co-svsp-core:TotalDetalleCuentasXCobrarAccionistasSociosVinculadasMiembro","Total Detalle de cuentas por cobrar a accionistas, socios o vinculadas [miembro]",null,null,null,null,null,null,null,null,null,null,null,{"$f":"SUM(Q70:Q120)","v":0}]
[null,null,"1;1","co-svsp-core:RelacionCuentasXCobrarOtrasCuentasXCobrarMiembro","Relación de otras cuentas por cobrar [miembro]"]
[null,null,"1;1","co-svsp-core:DetalleCuentasXCobrarOtrasCuentasXCobrar1Miembro","Detalle de cuentas por cobrar Otras cuentas por cobrar  1 [miembro]"]
[null,null,"1;1","co-svsp-core:DetalleCuentasXCobrarOtrasCuentasXCobrar2Miembro","Detalle de cuentas por cobrar Otras cuentas por cobrar  2 [miembro]"]
[null,null,"1;1","co-svsp-core:DetalleCuentasXCobrarOtrasCuentasXCobrar3Miembro","Detalle de cuentas por cobrar Otras cuentas por cobrar  3 [miembro]"]
[null,null,"1;1","co-svsp-core:DetalleCuentasXCobrarOtrasCuentasXCobrar4Miembro","Detalle de cuentas por cobrar Otras cuentas por cobrar  4 [miembro]"]
[null,null,"1;1","co-svsp-core:DetalleCuentasXCobrarOtrasCuentasXCobrar5Miembro","Detalle de cuentas por cobrar Otras cuentas por cobrar  5 [miembro]"]
[null,null,"1;1","co-svsp-core:DetalleCuentasXCobrarOtrasCuentasXCobrar6Miembro","Detalle de cuentas por cobrar Otras cuentas por cobrar  6 [miembro]"]
[null,null,"1;1","co-svsp-core:DetalleCuentasXCobrarOtrasCuentasXCobrar7Miembro","Detalle de cuentas por cobrar Otras cuentas por cobrar  7 [miembro]"]
[null,null,"1;1","co-svsp-core:DetalleCuentasXCobrarOtrasCuentasXCobrar8Miembro","Detalle de cuentas por cobrar Otras cuentas por cobrar  8 [miembro]"]
[null,null,"1;1","co-svsp-core:DetalleCuentasXCobrarOtrasCuentasXCobrar9Miembro","Detalle de cuentas por cobrar Otras cuentas por cobrar  9 [miembro]"]
[null,null,"1;1","co-svsp-core:DetalleCuentasXCobrarOtrasCuentasXCobrar10Miembro","Detalle de cuentas por cobrar Otras cuentas por cobrar  10 [miembro]"]
[null,null,"1;1","co-svsp-core:DetalleCuentasXCobrarOtrasCuentasXCobrar11Miembro","Detalle de cuentas por cobrar Otras cuentas por cobrar  11 [miembro]"]
[null,null,"1;1","co-svsp-core:DetalleCuentasXCobrarOtrasCuentasXCobrar12Miembro","Detalle de cuentas por cobrar Otras cuentas por cobrar  12 [miembro]"]
[null,null,"1;1","co-svsp-core:DetalleCuentasXCobrarOtrasCuentasXCobrar13Miembro","Detalle de cuentas por cobrar Otras cuentas por cobrar  13 [miembro]"]
[null,null,"1;1","co-svsp-core:DetalleCuentasXCobrarOtrasCuentasXCobrar14Miembro","Detalle de cuentas por cobrar Otras cuentas por cobrar  14 [miembro]"]
[null,null,"1;1","co-svsp-core:DetalleCuentasXCobrarOtrasCuentasXCobrar15Miembro","Detalle de cuentas por cobrar Otras cuentas por cobrar  15 [miembro]"]
[null,null,"1;1","co-svsp-core:DetalleCuentasXCobrarOtrasCuentasXCobrar16Miembro","Detalle de cuentas por cobrar Otras cuentas por cobrar  16 [miembro]"]
[null,null,"1;1","co-svsp-core:DetalleCuentasXCobrarOtrasCuentasXCobrar17Miembro","Detalle de cuentas por cobrar Otras cuentas por cobrar  17 [miembro]"]
[null,null,"1;1","co-svsp-core:DetalleCuentasXCobrarOtrasCuentasXCobrar18Miembro","Detalle de cuentas por cobrar Otras cuentas por cobrar  18 [miembro]"]
[null,null,"1;1","co-svsp-core:DetalleCuentasXCobrarOtrasCuentasXCobrar19Miembro","Detalle de cuentas por cobrar Otras cuentas por cobrar  19 [miembro]"]
[null,null,"1;1","co-svsp-core:DetalleCuentasXCobrarOtrasCuentasXCobrar20Miembro","Detalle de cuentas por cobrar Otras cuentas por cobrar  20 [miembro]"]
[null,null,"1;1","co-svsp-core:DetalleCuentasXCobrarOtrasCuentasXCobrar21Miembro","Detalle de cuentas por cobrar Otras cuentas por cobrar  21 [miembro]"]
[null,null,"1;1","co-svsp-core:DetalleCuentasXCobrarOtrasCuentasXCobrar22Miembro","Detalle de cuentas por cobrar Otras cuentas por cobrar  22 [miembro]"]
[null,null,"1;1","co-svsp-core:DetalleCuentasXCobrarOtrasCuentasXCobrar23Miembro","Detalle de cuentas por cobrar Otras cuentas por cobrar  23 [miembro]"]
[null,null,"1;1","co-svsp-core:DetalleCuentasXCobrarOtrasCuentasXCobrar24Miembro","Detalle de cuentas por cobrar Otras cuentas por cobrar  24 [miembro]"]
[null,null,"1;1","co-svsp-core:DetalleCuentasXCobrarOtrasCuentasXCobrar25Miembro","Detalle de cuentas por cobrar Otras cuentas por cobrar  25 [miembro]"]
[null,null,"1;1","co-svsp-core:DetalleCuentasXCobrarOtrasCuentasXCobrar26Miembro","Detalle de cuentas por cobrar Otras cuentas por cobrar  26 [miembro]"]
[null,null,"1;1","co-svsp-core:DetalleCuentasXCobrarOtrasCuentasXCobrar27Miembro","Detalle de cuentas por cobrar Otras cuentas por cobrar  27 [miembro]"]
[null,null,"1;1","co-svsp-core:DetalleCuentasXCobrarOtrasCuentasXCobrar28Miembro","Detalle de cuentas por cobrar Otras cuentas por cobrar  28 [miembro]"]
[null,null,"1;1","co-svsp-core:DetalleCuentasXCobrarOtrasCuentasXCobrar29Miembro","Detalle de cuentas por cobrar Otras cuentas por cobrar  29 [miembro]"]
[null,null,"1;1","co-svsp-core:DetalleCuentasXCobrarOtrasCuentasXCobrar30Miembro","Detalle de cuentas por cobrar Otras cuentas por cobrar  30 [miembro]"]
[null,null,"1;1","co-svsp-core:DetalleCuentasXCobrarOtrasCuentasXCobrar31Miembro","Detalle de cuentas por cobrar Otras cuentas por cobrar  31 [miembro]"]
[null,null,"1;1","co-svsp-core:DetalleCuentasXCobrarOtrasCuentasXCobrar32Miembro","Detalle de cuentas por cobrar Otras cuentas por cobrar  32 [miembro]"]
[null,null,"1;1","co-svsp-core:DetalleCuentasXCobrarOtrasCuentasXCobrar33Miembro","Detalle de cuentas por cobrar Otras cuentas por cobrar  33 [miembro]"]
[null,null,"1;1","co-svsp-core:DetalleCuentasXCobrarOtrasCuentasXCobrar34Miembro","Detalle de cuentas por cobrar Otras cuentas por cobrar  34 [miembro]"]
[null,null,"1;1","co-svsp-core:DetalleCuentasXCobrarOtrasCuentasXCobrar35Miembro","Detalle de cuentas por cobrar Otras cuentas por cobrar  35 [miembro]"]
[null,null,"1;1","co-svsp-core:DetalleCuentasXCobrarOtrasCuentasXCobrar36Miembro","Detalle de cuentas por cobrar Otras cuentas por cobrar  36 [miembro]"]
[null,null,"1;1","co-svsp-core:DetalleCuentasXCobrarOtrasCuentasXCobrar37Miembro","Detalle de cuentas por cobrar Otras cuentas por cobrar  37 [miembro]"]
[null,null,"1;1","co-svsp-core:DetalleCuentasXCobrarOtrasCuentasXCobrar38Miembro","Detalle de cuentas por cobrar Otras cuentas por cobrar  38 [miembro]"]
[null,null,"1;1","co-svsp-core:DetalleCuentasXCobrarOtrasCuentasXCobrar39Miembro","Detalle de cuentas por cobrar Otras cuentas por cobrar  39 [miembro]"]
[null,null,"1;1","co-svsp-core:DetalleCuentasXCobrarOtrasCuentasXCobrar40Miembro","Detalle de cuentas por cobrar Otras cuentas por cobrar  40 [miembro]"]
[null,null,"1;1","co-svsp-core:DetalleCuentasXCobrarOtrasCuentasXCobrar41Miembro","Detalle de cuentas por cobrar Otras cuentas por cobrar  41 [miembro]"]
[null,null,"1;1","co-svsp-core:DetalleCuentasXCobrarOtrasCuentasXCobrar42Miembro","Detalle de cuentas por cobrar Otras cuentas por cobrar  42 [miembro]"]
[null,null,"1;1","co-svsp-core:DetalleCuentasXCobrarOtrasCuentasXCobrar43Miembro","Detalle de cuentas por cobrar Otras cuentas por cobrar  43 [miembro]"]
[null,null,"1;1","co-svsp-core:DetalleCuentasXCobrarOtrasCuentasXCobrar44Miembro","Detalle de cuentas por cobrar Otras cuentas por cobrar  44 [miembro]"]
[null,null,"1;1","co-svsp-core:DetalleCuentasXCobrarOtrasCuentasXCobrar45Miembro","Detalle de cuentas por cobrar Otras cuentas por cobrar  45 [miembro]"]
[null,null,"1;1","co-svsp-core:DetalleCuentasXCobrarOtrasCuentasXCobrar46Miembro","Detalle de cuentas por cobrar Otras cuentas por cobrar  46 [miembro]"]
[null,null,"1;1","co-svsp-core:DetalleCuentasXCobrarOtrasCuentasXCobrar47Miembro","Detalle de cuentas por cobrar Otras cuentas por cobrar  47 [miembro]"]
[null,null,"1;1","co-svsp-core:DetalleCuentasXCobrarOtrasCuentasXCobrar48Miembro","Detalle de cuentas por cobrar Otras cuentas por cobrar  48 [miembro]"]
[null,null,"1;1","co-svsp-core:DetalleCuentasXCobrarOtrasCuentasXCobrar49Miembro","Detalle de cuentas por cobrar Otras cuentas por cobrar  49 [miembro]"]
[null,null,"1;1","co-svsp-core:DetalleCuentasXCobrarOtrasCuentasXCobrar50Miembro","Detalle de cuentas por cobrar Otras cuentas por cobrar  50 [miembro]"]
[null,null,"1;1","co-svsp-core:DetalleCuentasXCobrarOtrasCuentasXCobrar51EnAdelante","Detalle de cuentas por cobrar Otras cuentas por cobrar  51 en adelante [miembro]"]
[null,null,"1;1","co-svsp-core:TotalDetalleCuentasXCobrarOtrasCuentasXCobrarMiembro","Total Detalle de cuentas por cobrar, otras cuentas por cobrar [miembro]",null,null,null,null,null,null,null,null,null,null,null,{"$f":"SUM(Q123:Q173)","v":0}]
[null,null,"1;1","co-svsp-core:TotalDetalleCuentasXCobrarMiembro","Total Detalle de cuentas por cobrar [miembro]",null,null,null,null,null,null,null,null,null,null,null,{"$f":"Q174+Q121+Q68","v":0},null,{"$f":"IF(Q175='210000 - Est. Situa. Financiera'!F18+'210000 - Est. Situa. Financiera'!F36,\"CORRECTO\",\"La información registrada en este formulario para '\"&E175&\"' en la columna '\"&$Q$14&\"' para del periodo actual, debe ser igual al reportado en el Estado de Situación Financiera\")","v":"CORRECTO"},null,null,{"$f":"IF(S175=\"CORRECTO\",0,1)","v":0}]
[]
[]
[]
[]
[]
[]
[null,null,null,null,null,"Periodo Anterior 31/12/2018"]
[null,null,null,null,null,"Detalle de Cuentas por cobrar"]
[null,null,null,null,null,"co-svsp-core:TipoDeDocumentoDeudorCxC","co-svsp-core:NumeroIdentificacionDeudorCxC","co-svsp-core:PrimerApellidoDeudorCxC","co-svsp-core:SegundoApellidoDeudorCxC","co-svsp-core:PrimerNombreDeudorCxC","co-svsp-core:OtrosNombresDeudorCxC","co-svsp-core:RazonSocialDeudorCxC","co-svsp-core:DireccionDeudorCxC","co-svsp-core:DepartamentoDeudorCxC","co-svsp-core:MunicipioDeudorCxC","co-svsp-core:PaisDeudorCxC","co-svsp-core:SaldoCuentasPorCobrarCxC"]
[null,null,null,null,"co-svsp-core:DetalleCuentasXCobrar_Eje","Tipo de documento del deudor","Número de identificación del deudor","Primer apellido deudor","Segundo apellido deudor","Primer nombre deudor","Otros nombres deudor","Razón Social deudor","Dirección deudor","Departamento deudor","Municipio deudor","País deudor","Saldo cuentas por cobrar"]
[null,null,"1;2","co-svsp-core:RelacionCuentasXCobrarMiembro","Relación de cuentas por cobrar [miembro]"]
[null,null,"1;2","co-svsp-core:RelacionCuentasXCobrarClientesMiembro","Relación de cuentas por cobrar clientes [miembro]"]
[null,null,"1;2","co-svsp-core:DetalleCuentasXCobrarClientes1Miembro","Detalle de cuentas por cobrar clientes 1 [miembro]"]
[null,null,"1;2","co-svsp-core:DetalleCuentasXCobrarClientes2Miembro","Detalle de cuentas por cobrar clientes 2 [miembro]"]
[null,null,"1;2","co-svsp-core:DetalleCuentasXCobrarClientes3Miembro","Detalle de cuentas por cobrar clientes 3 [miembro]"]
[null,null,"1;2","co-svsp-core:DetalleCuentasXCobrarClientes4Miembro","Detalle de cuentas por cobrar clientes 4 [miembro]"]
[null,null,"1;2","co-svsp-core:DetalleCuentasXCobrarClientes5Miembro","Detalle de cuentas por cobrar clientes 5 [miembro]"]
[null,null,"1;2","co-svsp-core:DetalleCuentasXCobrarClientes6Miembro","Detalle de cuentas por cobrar clientes 6 [miembro]"]
[null,null,"1;2","co-svsp-core:DetalleCuentasXCobrarClientes7Miembro","Detalle de cuentas por cobrar clientes 7 [miembro]"]
[null,null,"1;2","co-svsp-core:DetalleCuentasXCobrarClientes8Miembro","Detalle de cuentas por cobrar clientes 8 [miembro]"]
[null,null,"1;2","co-svsp-core:DetalleCuentasXCobrarClientes9Miembro","Detalle de cuentas por cobrar clientes 9 [miembro]"]
[null,null,"1;2","co-svsp-core:DetalleCuentasXCobrarClientes10Miembro","Detalle de cuentas por cobrar clientes 10 [miembro]"]
[null,null,"1;2","co-svsp-core:DetalleCuentasXCobrarClientes11Miembro","Detalle de cuentas por cobrar clientes 11 [miembro]"]
[null,null,"1;2","co-svsp-core:DetalleCuentasXCobrarClientes12Miembro","Detalle de cuentas por cobrar clientes 12 [miembro]"]
[null,null,"1;2","co-svsp-core:DetalleCuentasXCobrarClientes13Miembro","Detalle de cuentas por cobrar clientes 13 [miembro]"]
[null,null,"1;2","co-svsp-core:DetalleCuentasXCobrarClientes14Miembro","Detalle de cuentas por cobrar clientes 14 [miembro]"]
[null,null,"1;2","co-svsp-core:DetalleCuentasXCobrarClientes15Miembro","Detalle de cuentas por cobrar clientes 15 [miembro]"]
[null,null,"1;2","co-svsp-core:DetalleCuentasXCobrarClientes16Miembro","Detalle de cuentas por cobrar clientes 16 [miembro]"]
[null,null,"1;2","co-svsp-core:DetalleCuentasXCobrarClientes17Miembro","Detalle de cuentas por cobrar clientes 17 [miembro]"]
[null,null,"1;2","co-svsp-core:DetalleCuentasXCobrarClientes18Miembro","Detalle de cuentas por cobrar clientes 18 [miembro]"]
[null,null,"1;2","co-svsp-core:DetalleCuentasXCobrarClientes19Miembro","Detalle de cuentas por cobrar clientes 19 [miembro]"]
[null,null,"1;2","co-svsp-core:DetalleCuentasXCobrarClientes20Miembro","Detalle de cuentas por cobrar clientes 20 [miembro]"]
[null,null,"1;2","co-svsp-core:DetalleCuentasXCobrarClientes21Miembro","Detalle de cuentas por cobrar clientes 21 [miembro]"]
[null,null,"1;2","co-svsp-core:DetalleCuentasXCobrarClientes22Miembro","Detalle de cuentas por cobrar clientes 22 [miembro]"]
[null,null,"1;2","co-svsp-core:DetalleCuentasXCobrarClientes23Miembro","Detalle de cuentas por cobrar clientes 23 [miembro]"]
[null,null,"1;2","co-svsp-core:DetalleCuentasXCobrarClientes24Miembro","Detalle de cuentas por cobrar clientes 24 [miembro]"]
[null,null,"1;2","co-svsp-core:DetalleCuentasXCobrarClientes25Miembro","Detalle de cuentas por cobrar clientes 25 [miembro]"]
[null,null,"1;2","co-svsp-core:DetalleCuentasXCobrarClientes26Miembro","Detalle de cuentas por cobrar clientes 26 [miembro]"]
[null,null,"1;2","co-svsp-core:DetalleCuentasXCobrarClientes27Miembro","Detalle de cuentas por cobrar clientes 27 [miembro]"]
[null,null,"1;2","co-svsp-core:DetalleCuentasXCobrarClientes28Miembro","Detalle de cuentas por cobrar clientes 28 [miembro]"]
[null,null,"1;2","co-svsp-core:DetalleCuentasXCobrarClientes29Miembro","Detalle de cuentas por cobrar clientes 29 [miembro]"]
[null,null,"1;2","co-svsp-core:DetalleCuentasXCobrarClientes30Miembro","Detalle de cuentas por cobrar clientes 30 [miembro]"]
[null,null,"1;2","co-svsp-core:DetalleCuentasXCobrarClientes31Miembro","Detalle de cuentas por cobrar clientes 31 [miembro]"]
[null,null,"1;2","co-svsp-core:DetalleCuentasXCobrarClientes32Miembro","Detalle de cuentas por cobrar clientes 32 [miembro]"]
[null,null,"1;2","co-svsp-core:DetalleCuentasXCobrarClientes33Miembro","Detalle de cuentas por cobrar clientes 33 [miembro]"]
[null,null,"1;2","co-svsp-core:DetalleCuentasXCobrarClientes34Miembro","Detalle de cuentas por cobrar clientes 34 [miembro]"]
[null,null,"1;2","co-svsp-core:DetalleCuentasXCobrarClientes35Miembro","Detalle de cuentas por cobrar clientes 35 [miembro]"]
[null,null,"1;2","co-svsp-core:DetalleCuentasXCobrarClientes36Miembro","Detalle de cuentas por cobrar clientes 36 [miembro]"]
[null,null,"1;2","co-svsp-core:DetalleCuentasXCobrarClientes37Miembro","Detalle de cuentas por cobrar clientes 37 [miembro]"]
[null,null,"1;2","co-svsp-core:DetalleCuentasXCobrarClientes38Miembro","Detalle de cuentas por cobrar clientes 38 [miembro]"]
[null,null,"1;2","co-svsp-core:DetalleCuentasXCobrarClientes39Miembro","Detalle de cuentas por cobrar clientes 39 [miembro]"]
[null,null,"1;2","co-svsp-core:DetalleCuentasXCobrarClientes40Miembro","Detalle de cuentas por cobrar clientes 40 [miembro]"]
[null,null,"1;2","co-svsp-core:DetalleCuentasXCobrarClientes41Miembro","Detalle de cuentas por cobrar clientes 41 [miembro]"]
[null,null,"1;2","co-svsp-core:DetalleCuentasXCobrarClientes42Miembro","Detalle de cuentas por cobrar clientes 42 [miembro]"]
[null,null,"1;2","co-svsp-core:DetalleCuentasXCobrarClientes43Miembro","Detalle de cuentas por cobrar clientes 43 [miembro]"]
[null,null,"1;2","co-svsp-core:DetalleCuentasXCobrarClientes44Miembro","Detalle de cuentas por cobrar clientes 44 [miembro]"]
[null,null,"1;2","co-svsp-core:DetalleCuentasXCobrarClientes45Miembro","Detalle de cuentas por cobrar clientes 45 [miembro]"]
[null,null,"1;2","co-svsp-core:DetalleCuentasXCobrarClientes46Miembro","Detalle de cuentas por cobrar clientes 46 [miembro]"]
[null,null,"1;2","co-svsp-core:DetalleCuentasXCobrarClientes47Miembro","Detalle de cuentas por cobrar clientes 47 [miembro]"]
[null,null,"1;2","co-svsp-core:DetalleCuentasXCobrarClientes48Miembro","Detalle de cuentas por cobrar clientes 48 [miembro]"]
[null,null,"1;2","co-svsp-core:DetalleCuentasXCobrarClientes49Miembro","Detalle de cuentas por cobrar clientes 49 [miembro]"]
[null,null,"1;2","co-svsp-core:DetalleCuentasXCobrarClientes50Miembro","Detalle de cuentas por cobrar clientes 50 [miembro]"]
[null,null,"1;2","co-svsp-core:DetalleCuentasXCobrarClientes51EnAdelante","Detalle de cuentas por cobrar clientes 51 en adelante [miembro]"]
[null,null,"1;2","co-svsp-core:TotalDetalleCuentasXCobrarClientesMiembro","Total Detalle de cuentas por cobrar clientes [miembro]",null,null,null,null,null,null,null,null,null,null,null,{"$f":"SUM(Q188:Q238)","v":0}]
[null,null,"1;2","co-svsp-core:RelacionCuentasXCobrarAccionistasSociosVinculadasMiembro","Relación de cuentas por cobrar, compañías accionostas, socios y compañías vinculadas [miembro]"]
[null,null,"1;2","co-svsp-core:DetalleCuentasXCobrarAccionistasSociosVinculadas1Miembro","Detalle de cuentas por cobrar a accionistas, socios o vinculadas 1 [miembro]"]
[null,null,"1;2","co-svsp-core:DetalleCuentasXCobrarAccionistasSociosVinculadas2Miembro","Detalle de cuentas por cobrar a accionistas, socios o vinculadas 2 [miembro]"]
[null,null,"1;2","co-svsp-core:DetalleCuentasXCobrarAccionistasSociosVinculadas3Miembro","Detalle de cuentas por cobrar a accionistas, socios o vinculadas 3 [miembro]"]
[null,null,"1;2","co-svsp-core:DetalleCuentasXCobrarAccionistasSociosVinculadas4Miembro","Detalle de cuentas por cobrar a accionistas, socios o vinculadas 4 [miembro]"]
[null,null,"1;2","co-svsp-core:DetalleCuentasXCobrarAccionistasSociosVinculadas5Miembro","Detalle de cuentas por cobrar a accionistas, socios o vinculadas 5 [miembro]"]
[null,null,"1;2","co-svsp-core:DetalleCuentasXCobrarAccionistasSociosVinculadas6Miembro","Detalle de cuentas por cobrar a accionistas, socios o vinculadas 6 [miembro]"]
[null,null,"1;2","co-svsp-core:DetalleCuentasXCobrarAccionistasSociosVinculadas7Miembro","Detalle de cuentas por cobrar a accionistas, socios o vinculadas 7 [miembro]"]
[null,null,"1;2","co-svsp-core:DetalleCuentasXCobrarAccionistasSociosVinculadas8Miembro","Detalle de cuentas por cobrar a accionistas, socios o vinculadas 8 [miembro]"]
[null,null,"1;2","co-svsp-core:DetalleCuentasXCobrarAccionistasSociosVinculadas9Miembro","Detalle de cuentas por cobrar a accionistas, socios o vinculadas 9 [miembro]"]
[null,null,"1;2","co-svsp-core:DetalleCuentasXCobrarAccionistasSociosVinculadas10Miembro","Detalle de cuentas por cobrar a accionistas, socios o vinculadas 10 [miembro]"]
[null,null,"1;2","co-svsp-core:DetalleCuentasXCobrarAccionistasSociosVinculadas11Miembro","Detalle de cuentas por cobrar a accionistas, socios o vinculadas 11 [miembro]"]
[null,null,"1;2","co-svsp-core:DetalleCuentasXCobrarAccionistasSociosVinculadas12Miembro","Detalle de cuentas por cobrar a accionistas, socios o vinculadas 12 [miembro]"]
[null,null,"1;2","co-svsp-core:DetalleCuentasXCobrarAccionistasSociosVinculadas13Miembro","Detalle de cuentas por cobrar a accionistas, socios o vinculadas 13 [miembro]"]
[null,null,"1;2","co-svsp-core:DetalleCuentasXCobrarAccionistasSociosVinculadas14Miembro","Detalle de cuentas por cobrar a accionistas, socios o vinculadas 14 [miembro]"]
[null,null,"1;2","co-svsp-core:DetalleCuentasXCobrarAccionistasSociosVinculadas15Miembro","Detalle de cuentas por cobrar a accionistas, socios o vinculadas 15 [miembro]"]
[null,null,"1;2","co-svsp-core:DetalleCuentasXCobrarAccionistasSociosVinculadas16Miembro","Detalle de cuentas por cobrar a accionistas, socios o vinculadas 16 [miembro]"]
[null,null,"1;2","co-svsp-core:DetalleCuentasXCobrarAccionistasSociosVinculadas17Miembro","Detalle de cuentas por cobrar a accionistas, socios o vinculadas 17 [miembro]"]
[null,null,"1;2","co-svsp-core:DetalleCuentasXCobrarAccionistasSociosVinculadas18Miembro","Detalle de cuentas por cobrar a accionistas, socios o vinculadas 18 [miembro]"]
[null,null,"1;2","co-svsp-core:DetalleCuentasXCobrarAccionistasSociosVinculadas19Miembro","Detalle de cuentas por cobrar a accionistas, socios o vinculadas 19 [miembro]"]
[null,null,"1;2","co-svsp-core:DetalleCuentasXCobrarAccionistasSociosVinculadas20Miembro","Detalle de cuentas por cobrar a accionistas, socios o vinculadas 20 [miembro]"]
[null,null,"1;2","co-svsp-core:DetalleCuentasXCobrarAccionistasSociosVinculadas21Miembro","Detalle de cuentas por cobrar a accionistas, socios o vinculadas 21 [miembro]"]
[null,null,"1;2","co-svsp-core:DetalleCuentasXCobrarAccionistasSociosVinculadas22Miembro","Detalle de cuentas por cobrar a accionistas, socios o vinculadas 22 [miembro]"]
[null,null,"1;2","co-svsp-core:DetalleCuentasXCobrarAccionistasSociosVinculadas23Miembro","Detalle de cuentas por cobrar a accionistas, socios o vinculadas 23 [miembro]"]
[null,null,"1;2","co-svsp-core:DetalleCuentasXCobrarAccionistasSociosVinculadas24Miembro","Detalle de cuentas por cobrar a accionistas, socios o vinculadas 24 [miembro]"]
[null,null,"1;2","co-svsp-core:DetalleCuentasXCobrarAccionistasSociosVinculadas25Miembro","Detalle de cuentas por cobrar a accionistas, socios o vinculadas 25 [miembro]"]
[null,null,"1;2","co-svsp-core:DetalleCuentasXCobrarAccionistasSociosVinculadas26Miembro","Detalle de cuentas por cobrar a accionistas, socios o vinculadas 26 [miembro]"]
[null,null,"1;2","co-svsp-core:DetalleCuentasXCobrarAccionistasSociosVinculadas27Miembro","Detalle de cuentas por cobrar a accionistas, socios o vinculadas 27 [miembro]"]
[null,null,"1;2","co-svsp-core:DetalleCuentasXCobrarAccionistasSociosVinculadas28Miembro","Detalle de cuentas por cobrar a accionistas, socios o vinculadas 28 [miembro]"]
[null,null,"1;2","co-svsp-core:DetalleCuentasXCobrarAccionistasSociosVinculadas29Miembro","Detalle de cuentas por cobrar a accionistas, socios o vinculadas 29 [miembro]"]
[null,null,"1;2","co-svsp-core:DetalleCuentasXCobrarAccionistasSociosVinculadas30Miembro","Detalle de cuentas por cobrar a accionistas, socios o vinculadas 30 [miembro]"]
[null,null,"1;2","co-svsp-core:DetalleCuentasXCobrarAccionistasSociosVinculadas31Miembro","Detalle de cuentas por cobrar a accionistas, socios o vinculadas 31 [miembro]"]
[null,null,"1;2","co-svsp-core:DetalleCuentasXCobrarAccionistasSociosVinculadas32Miembro","Detalle de cuentas por cobrar a accionistas, socios o vinculadas 32 [miembro]"]
[null,null,"1;2","co-svsp-core:DetalleCuentasXCobrarAccionistasSociosVinculadas33Miembro","Detalle de cuentas por cobrar a accionistas, socios o vinculadas 33 [miembro]"]
[null,null,"1;2","co-svsp-core:DetalleCuentasXCobrarAccionistasSociosVinculadas34Miembro","Detalle de cuentas por cobrar a accionistas, socios o vinculadas 34 [miembro]"]
[null,null,"1;2","co-svsp-core:DetalleCuentasXCobrarAccionistasSociosVinculadas35Miembro","Detalle de cuentas por cobrar a accionistas, socios o vinculadas 35 [miembro]"]
[null,null,"1;2","co-svsp-core:DetalleCuentasXCobrarAccionistasSociosVinculadas36Miembro","Detalle de cuentas por cobrar a accionistas, socios o vinculadas 36 [miembro]"]
[null,null,"1;2","co-svsp-core:DetalleCuentasXCobrarAccionistasSociosVinculadas37Miembro","Detalle de cuentas por cobrar a accionistas, socios o vinculadas 37 [miembro]"]
[null,null,"1;2","co-svsp-core:DetalleCuentasXCobrarAccionistasSociosVinculadas38Miembro","Detalle de cuentas por cobrar a accionistas, socios o vinculadas 38 [miembro]"]
[null,null,"1;2","co-svsp-core:DetalleCuentasXCobrarAccionistasSociosVinculadas39Miembro","Detalle de cuentas por cobrar a accionistas, socios o vinculadas 39 [miembro]"]
[null,null,"1;2","co-svsp-core:DetalleCuentasXCobrarAccionistasSociosVinculadas40Miembro","Detalle de cuentas por cobrar a accionistas, socios o vinculadas 40 [miembro]"]
[null,null,"1;2","co-svsp-core:DetalleCuentasXCobrarAccionistasSociosVinculadas41Miembro","Detalle de cuentas por cobrar a accionistas, socios o vinculadas 41 [miembro]"]
[null,null,"1;2","co-svsp-core:DetalleCuentasXCobrarAccionistasSociosVinculadas42Miembro","Detalle de cuentas por cobrar a accionistas, socios o vinculadas 42 [miembro]"]
[null,null,"1;2","co-svsp-core:DetalleCuentasXCobrarAccionistasSociosVinculadas43Miembro","Detalle de cuentas por cobrar a accionistas, socios o vinculadas 43 [miembro]"]
[null,null,"1;2","co-svsp-core:DetalleCuentasXCobrarAccionistasSociosVinculadas44Miembro","Detalle de cuentas por cobrar a accionistas, socios o vinculadas 44 [miembro]"]
[null,null,"1;2","co-svsp-core:DetalleCuentasXCobrarAccionistasSociosVinculadas45Miembro","Detalle de cuentas por cobrar a accionistas, socios o vinculadas 45 [miembro]"]
[null,null,"1;2","co-svsp-core:DetalleCuentasXCobrarAccionistasSociosVinculadas46Miembro","Detalle de cuentas por cobrar a accionistas, socios o vinculadas 46 [miembro]"]
[null,null,"1;2","co-svsp-core:DetalleCuentasXCobrarAccionistasSociosVinculadas47Miembro","Detalle de cuentas por cobrar a accionistas, socios o vinculadas 47 [miembro]"]
[null,null,"1;2","co-svsp-core:DetalleCuentasXCobrarAccionistasSociosVinculadas48Miembro","Detalle de cuentas por cobrar a accionistas, socios o vinculadas 48 [miembro]"]
[null,null,"1;2","co-svsp-core:DetalleCuentasXCobrarAccionistasSociosVinculadas49Miembro","Detalle de cuentas por cobrar a accionistas, socios o vinculadas 49 [miembro]"]
[null,null,"1;2","co-svsp-core:DetalleCuentasXCobrarAccionistasSociosVinculadas50Miembro","Detalle de cuentas por cobrar a accionistas, socios o vinculadas 50 [miembro]"]
[null,null,"1;2","co-svsp-core:DetalleCuentasXCobrarAccionistasSociosVinculadas51EnAdelante","Detalle de cuentas por cobrar a accionistas, socios o vinculadas 51 en adelante [miembro]"]
[null,null,"1;2","co-svsp-core:TotalDetalleCuentasXCobrarAccionistasSociosVinculadasMiembro","Total Detalle de cuentas por cobrar a accionistas, socios o vinculadas [miembro]",null,null,null,null,null,null,null,null,null,null,null,{"$f":"SUM(Q241:Q291)","v":0}]
[null,null,"1;2","co-svsp-core:RelacionCuentasXCobrarOtrasCuentasXCobrarMiembro","Relación de otras cuentas por cobrar [miembro]"]
[null,null,"1;2","co-svsp-core:DetalleCuentasXCobrarOtrasCuentasXCobrar1Miembro","Detalle de cuentas por cobrar Otras cuentas por cobrar  1 [miembro]"]
[null,null,"1;2","co-svsp-core:DetalleCuentasXCobrarOtrasCuentasXCobrar2Miembro","Detalle de cuentas por cobrar Otras cuentas por cobrar  2 [miembro]"]
[null,null,"1;2","co-svsp-core:DetalleCuentasXCobrarOtrasCuentasXCobrar3Miembro","Detalle de cuentas por cobrar Otras cuentas por cobrar  3 [miembro]"]
[null,null,"1;2","co-svsp-core:DetalleCuentasXCobrarOtrasCuentasXCobrar4Miembro","Detalle de cuentas por cobrar Otras cuentas por cobrar  4 [miembro]"]
[null,null,"1;2","co-svsp-core:DetalleCuentasXCobrarOtrasCuentasXCobrar5Miembro","Detalle de cuentas por cobrar Otras cuentas por cobrar  5 [miembro]"]
[null,null,"1;2","co-svsp-core:DetalleCuentasXCobrarOtrasCuentasXCobrar6Miembro","Detalle de cuentas por cobrar Otras cuentas por cobrar  6 [miembro]"]
[null,null,"1;2","co-svsp-core:DetalleCuentasXCobrarOtrasCuentasXCobrar7Miembro","Detalle de cuentas por cobrar Otras cuentas por cobrar  7 [miembro]"]
[null,null,"1;2","co-svsp-core:DetalleCuentasXCobrarOtrasCuentasXCobrar8Miembro","Detalle de cuentas por cobrar Otras cuentas por cobrar  8 [miembro]"]
[null,null,"1;2","co-svsp-core:DetalleCuentasXCobrarOtrasCuentasXCobrar9Miembro","Detalle de cuentas por cobrar Otras cuentas por cobrar  9 [miembro]"]
[null,null,"1;2","co-svsp-core:DetalleCuentasXCobrarOtrasCuentasXCobrar10Miembro","Detalle de cuentas por cobrar Otras cuentas por cobrar  10 [miembro]"]
[null,null,"1;2","co-svsp-core:DetalleCuentasXCobrarOtrasCuentasXCobrar11Miembro","Detalle de cuentas por cobrar Otras cuentas por cobrar  11 [miembro]"]
[null,null,"1;2","co-svsp-core:DetalleCuentasXCobrarOtrasCuentasXCobrar12Miembro","Detalle de cuentas por cobrar Otras cuentas por cobrar  12 [miembro]"]
[null,null,"1;2","co-svsp-core:DetalleCuentasXCobrarOtrasCuentasXCobrar13Miembro","Detalle de cuentas por cobrar Otras cuentas por cobrar  13 [miembro]"]
[null,null,"1;2","co-svsp-core:DetalleCuentasXCobrarOtrasCuentasXCobrar14Miembro","Detalle de cuentas por cobrar Otras cuentas por cobrar  14 [miembro]"]
[null,null,"1;2","co-svsp-core:DetalleCuentasXCobrarOtrasCuentasXCobrar15Miembro","Detalle de cuentas por cobrar Otras cuentas por cobrar  15 [miembro]"]
[null,null,"1;2","co-svsp-core:DetalleCuentasXCobrarOtrasCuentasXCobrar16Miembro","Detalle de cuentas por cobrar Otras cuentas por cobrar  16 [miembro]"]
[null,null,"1;2","co-svsp-core:DetalleCuentasXCobrarOtrasCuentasXCobrar17Miembro","Detalle de cuentas por cobrar Otras cuentas por cobrar  17 [miembro]"]
[null,null,"1;2","co-svsp-core:DetalleCuentasXCobrarOtrasCuentasXCobrar18Miembro","Detalle de cuentas por cobrar Otras cuentas por cobrar  18 [miembro]"]
[null,null,"1;2","co-svsp-core:DetalleCuentasXCobrarOtrasCuentasXCobrar19Miembro","Detalle de cuentas por cobrar Otras cuentas por cobrar  19 [miembro]"]
[null,null,"1;2","co-svsp-core:DetalleCuentasXCobrarOtrasCuentasXCobrar20Miembro","Detalle de cuentas por cobrar Otras cuentas por cobrar  20 [miembro]"]
[null,null,"1;2","co-svsp-core:DetalleCuentasXCobrarOtrasCuentasXCobrar21Miembro","Detalle de cuentas por cobrar Otras cuentas por cobrar  21 [miembro]"]
[null,null,"1;2","co-svsp-core:DetalleCuentasXCobrarOtrasCuentasXCobrar22Miembro","Detalle de cuentas por cobrar Otras cuentas por cobrar  22 [miembro]"]
[null,null,"1;2","co-svsp-core:DetalleCuentasXCobrarOtrasCuentasXCobrar23Miembro","Detalle de cuentas por cobrar Otras cuentas por cobrar  23 [miembro]"]
[null,null,"1;2","co-svsp-core:DetalleCuentasXCobrarOtrasCuentasXCobrar24Miembro","Detalle de cuentas por cobrar Otras cuentas por cobrar  24 [miembro]"]
[null,null,"1;2","co-svsp-core:DetalleCuentasXCobrarOtrasCuentasXCobrar25Miembro","Detalle de cuentas por cobrar Otras cuentas por cobrar  25 [miembro]"]
[null,null,"1;2","co-svsp-core:DetalleCuentasXCobrarOtrasCuentasXCobrar26Miembro","Detalle de cuentas por cobrar Otras cuentas por cobrar  26 [miembro]"]
[null,null,"1;2","co-svsp-core:DetalleCuentasXCobrarOtrasCuentasXCobrar27Miembro","Detalle de cuentas por cobrar Otras cuentas por cobrar  27 [miembro]"]
[null,null,"1;2","co-svsp-core:DetalleCuentasXCobrarOtrasCuentasXCobrar28Miembro","Detalle de cuentas por cobrar Otras cuentas por cobrar  28 [miembro]"]
[null,null,"1;2","co-svsp-core:DetalleCuentasXCobrarOtrasCuentasXCobrar29Miembro","Detalle de cuentas por cobrar Otras cuentas por cobrar  29 [miembro]"]
[null,null,"1;2","co-svsp-core:DetalleCuentasXCobrarOtrasCuentasXCobrar30Miembro","Detalle de cuentas por cobrar Otras cuentas por cobrar  30 [miembro]"]
[null,null,"1;2","co-svsp-core:DetalleCuentasXCobrarOtrasCuentasXCobrar31Miembro","Detalle de cuentas por cobrar Otras cuentas por cobrar  31 [miembro]"]
[null,null,"1;2","co-svsp-core:DetalleCuentasXCobrarOtrasCuentasXCobrar32Miembro","Detalle de cuentas por cobrar Otras cuentas por cobrar  32 [miembro]"]
[null,null,"1;2","co-svsp-core:DetalleCuentasXCobrarOtrasCuentasXCobrar33Miembro","Detalle de cuentas por cobrar Otras cuentas por cobrar  33 [miembro]"]
[null,null,"1;2","co-svsp-core:DetalleCuentasXCobrarOtrasCuentasXCobrar34Miembro","Detalle de cuentas por cobrar Otras cuentas por cobrar  34 [miembro]"]
[null,null,"1;2","co-svsp-core:DetalleCuentasXCobrarOtrasCuentasXCobrar35Miembro","Detalle de cuentas por cobrar Otras cuentas por cobrar  35 [miembro]"]
[null,null,"1;2","co-svsp-core:DetalleCuentasXCobrarOtrasCuentasXCobrar36Miembro","Detalle de cuentas por cobrar Otras cuentas por cobrar  36 [miembro]"]
[null,null,"1;2","co-svsp-core:DetalleCuentasXCobrarOtrasCuentasXCobrar37Miembro","Detalle de cuentas por cobrar Otras cuentas por cobrar  37 [miembro]"]
[null,null,"1;2","co-svsp-core:DetalleCuentasXCobrarOtrasCuentasXCobrar38Miembro","Detalle de cuentas por cobrar Otras cuentas por cobrar  38 [miembro]"]
[null,null,"1;2","co-svsp-core:DetalleCuentasXCobrarOtrasCuentasXCobrar39Miembro","Detalle de cuentas por cobrar Otras cuentas por cobrar  39 [miembro]"]
[null,null,"1;2","co-svsp-core:DetalleCuentasXCobrarOtrasCuentasXCobrar40Miembro","Detalle de cuentas por cobrar Otras cuentas por cobrar  40 [miembro]"]
[null,null,"1;2","co-svsp-core:DetalleCuentasXCobrarOtrasCuentasXCobrar41Miembro","Detalle de cuentas por cobrar Otras cuentas por cobrar  41 [miembro]"]
[null,null,"1;2","co-svsp-core:DetalleCuentasXCobrarOtrasCuentasXCobrar42Miembro","Detalle de cuentas por cobrar Otras cuentas por cobrar  42 [miembro]"]
[null,null,"1;2","co-svsp-core:DetalleCuentasXCobrarOtrasCuentasXCobrar43Miembro","Detalle de cuentas por cobrar Otras cuentas por cobrar  43 [miembro]"]
[null,null,"1;2","co-svsp-core:DetalleCuentasXCobrarOtrasCuentasXCobrar44Miembro","Detalle de cuentas por cobrar Otras cuentas por cobrar  44 [miembro]"]
[null,null,"1;2","co-svsp-core:DetalleCuentasXCobrarOtrasCuentasXCobrar45Miembro","Detalle de cuentas por cobrar Otras cuentas por cobrar  45 [miembro]"]
[null,null,"1;2","co-svsp-core:DetalleCuentasXCobrarOtrasCuentasXCobrar46Miembro","Detalle de cuentas por cobrar Otras cuentas por cobrar  46 [miembro]"]
[null,null,"1;2","co-svsp-core:DetalleCuentasXCobrarOtrasCuentasXCobrar47Miembro","Detalle de cuentas por cobrar Otras cuentas por cobrar  47 [miembro]"]
[null,null,"1;2","co-svsp-core:DetalleCuentasXCobrarOtrasCuentasXCobrar48Miembro","Detalle de cuentas por cobrar Otras cuentas por cobrar  48 [miembro]"]
[null,null,"1;2","co-svsp-core:DetalleCuentasXCobrarOtrasCuentasXCobrar49Miembro","Detalle de cuentas por cobrar Otras cuentas por cobrar  49 [miembro]"]
[null,null,"1;2","co-svsp-core:DetalleCuentasXCobrarOtrasCuentasXCobrar50Miembro","Detalle de cuentas por cobrar Otras cuentas por cobrar  50 [miembro]"]
[null,null,"1;2","co-svsp-core:DetalleCuentasXCobrarOtrasCuentasXCobrar51EnAdelante","Detalle de cuentas por cobrar Otras cuentas por cobrar  51 en adelante [miembro]"]
[null,null,"1;2","co-svsp-core:TotalDetalleCuentasXCobrarOtrasCuentasXCobrarMiembro","Total Detalle de cuentas por cobrar, otras cuentas por cobrar [miembro]",null,null,null,null,null,null,null,null,null,null,null,{"$f":"SUM(Q294:Q344)","v":0}]
[null,null,"1;2","co-svsp-core:TotalDetalleCuentasXCobrarMiembro","Total Detalle de cuentas por cobrar [miembro]",null,null,null,null,null,null,null,null,null,null,null,{"$f":"Q345+Q292+Q239","v":0},null,{"$f":"IF(Q346='210000 - Est. Situa. Financiera'!G18+'210000 - Est. Situa. Financiera'!G36,\"CORRECTO\",\"La información registrada en este formulario para '\"&E346&\"' en la columna '\"&$Q$185&\"' para del periodo anterior, debe ser igual al reportado en el Estado de Situación Financiera\")","v":"CORRECTO"},null,null,{"$f":"IF(S346=\"CORRECTO\",0,1)","v":0}]

{"sheet":"800111A GeneraXBRL","index":10,"n_rows":193,"n_cols":165,"rows_kept":193,"cut":false,"hidden":true,"merged":[[3,3,5,9],[7,3,7,6]]}
[]
[]
[]
[]
[]
[]
[]
[]
[null,null,null,null,"co-svsp-core:RelacionCuentasXCobrarMiembro","co-svsp-core:RelacionCuentasXCobrarClientesMiembro","co-svsp-core:DetalleCuentasXCobrarClientes1Miembro","co-svsp-core:DetalleCuentasXCobrarClientes2Miembro","co-svsp-core:DetalleCuentasXCobrarClientes3Miembro","co-svsp-core:DetalleCuentasXCobrarClientes4Miembro","co-svsp-core:DetalleCuentasXCobrarClientes5Miembro","co-svsp-core:DetalleCuentasXCobrarClientes6Miembro","co-svsp-core:DetalleCuentasXCobrarClientes7Miembro","co-svsp-core:DetalleCuentasXCobrarClientes8Miembro","co-svsp-core:DetalleCuentasXCobrarClientes9Miembro","co-svsp-core:DetalleCuentasXCobrarClientes10Miembro","co-svsp-core:DetalleCuentasXCobrarClientes11Miembro","co-svsp-core:DetalleCuentasXCobrarClientes12Miembro","co-svsp-core:DetalleCuentasXCobrarClientes13Miembro","co-svsp-core:DetalleCuentasXCobrarClientes14Miembro","co-svsp-core:DetalleCuentasXCobrarClientes15Miembro","co-svsp-core:DetalleCuentasXCobrarClientes16Miembro","co-svsp-core:DetalleCuentasXCobrarClientes17Miembro","co-svsp-core:DetalleCuentasXCobrarClientes18Miembro","co-svsp-core:DetalleCuentasXCobrarClientes19Miembro","co-svsp-core:DetalleCuentasXCobrarClientes20Miembro","co-svsp-core:DetalleCuentasXCobrarClientes21Miembro","co-svsp-core:DetalleCuentasXCobrarClientes22Miembro","co-svsp-core:DetalleCuentasXCobrarClientes23Miembro","co-svsp-core:DetalleCuentasXCobrarClientes24Miembro","co-svsp-core:DetalleCuentasXCobrarClientes25Miembro","co-svsp-core:DetalleCuentasXCobrarClientes26Miembro","co-svsp-core:DetalleCuentasXCobrarClientes27Miembro","co-svsp-core:DetalleCuentasXCobrarClientes28Miembro","co-svsp-core:DetalleCuentasXCobrarClientes29Miembro","co-svsp-core:DetalleCuentasXCobrarClientes30Miembro","co-svsp-core:DetalleCuentasXCobrarClientes31Miembro","co-svsp-core:DetalleCuentasXCobrarClientes32Miembro","co-svsp-core:DetalleCuentasXCobrarClientes33Miembro","co-svsp-core:DetalleCuentasXCobrarClientes34Miembro","co-svsp-core:DetalleCuentasXCobrarClientes35Miembro","co-svsp-core:DetalleCuentasXCobrarClientes36Miembro","co-svsp-core:DetalleCuentasXCobrarClientes37Miembro","co-svsp-core:DetalleCuentasXCobrarClientes38Miembro","co-svsp-core:DetalleCuentasXCobrarClientes39Miembro","co-svsp-core:DetalleCuentasXCobrarClientes40Miembro","co-svsp-core:DetalleCuentasXCobrarClientes41Miembro","co-svsp-core:DetalleCuentasXCobrarClientes42Miembro","co-svsp-core:DetalleCuentasXCobrarClientes43Miembro","co-svsp-core:DetalleCuentasXCobrarClientes44Miembro","co-svsp-core:DetalleCuentasXCobrarClientes45Miembro","co-svsp-core:DetalleCuentasXCobrarClientes46Miembro","co-svsp-core:DetalleCuentasXCobrarClientes47Miembro","co-svsp-core:DetalleCuentasXCobrarClientes48Miembro","co-svsp-core:DetalleCuentasXCobrarClientes49Miembro","co-svsp-core:DetalleCuentasXCobrarClientes50Miembro","co-svsp-core:DetalleCuentasXCobrarClientes51EnAdelante","co-svsp-core:TotalDetalleCuentasXCobrarClientesMiembro","co-svsp-core:RelacionCuentasXCobrarAccionistasSociosVinculadasMiembro","co-svsp-core:DetalleCuentasXCobrarAccionistasSociosVinculadas1Miembro","co-svsp-core:DetalleCuentasXCobrarAccionistasSociosVinculadas2Miembro","co-svsp-core:DetalleCuentasXCobrarAccionistasSociosVinculadas3Miembro","co-svsp-core:DetalleCuentasXCobrarAccionistasSociosVinculadas4Miembro","co-svsp-core:DetalleCuentasXCobrarAccionistasSociosVinculadas5Miembro","co-svsp-core:DetalleCuentasXCobrarAccionistasSociosVinculadas6Miembro","co-svsp-core:DetalleCuentasXCobrarAccionistasSociosVinculadas7Miembro","co-svsp-core:DetalleCuentasXCobrarAccionistasSociosVinculadas8Miembro","co-svsp-core:DetalleCuentasXCobrarAccionistasSociosVinculadas9Miembro","co-svsp-core:DetalleCuentasXCobrarAccionistasSociosVinculadas10Miembro","co-svsp-core:DetalleCuentasXCobrarAccionistasSociosVinculadas11Miembro","co-svsp-core:DetalleCuentasXCobrarAccionistasSociosVinculadas12Miembro","co-svsp-core:DetalleCuentasXCobrarAccionistasSociosVinculadas13Miembro","co-svsp-core:DetalleCuentasXCobrarAccionistasSociosVinculadas14Miembro","co-svsp-core:DetalleCuentasXCobrarAccionistasSociosVinculadas15Miembro","co-svsp-core:DetalleCuentasXCobrarAccionistasSociosVinculadas16Miembro","co-svsp-core:DetalleCuentasXCobrarAccionistasSociosVinculadas17Miembro","co-svsp-core:DetalleCuentasXCobrarAccionistasSociosVinculadas18Miembro","co-svsp-core:DetalleCuentasXCobrarAccionistasSociosVinculadas19Miembro","co-svsp-core:DetalleCuentasXCobrarAccionistasSociosVinculadas20Miembro","co-svsp-core:DetalleCuentasXCobrarAccionistasSociosVinculadas21Miembro","co-svsp-core:DetalleCuentasXCobrarAccionistasSociosVinculadas22Miembro","co-svsp-core:DetalleCuentasXCobrarAccionistasSociosVinculadas23Miembro","co-svsp-core:DetalleCuentasXCobrarAccionistasSociosVinculadas24Miembro","co-svsp-core:DetalleCuentasXCobrarAccionistasSociosVinculadas25Miembro","co-svsp-core:DetalleCuentasXCobrarAccionistasSociosVinculadas26Miembro","co-svsp-core:DetalleCuentasXCobrarAccionistasSociosVinculadas27Miembro","co-svsp-core:DetalleCuentasXCobrarAccionistasSociosVinculadas28Miembro","co-svsp-core:DetalleCuentasXCobrarAccionistasSociosVinculadas29Miembro","co-svsp-core:DetalleCuentasXCobrarAccionistasSociosVinculadas30Miembro","co-svsp-core:DetalleCuentasXCobrarAccionistasSociosVinculadas31Miembro","co-svsp-core:DetalleCuentasXCobrarAccionistasSociosVinculadas32Miembro","co-svsp-core:DetalleCuentasXCobrarAccionistasSociosVinculadas33Miembro","co-svsp-core:DetalleCuentasXCobrarAccionistasSociosVinculadas34Miembro","co-svsp-core:DetalleCuentasXCobrarAccionistasSociosVinculadas35Miembro","co-svsp-core:DetalleCuentasXCobrarAccionistasSociosVinculadas36Miembro","co-svsp-core:DetalleCuentasXCobrarAccionistasSociosVinculadas37Miembro","co-svsp-core:DetalleCuentasXCobrarAccionistasSociosVinculadas38Miembro","co-svsp-core:DetalleCuentasXCobrarAccionistasSociosVinculadas39Miembro","co-svsp-core:DetalleCuentasXCobrarAccionistasSociosVinculadas40Miembro","co-svsp-core:DetalleCuentasXCobrarAccionistasSociosVinculadas41Miembro","co-svsp-core:DetalleCuentasXCobrarAccionistasSociosVinculadas42Miembro","co-svsp-core:DetalleCuentasXCobrarAccionistasSociosVinculadas43Miembro","co-svsp-core:DetalleCuentasXCobrarAccionistasSociosVinculadas44Miembro","co-svsp-core:DetalleCuentasXCobrarAccionistasSociosVinculadas45Miembro","co-svsp-core:DetalleCuentasXCobrarAccionistasSociosVinculadas46Miembro","co-svsp-core:DetalleCuentasXCobrarAccionistasSociosVinculadas47Miembro","co-svsp-core:DetalleCuentasXCobrarAccionistasSociosVinculadas48Miembro","co-svsp-core:DetalleCuentasXCobrarAccionistasSociosVinculadas49Miembro","co-svsp-core:DetalleCuentasXCobrarAccionistasSociosVinculadas50Miembro","co-svsp-core:DetalleCuentasXCobrarAccionistasSociosVinculadas51EnAdelante","co-svsp-core:TotalDetalleCuentasXCobrarAccionistasSociosVinculadasMiembro","co-svsp-core:RelacionCuentasXCobrarOtrasCuentasXCobrarMiembro","co-svsp-core:DetalleCuentasXCobrarOtrasCuentasXCobrar1Miembro","co-svsp-core:DetalleCuentasXCobrarOtrasCuentasXCobrar2Miembro","co-svsp-core:DetalleCuentasXCobrarOtrasCuentasXCobrar3Miembro","co-svsp-core:DetalleCuentasXCobrarOtrasCuentasXCobrar4Miembro","co-svsp-core:DetalleCuentasXCobrarOtrasCuentasXCobrar5Miembro","co-svsp-core:DetalleCuentasXCobrarOtrasCuentasXCobrar6Miembro","co-svsp-core:DetalleCuentasXCobrarOtrasCuentasXCobrar7Miembro","co-svsp-core:DetalleCuentasXCobrarOtrasCuentasXCobrar8Miembro","co-svsp-core:DetalleCuentasXCobrarOtrasCuentasXCobrar9Miembro","co-svsp-core:DetalleCuentasXCobrarOtrasCuentasXCobrar10Miembro","co-svsp-core:DetalleCuentasXCobrarOtrasCuentasXCobrar11Miembro","co-svsp-core:DetalleCuentasXCobrarOtrasCuentasXCobrar12Miembro","co-svsp-core:DetalleCuentasXCobrarOtrasCuentasXCobrar13Miembro","co-svsp-core:DetalleCuentasXCobrarOtrasCuentasXCobrar14Miembro","co-svsp-core:DetalleCuentasXCobrarOtrasCuentasXCobrar15Miembro","co-svsp-core:DetalleCuentasXCobrarOtrasCuentasXCobrar16Miembro","co-svsp-core:DetalleCuentasXCobrarOtrasCuentasXCobrar17Miembro","co-svsp-core:DetalleCuentasXCobrarOtrasCuentasXCobrar18Miembro","co-svsp-core:DetalleCuentasXCobrarOtrasCuentasXCobrar19Miembro","co-svsp-core:DetalleCuentasXCobrarOtrasCuentasXCobrar20Miembro","co-svsp-core:DetalleCuentasXCobrarOtrasCuentasXCobrar21Miembro","co-svsp-core:DetalleCuentasXCobrarOtrasCuentasXCobrar22Miembro","co-svsp-core:DetalleCuentasXCobrarOtrasCuentasXCobrar23Miembro","co-svsp-core:DetalleCuentasXCobrarOtrasCuentasXCobrar24Miembro","co-svsp-core:DetalleCuentasXCobrarOtrasCuentasXCobrar25Miembro","co-svsp-core:DetalleCuentasXCobrarOtrasCuentasXCobrar26Miembro","co-svsp-core:DetalleCuentasXCobrarOtrasCuentasXCobrar27Miembro","co-svsp-core:DetalleCuentasXCobrarOtrasCuentasXCobrar28Miembro","co-svsp-core:DetalleCuentasXCobrarOtrasCuentasXCobrar29Miembro","co-svsp-core:DetalleCuentasXCobrarOtrasCuentasXCobrar30Miembro","co-svsp-core:DetalleCuentasXCobrarOtrasCuentasXCobrar31Miembro","co-svsp-core:DetalleCuentasXCobrarOtrasCuentasXCobrar32Miembro","co-svsp-core:DetalleCuentasXCobrarOtrasCuentasXCobrar33Miembro","co-svsp-core:DetalleCuentasXCobrarOtrasCuentasXCobrar34Miembro","co-svsp-core:DetalleCuentasXCobrarOtrasCuentasXCobrar35Miembro","co-svsp-core:DetalleCuentasXCobrarOtrasCuentasXCobrar36Miembro","co-svsp-core:DetalleCuentasXCobrarOtrasCuentasXCobrar37Miembro","co-svsp-core:DetalleCuentasXCobrarOtrasCuentasXCobrar38Miembro","co-svsp-core:DetalleCuentasXCobrarOtrasCuentasXCobrar39Miembro","co-svsp-core:DetalleCuentasXCobrarOtrasCuentasXCobrar40Miembro","co-svsp-core:DetalleCuentasXCobrarOtrasCuentasXCobrar41Miembro","co-svsp-core:DetalleCuentasXCobrarOtrasCuentasXCobrar42Miembro","co-svsp-core:DetalleCuentasXCobrarOtrasCuentasXCobrar43Miembro","co-svsp-core:DetalleCuentasXCobrarOtrasCuentasXCobrar44Miembro","co-svsp-core:DetalleCuentasXCobrarOtrasCuentasXCobrar45Miembro","co-svsp-core:DetalleCuentasXCobrarOtrasCuentasXCobrar46Miembro","co-svsp-core:DetalleCuentasXCobrarOtrasCuentasXCobrar47Miembro","co-svsp-core:DetalleCuentasXCobrarOtrasCuentasXCobrar48Miembro","co-svsp-core:DetalleCuentasXCobrarOtrasCuentasXCobrar49Miembro","co-svsp-core:DetalleCuentasXCobrarOtrasCuentasXCobrar50Miembro","co-svsp-core:DetalleCuentasXCobrarOtrasCuentasXCobrar51EnAdelante","co-svsp-core:TotalDetalleCuentasXCobrarOtrasCuentasXCobrarMiembro","co-svsp-core:TotalDetalleCuentasXCobrarMiembro"]
[null,"Periodo",null,"co-svsp-core:DetalleCuentasXCobrar_Eje","Relación de cuentas por cobrar [miembro]","Relación de cuentas por cobrar clientes [miembro]","Detalle de cuentas por cobrar clientes 1 [miembro]","Detalle de cuentas por cobrar clientes 2 [miembro]","Detalle de cuentas por cobrar clientes 3 [miembro]","Detalle de cuentas por cobrar clientes 4 [miembro]","Detalle de cuentas por cobrar clientes 5 [miembro]","Detalle de cuentas por cobrar clientes 6 [miembro]","Detalle de cuentas por cobrar clientes 7 [miembro]","Detalle de cuentas por cobrar clientes 8 [miembro]","Detalle de cuentas por cobrar clientes 9 [miembro]","Detalle de cuentas por cobrar clientes 10 [miembro]","Detalle de cuentas por cobrar clientes 11 [miembro]","Detalle de cuentas por cobrar clientes 12 [miembro]","Detalle de cuentas por cobrar clientes 13 [miembro]","Detalle de cuentas por cobrar clientes 14 [miembro]","Detalle de cuentas por cobrar clientes 15 [miembro]","Detalle de cuentas por cobrar clientes 16 [miembro]","Detalle de cuentas por cobrar clientes 17 [miembro]","Detalle de cuentas por cobrar clientes 18 [miembro]","Detalle de cuentas por cobrar clientes 19 [miembro]","Detalle de cuentas por cobrar clientes 20 [miembro]","Detalle de cuentas por cobrar clientes 21 [miembro]","Detalle de cuentas por cobrar clientes 22 [miembro]","Detalle de cuentas por cobrar clientes 23 [miembro]","Detalle de cuentas por cobrar clientes 24 [miembro]","Detalle de cuentas por cobrar clientes 25 [miembro]","Detalle de cuentas por cobrar clientes 26 [miembro]","Detalle de cuentas por cobrar clientes 27 [miembro]","Detalle de cuentas por cobrar clientes 28 [miembro]","Detalle de cuentas por cobrar clientes 29 [miembro]","Detalle de cuentas por cobrar clientes 30 [miembro]","Detalle de cuentas por cobrar clientes 31 [miembro]","Detalle de cuentas por cobrar clientes 32 [miembro]","Detalle de cuentas por cobrar clientes 33 [miembro]","Detalle de cuentas por cobrar clientes 34 [miembro]","Detalle de cuentas por cobrar clientes 35 [miembro]","Detalle de cuentas por cobrar clientes 36 [miembro]","Detalle de cuentas por cobrar clientes 37 [miembro]","Detalle de cuentas por cobrar clientes 38 [miembro]","Detalle de cuentas por cobrar clientes 39 [miembro]","Detalle de cuentas por cobrar clientes 40 [miembro]","Detalle de cuentas por cobrar clientes 41 [miembro]","Detalle de cuentas por cobrar clientes 42 [miembro]","Detalle de cuentas por cobrar clientes 43 [miembro]","Detalle de cuentas por cobrar clientes 44 [miembro]","Detalle de cuentas por cobrar clientes 45 [miembro]","Detalle de cuentas por cobrar clientes 46 [miembro]","Detalle de cuentas por cobrar clientes 47 [miembro]","Detalle de cuentas por cobrar clientes 48 [miembro]","Detalle de cuentas por cobrar clientes 49 [miembro]","Detalle de cuentas por cobrar clientes 50 [miembro]","Detalle de cuentas por cobrar clientes 51 en adelante [miembro]","Total Detalle de cuentas por cobrar clientes [miembro]","Relación de cuentas por cobrar, compañías accionostas, socios y compañías vinculadas [miembro]","Detalle de cuentas por cobrar a accionistas, socios o vinculadas 1 [miembro]","Detalle de cuentas por cobrar a accionistas, socios o vinculadas 2 [miembro]","Detalle de cuentas por cobrar a accionistas, socios o vinculadas 3 [miembro]","Detalle de cuentas por cobrar a accionistas, socios o vinculadas 4 [miembro]","Detalle de cuentas por cobrar a accionistas, socios o vinculadas 5 [miembro]","Detalle de cuentas por cobrar a accionistas, socios o vinculadas 6 [miembro]","Detalle de cuentas por cobrar a accionistas, socios o vinculadas 7 [miembro]","Detalle de cuentas por cobrar a accionistas, socios o vinculadas 8 [miembro]","Detalle de cuentas por cobrar a accionistas, socios o vinculadas 9 [miembro]","Detalle de cuentas por cobrar a accionistas, socios o vinculadas 10 [miembro]","Detalle de cuentas por cobrar a accionistas, socios o vinculadas 11 [miembro]","Detalle de cuentas por cobrar a accionistas, socios o vinculadas 12 [miembro]","Detalle de cuentas por cobrar a accionistas, socios o vinculadas 13 [miembro]","Detalle de cuentas por cobrar a accionistas, socios o vinculadas 14 [miembro]","Detalle de cuentas por cobrar a accionistas, socios o vinculadas 15 [miembro]","Detalle de cuentas por cobrar a accionistas, socios o vinculadas 16 [miembro]","Detalle de cuentas por cobrar a accionistas, socios o vinculadas 17 [miembro]","Detalle de cuentas por cobrar a accionistas, socios o vinculadas 18 [miembro]","Detalle de cuentas por cobrar a accionistas, socios o vinculadas 19 [miembro]","Detalle de cuentas por cobrar a accionistas, socios o vinculadas 20 [miembro]","Detalle de cuentas por cobrar a accionistas, socios o vinculadas 21 [miembro]","Detalle de cuentas por cobrar a accionistas, socios o vinculadas 22 [miembro]","Detalle de cuentas por cobrar a accionistas, socios o vinculadas 23 [miembro]","Detalle de cuentas por cobrar a accionistas, socios o vinculadas 24 [miembro]","Detalle de cuentas por cobrar a accionistas, socios o vinculadas 25 [miembro]","Detalle de cuentas por cobrar a accionistas, socios o vinculadas 26 [miembro]","Detalle de cuentas por cobrar a accionistas, socios o vinculadas 27 [miembro]","Detalle de cuentas por cobrar a accionistas, socios o vinculadas 28 [miembro]","Detalle de cuentas por cobrar a accionistas, socios o vinculadas 29 [miembro]","Detalle de cuentas por cobrar a accionistas, socios o vinculadas 30 [miembro]","Detalle de cuentas por cobrar a accionistas, socios o vinculadas 31 [miembro]","Detalle de cuentas por cobrar a accionistas, socios o vinculadas 32 [miembro]","Detalle de cuentas por cobrar a accionistas, socios o vinculadas 33 [miembro]","Detalle de cuentas por cobrar a accionistas, socios o vinculadas 34 [miembro]","Detalle de cuentas por cobrar a accionistas, socios o vinculadas 35 [miembro]","Detalle de cuentas por cobrar a accionistas, socios o vinculadas 36 [miembro]","Detalle de cuentas por cobrar a accionistas, socios o vinculadas 37 [miembro]","Detalle de cuentas por cobrar a accionistas, socios o vinculadas 38 [miembro]","Detalle de cuentas por cobrar a accionistas, socios o vinculadas 39 [miembro]","Detalle de cuentas por cobrar a accionistas, socios o vinculadas 40 [miembro]","Detalle de cuentas por cobrar a accionistas, socios o vinculadas 41 [miembro]","Detalle de cuentas por cobrar a accionistas, socios o vinculadas 42 [miembro]","Detalle de cuentas por cobrar a accionistas, socios o vinculadas 43 [miembro]","Detalle de cuentas por cobrar a accionistas, socios o vinculadas 44 [miembro]","Detalle de cuentas por cobrar a accionistas, socios o vinculadas 45 [miembro]","Detalle de cuentas por cobrar a accionistas, socios o vinculadas 46 [miembro]","Detalle de cuentas por cobrar a accionistas, socios o vinculadas 47 [miembro]","Detalle de cuentas por cobrar a accionistas, socios o vinculadas 48 [miembro]","Detalle de cuentas por cobrar a accionistas, socios o vinculadas 49 [miembro]","Detalle de cuentas por cobrar a accionistas, socios o vinculadas 50 [miembro]","Detalle de cuentas por cobrar a accionistas, socios o vinculadas 51 en adelante [miembro]","Total Detalle de cuentas por cobrar a accionistas, socios o vinculadas [miembro]","Relación de otras cuentas por cobrar [miembro]","Detalle de cuentas por cobrar Otras cuentas por cobrar  1 [miembro]","Detalle de cuentas por cobrar Otras cuentas por cobrar  2 [miembro]","Detalle de cuentas por cobrar Otras cuentas por cobrar  3 [miembro]","Detalle de cuentas por cobrar Otras cuentas por cobrar  4 [miembro]","Detalle de cuentas por cobrar Otras cuentas por cobrar  5 [miembro]","Detalle de cuentas por cobrar Otras cuentas por cobrar  6 [miembro]","Detalle de cuentas por cobrar Otras cuentas por cobrar  7 [miembro]","Detalle de cuentas por cobrar Otras cuentas por cobrar  8 [miembro]","Detalle de cuentas por cobrar Otras cuentas por cobrar  9 [miembro]","Detalle de cuentas por cobrar Otras cuentas por cobrar  10 [miembro]","Detalle de cuentas por cobrar Otras cuentas por cobrar  11 [miembro]","Detalle de cuentas por cobrar Otras cuentas por cobrar  12 [miembro]","Detalle de cuentas por cobrar Otras cuentas por cobrar  13 [miembro]","Detalle de cuentas por cobrar Otras cuentas por cobrar  14 [miembro]","Detalle de cuentas por cobrar Otras cuentas por cobrar  15 [miembro]","Detalle de cuentas por cobrar Otras cuentas por cobrar  16 [miembro]","Detalle de cuentas por cobrar Otras cuentas por cobrar  17 [miembro]","Detalle de cuentas por cobrar Otras cuentas por cobrar  18 [miembro]","Detalle de cuentas por cobrar Otras cuentas por cobrar  19 [miembro]","Detalle de cuentas por cobrar Otras cuentas por cobrar  20 [miembro]","Detalle de cuentas por cobrar Otras cuentas por cobrar  21 [miembro]","Detalle de cuentas por cobrar Otras cuentas por cobrar  22 [miembro]","Detalle de cuentas por cobrar Otras cuentas por cobrar  23 [miembro]","Detalle de cuentas por cobrar Otras cuentas por cobrar  24 [miembro]","Detalle de cuentas por cobrar Otras cuentas por cobrar  25 [miembro]","Detalle de cuentas por cobrar Otras cuentas por cobrar  26 [miembro]","Detalle de cuentas por cobrar Otras cuentas por cobrar  27 [miembro]","Detalle de cuentas por cobrar Otras cuentas por cobrar  28 [miembro]","Detalle de cuentas por cobrar Otras cuentas por cobrar  29 [miembro]","Detalle de cuentas por cobrar Otras cuentas por cobrar  30 [miembro]","Detalle de cuentas por cobrar Otras cuentas por cobrar  31 [miembro]","Detalle de cuentas por cobrar Otras cuentas por cobrar  32 [miembro]","Detalle de cuentas por cobrar Otras cuentas por cobrar  33 [miembro]","Detalle de cuentas por cobrar Otras cuentas por cobrar  34 [miembro]","Detalle de cuentas por cobrar Otras cuentas por cobrar  35 [miembro]","Detalle de cuentas por cobrar Otras cuentas por cobrar  36 [miembro]","Detalle de cuentas por cobrar Otras cuentas por cobrar  37 [miembro]","Detalle de cuentas por cobrar Otras cuentas por cobrar  38 [miembro]","Detalle de cuentas por cobrar Otras cuentas por cobrar  39 [miembro]","Detalle de cuentas por cobrar Otras cuentas por cobrar  40 [miembro]","Detalle de cuentas por cobrar Otras cuentas por cobrar  41 [miembro]","Detalle de cuentas por cobrar Otras cuentas por cobrar  42 [miembro]","Detalle de cuentas por cobrar Otras cuentas por cobrar  43 [miembro]","Detalle de cuentas por cobrar Otras cuentas por cobrar  44 [miembro]","Detalle de cuentas por cobrar Otras cuentas por cobrar  45 [miembro]","Detalle de cuentas por cobrar Otras cuentas por cobrar  46 [miembro]","Detalle de cuentas por cobrar Otras cuentas por cobrar  47 [miembro]","Detalle de cuentas por cobrar Otras cuentas por cobrar  48 [miembro]","Detalle de cuentas por cobrar Otras cuentas por cobrar  49 [miembro]","Detalle de cuentas por cobrar Otras cuentas por cobrar  50 [miembro]","Detalle de cuentas por cobrar Otras cuentas por cobrar  51 en adelante [miembro]","Total Detalle de cuentas por cobrar, otras cuentas por cobrar [miembro]","Total Detalle de cuentas por cobrar [miembro]"]
[null,"1;1","co-svsp-core:TipoDeDocumentoDeudorCxC","Tipo de documento del deudor",null,null,{"$f":"IF('800111a - Nota. Detalle de CxC.'!$F$17=\"\",\"\",'800111a - Nota. Detalle de CxC.'!$F$17)","v":""},{"$f":"IF('800111a - Nota. Detalle de CxC.'!$F$18=\"\",\"\",'800111a - Nota. Detalle de CxC.'!$F$18)","v":""},{"$f":"IF('800111a - Nota. Detalle de CxC.'!$F$19=\"\",\"\",'800111a - Nota. Detalle de CxC.'!$F$19)","v":""},{"$f":"IF('800111a - Nota. Detalle de CxC.'!$F$20=\"\",\"\",'800111a - Nota. Detalle de CxC.'!$F$20)","v":""},{"$f":"IF('800111a - Nota. Detalle de CxC.'!$F$21=\"\",\"\",'800111a - Nota. Detalle de CxC.'!$F$21)","v":""},{"$f":"IF('800111a - Nota. Detalle de CxC.'!$F$22=\"\",\"\",'800111a - Nota. Detalle de CxC.'!$F$22)","v":""},{"$f":"IF('800111a - Nota. Detalle de CxC.'!$F$23=\"\",\"\",'800111a - Nota. Detalle de CxC.'!$F$23)","v":""},{"$f":"IF('800111a - Nota. Detalle de CxC.'!$F$24=\"\",\"\",'800111a - Nota. Detalle de CxC.'!$F$24)","v":""},{"$f":"IF('800111a - Nota. Detalle de CxC.'!$F$25=\"\",\"\",'800111a - Nota. Detalle de CxC.'!$F$25)","v":""},{"$f":"IF('800111a - Nota. Detalle de CxC.'!$F$26=\"\",\"\",'800111a - Nota. Detalle de CxC.'!$F$26)","v":""},{"$f":"IF('800111a - Nota. Detalle de CxC.'!$F$27=\"\",\"\",'800111a - Nota. Detalle de CxC.'!$F$27)","v":""},{"$f":"IF('800111a - Nota. Detalle de CxC.'!$F$28=\"\",\"\",'800111a - Nota. Detalle de CxC.'!$F$28)","v":""},{"$f":"IF('800111a - Nota. Detalle de CxC.'!$F$29=\"\",\"\",'800111a - Nota. Detalle de CxC.'!$F$29)","v":""},{"$f":"IF('800111a - Nota. Detalle de CxC.'!$F$30=\"\",\"\",'800111a - Nota. Detalle de CxC.'!$F$30)","v":""},{"$f":"IF('800111a - Nota. Detalle de CxC.'!$F$31=\"\",\"\",'800111a - Nota. Detalle de CxC.'!$F$31)","v":""},{"$f":"IF('800111a - Nota. Detalle de CxC.'!$F$32=\"\",\"\",'800111a - Nota. Detalle de CxC.'!$F$32)","v":""},{"$f":"IF('800111a - Nota. Detalle de CxC.'!$F$33=\"\",\"\",'800111a - Nota. Detalle de CxC.'!$F$33)","v":""},{"$f":"IF('800111a - Nota. Detalle de CxC.'!$F$34=\"\",\"\",'800111a - Nota. Detalle de CxC.'!$F$34)","v":""},{"$f":"IF('800111a - Nota. Detalle de CxC.'!$F$35=\"\",\"\",'800111a - Nota. Detalle de CxC.'!$F$35)","v":""},{"$f":"IF('800111a - Nota. Detalle de CxC.'!$F$36=\"\",\"\",'800111a - Nota. Detalle de CxC.'!$F$36)","v":""},{"$f":"IF('800111a - Nota. Detalle de CxC.'!$F$37=\"\",\"\",'800111a - Nota. Detalle de CxC.'!$F$37)","v":""},{"$f":"IF('800111a - Nota. Detalle de CxC.'!$F$38=\"\",\"\",'800111a - Nota. Detalle de CxC.'!$F$38)","v":""},{"$f":"IF('800111a - Nota. Detalle de CxC.'!$F$39=\"\",\"\",'800111a - Nota. Detalle de CxC.'!$F$39)","v":""},{"$f":"IF('800111a - Nota. Detalle de CxC.'!$F$40=\"\",\"\",'800111a - Nota. Detalle de CxC.'!$F$40)","v":""},{"$f":"IF('800111a - Nota. Detalle de CxC.'!$F$41=\"\",\"\",'800111a - Nota. Detalle de CxC.'!$F$41)","v":""},{"$f":"IF('800111a - Nota. Detalle de CxC.'!$F$42=\"\",\"\",'800111a - Nota. Detalle de CxC.'!$F$42)","v":""},{"$f":"IF('800111a - Nota. Detalle de CxC.'!$F$43=\"\",\"\",'800111a - Nota. Detalle de CxC.'!$F$43)","v":""},{"$f":"IF('800111a - Nota. Detalle de CxC.'!$F$44=\"\",\"\",'800111a - Nota. Detalle de CxC.'!$F$44)","v":""},{"$f":"IF('800111a - Nota. Detalle de CxC.'!$F$45=\"\",\"\",'800111a - Nota. Detalle de CxC.'!$F$45)","v":""},{"$f":"IF('800111a - Nota. Detalle de CxC.'!$F$46=\"\",\"\",'800111a - Nota. Detalle de CxC.'!$F$46)","v":""},{"$f":"IF('800111a - Nota. Detalle de CxC.'!$F$47=\"\",\"\",'800111a - Nota. Detalle de CxC.'!$F$47)","v":""},{"$f":"IF('800111a - Nota. Detalle de CxC.'!$F$48=\"\",\"\",'800111a - Nota. Detalle de CxC.'!$F$48)","v":""},{"$f":"IF('800111a - Nota. Detalle de CxC.'!$F$49=\"\",\"\",'800111a - Nota. Detalle de CxC.'!$F$49)","v":""},{"$f":"IF('800111a - Nota. Detalle de CxC.'!$F$50=\"\",\"\",'800111a - Nota. Detalle de CxC.'!$F$50)","v":""},{"$f":"IF('800111a - Nota. Detalle de CxC.'!$F$51=\"\",\"\",'800111a - Nota. Detalle de CxC.'!$F$51)","v":""},{"$f":"IF('800111a - Nota. Detalle de CxC.'!$F$52=\"\",\"\",'800111a - Nota. Detalle de CxC.'!$F$52)","v":""},{"$f":"IF('800111a - Nota. Detalle de CxC.'!$F$53=\"\",\"\",'800111a - Nota. Detalle de CxC.'!$F$53)","v":""},{"$f":"IF('800111a - Nota. Detalle de CxC.'!$F$54=\"\",\"\",'800111a - Nota. Detalle de CxC.'!$F$54)","v":""},{"$f":"IF('800111a - Nota. Detalle de CxC.'!$F$55=\"\",\"\",'800111a - Nota. Detalle de CxC.'!$F$55)","v":""},{"$f":"IF('800111a - Nota. Detalle de CxC.'!$F$56=\"\",\"\",'800111a - Nota. Detalle de CxC.'!$F$56)","v":""},{"$f":"IF('800111a - Nota. Detalle de CxC.'!$F$57=\"\",\"\",'800111a - Nota. Detalle de CxC.'!$F$57)","v":""},{"$f":"IF('800111a - Nota. Detalle de CxC.'!$F$58=\"\",\"\",'800111a - Nota. Detalle de CxC.'!$F$58)","v":""},{"$f":"IF('800111a - Nota. Detalle de CxC.'!$F$59=\"\",\"\",'800111a - Nota. Detalle de CxC.'!$F$59)","v":""},{"$f":"IF('800111a - Nota. Detalle de CxC.'!$F$60=\"\",\"\",'800111a - Nota. Detalle de CxC.'!$F$60)","v":""},{"$f":"IF('800111a - Nota. Detalle de CxC.'!$F$61=\"\",\"\",'800111a - Nota. Detalle de CxC.'!$F$61)","v":""},{"$f":"IF('800111a - Nota. Detalle de CxC.'!$F$62=\"\",\"\",'800111a - Nota. Detalle de CxC.'!$F$62)","v":""},{"$f":"IF('800111a - Nota. Detalle de CxC.'!$F$63=\"\",\"\",'800111a - Nota. Detalle de CxC.'!$F$63)","v":""},{"$f":"IF('800111a - Nota. Detalle de CxC.'!$F$64=\"\",\"\",'800111a - Nota. Detalle de CxC.'!$F$64)","v":""},{"$f":"IF('800111a - Nota. Detalle de CxC.'!$F$65=\"\",\"\",'800111a - Nota. Detalle de CxC.'!$F$65)","v":""},{"$f":"IF('800111a - Nota. Detalle de CxC.'!$F$66=\"\",\"\",'800111a - Nota. Detalle de CxC.'!$F$66)","v":""},null,null,null,{"$f":"IF('800111a - Nota. Detalle de CxC.'!$F$70=\"\",\"\",'800111a - Nota. Detalle de CxC.'!$F$70)","v":""},{"$f":"IF('800111a - Nota. Detalle de CxC.'!$F$71=\"\",\"\",'800111a - Nota. Detalle de CxC.'!$F$71)","v":""},{"$f":"IF('800111a - Nota. Detalle de CxC.'!$F$72=\"\",\"\",'800111a - Nota. Detalle de CxC.'!$F$72)","v":""},{"$f":"IF('800111a - Nota. Detalle de CxC.'!$F$73=\"\",\"\",'800111a - Nota. Detalle de CxC.'!$F$73)","v":""},{"$f":"IF('800111a - Nota. Detalle de CxC.'!$F$74=\"\",\"\",'800111a - Nota. Detalle de CxC.'!$F$74)","v":""},{"$f":"IF('800111a - Nota. Detalle de CxC.'!$F$75=\"\",\"\",'800111a - Nota. Detalle de CxC.'!$F$75)","v":""},{"$f":"IF('800111a - Nota. Detalle de CxC.'!$F$76=\"\",\"\",'800111a - Nota. Detalle de CxC.'!$F$76)","v":""},{"$f":"IF('800111a - Nota. Detalle de CxC.'!$F$77=\"\",\"\",'800111a - Nota. Detalle de CxC.'!$F$77)","v":""},{"$f":"IF('800111a - Nota. Detalle de CxC.'!$F$78=\"\",\"\",'800111a - Nota. Detalle de CxC.'!$F$78)","v":""},{"$f":"IF('800111a - Nota. Detalle de CxC.'!$F$79=\"\",\"\",'800111a - Nota. Detalle de CxC.'!$F$79)","v":""},{"$f":"IF('800111a - Nota. Detalle de CxC.'!$F$80=\"\",\"\",'800111a - Nota. Detalle de CxC.'!$F$80)","v":""},{"$f":"IF('800111a - Nota. Detalle de CxC.'!$F$81=\"\",\"\",'800111a - Nota. Detalle de CxC.'!$F$81)","v":""},{"$f":"IF('800111a - Nota. Detalle de CxC.'!$F$82=\"\",\"\",'800111a - Nota. Detalle de CxC.'!$F$82)","v":""},{"$f":"IF('800111a - Nota. Detalle de CxC.'!$F$83=\"\",\"\",'800111a - Nota. Detalle de CxC.'!$F$83)","v":""},{"$f":"IF('800111a - Nota. Detalle de CxC.'!$F$84=\"\",\"\",'800111a - Nota. Detalle de CxC.'!$F$84)","v":""},{"$f":"IF('800111a - Nota. Detalle de CxC.'!$F$85=\"\",\"\",'800111a - Nota. Detalle de CxC.'!$F$85)","v":""},{"$f":"IF('800111a - Nota. Detalle de CxC.'!$F$86=\"\",\"\",'800111a - Nota. Detalle de CxC.'!$F$86)","v":""},{"$f":"IF('800111a - Nota. Detalle de CxC.'!$F$87=\"\",\"\",'800111a - Nota. Detalle de CxC.'!$F$87)","v":""},{"$f":"IF('800111a - Nota. Detalle de CxC.'!$F$88=\"\",\"\",'800111a - Nota. Detalle de CxC.'!$F$88)","v":""},{"$f":"IF('800111a - Nota. Detalle de CxC.'!$F$89=\"\",\"\",'800111a - Nota. Detalle de CxC.'!$F$89)","v":""},{"$f":"IF('800111a - Nota. Detalle de CxC.'!$F$90=\"\",\"\",'800111a - Nota. Detalle de CxC.'!$F$90)","v":""},{"$f":"IF('800111a - Nota. Detalle de CxC.'!$F$91=\"\",\"\",'800111a - Nota. Detalle de CxC.'!$F$91)","v":""},{"$f":"IF('800111a - Nota. Detalle de CxC.'!$F$92=\"\",\"\",'800111a - Nota. Detalle de CxC.'!$F$92)","v":""},{"$f":"IF('800111a - Nota. Detalle de CxC.'!$F$93=\"\",\"\",'800111a - Nota. Detalle de CxC.'!$F$93)","v":""},{"$f":"IF('800111a - Nota. Detalle de CxC.'!$F$94=\"\",\"\",'800111a - Nota. Detalle de CxC.'!$F$94)","v":""},{"$f":"IF('800111a - Nota. Detalle de CxC.'!$F$95=\"\",\"\",'800111a - Nota. Detalle de CxC.'!$F$95)","v":""},{"$f":"IF('800111a - Nota. Detalle de CxC.'!$F$96=\"\",\"\",'800111a - Nota. Detalle de CxC.'!$F$96)","v":""},{"$f":"IF('800111a - Nota. Detalle de CxC.'!$F$97=\"\",\"\",'800111a - Nota. Detalle de CxC.'!$F$97)","v":""},{"$f":"IF('800111a - Nota. Detalle de CxC.'!$F$98=\"\",\"\",'800111a - Nota. Detalle de CxC.'!$F$98)","v":""},{"$f":"IF('800111a - Nota. Detalle de CxC.'!$F$99=\"\",\"\",'800111a - Nota. Detalle de CxC.'!$F$99)","v":""},{"$f":"IF('800111a - Nota. Detalle de CxC.'!$F$100=\"\",\"\",'800111a - Nota. Detalle de CxC.'!$F$100)","v":""},{"$f":"IF('800111a - Nota. Detalle de CxC.'!$F$101=\"\",\"\",'800111a - Nota. Detalle de CxC.'!$F$101)","v":""},{"$f":"IF('800111a - Nota. Detalle de CxC.'!$F$102=\"\",\"\",'800111a - Nota. Detalle de CxC.'!$F$102)","v":""},{"$f":"IF('800111a - Nota. Detalle de CxC.'!$F$103=\"\",\"\",'800111a - Nota. Detalle de CxC.'!$F$103)","v":""},{"$f":"IF('800111a - Nota. Detalle de CxC.'!$F$104=\"\",\"\",'800111a - Nota. Detalle de CxC.'!$F$104)","v":""},{"$f":"IF('800111a - Nota. Detalle de CxC.'!$F$105=\"\",\"\",'800111a - Nota. Detalle de CxC.'!$F$105)","v":""},{"$f":"IF('800111a - Nota. Detalle de CxC.'!$F$106=\"\",\"\",'800111a - Nota. Detalle de CxC.'!$F$106)","v":""},{"$f":"IF('800111a - Nota. Detalle de CxC.'!$F$107=\"\",\"\",'800111a - Nota. Detalle de CxC.'!$F$107)","v":""},{"$f":"IF('800111a - Nota. Detalle de CxC.'!$F$108=\"\",\"\",'800111a - Nota. Detalle de CxC.'!$F$108)","v":""},{"$f":"IF('800111a - Nota. Detalle de CxC.'!$F$109=\"\",\"\",'800111a - Nota. Detalle de CxC.'!$F$109)","v":""},{"$f":"IF('800111a - Nota. Detalle de CxC.'!$F$110=\"\",\"\",'800111a - Nota. Detalle de CxC.'!$F$110)","v":""},{"$f":"IF('800111a - Nota. Detalle de CxC.'!$F$111=\"\",\"\",'800111a - Nota. Detalle de CxC.'!$F$111)","v":""},{"$f":"IF('800111a - Nota. Detalle de CxC.'!$F$112=\"\",\"\",'800111a - Nota. Detalle de CxC.'!$F$112)","v":""},{"$f":"IF('800111a - Nota. Detalle de CxC.'!$F$113=\"\",\"\",'800111a - Nota. Detalle de CxC.'!$F$113)","v":""},{"$f":"IF('800111a - Nota. Detalle de CxC.'!$F$114=\"\",\"\",'800111a - Nota. Detalle de CxC.'!$F$114)","v":""},{"$f":"IF('800111a - Nota. Detalle de CxC.'!$F$115=\"\",\"\",'800111a - Nota. Detalle de CxC.'!$F$115)","v":""},{"$f":"IF('800111a - Nota. Detalle de CxC.'!$F$116=\"\",\"\",'800111a - Nota. Detalle de CxC.'!$F$116)","v":""},{"$f":"IF('800111a - Nota. Detalle de CxC.'!$F$117=\"\",\"\",'800111a - Nota. Detalle de CxC.'!$F$117)","v":""},{"$f":"IF('800111a - Nota. Detalle de CxC.'!$F$118=\"\",\"\",'800111a - Nota. Detalle de CxC.'!$F$118)","v":""},{"$f":"IF('800111a - Nota. Detalle de CxC.'!$F$119=\"\",\"\",'800111a - Nota. Detalle de CxC.'!$F$119)","v":""},null,null,null,{"$f":"IF('800111a - Nota. Detalle de CxC.'!$F$123=\"\",\"\",'800111a - Nota. Detalle de CxC.'!$F$123)","v":""},{"$f":"IF('800111a - Nota. Detalle de CxC.'!$F$124=\"\",\"\",'800111a - Nota. Detalle de CxC.'!$F$124)","v":""},{"$f":"IF('800111a - Nota. Detalle de CxC.'!$F$125=\"\",\"\",'800111a - Nota. Detalle de CxC.'!$F$125)","v":""},{"$f":"IF('800111a - Nota. Detalle de CxC.'!$F$126=\"\",\"\",'800111a - Nota. Detalle de CxC.'!$F$126)","v":""},{"$f":"IF('800111a - Nota. Detalle de CxC.'!$F$127=\"\",\"\",'800111a - Nota. Detalle de CxC.'!$F$127)","v":""},{"$f":"IF('800111a - Nota. Detalle de CxC.'!$F$128=\"\",\"\",'800111a - Nota. Detalle de CxC.'!$F$128)","v":""},{"$f":"IF('800111a - Nota. Detalle de CxC.'!$F$129=\"\",\"\",'800111a - Nota. Detalle de CxC.'!$F$129)","v":""},{"$f":"IF('800111a - Nota. Detalle de CxC.'!$F$130=\"\",\"\",'800111a - Nota. Detalle de CxC.'!$F$130)","v":""},{"$f":"IF('800111a - Nota. Detalle de CxC.'!$F$131=\"\",\"\",'800111a - Nota. Detalle de CxC.'!$F$131)","v":""},{"$f":"IF('800111a - Nota. Detalle de CxC.'!$F$132=\"\",\"\",'800111a - Nota. Detalle de CxC.'!$F$132)","v":""},{"$f":"IF('800111a - Nota. Detalle de CxC.'!$F$133=\"\",\"\",'800111a - Nota. Detalle de CxC.'!$F$133)","v":""},{"$f":"IF('800111a - Nota. Detalle de CxC.'!$F$134=\"\",\"\",'800111a - Nota. Detalle de CxC.'!$F$134)","v":""},{"$f":"IF('800111a - Nota. Detalle de CxC.'!$F$135=\"\",\"\",'800111a - Nota. Detalle de CxC.'!$F$135)","v":""},{"$f":"IF('800111a - Nota. Detalle de CxC.'!$F$136=\"\",\"\",'800111a - Nota. Detalle de CxC.'!$F$136)","v":""},{"$f":"IF('800111a - Nota. Detalle de CxC.'!$F$137=\"\",\"\",'800111a - Nota. Detalle de CxC.'!$F$137)","v":""},{"$f":"IF('800111a - Nota. Detalle de CxC.'!$F$138=\"\",\"\",'800111a - Nota. Detalle de CxC.'!$F$138)","v":""},{"$f":"IF('800111a - Nota. Detalle de CxC.'!$F$139=\"\",\"\",'800111a - Nota. Detalle de CxC.'!$F$139)","v":""},{"$f":"IF('800111a - Nota. Detalle de CxC.'!$F$140=\"\",\"\",'800111a - Nota. Detalle de CxC.'!$F$140)","v":""},{"$f":"IF('800111a - Nota. Detalle de CxC.'!$F$141=\"\",\"\",'800111a - Nota. Detalle de CxC.'!$F$141)","v":""},{"$f":"IF('800111a - Nota. Detalle de CxC.'!$F$142=\"\",\"\",'800111a - Nota. Detalle de CxC.'!$F$142)","v":""},{"$f":"IF('800111a - Nota. Detalle de CxC.'!$F$143=\"\",\"\",'800111a - Nota. Detalle de CxC.'!$F$143)","v":""},{"$f":"IF('800111a - Nota. Detalle de CxC.'!$F$144=\"\",\"\",'800111a - Nota. Detalle de CxC.'!$F$144)","v":""},{"$f":"IF('800111a - Nota. Detalle de CxC.'!$F$145=\"\",\"\",'800111a - Nota. Detalle de CxC.'!$F$145)","v":""},{"$f":"IF('800111a - Nota. Detalle de CxC.'!$F$146=\"\",\"\",'800111a - Nota. Detalle de CxC.'!$F$146)","v":""},{"$f":"IF('800111a - Nota. Detalle de CxC.'!$F$147=\"\",\"\",'800111a - Nota. Detalle de CxC.'!$F$147)","v":""},{"$f":"IF('800111a - Nota. Detalle de CxC.'!$F$148=\"\",\"\",'800111a - Nota. Detalle de CxC.'!$F$148)","v":""},{"$f":"IF('800111a - Nota. Detalle de CxC.'!$F$149=\"\",\"\",'800111a - Nota. Detalle de CxC.'!$F$149)","v":""},{"$f":"IF('800111a - Nota. Detalle de CxC.'!$F$150=\"\",\"\",'800111a - Nota. Detalle de CxC.'!$F$150)","v":""},{"$f":"IF('800111a - Nota. Detalle de CxC.'!$F$151=\"\",\"\",'800111a - Nota. Detalle de CxC.'!$F$151)","v":""},{"$f":"IF('800111a - Nota. Detalle de CxC.'!$F$152=\"\",\"\",'800111a - Nota. Detalle de CxC.'!$F$152)","v":""},{"$f":"IF('800111a - Nota. Detalle de CxC.'!$F$153=\"\",\"\",'800111a - Nota. Detalle de CxC.'!$F$153)","v":""},{"$f":"IF('800111a - Nota. Detalle de CxC.'!$F$154=\"\",\"\",'800111a - Nota. Detalle de CxC.'!$F$154)","v":""},{"$f":"IF('800111a - Nota. Detalle de CxC.'!$F$155=\"\",\"\",'800111a - Nota. Detalle de CxC.'!$F$155)","v":""},{"$f":"IF('800111a - Nota. Detalle de CxC.'!$F$156=\"\",\"\",'800111a - Nota. Detalle de CxC.'!$F$156)","v":""},{"$f":"IF('800111a - Nota. Detalle de CxC.'!$F$157=\"\",\"\",'800111a - Nota. Detalle de CxC.'!$F$157)","v":""},{"$f":"IF('800111a - Nota. Detalle de CxC.'!$F$158=\"\",\"\",'800111a - Nota. Detalle de CxC.'!$F$158)","v":""},{"$f":"IF('800111a - Nota. Detalle de CxC.'!$F$159=\"\",\"\",'800111a - Nota. Detalle de CxC.'!$F$159)","v":""},{"$f":"IF('800111a - Nota. Detalle de CxC.'!$F$160=\"\",\"\",'800111a - Nota. Detalle de CxC.'!$F$160)","v":""},{"$f":"IF('800111a - Nota. Detalle de CxC.'!$F$161=\"\",\"\",'800111a - Nota. Detalle de CxC.'!$F$161)","v":""},{"$f":"IF('800111a - Nota. Detalle de CxC.'!$F$162=\"\",\"\",'800111a - Nota. Detalle de CxC.'!$F$162)","v":""},{"$f":"IF('800111a - Nota. Detalle de CxC.'!$F$163=\"\",\"\",'800111a - Nota. Detalle de CxC.'!$F$163)","v":""},{"$f":"IF('800111a - Nota. Detalle de CxC.'!$F$164=\"\",\"\",'800111a - Nota. Detalle de CxC.'!$F$164)","v":""},{"$f":"IF('800111a - Nota. Detalle de CxC.'!$F$165=\"\",\"\",'800111a - Nota. Detalle de CxC.'!$F$165)","v":""},{"$f":"IF('800111a - Nota. Detalle de CxC.'!$F$166=\"\",\"\",'800111a - Nota. Detalle de CxC.'!$F$166)","v":""},{"$f":"IF('800111a - Nota. Detalle de CxC.'!$F$167=\"\",\"\",'800111a - Nota. Detalle de CxC.'!$F$167)","v":""},{"$f":"IF('800111a - Nota. Detalle de CxC.'!$F$168=\"\",\"\",'800111a - Nota. Detalle de CxC.'!$F$168)","v":""},{"$f":"IF('800111a - Nota. Detalle de CxC.'!$F$169=\"\",\"\",'800111a - Nota. Detalle de CxC.'!$F$169)","v":""},{"$f":"IF('800111a - Nota. Detalle de CxC.'!$F$170=\"\",\"\",'800111a - Nota. Detalle de CxC.'!$F$170)","v":""},{"$f":"IF('800111a - Nota. Detalle de CxC.'!$F$171=\"\",\"\",'800111a - Nota. Detalle de CxC.'!$F$171)","v":""},{"$f":"IF('800111a - Nota. Detalle de CxC.'!$F$172=\"\",\"\",'800111a - Nota. Detalle de CxC.'!$F$172)","v":""}]
[null,"1;1","co-svsp-core:NumeroIdentificacionDeudorCxC","Número de identificación del deudor",null,null,{"$f":"IF('800111a - Nota. Detalle de CxC.'!$G$17=\"\",\"\",'800111a - Nota. Detalle de CxC.'!$G$17)","v":""},{"$f":"IF('800111a - Nota. Detalle de CxC.'!$G$18=\"\",\"\",'800111a - Nota. Detalle de CxC.'!$G$18)","v":""},{"$f":"IF('800111a - Nota. Detalle de CxC.'!$G$19=\"\",\"\",'800111a - Nota. Detalle de CxC.'!$G$19)","v":""},{"$f":"IF('800111a - Nota. Detalle de CxC.'!$G$20=\"\",\"\",'800111a - Nota. Detalle de CxC.'!$G$20)","v":""},{"$f":"IF('800111a - Nota. Detalle de CxC.'!$G$21=\"\",\"\",'800111a - Nota. Detalle de CxC.'!$G$21)","v":""},{"$f":"IF('800111a - Nota. Detalle de CxC.'!$G$22=\"\",\"\",'800111a - Nota. Detalle de CxC.'!$G$22)","v":""},{"$f":"IF('800111a - Nota. Detalle de CxC.'!$G$23=\"\",\"\",'800111a - Nota. Detalle de CxC.'!$G$23)","v":""},{"$f":"IF('800111a - Nota. Detalle de CxC.'!$G$24=\"\",\"\",'800111a - Nota. Detalle de CxC.'!$G$24)","v":""},{"$f":"IF('800111a - Nota. Detalle de CxC.'!$G$25=\"\",\"\",'800111a - Nota. Detalle de CxC.'!$G$25)","v":""},{"$f":"IF('800111a - Nota. Detalle de CxC.'!$G$26=\"\",\"\",'800111a - Nota. Detalle de CxC.'!$G$26)","v":""},{"$f":"IF('800111a - Nota. Detalle de CxC.'!$G$27=\"\",\"\",'800111a - Nota. Detalle de CxC.'!$G$27)","v":""},{"$f":"IF('800111a - Nota. Detalle de CxC.'!$G$28=\"\",\"\",'800111a - Nota. Detalle de CxC.'!$G$28)","v":""},{"$f":"IF('800111a - Nota. Detalle de CxC.'!$G$29=\"\",\"\",'800111a - Nota. Detalle de CxC.'!$G$29)","v":""},{"$f":"IF('800111a - Nota. Detalle de CxC.'!$G$30=\"\",\"\",'800111a - Nota. Detalle de CxC.'!$G$30)","v":""},{"$f":"IF('800111a - Nota. Detalle de CxC.'!$G$31=\"\",\"\",'800111a - Nota. Detalle de CxC.'!$G$31)","v":""},{"$f":"IF('800111a - Nota. Detalle de CxC.'!$G$32=\"\",\"\",'800111a - Nota. Detalle de CxC.'!$G$32)","v":""},{"$f":"IF('800111a - Nota. Detalle de CxC.'!$G$33=\"\",\"\",'800111a - Nota. Detalle de CxC.'!$G$33)","v":""},{"$f":"IF('800111a - Nota. Detalle de CxC.'!$G$34=\"\",\"\",'800111a - Nota. Detalle de CxC.'!$G$34)","v":""},{"$f":"IF('800111a - Nota. Detalle de CxC.'!$G$35=\"\",\"\",'800111a - Nota. Detalle de CxC.'!$G$35)","v":""},{"$f":"IF('800111a - Nota. Detalle de CxC.'!$G$36=\"\",\"\",'800111a - Nota. Detalle de CxC.'!$G$36)","v":""},{"$f":"IF('800111a - Nota. Detalle de CxC.'!$G$37=\"\",\"\",'800111a - Nota. Detalle de CxC.'!$G$37)","v":""},{"$f":"IF('800111a - Nota. Detalle de CxC.'!$G$38=\"\",\"\",'800111a - Nota. Detalle de CxC.'!$G$38)","v":""},{"$f":"IF('800111a - Nota. Detalle de CxC.'!$G$39=\"\",\"\",'800111a - Nota. Detalle de CxC.'!$G$39)","v":""},{"$f":"IF('800111a - Nota. Detalle de CxC.'!$G$40=\"\",\"\",'800111a - Nota. Detalle de CxC.'!$G$40)","v":""},{"$f":"IF('800111a - Nota. Detalle de CxC.'!$G$41=\"\",\"\",'800111a - Nota. Detalle de CxC.'!$G$41)","v":""},{"$f":"IF('800111a - Nota. Detalle de CxC.'!$G$42=\"\",\"\",'800111a - Nota. Detalle de CxC.'!$G$42)","v":""},{"$f":"IF('800111a - Nota. Detalle de CxC.'!$G$43=\"\",\"\",'800111a - Nota. Detalle de CxC.'!$G$43)","v":""},{"$f":"IF('800111a - Nota. Detalle de CxC.'!$G$44=\"\",\"\",'800111a - Nota. Detalle de CxC.'!$G$44)","v":""},{"$f":"IF('800111a - Nota. Detalle de CxC.'!$G$45=\"\",\"\",'800111a - Nota. Detalle de CxC.'!$G$45)","v":""},{"$f":"IF('800111a - Nota. Detalle de CxC.'!$G$46=\"\",\"\",'800111a - Nota. Detalle de CxC.'!$G$46)","v":""},{"$f":"IF('800111a - Nota. Detalle de CxC.'!$G$47=\"\",\"\",'800111a - Nota. Detalle de CxC.'!$G$47)","v":""},{"$f":"IF('800111a - Nota. Detalle de CxC.'!$G$48=\"\",\"\",'800111a - Nota. Detalle de CxC.'!$G$48)","v":""},{"$f":"IF('800111a - Nota. Detalle de CxC.'!$G$49=\"\",\"\",'800111a - Nota. Detalle de CxC.'!$G$49)","v":""},{"$f":"IF('800111a - Nota. Detalle de CxC.'!$G$50=\"\",\"\",'800111a - Nota. Detalle de CxC.'!$G$50)","v":""},{"$f":"IF('800111a - Nota. Detalle de CxC.'!$G$51=\"\",\"\",'800111a - Nota. Detalle de CxC.'!$G$51)","v":""},{"$f":"IF('800111a - Nota. Detalle de CxC.'!$G$52=\"\",\"\",'800111a - Nota. Detalle de CxC.'!$G$52)","v":""},{"$f":"IF('800111a - Nota. Detalle de CxC.'!$G$53=\"\",\"\",'800111a - Nota. Detalle de CxC.'!$G$53)","v":""},{"$f":"IF('800111a - Nota. Detalle de CxC.'!$G$54=\"\",\"\",'800111a - Nota. Detalle de CxC.'!$G$54)","v":""},{"$f":"IF('800111a - Nota. Detalle de CxC.'!$G$55=\"\",\"\",'800111a - Nota. Detalle de CxC.'!$G$55)","v":""},{"$f":"IF('800111a - Nota. Detalle de CxC.'!$G$56=\"\",\"\",'800111a - Nota. Detalle de CxC.'!$G$56)","v":""},{"$f":"IF('800111a - Nota. Detalle de CxC.'!$G$57=\"\",\"\",'800111a - Nota. Detalle de CxC.'!$G$57)","v":""},{"$f":"IF('800111a - Nota. Detalle de CxC.'!$G$58=\"\",\"\",'800111a - Nota. Detalle de CxC.'!$G$58)","v":""},{"$f":"IF('800111a - Nota. Detalle de CxC.'!$G$59=\"\",\"\",'800111a - Nota. Detalle de CxC.'!$G$59)","v":""},{"$f":"IF('800111a - Nota. Detalle de CxC.'!$G$60=\"\",\"\",'800111a - Nota. Detalle de CxC.'!$G$60)","v":""},{"$f":"IF('800111a - Nota. Detalle de CxC.'!$G$61=\"\",\"\",'800111a - Nota. Detalle de CxC.'!$G$61)","v":""},{"$f":"IF('800111a - Nota. Detalle de CxC.'!$G$62=\"\",\"\",'800111a - Nota. Detalle de CxC.'!$G$62)","v":""},{"$f":"IF('800111a - Nota. Detalle de CxC.'!$G$63=\"\",\"\",'800111a - Nota. Detalle de CxC.'!$G$63)","v":""},{"$f":"IF('800111a - Nota. Detalle de CxC.'!$G$64=\"\",\"\",'800111a - Nota. Detalle de CxC.'!$G$64)","v":""},{"$f":"IF('800111a - Nota. Detalle de CxC.'!$G$65=\"\",\"\",'800111a - Nota. Detalle de CxC.'!$G$65)","v":""},{"$f":"IF('800111a - Nota. Detalle de CxC.'!$G$66=\"\",\"\",'800111a - Nota. Detalle de CxC.'!$G$66)","v":""},null,null,null,{"$f":"IF('800111a - Nota. Detalle de CxC.'!$G$70=\"\",\"\",'800111a - Nota. Detalle de CxC.'!$G$70)","v":""},{"$f":"IF('800111a - Nota. Detalle de CxC.'!$G$71=\"\",\"\",'800111a - Nota. Detalle de CxC.'!$G$71)","v":""},{"$f":"IF('800111a - Nota. Detalle de CxC.'!$G$72=\"\",\"\",'800111a - Nota. Detalle de CxC.'!$G$72)","v":""},{"$f":"IF('800111a - Nota. Detalle de CxC.'!$G$73=\"\",\"\",'800111a - Nota. Detalle de CxC.'!$G$73)","v":""},{"$f":"IF('800111a - Nota. Detalle de CxC.'!$G$74=\"\",\"\",'800111a - Nota. Detalle de CxC.'!$G$74)","v":""},{"$f":"IF('800111a - Nota. Detalle de CxC.'!$G$75=\"\",\"\",'800111a - Nota. Detalle de CxC.'!$G$75)","v":""},{"$f":"IF('800111a - Nota. Detalle de CxC.'!$G$76=\"\",\"\",'800111a - Nota. Detalle de CxC.'!$G$76)","v":""},{"$f":"IF('800111a - Nota. Detalle de CxC.'!$G$77=\"\",\"\",'800111a - Nota. Detalle de CxC.'!$G$77)","v":""},{"$f":"IF('800111a - Nota. Detalle de CxC.'!$G$78=\"\",\"\",'800111a - Nota. Detalle de CxC.'!$G$78)","v":""},{"$f":"IF('800111a - Nota. Detalle de CxC.'!$G$79=\"\",\"\",'800111a - Nota. Detalle de CxC.'!$G$79)","v":""},{"$f":"IF('800111a - Nota. Detalle de CxC.'!$G$80=\"\",\"\",'800111a - Nota. Detalle de CxC.'!$G$80)","v":""},{"$f":"IF('800111a - Nota. Detalle de CxC.'!$G$81=\"\",\"\",'800111a - Nota. Detalle de CxC.'!$G$81)","v":""},{"$f":"IF('800111a - Nota. Detalle de CxC.'!$G$82=\"\",\"\",'800111a - Nota. Detalle de CxC.'!$G$82)","v":""},{"$f":"IF('800111a - Nota. Detalle de CxC.'!$G$83=\"\",\"\",'800111a - Nota. Detalle de CxC.'!$G$83)","v":""},{"$f":"IF('800111a - Nota. Detalle de CxC.'!$G$84=\"\",\"\",'800111a - Nota. Detalle de CxC.'!$G$84)","v":""},{"$f":"IF('800111a - Nota. Detalle de CxC.'!$G$85=\"\",\"\",'800111a - Nota. Detalle de CxC.'!$G$85)","v":""},{"$f":"IF('800111a - Nota. Detalle de CxC.'!$G$86=\"\",\"\",'800111a - Nota. Detalle de CxC.'!$G$86)","v":""},{"$f":"IF('800111a - Nota. Detalle de CxC.'!$G$87=\"\",\"\",'800111a - Nota. Detalle de CxC.'!$G$87)","v":""},{"$f":"IF('800111a - Nota. Detalle de CxC.'!$G$88=\"\",\"\",'800111a - Nota. Detalle de CxC.'!$G$88)","v":""},{"$f":"IF('800111a - Nota. Detalle de CxC.'!$G$89=\"\",\"\",'800111a - Nota. Detalle de CxC.'!$G$89)","v":""},{"$f":"IF('800111a - Nota. Detalle de CxC.'!$G$90=\"\",\"\",'800111a - Nota. Detalle de CxC.'!$G$90)","v":""},{"$f":"IF('800111a - Nota. Detalle de CxC.'!$G$91=\"\",\"\",'800111a - Nota. Detalle de CxC.'!$G$91)","v":""},{"$f":"IF('800111a - Nota. Detalle de CxC.'!$G$92=\"\",\"\",'800111a - Nota. Detalle de CxC.'!$G$92)","v":""},{"$f":"IF('800111a - Nota. Detalle de CxC.'!$G$93=\"\",\"\",'800111a - Nota. Detalle de CxC.'!$G$93)","v":""},{"$f":"IF('800111a - Nota. Detalle de CxC.'!$G$94=\"\",\"\",'800111a - Nota. Detalle de CxC.'!$G$94)","v":""},{"$f":"IF('800111a - Nota. Detalle de CxC.'!$G$95=\"\",\"\",'800111a - Nota. Detalle de CxC.'!$G$95)","v":""},{"$f":"IF('800111a - Nota. Detalle de CxC.'!$G$96=\"\",\"\",'800111a - Nota. Detalle de CxC.'!$G$96)","v":""},{"$f":"IF('800111a - Nota. Detalle de CxC.'!$G$97=\"\",\"\",'800111a - Nota. Detalle de CxC.'!$G$97)","v":""},{"$f":"IF('800111a - Nota. Detalle de CxC.'!$G$98=\"\",\"\",'800111a - Nota. Detalle de CxC.'!$G$98)","v":""},{"$f":"IF('800111a - Nota. Detalle de CxC.'!$G$99=\"\",\"\",'800111a - Nota. Detalle de CxC.'!$G$99)","v":""},{"$f":"IF('800111a - Nota. Detalle de CxC.'!$G$100=\"\",\"\",'800111a - Nota. Detalle de CxC.'!$G$100)","v":""},{"$f":"IF('800111a - Nota. Detalle de CxC.'!$G$101=\"\",\"\",'800111a - Nota. Detalle de CxC.'!$G$101)","v":""},{"$f":"IF('800111a - Nota. Detalle de CxC.'!$G$102=\"\",\"\",'800111a - Nota. Detalle de CxC.'!$G$102)","v":""},{"$f":"IF('800111a - Nota. Detalle de CxC.'!$G$103=\"\",\"\",'800111a - Nota. Detalle de CxC.'!$G$103)","v":""},{"$f":"IF('800111a - Nota. Detalle de CxC.'!$G$104=\"\",\"\",'800111a - Nota. Detalle de CxC.'!$G$104)","v":""},{"$f":"IF('800111a - Nota. Detalle de CxC.'!$G$105=\"\",\"\",'800111a - Nota. Detalle de CxC.'!$G$105)","v":""},{"$f":"IF('800111a - Nota. Detalle de CxC.'!$G$106=\"\",\"\",'800111a - Nota. Detalle de CxC.'!$G$106)","v":""},{"$f":"IF('800111a - Nota. Detalle de CxC.'!$G$107=\"\",\"\",'800111a - Nota. Detalle de CxC.'!$G$107)","v":""},{"$f":"IF('800111a - Nota. Detalle de CxC.'!$G$108=\"\",\"\",'800111a - Nota. Detalle de CxC.'!$G$108)","v":""},{"$f":"IF('800111a - Nota. Detalle de CxC.'!$G$109=\"\",\"\",'800111a - Nota. Detalle de CxC.'!$G$109)","v":""},{"$f":"IF('800111a - Nota. Detalle de CxC.'!$G$110=\"\",\"\",'800111a - Nota. Detalle de CxC.'!$G$110)","v":""},{"$f":"IF('800111a - Nota. Detalle de CxC.'!$G$111=\"\",\"\",'800111a - Nota. Detalle de CxC.'!$G$111)","v":""},{"$f":"IF('800111a - Nota. Detalle de CxC.'!$G$112=\"\",\"\",'800111a - Nota. Detalle de CxC.'!$G$112)","v":""},{"$f":"IF('800111a - Nota. Detalle de CxC.'!$G$113=\"\",\"\",'800111a - Nota. Detalle de CxC.'!$G$113)","v":""},{"$f":"IF('800111a - Nota. Detalle de CxC.'!$G$114=\"\",\"\",'800111a - Nota. Detalle de CxC.'!$G$114)","v":""},{"$f":"IF('800111a - Nota. Detalle de CxC.'!$G$115=\"\",\"\",'800111a - Nota. Detalle de CxC.'!$G$115)","v":""},{"$f":"IF('800111a - Nota. Detalle de CxC.'!$G$116=\"\",\"\",'800111a - Nota. Detalle de CxC.'!$G$116)","v":""},{"$f":"IF('800111a - Nota. Detalle de CxC.'!$G$117=\"\",\"\",'800111a - Nota. Detalle de CxC.'!$G$117)","v":""},{"$f":"IF('800111a - Nota. Detalle de CxC.'!$G$118=\"\",\"\",'800111a - Nota. Detalle de CxC.'!$G$118)","v":""},{"$f":"IF('800111a - Nota. Detalle de CxC.'!$G$119=\"\",\"\",'800111a - Nota. Detalle de CxC.'!$G$119)","v":""},null,null,null,{"$f":"IF('800111a - Nota. Detalle de CxC.'!$G$123=\"\",\"\",'800111a - Nota. Detalle de CxC.'!$G$123)","v":""},{"$f":"IF('800111a - Nota. Detalle de CxC.'!$G$124=\"\",\"\",'800111a - Nota. Detalle de CxC.'!$G$124)","v":""},{"$f":"IF('800111a - Nota. Detalle de CxC.'!$G$125=\"\",\"\",'800111a - Nota. Detalle de CxC.'!$G$125)","v":""},{"$f":"IF('800111a - Nota. Detalle de CxC.'!$G$126=\"\",\"\",'800111a - Nota. Detalle de CxC.'!$G$126)","v":""},{"$f":"IF('800111a - Nota. Detalle de CxC.'!$G$127=\"\",\"\",'800111a - Nota. Detalle de CxC.'!$G$127)","v":""},{"$f":"IF('800111a - Nota. Detalle de CxC.'!$G$128=\"\",\"\",'800111a - Nota. Detalle de CxC.'!$G$128)","v":""},{"$f":"IF('800111a - Nota. Detalle de CxC.'!$G$129=\"\",\"\",'800111a - Nota. Detalle de CxC.'!$G$129)","v":""},{"$f":"IF('800111a - Nota. Detalle de CxC.'!$G$130=\"\",\"\",'800111a - Nota. Detalle de CxC.'!$G$130)","v":""},{"$f":"IF('800111a - Nota. Detalle de CxC.'!$G$131=\"\",\"\",'800111a - Nota. Detalle de CxC.'!$G$131)","v":""},{"$f":"IF('800111a - Nota. Detalle de CxC.'!$G$132=\"\",\"\",'800111a - Nota. Detalle de CxC.'!$G$132)","v":""},{"$f":"IF('800111a - Nota. Detalle de CxC.'!$G$133=\"\",\"\",'800111a - Nota. Detalle de CxC.'!$G$133)","v":""},{"$f":"IF('800111a - Nota. Detalle de CxC.'!$G$134=\"\",\"\",'800111a - Nota. Detalle de CxC.'!$G$134)","v":""},{"$f":"IF('800111a - Nota. Detalle de CxC.'!$G$135=\"\",\"\",'800111a - Nota. Detalle de CxC.'!$G$135)","v":""},{"$f":"IF('800111a - Nota. Detalle de CxC.'!$G$136=\"\",\"\",'800111a - Nota. Detalle de CxC.'!$G$136)","v":""},{"$f":"IF('800111a - Nota. Detalle de CxC.'!$G$137=\"\",\"\",'800111a - Nota. Detalle de CxC.'!$G$137)","v":""},{"$f":"IF('800111a - Nota. Detalle de CxC.'!$G$138=\"\",\"\",'800111a - Nota. Detalle de CxC.'!$G$138)","v":""},{"$f":"IF('800111a - Nota. Detalle de CxC.'!$G$139=\"\",\"\",'800111a - Nota. Detalle de CxC.'!$G$139)","v":""},{"$f":"IF('800111a - Nota. Detalle de CxC.'!$G$140=\"\",\"\",'800111a - Nota. Detalle de CxC.'!$G$140)","v":""},{"$f":"IF('800111a - Nota. Detalle de CxC.'!$G$141=\"\",\"\",'800111a - Nota. Detalle de CxC.'!$G$141)","v":""},{"$f":"IF('800111a - Nota. Detalle de CxC.'!$G$142=\"\",\"\",'800111a - Nota. Detalle de CxC.'!$G$142)","v":""},{"$f":"IF('800111a - Nota. Detalle de CxC.'!$G$143=\"\",\"\",'800111a - Nota. Detalle de CxC.'!$G$143)","v":""},{"$f":"IF('800111a - Nota. Detalle de CxC.'!$G$144=\"\",\"\",'800111a - Nota. Detalle de CxC.'!$G$144)","v":""},{"$f":"IF('800111a - Nota. Detalle de CxC.'!$G$145=\"\",\"\",'800111a - Nota. Detalle de CxC.'!$G$145)","v":""},{"$f":"IF('800111a - Nota. Detalle de CxC.'!$G$146=\"\",\"\",'800111a - Nota. Detalle de CxC.'!$G$146)","v":""},{"$f":"IF('800111a - Nota. Detalle de CxC.'!$G$147=\"\",\"\",'800111a - Nota. Detalle de CxC.'!$G$147)","v":""},{"$f":"IF('800111a - Nota. Detalle de CxC.'!$G$148=\"\",\"\",'800111a - Nota. Detalle de CxC.'!$G$148)","v":""},{"$f":"IF('800111a - Nota. Detalle de CxC.'!$G$149=\"\",\"\",'800111a - Nota. Detalle de CxC.'!$G$149)","v":""},{"$f":"IF('800111a - Nota. Detalle de CxC.'!$G$150=\"\",\"\",'800111a - Nota. Detalle de CxC.'!$G$150)","v":""},{"$f":"IF('800111a - Nota. Detalle de CxC.'!$G$151=\"\",\"\",'800111a - Nota. Detalle de CxC.'!$G$151)","v":""},{"$f":"IF('800111a - Nota. Detalle de CxC.'!$G$152=\"\",\"\",'800111a - Nota. Detalle de CxC.'!$G$152)","v":""},{"$f":"IF('800111a - Nota. Detalle de CxC.'!$G$153=\"\",\"\",'800111a - Nota. Detalle de CxC.'!$G$153)","v":""},{"$f":"IF('800111a - Nota. Detalle de CxC.'!$G$154=\"\",\"\",'800111a - Nota. Detalle de CxC.'!$G$154)","v":""},{"$f":"IF('800111a - Nota. Detalle de CxC.'!$G$155=\"\",\"\",'800111a - Nota. Detalle de CxC.'!$G$155)","v":""},{"$f":"IF('800111a - Nota. Detalle de CxC.'!$G$156=\"\",\"\",'800111a - Nota. Detalle de CxC.'!$G$156)","v":""},{"$f":"IF('800111a - Nota. Detalle de CxC.'!$G$157=\"\",\"\",'800111a - Nota. Detalle de CxC.'!$G$157)","v":""},{"$f":"IF('800111a - Nota. Detalle de CxC.'!$G$158=\"\",\"\",'800111a - Nota. Detalle de CxC.'!$G$158)","v":""},{"$f":"IF('800111a - Nota. Detalle de CxC.'!$G$159=\"\",\"\",'800111a - Nota. Detalle de CxC.'!$G$159)","v":""},{"$f":"IF('800111a - Nota. Detalle de CxC.'!$G$160=\"\",\"\",'800111a - Nota. Detalle de CxC.'!$G$160)","v":""},{"$f":"IF('800111a - Nota. Detalle de CxC.'!$G$161=\"\",\"\",'800111a - Nota. Detalle de CxC.'!$G$161)","v":""},{"$f":"IF('800111a - Nota. Detalle de CxC.'!$G$162=\"\",\"\",'800111a - Nota. Detalle de CxC.'!$G$162)","v":""},{"$f":"IF('800111a - Nota. Detalle de CxC.'!$G$163=\"\",\"\",'800111a - Nota. Detalle de CxC.'!$G$163)","v":""},{"$f":"IF('800111a - Nota. Detalle de CxC.'!$G$164=\"\",\"\",'800111a - Nota. Detalle de CxC.'!$G$164)","v":""},{"$f":"IF('800111a - Nota. Detalle de CxC.'!$G$165=\"\",\"\",'800111a - Nota. Detalle de CxC.'!$G$165)","v":""},{"$f":"IF('800111a - Nota. Detalle de CxC.'!$G$166=\"\",\"\",'800111a - Nota. Detalle de CxC.'!$G$166)","v":""},{"$f":"IF('800111a - Nota. Detalle de CxC.'!$G$167=\"\",\"\",'800111a - Nota. Detalle de CxC.'!$G$167)","v":""},{"$f":"IF('800111a - Nota. Detalle de CxC.'!$G$168=\"\",\"\",'800111a - Nota. Detalle de CxC.'!$G$168)","v":""},{"$f":"IF('800111a - Nota. Detalle de CxC.'!$G$169=\"\",\"\",'800111a - Nota. Detalle de CxC.'!$G$169)","v":""},{"$f":"IF('800111a - Nota. Detalle de CxC.'!$G$170=\"\",\"\",'800111a - Nota. Detalle de CxC.'!$G$170)","v":""},{"$f":"IF('800111a - Nota. Detalle de CxC.'!$G$171=\"\",\"\",'800111a - Nota. Detalle de CxC.'!$G$171)","v":""},{"$f":"IF('800111a - Nota. Detalle de CxC.'!$G$172=\"\",\"\",'800111a - Nota. Detalle de CxC.'!$G$172)","v":""}]
[null,"1;1","co-svsp-core:PrimerApellidoDeudorCxC","Primer apellido deudor",null,null,{"$f":"IF('800111a - Nota. Detalle de CxC.'!$H$17=\"\",\"\",'800111a - Nota. Detalle de CxC.'!$H$17)","v":""},{"$f":"IF('800111a - Nota. Detalle de CxC.'!$H$18=\"\",\"\",'800111a - Nota. Detalle de CxC.'!$H$18)","v":""},{"$f":"IF('800111a - Nota. Detalle de CxC.'!$H$19=\"\",\"\",'800111a - Nota. Detalle de CxC.'!$H$19)","v":""},{"$f":"IF('800111a - Nota. Detalle de CxC.'!$H$20=\"\",\"\",'800111a - Nota. Detalle de CxC.'!$H$20)","v":""},{"$f":"IF('800111a - Nota. Detalle de CxC.'!$H$21=\"\",\"\",'800111a - Nota. Detalle de CxC.'!$H$21)","v":""},{"$f":"IF('800111a - Nota. Detalle de CxC.'!$H$22=\"\",\"\",'800111a - Nota. Detalle de CxC.'!$H$22)","v":""},{"$f":"IF('800111a - Nota. Detalle de CxC.'!$H$23=\"\",\"\",'800111a - Nota. Detalle de CxC.'!$H$23)","v":""},{"$f":"IF('800111a - Nota. Detalle de CxC.'!$H$24=\"\",\"\",'800111a - Nota. Detalle de CxC.'!$H$24)","v":""},{"$f":"IF('800111a - Nota. Detalle de CxC.'!$H$25=\"\",\"\",'800111a - Nota. Detalle de CxC.'!$H$25)","v":""},{"$f":"IF('800111a - Nota. Detalle de CxC.'!$H$26=\"\",\"\",'800111a - Nota. Detalle de CxC.'!$H$26)","v":""},{"$f":"IF('800111a - Nota. Detalle de CxC.'!$H$27=\"\",\"\",'800111a - Nota. Detalle de CxC.'!$H$27)","v":""},{"$f":"IF('800111a - Nota. Detalle de CxC.'!$H$28=\"\",\"\",'800111a - Nota. Detalle de CxC.'!$H$28)","v":""},{"$f":"IF('800111a - Nota. Detalle de CxC.'!$H$29=\"\",\"\",'800111a - Nota. Detalle de CxC.'!$H$29)","v":""},{"$f":"IF('800111a - Nota. Detalle de CxC.'!$H$30=\"\",\"\",'800111a - Nota. Detalle de CxC.'!$H$30)","v":""},{"$f":"IF('800111a - Nota. Detalle de CxC.'!$H$31=\"\",\"\",'800111a - Nota. Detalle de CxC.'!$H$31)","v":""},{"$f":"IF('800111a - Nota. Detalle de CxC.'!$H$32=\"\",\"\",'800111a - Nota. Detalle de CxC.'!$H$32)","v":""},{"$f":"IF('800111a - Nota. Detalle de CxC.'!$H$33=\"\",\"\",'800111a - Nota. Detalle de CxC.'!$H$33)","v":""},{"$f":"IF('800111a - Nota. Detalle de CxC.'!$H$34=\"\",\"\",'800111a - Nota. Detalle de CxC.'!$H$34)","v":""},{"$f":"IF('800111a - Nota. Detalle de CxC.'!$H$35=\"\",\"\",'800111a - Nota. Detalle de CxC.'!$H$35)","v":""},{"$f":"IF('800111a - Nota. Detalle de CxC.'!$H$36=\"\",\"\",'800111a - Nota. Detalle de CxC.'!$H$36)","v":""},{"$f":"IF('800111a - Nota. Detalle de CxC.'!$H$37=\"\",\"\",'800111a - Nota. Detalle de CxC.'!$H$37)","v":""},{"$f":"IF('800111a - Nota. Detalle de CxC.'!$H$38=\"\",\"\",'800111a - Nota. Detalle de CxC.'!$H$38)","v":""},{"$f":"IF('800111a - Nota. Detalle de CxC.'!$H$39=\"\",\"\",'800111a - Nota. Detalle de CxC.'!$H$39)","v":""},{"$f":"IF('800111a - Nota. Detalle de CxC.'!$H$40=\"\",\"\",'800111a - Nota. Detalle de CxC.'!$H$40)","v":""},{"$f":"IF('800111a - Nota. Detalle de CxC.'!$H$41=\"\",\"\",'800111a - Nota. Detalle de CxC.'!$H$41)","v":""},{"$f":"IF('800111a - Nota. Detalle de CxC.'!$H$42=\"\",\"\",'800111a - Nota. Detalle de CxC.'!$H$42)","v":""},{"$f":"IF('800111a - Nota. Detalle de CxC.'!$H$43=\"\",\"\",'800111a - Nota. Detalle de CxC.'!$H$43)","v":""},{"$f":"IF('800111a - Nota. Detalle de CxC.'!$H$44=\"\",\"\",'800111a - Nota. Detalle de CxC.'!$H$44)","v":""},{"$f":"IF('800111a - Nota. Detalle de CxC.'!$H$45=\"\",\"\",'800111a - Nota. Detalle de CxC.'!$H$45)","v":""},{"$f":"IF('800111a - Nota. Detalle de CxC.'!$H$46=\"\",\"\",'800111a - Nota. Detalle de CxC.'!$H$46)","v":""},{"$f":"IF('800111a - Nota. Detalle de CxC.'!$H$47=\"\",\"\",'800111a - Nota. Detalle de CxC.'!$H$47)","v":""},{"$f":"IF('800111a - Nota. Detalle de CxC.'!$H$48=\"\",\"\",'800111a - Nota. Detalle de CxC.'!$H$48)","v":""},{"$f":"IF('800111a - Nota. Detalle de CxC.'!$H$49=\"\",\"\",'800111a - Nota. Detalle de CxC.'!$H$49)","v":""},{"$f":"IF('800111a - Nota. Detalle de CxC.'!$H$50=\"\",\"\",'800111a - Nota. Detalle de CxC.'!$H$50)","v":""},{"$f":"IF('800111a - Nota. Detalle de CxC.'!$H$51=\"\",\"\",'800111a - Nota. Detalle de CxC.'!$H$51)","v":""},{"$f":"IF('800111a - Nota. Detalle de CxC.'!$H$52=\"\",\"\",'800111a - Nota. Detalle de CxC.'!$H$52)","v":""},{"$f":"IF('800111a - Nota. Detalle de CxC.'!$H$53=\"\",\"\",'800111a - Nota. Detalle de CxC.'!$H$53)","v":""},{"$f":"IF('800111a - Nota. Detalle de CxC.'!$H$54=\"\",\"\",'800111a - Nota. Detalle de CxC.'!$H$54)","v":""},{"$f":"IF('800111a - Nota. Detalle de CxC.'!$H$55=\"\",\"\",'800111a - Nota. Detalle de CxC.'!$H$55)","v":""},{"$f":"IF('800111a - Nota. Detalle de CxC.'!$H$56=\"\",\"\",'800111a - Nota. Detalle de CxC.'!$H$56)","v":""},{"$f":"IF('800111a - Nota. Detalle de CxC.'!$H$57=\"\",\"\",'800111a - Nota. Detalle de CxC.'!$H$57)","v":""},{"$f":"IF('800111a - Nota. Detalle de CxC.'!$H$58=\"\",\"\",'800111a - Nota. Detalle de CxC.'!$H$58)","v":""},{"$f":"IF('800111a - Nota. Detalle de CxC.'!$H$59=\"\",\"\",'800111a - Nota. Detalle de CxC.'!$H$59)","v":""},{"$f":"IF('800111a - Nota. Detalle de CxC.'!$H$60=\"\",\"\",'800111a - Nota. Detalle de CxC.'!$H$60)","v":""},{"$f":"IF('800111a - Nota. Detalle de CxC.'!$H$61=\"\",\"\",'800111a - Nota. Detalle de CxC.'!$H$61)","v":""},{"$f":"IF('800111a - Nota. Detalle de CxC.'!$H$62=\"\",\"\",'800111a - Nota. Detalle de CxC.'!$H$62)","v":""},{"$f":"IF('800111a - Nota. Detalle de CxC.'!$H$63=\"\",\"\",'800111a - Nota. Detalle de CxC.'!$H$63)","v":""},{"$f":"IF('800111a - Nota. Detalle de CxC.'!$H$64=\"\",\"\",'800111a - Nota. Detalle de CxC.'!$H$64)","v":""},{"$f":"IF('800111a - Nota. Detalle de CxC.'!$H$65=\"\",\"\",'800111a - Nota. Detalle de CxC.'!$H$65)","v":""},{"$f":"IF('800111a - Nota. Detalle de CxC.'!$H$66=\"\",\"\",'800111a - Nota. Detalle de CxC.'!$H$66)","v":""},null,null,null,{"$f":"IF('800111a - Nota. Detalle de CxC.'!$H$70=\"\",\"\",'800111a - Nota. Detalle de CxC.'!$H$70)","v":""},{"$f":"IF('800111a - Nota. Detalle de CxC.'!$H$71=\"\",\"\",'800111a - Nota. Detalle de CxC.'!$H$71)","v":""},{"$f":"IF('800111a - Nota. Detalle de CxC.'!$H$72=\"\",\"\",'800111a - Nota. Detalle de CxC.'!$H$72)","v":""},{"$f":"IF('800111a - Nota. Detalle de CxC.'!$H$73=\"\",\"\",'800111a - Nota. Detalle de CxC.'!$H$73)","v":""},{"$f":"IF('800111a - Nota. Detalle de CxC.'!$H$74=\"\",\"\",'800111a - Nota. Detalle de CxC.'!$H$74)","v":""},{"$f":"IF('800111a - Nota. Detalle de CxC.'!$H$75=\"\",\"\",'800111a - Nota. Detalle de CxC.'!$H$75)","v":""},{"$f":"IF('800111a - Nota. Detalle de CxC.'!$H$76=\"\",\"\",'800111a - Nota. Detalle de CxC.'!$H$76)","v":""},{"$f":"IF('800111a - Nota. Detalle de CxC.'!$H$77=\"\",\"\",'800111a - Nota. Detalle de CxC.'!$H$77)","v":""},{"$f":"IF('800111a - Nota. Detalle de CxC.'!$H$78=\"\",\"\",'800111a - Nota. Detalle de CxC.'!$H$78)","v":""},{"$f":"IF('800111a - Nota. Detalle de CxC.'!$H$79=\"\",\"\",'800111a - Nota. Detalle de CxC.'!$H$79)","v":""},{"$f":"IF('800111a - Nota. Detalle de CxC.'!$H$80=\"\",\"\",'800111a - Nota. Detalle de CxC.'!$H$80)","v":""},{"$f":"IF('800111a - Nota. Detalle de CxC.'!$H$81=\"\",\"\",'800111a - Nota. Detalle de CxC.'!$H$81)","v":""},{"$f":"IF('800111a - Nota. Detalle de CxC.'!$H$82=\"\",\"\",'800111a - Nota. Detalle de CxC.'!$H$82)","v":""},{"$f":"IF('800111a - Nota. Detalle de CxC.'!$H$83=\"\",\"\",'800111a - Nota. Detalle de CxC.'!$H$83)","v":""},{"$f":"IF('800111a - Nota. Detalle de CxC.'!$H$84=\"\",\"\",'800111a - Nota. Detalle de CxC.'!$H$84)","v":""},{"$f":"IF('800111a - Nota. Detalle de CxC.'!$H$85=\"\",\"\",'800111a - Nota. Detalle de CxC.'!$H$85)","v":""},{"$f":"IF('800111a - Nota. Detalle de CxC.'!$H$86=\"\",\"\",'800111a - Nota. Detalle de CxC.'!$H$86)","v":""},{"$f":"IF('800111a - Nota. Detalle de CxC.'!$H$87=\"\",\"\",'800111a - Nota. Detalle de CxC.'!$H$87)","v":""},{"$f":"IF('800111a - Nota. Detalle de CxC.'!$H$88=\"\",\"\",'800111a - Nota. Detalle de CxC.'!$H$88)","v":""},{"$f":"IF('800111a - Nota. Detalle de CxC.'!$H$89=\"\",\"\",'800111a - Nota. Detalle de CxC.'!$H$89)","v":""},{"$f":"IF('800111a - Nota. Detalle de CxC.'!$H$90=\"\",\"\",'800111a - Nota. Detalle de CxC.'!$H$90)","v":""},{"$f":"IF('800111a - Nota. Detalle de CxC.'!$H$91=\"\",\"\",'800111a - Nota. Detalle de CxC.'!$H$91)","v":""},{"$f":"IF('800111a - Nota. Detalle de CxC.'!$H$92=\"\",\"\",'800111a - Nota. Detalle de CxC.'!$H$92)","v":""},{"$f":"IF('800111a - Nota. Detalle de CxC.'!$H$93=\"\",\"\",'800111a - Nota. Detalle de CxC.'!$H$93)","v":""},{"$f":"IF('800111a - Nota. Detalle de CxC.'!$H$94=\"\",\"\",'800111a - Nota. Detalle de CxC.'!$H$94)","v":""},{"$f":"IF('800111a - Nota. Detalle de CxC.'!$H$95=\"\",\"\",'800111a - Nota. Detalle de CxC.'!$H$95)","v":""},{"$f":"IF('800111a - Nota. Detalle de CxC.'!$H$96=\"\",\"\",'800111a - Nota. Detalle de CxC.'!$H$96)","v":""},{"$f":"IF('800111a - Nota. Detalle de CxC.'!$H$97=\"\",\"\",'800111a - Nota. Detalle de CxC.'!$H$97)","v":""},{"$f":"IF('800111a - Nota. Detalle de CxC.'!$H$98=\"\",\"\",'800111a - Nota. Detalle de CxC.'!$H$98)","v":""},{"$f":"IF('800111a - Nota. Detalle de CxC.'!$H$99=\"\",\"\",'800111a - Nota. Detalle de CxC.'!$H$99)","v":""},{"$f":"IF('800111a - Nota. Detalle de CxC.'!$H$100=\"\",\"\",'800111a - Nota. Detalle de CxC.'!$H$100)","v":""},{"$f":"IF('800111a - Nota. Detalle de CxC.'!$H$101=\"\",\"\",'800111a - Nota. Detalle de CxC.'!$H$101)","v":""},{"$f":"IF('800111a - Nota. Detalle de CxC.'!$H$102=\"\",\"\",'800111a - Nota. Detalle de CxC.'!$H$102)","v":""},{"$f":"IF('800111a - Nota. Detalle de CxC.'!$H$103=\"\",\"\",'800111a - Nota. Detalle de CxC.'!$H$103)","v":""},{"$f":"IF('800111a - Nota. Detalle de CxC.'!$H$104=\"\",\"\",'800111a - Nota. Detalle de CxC.'!$H$104)","v":""},{"$f":"IF('800111a - Nota. Detalle de CxC.'!$H$105=\"\",\"\",'800111a - Nota. Detalle de CxC.'!$H$105)","v":""},{"$f":"IF('800111a - Nota. Detalle de CxC.'!$H$106=\"\",\"\",'800111a - Nota. Detalle de CxC.'!$H$106)","v":""},{"$f":"IF('800111a - Nota. Detalle de CxC.'!$H$107=\"\",\"\",'800111a - Nota. Detalle de CxC.'!$H$107)","v":""},{"$f":"IF('800111a - Nota. Detalle de CxC.'!$H$108=\"\",\"\",'800111a - Nota. Detalle de CxC.'!$H$108)","v":""},{"$f":"IF('800111a - Nota. Detalle de CxC.'!$H$109=\"\",\"\",'800111a - Nota. Detalle de CxC.'!$H$109)","v":""},{"$f":"IF('800111a - Nota. Detalle de CxC.'!$H$110=\"\",\"\",'800111a - Nota. Detalle de CxC.'!$H$110)","v":""},{"$f":"IF('800111a - Nota. Detalle de CxC.'!$H$111=\"\",\"\",'800111a - Nota. Detalle de CxC.'!$H$111)","v":""},{"$f":"IF('800111a - Nota. Detalle de CxC.'!$H$112=\"\",\"\",'800111a - Nota. Detalle de CxC.'!$H$112)","v":""},{"$f":"IF('800111a - Nota. Detalle de CxC.'!$H$113=\"\",\"\",'800111a - Nota. Detalle de CxC.'!$H$113)","v":""},{"$f":"IF('800111a - Nota. Detalle de CxC.'!$H$114=\"\",\"\",'800111a - Nota. Detalle de CxC.'!$H$114)","v":""},{"$f":"IF('800111a - Nota. Detalle de CxC.'!$H$115=\"\",\"\",'800111a - Nota. Detalle de CxC.'!$H$115)","v":""},{"$f":"IF('800111a - Nota. Detalle de CxC.'!$H$116=\"\",\"\",'800111a - Nota. Detalle de CxC.'!$H$116)","v":""},{"$f":"IF('800111a - Nota. Detalle de CxC.'!$H$117=\"\",\"\",'800111a - Nota. Detalle de CxC.'!$H$117)","v":""},{"$f":"IF('800111a - Nota. Detalle de CxC.'!$H$118=\"\",\"\",'800111a - Nota. Detalle de CxC.'!$H$118)","v":""},{"$f":"IF('800111a - Nota. Detalle de CxC.'!$H$119=\"\",\"\",'800111a - Nota. Detalle de CxC.'!$H$119)","v":""},null,null,null,{"$f":"IF('800111a - Nota. Detalle de CxC.'!$H$123=\"\",\"\",'800111a - Nota. Detalle de CxC.'!$H$123)","v":""},{"$f":"IF('800111a - Nota. Detalle de CxC.'!$H$124=\"\",\"\",'800111a - Nota. Detalle de CxC.'!$H$124)","v":""},{"$f":"IF('800111a - Nota. Detalle de CxC.'!$H$125=\"\",\"\",'800111a - Nota. Detalle de CxC.'!$H$125)","v":""},{"$f":"IF('800111a - Nota. Detalle de CxC.'!$H$126=\"\",\"\",'800111a - Nota. Detalle de CxC.'!$H$126)","v":""},{"$f":"IF('800111a - Nota. Detalle de CxC.'!$H$127=\"\",\"\",'800111a - Nota. Detalle de CxC.'!$H$127)","v":""},{"$f":"IF('800111a - Nota. Detalle de CxC.'!$H$128=\"\",\"\",'800111a - Nota. Detalle de CxC.'!$H$128)","v":""},{"$f":"IF('800111a - Nota. Detalle de CxC.'!$H$129=\"\",\"\",'800111a - Nota. Detalle de CxC.'!$H$129)","v":""},{"$f":"IF('800111a - Nota. Detalle de CxC.'!$H$130=\"\",\"\",'800111a - Nota. Detalle de CxC.'!$H$130)","v":""},{"$f":"IF('800111a - Nota. Detalle de CxC.'!$H$131=\"\",\"\",'800111a - Nota. Detalle de CxC.'!$H$131)","v":""},{"$f":"IF('800111a - Nota. Detalle de CxC.'!$H$132=\"\",\"\",'800111a - Nota. Detalle de CxC.'!$H$132)","v":""},{"$f":"IF('800111a - Nota. Detalle de CxC.'!$H$133=\"\",\"\",'800111a - Nota. Detalle de CxC.'!$H$133)","v":""},{"$f":"IF('800111a - Nota. Detalle de CxC.'!$H$134=\"\",\"\",'800111a - Nota. Detalle de CxC.'!$H$134)","v":""},{"$f":"IF('800111a - Nota. Detalle de CxC.'!$H$135=\"\",\"\",'800111a - Nota. Detalle de CxC.'!$H$135)","v":""},{"$f":"IF('800111a - Nota. Detalle de CxC.'!$H$136=\"\",\"\",'800111a - Nota. Detalle de CxC.'!$H$136)","v":""},{"$f":"IF('800111a - Nota. Detalle de CxC.'!$H$137=\"\",\"\",'800111a - Nota. Detalle de CxC.'!$H$137)","v":""},{"$f":"IF('800111a - Nota. Detalle de CxC.'!$H$138=\"\",\"\",'800111a - Nota. Detalle de CxC.'!$H$138)","v":""},{"$f":"IF('800111a - Nota. Detalle de CxC.'!$H$139=\"\",\"\",'800111a - Nota. Detalle de CxC.'!$H$139)","v":""},{"$f":"IF('800111a - Nota. Detalle de CxC.'!$H$140=\"\",\"\",'800111a - Nota. Detalle de CxC.'!$H$140)","v":""},{"$f":"IF('800111a - Nota. Detalle de CxC.'!$H$141=\"\",\"\",'800111a - Nota. Detalle de CxC.'!$H$141)","v":""},{"$f":"IF('800111a - Nota. Detalle de CxC.'!$H$142=\"\",\"\",'800111a - Nota. Detalle de CxC.'!$H$142)","v":""},{"$f":"IF('800111a - Nota. Detalle de CxC.'!$H$143=\"\",\"\",'800111a - Nota. Detalle de CxC.'!$H$143)","v":""},{"$f":"IF('800111a - Nota. Detalle de CxC.'!$H$144=\"\",\"\",'800111a - Nota. Detalle de CxC.'!$H$144)","v":""},{"$f":"IF('800111a - Nota. Detalle de CxC.'!$H$145=\"\",\"\",'800111a - Nota. Detalle de CxC.'!$H$145)","v":""},{"$f":"IF('800111a - Nota. Detalle de CxC.'!$H$146=\"\",\"\",'800111a - Nota. Detalle de CxC.'!$H$146)","v":""},{"$f":"IF('800111a - Nota. Detalle de CxC.'!$H$147=\"\",\"\",'800111a - Nota. Detalle de CxC.'!$H$147)","v":""},{"$f":"IF('800111a - Nota. Detalle de CxC.'!$H$148=\"\",\"\",'800111a - Nota. Detalle de CxC.'!$H$148)","v":""},{"$f":"IF('800111a - Nota. Detalle de CxC.'!$H$149=\"\",\"\",'800111a - Nota. Detalle de CxC.'!$H$149)","v":""},{"$f":"IF('800111a - Nota. Detalle de CxC.'!$H$150=\"\",\"\",'800111a - Nota. Detalle de CxC.'!$H$150)","v":""},{"$f":"IF('800111a - Nota. Detalle de CxC.'!$H$151=\"\",\"\",'800111a - Nota. Detalle de CxC.'!$H$151)","v":""},{"$f":"IF('800111a - Nota. Detalle de CxC.'!$H$152=\"\",\"\",'800111a - Nota. Detalle de CxC.'!$H$152)","v":""},{"$f":"IF('800111a - Nota. Detalle de CxC.'!$H$153=\"\",\"\",'800111a - Nota. Detalle de CxC.'!$H$153)","v":""},{"$f":"IF('800111a - Nota. Detalle de CxC.'!$H$154=\"\",\"\",'800111a - Nota. Detalle de CxC.'!$H$154)","v":""},{"$f":"IF('800111a - Nota. Detalle de CxC.'!$H$155=\"\",\"\",'800111a - Nota. Detalle de CxC.'!$H$155)","v":""},{"$f":"IF('800111a - Nota. Detalle de CxC.'!$H$156=\"\",\"\",'800111a - Nota. Detalle de CxC.'!$H$156)","v":""},{"$f":"IF('800111a - Nota. Detalle de CxC.'!$H$157=\"\",\"\",'800111a - Nota. Detalle de CxC.'!$H$157)","v":""},{"$f":"IF('800111a - Nota. Detalle de CxC.'!$H$158=\"\",\"\",'800111a - Nota. Detalle de CxC.'!$H$158)","v":""},{"$f":"IF('800111a - Nota. Detalle de CxC.'!$H$159=\"\",\"\",'800111a - Nota. Detalle de CxC.'!$H$159)","v":""},{"$f":"IF('800111a - Nota. Detalle de CxC.'!$H$160=\"\",\"\",'800111a - Nota. Detalle de CxC.'!$H$160)","v":""},{"$f":"IF('800111a - Nota. Detalle de CxC.'!$H$161=\"\",\"\",'800111a - Nota. Detalle de CxC.'!$H$161)","v":""},{"$f":"IF('800111a - Nota. Detalle de CxC.'!$H$162=\"\",\"\",'800111a - Nota. Detalle de CxC.'!$H$162)","v":""},{"$f":"IF('800111a - Nota. Detalle de CxC.'!$H$163=\"\",\"\",'800111a - Nota. Detalle de CxC.'!$H$163)","v":""},{"$f":"IF('800111a - Nota. Detalle de CxC.'!$H$164=\"\",\"\",'800111a - Nota. Detalle de CxC.'!$H$164)","v":""},{"$f":"IF('800111a - Nota. Detalle de CxC.'!$H$165=\"\",\"\",'800111a - Nota. Detalle de CxC.'!$H$165)","v":""},{"$f":"IF('800111a - Nota. Detalle de CxC.'!$H$166=\"\",\"\",'800111a - Nota. Detalle de CxC.'!$H$166)","v":""},{"$f":"IF('800111a - Nota. Detalle de CxC.'!$H$167=\"\",\"\",'800111a - Nota. Detalle de CxC.'!$H$167)","v":""},{"$f":"IF('800111a - Nota. Detalle de CxC.'!$H$168=\"\",\"\",'800111a - Nota. Detalle de CxC.'!$H$168)","v":""},{"$f":"IF('800111a - Nota. Detalle de CxC.'!$H$169=\"\",\"\",'800111a - Nota. Detalle de CxC.'!$H$169)","v":""},{"$f":"IF('800111a - Nota. Detalle de CxC.'!$H$170=\"\",\"\",'800111a - Nota. Detalle de CxC.'!$H$170)","v":""},{"$f":"IF('800111a - Nota. Detalle de CxC.'!$H$171=\"\",\"\",'800111a - Nota. Detalle de CxC.'!$H$171)","v":""},{"$f":"IF('800111a - Nota. Detalle de CxC.'!$H$172=\"\",\"\",'800111a - Nota. Detalle de CxC.'!$H$172)","v":""}]
[null,"1;1","co-svsp-core:SegundoApellidoDeudorCxC","Segundo apellido deudor",null,null,{"$f":"IF('800111a - Nota. Detalle de CxC.'!$I$17=\"\",\"\",'800111a - Nota. Detalle de CxC.'!$I$17)","v":""},{"$f":"IF('800111a - Nota. Detalle de CxC.'!$I$18=\"\",\"\",'800111a - Nota. Detalle de CxC.'!$I$18)","v":""},{"$f":"IF('800111a - Nota. Detalle de CxC.'!$I$19=\"\",\"\",'800111a - Nota. Detalle de CxC.'!$I$19)","v":""},{"$f":"IF('800111a - Nota. Detalle de CxC.'!$I$20=\"\",\"\",'800111a - Nota. Detalle de CxC.'!$I$20)","v":""},{"$f":"IF('800111a - Nota. Detalle de CxC.'!$I$21=\"\",\"\",'800111a - Nota. Detalle de CxC.'!$I$21)","v":""},{"$f":"IF('800111a - Nota. Detalle de CxC.'!$I$22=\"\",\"\",'800111a - Nota. Detalle de CxC.'!$I$22)","v":""},{"$f":"IF('800111a - Nota. Detalle de CxC.'!$I$23=\"\",\"\",'800111a - Nota. Detalle de CxC.'!$I$23)","v":""},{"$f":"IF('800111a - Nota. Detalle de CxC.'!$I$24=\"\",\"\",'800111a - Nota. Detalle de CxC.'!$I$24)","v":""},{"$f":"IF('800111a - Nota. Detalle de CxC.'!$I$25=\"\",\"\",'800111a - Nota. Detalle de CxC.'!$I$25)","v":""},{"$f":"IF('800111a - Nota. Detalle de CxC.'!$I$26=\"\",\"\",'800111a - Nota. Detalle de CxC.'!$I$26)","v":""},{"$f":"IF('800111a - Nota. Detalle de CxC.'!$I$27=\"\",\"\",'800111a - Nota. Detalle de CxC.'!$I$27)","v":""},{"$f":"IF('800111a - Nota. Detalle de CxC.'!$I$28=\"\",\"\",'800111a - Nota. Detalle de CxC.'!$I$28)","v":""},{"$f":"IF('800111a - Nota. Detalle de CxC.'!$I$29=\"\",\"\",'800111a - Nota. Detalle de CxC.'!$I$29)","v":""},{"$f":"IF('800111a - Nota. Detalle de CxC.'!$I$30=\"\",\"\",'800111a - Nota. Detalle de CxC.'!$I$30)","v":""},{"$f":"IF('800111a - Nota. Detalle de CxC.'!$I$31=\"\",\"\",'800111a - Nota. Detalle de CxC.'!$I$31)","v":""},{"$f":"IF('800111a - Nota. Detalle de CxC.'!$I$32=\"\",\"\",'800111a - Nota. Detalle de CxC.'!$I$32)","v":""},{"$f":"IF('800111a - Nota. Detalle de CxC.'!$I$33=\"\",\"\",'800111a - Nota. Detalle de CxC.'!$I$33)","v":""},{"$f":"IF('800111a - Nota. Detalle de CxC.'!$I$34=\"\",\"\",'800111a - Nota. Detalle de CxC.'!$I$34)","v":""},{"$f":"IF('800111a - Nota. Detalle de CxC.'!$I$35=\"\",\"\",'800111a - Nota. Detalle de CxC.'!$I$35)","v":""},{"$f":"IF('800111a - Nota. Detalle de CxC.'!$I$36=\"\",\"\",'800111a - Nota. Detalle de CxC.'!$I$36)","v":""},{"$f":"IF('800111a - Nota. Detalle de CxC.'!$I$37=\"\",\"\",'800111a - Nota. Detalle de CxC.'!$I$37)","v":""},{"$f":"IF('800111a - Nota. Detalle de CxC.'!$I$38=\"\",\"\",'800111a - Nota. Detalle de CxC.'!$I$38)","v":""},{"$f":"IF('800111a - Nota. Detalle de CxC.'!$I$39=\"\",\"\",'800111a - Nota. Detalle de CxC.'!$I$39)","v":""},{"$f":"IF('800111a - Nota. Detalle de CxC.'!$I$40=\"\",\"\",'800111a - Nota. Detalle de CxC.'!$I$40)","v":""},{"$f":"IF('800111a - Nota. Detalle de CxC.'!$I$41=\"\",\"\",'800111a - Nota. Detalle de CxC.'!$I$41)","v":""},{"$f":"IF('800111a - Nota. Detalle de CxC.'!$I$42=\"\",\"\",'800111a - Nota. Detalle de CxC.'!$I$42)","v":""},{"$f":"IF('800111a - Nota. Detalle de CxC.'!$I$43=\"\",\"\",'800111a - Nota. Detalle de CxC.'!$I$43)","v":""},{"$f":"IF('800111a - Nota. Detalle de CxC.'!$I$44=\"\",\"\",'800111a - Nota. Detalle de CxC.'!$I$44)","v":""},{"$f":"IF('800111a - Nota. Detalle de CxC.'!$I$45=\"\",\"\",'800111a - Nota. Detalle de CxC.'!$I$45)","v":""},{"$f":"IF('800111a - Nota. Detalle de CxC.'!$I$46=\"\",\"\",'800111a - Nota. Detalle de CxC.'!$I$46)","v":""},{"$f":"IF('800111a - Nota. Detalle de CxC.'!$I$47=\"\",\"\",'800111a - Nota. Detalle de CxC.'!$I$47)","v":""},{"$f":"IF('800111a - Nota. Detalle de CxC.'!$I$48=\"\",\"\",'800111a - Nota. Detalle de CxC.'!$I$48)","v":""},{"$f":"IF('800111a - Nota. Detalle de CxC.'!$I$49=\"\",\"\",'800111a - Nota. Detalle de CxC.'!$I$49)","v":""},{"$f":"IF('800111a - Nota. Detalle de CxC.'!$I$50=\"\",\"\",'800111a - Nota. Detalle de CxC.'!$I$50)","v":""},{"$f":"IF('800111a - Nota. Detalle de CxC.'!$I$51=\"\",\"\",'800111a - Nota. Detalle de CxC.'!$I$51)","v":""},{"$f":"IF('800111a - Nota. Detalle de CxC.'!$I$52=\"\",\"\",'800111a - Nota. Detalle de CxC.'!$I$52)","v":""},{"$f":"IF('800111a - Nota. Detalle de CxC.'!$I$53=\"\",\"\",'800111a - Nota. Detalle de CxC.'!$I$53)","v":""},{"$f":"IF('800111a - Nota. Detalle de CxC.'!$I$54=\"\",\"\",'800111a - Nota. Detalle de CxC.'!$I$54)","v":""},{"$f":"IF('800111a - Nota. Detalle de CxC.'!$I$55=\"\",\"\",'800111a - Nota. Detalle de CxC.'!$I$55)","v":""},{"$f":"IF('800111a - Nota. Detalle de CxC.'!$I$56=\"\",\"\",'800111a - Nota. Detalle de CxC.'!$I$56)","v":""},{"$f":"IF('800111a - Nota. Detalle de CxC.'!$I$57=\"\",\"\",'800111a - Nota. Detalle de CxC.'!$I$57)","v":""},{"$f":"IF('800111a - Nota. Detalle de CxC.'!$I$58=\"\",\"\",'800111a - Nota. Detalle de CxC.'!$I$58)","v":""},{"$f":"IF('800111a - Nota. Detalle de CxC.'!$I$59=\"\",\"\",'800111a - Nota. Detalle de CxC.'!$I$59)","v":""},{"$f":"IF('800111a - Nota. Detalle de CxC.'!$I$60=\"\",\"\",'800111a - Nota. Detalle de CxC.'!$I$60)","v":""},{"$f":"IF('800111a - Nota. Detalle de CxC.'!$I$61=\"\",\"\",'800111a - Nota. Detalle de CxC.'!$I$61)","v":""},{"$f":"IF('800111a - Nota. Detalle de CxC.'!$I$62=\"\",\"\",'800111a - Nota. Detalle de CxC.'!$I$62)","v":""},{"$f":"IF('800111a - Nota. Detalle de CxC.'!$I$63=\"\",\"\",'800111a - Nota. Detalle de CxC.'!$I$63)","v":""},{"$f":"IF('800111a - Nota. Detalle de CxC.'!$I$64=\"\",\"\",'800111a - Nota. Detalle de CxC.'!$I$64)","v":""},{"$f":"IF('800111a - Nota. Detalle de CxC.'!$I$65=\"\",\"\",'800111a - Nota. Detalle de CxC.'!$I$65)","v":""},{"$f":"IF('800111a - Nota. Detalle de CxC.'!$I$66=\"\",\"\",'800111a - Nota. Detalle de CxC.'!$I$66)","v":""},null,null,null,{"$f":"IF('800111a - Nota. Detalle de CxC.'!$I$70=\"\",\"\",'800111a - Nota. Detalle de CxC.'!$I$70)","v":""},{"$f":"IF('800111a - Nota. Detalle de CxC.'!$I$71=\"\",\"\",'800111a - Nota. Detalle de CxC.'!$I$71)","v":""},{"$f":"IF('800111a - Nota. Detalle de CxC.'!$I$72=\"\",\"\",'800111a - Nota. Detalle de CxC.'!$I$72)","v":""},{"$f":"IF('800111a - Nota. Detalle de CxC.'!$I$73=\"\",\"\",'800111a - Nota. Detalle de CxC.'!$I$73)","v":""},{"$f":"IF('800111a - Nota. Detalle de CxC.'!$I$74=\"\",\"\",'800111a - Nota. Detalle de CxC.'!$I$74)","v":""},{"$f":"IF('800111a - Nota. Detalle de CxC.'!$I$75=\"\",\"\",'800111a - Nota. Detalle de CxC.'!$I$75)","v":""},{"$f":"IF('800111a - Nota. Detalle de CxC.'!$I$76=\"\",\"\",'800111a - Nota. Detalle de CxC.'!$I$76)","v":""},{"$f":"IF('800111a - Nota. Detalle de CxC.'!$I$77=\"\",\"\",'800111a - Nota. Detalle de CxC.'!$I$77)","v":""},{"$f":"IF('800111a - Nota. Detalle de CxC.'!$I$78=\"\",\"\",'800111a - Nota. Detalle de CxC.'!$I$78)","v":""},{"$f":"IF('800111a - Nota. Detalle de CxC.'!$I$79=\"\",\"\",'800111a - Nota. Detalle de CxC.'!$I$79)","v":""},{"$f":"IF('800111a - Nota. Detalle de CxC.'!$I$80=\"\",\"\",'800111a - Nota. Detalle de CxC.'!$I$80)","v":""},{"$f":"IF('800111a - Nota. Detalle de CxC.'!$I$81=\"\",\"\",'800111a - Nota. Detalle de CxC.'!$I$81)","v":""},{"$f":"IF('800111a - Nota. Detalle de CxC.'!$I$82=\"\",\"\",'800111a - Nota. Detalle de CxC.'!$I$82)","v":""},{"$f":"IF('800111a - Nota. Detalle de CxC.'!$I$83=\"\",\"\",'800111a - Nota. Detalle de CxC.'!$I$83)","v":""},{"$f":"IF('800111a - Nota. Detalle de CxC.'!$I$84=\"\",\"\",'800111a - Nota. Detalle de CxC.'!$I$84)","v":""},{"$f":"IF('800111a - Nota. Detalle de CxC.'!$I$85=\"\",\"\",'800111a - Nota. Detalle de CxC.'!$I$85)","v":""},{"$f":"IF('800111a - Nota. Detalle de CxC.'!$I$86=\"\",\"\",'800111a - Nota. Detalle de CxC.'!$I$86)","v":""},{"$f":"IF('800111a - Nota. Detalle de CxC.'!$I$87=\"\",\"\",'800111a - Nota. Detalle de CxC.'!$I$87)","v":""},{"$f":"IF('800111a - Nota. Detalle de CxC.'!$I$88=\"\",\"\",'800111a - Nota. Detalle de CxC.'!$I$88)","v":""},{"$f":"IF('800111a - Nota. Detalle de CxC.'!$I$89=\"\",\"\",'800111a - Nota. Detalle de CxC.'!$I$89)","v":""},{"$f":"IF('800111a - Nota. Detalle de CxC.'!$I$90=\"\",\"\",'800111a - Nota. Detalle de CxC.'!$I$90)","v":""},{"$f":"IF('800111a - Nota. Detalle de CxC.'!$I$91=\"\",\"\",'800111a - Nota. Detalle de CxC.'!$I$91)","v":""},{"$f":"IF('800111a - Nota. Detalle de CxC.'!$I$92=\"\",\"\",'800111a - Nota. Detalle de CxC.'!$I$92)","v":""},{"$f":"IF('800111a - Nota. Detalle de CxC.'!$I$93=\"\",\"\",'800111a - Nota. Detalle de CxC.'!$I$93)","v":""},{"$f":"IF('800111a - Nota. Detalle de CxC.'!$I$94=\"\",\"\",'800111a - Nota. Detalle de CxC.'!$I$94)","v":""},{"$f":"IF('800111a - Nota. Detalle de CxC.'!$I$95=\"\",\"\",'800111a - Nota. Detalle de CxC.'!$I$95)","v":""},{"$f":"IF('800111a - Nota. Detalle de CxC.'!$I$96=\"\",\"\",'800111a - Nota. Detalle de CxC.'!$I$96)","v":""},{"$f":"IF('800111a - Nota. Detalle de CxC.'!$I$97=\"\",\"\",'800111a - Nota. Detalle de CxC.'!$I$97)","v":""},{"$f":"IF('800111a - Nota. Detalle de CxC.'!$I$98=\"\",\"\",'800111a - Nota. Detalle de CxC.'!$I$98)","v":""},{"$f":"IF('800111a - Nota. Detalle de CxC.'!$I$99=\"\",\"\",'800111a - Nota. Detalle de CxC.'!$I$99)","v":""},{"$f":"IF('800111a - Nota. Detalle de CxC.'!$I$100=\"\",\"\",'800111a - Nota. Detalle de CxC.'!$I$100)","v":""},{"$f":"IF('800111a - Nota. Detalle de CxC.'!$I$101=\"\",\"\",'800111a - Nota. Detalle de CxC.'!$I$101)","v":""},{"$f":"IF('800111a - Nota. Detalle de CxC.'!$I$102=\"\",\"\",'800111a - Nota. Detalle de CxC.'!$I$102)","v":""},{"$f":"IF('800111a - Nota. Detalle de CxC.'!$I$103=\"\",\"\",'800111a - Nota. Detalle de CxC.'!$I$103)","v":""},{"$f":"IF('800111a - Nota. Detalle de CxC.'!$I$104=\"\",\"\",'800111a - Nota. Detalle de CxC.'!$I$104)","v":""},{"$f":"IF('800111a - Nota. Detalle de CxC.'!$I$105=\"\",\"\",'800111a - Nota. Detalle de CxC.'!$I$105)","v":""},{"$f":"IF('800111a - Nota. Detalle de CxC.'!$I$106=\"\",\"\",'800111a - Nota. Detalle de CxC.'!$I$106)","v":""},{"$f":"IF('800111a - Nota. Detalle de CxC.'!$I$107=\"\",\"\",'800111a - Nota. Detalle de CxC.'!$I$107)","v":""},{"$f":"IF('800111a - Nota. Detalle de CxC.'!$I$108=\"\",\"\",'800111a - Nota. Detalle de CxC.'!$I$108)","v":""},{"$f":"IF('800111a - Nota. Detalle de CxC.'!$I$109=\"\",\"\",'800111a - Nota. Detalle de CxC.'!$I$109)","v":""},{"$f":"IF('800111a - Nota. Detalle de CxC.'!$I$110=\"\",\"\",'800111a - Nota. Detalle de CxC.'!$I$110)","v":""},{"$f":"IF('800111a - Nota. Detalle de CxC.'!$I$111=\"\",\"\",'800111a - Nota. Detalle de CxC.'!$I$111)","v":""},{"$f":"IF('800111a - Nota. Detalle de CxC.'!$I$112=\"\",\"\",'800111a - Nota. Detalle de CxC.'!$I$112)","v":""},{"$f":"IF('800111a - Nota. Detalle de CxC.'!$I$113=\"\",\"\",'800111a - Nota. Detalle de CxC.'!$I$113)","v":""},{"$f":"IF('800111a - Nota. Detalle de CxC.'!$I$114=\"\",\"\",'800111a - Nota. Detalle de CxC.'!$I$114)","v":""},{"$f":"IF('800111a - Nota. Detalle de CxC.'!$I$115=\"\",\"\",'800111a - Nota. Detalle de CxC.'!$I$115)","v":""},{"$f":"IF('800111a - Nota. Detalle de CxC.'!$I$116=\"\",\"\",'800111a - Nota. Detalle de CxC.'!$I$116)","v":""},{"$f":"IF('800111a - Nota. Detalle de CxC.'!$I$117=\"\",\"\",'800111a - Nota. Detalle de CxC.'!$I$117)","v":""},{"$f":"IF('800111a - Nota. Detalle de CxC.'!$I$118=\"\",\"\",'800111a - Nota. Detalle de CxC.'!$I$118)","v":""},{"$f":"IF('800111a - Nota. Detalle de CxC.'!$I$119=\"\",\"\",'800111a - Nota. Detalle de CxC.'!$I$119)","v":""},null,null,null,{"$f":"IF('800111a - Nota. Detalle de CxC.'!$I$123=\"\",\"\",'800111a - Nota. Detalle de CxC.'!$I$123)","v":""},{"$f":"IF('800111a - Nota. Detalle de CxC.'!$I$124=\"\",\"\",'800111a - Nota. Detalle de CxC.'!$I$124)","v":""},{"$f":"IF('800111a - Nota. Detalle de CxC.'!$I$125=\"\",\"\",'800111a - Nota. Detalle de CxC.'!$I$125)","v":""},{"$f":"IF('800111a - Nota. Detalle de CxC.'!$I$126=\"\",\"\",'800111a - Nota. Detalle de CxC.'!$I$126)","v":""},{"$f":"IF('800111a - Nota. Detalle de CxC.'!$I$127=\"\",\"\",'800111a - Nota. Detalle de CxC.'!$I$127)","v":""},{"$f":"IF('800111a - Nota. Detalle de CxC.'!$I$128=\"\",\"\",'800111a - Nota. Detalle de CxC.'!$I$128)","v":""},{"$f":"IF('800111a - Nota. Detalle de CxC.'!$I$129=\"\",\"\",'800111a - Nota. Detalle de CxC.'!$I$129)","v":""},{"$f":"IF('800111a - Nota. Detalle de CxC.'!$I$130=\"\",\"\",'800111a - Nota. Detalle de CxC.'!$I$130)","v":""},{"$f":"IF('800111a - Nota. Detalle de CxC.'!$I$131=\"\",\"\",'800111a - Nota. Detalle de CxC.'!$I$131)","v":""},{"$f":"IF('800111a - Nota. Detalle de CxC.'!$I$132=\"\",\"\",'800111a - Nota. Detalle de CxC.'!$I$132)","v":""},{"$f":"IF('800111a - Nota. Detalle de CxC.'!$I$133=\"\",\"\",'800111a - Nota. Detalle de CxC.'!$I$133)","v":""},{"$f":"IF('800111a - Nota. Detalle de CxC.'!$I$134=\"\",\"\",'800111a - Nota. Detalle de CxC.'!$I$134)","v":""},{"$f":"IF('800111a - Nota. Detalle de CxC.'!$I$135=\"\",\"\",'800111a - Nota. Detalle de CxC.'!$I$135)","v":""},{"$f":"IF('800111a - Nota. Detalle de CxC.'!$I$136=\"\",\"\",'800111a - Nota. Detalle de CxC.'!$I$136)","v":""},{"$f":"IF('800111a - Nota. Detalle de CxC.'!$I$137=\"\",\"\",'800111a - Nota. Detalle de CxC.'!$I$137)","v":""},{"$f":"IF('800111a - Nota. Detalle de CxC.'!$I$138=\"\",\"\",'800111a - Nota. Detalle de CxC.'!$I$138)","v":""},{"$f":"IF('800111a - Nota. Detalle de CxC.'!$I$139=\"\",\"\",'800111a - Nota. Detalle de CxC.'!$I$139)","v":""},{"$f":"IF('800111a - Nota. Detalle de CxC.'!$I$140=\"\",\"\",'800111a - Nota. Detalle de CxC.'!$I$140)","v":""},{"$f":"IF('800111a - Nota. Detalle de CxC.'!$I$141=\"\",\"\",'800111a - Nota. Detalle de CxC.'!$I$141)","v":""},{"$f":"IF('800111a - Nota. Detalle de CxC.'!$I$142=\"\",\"\",'800111a - Nota. Detalle de CxC.'!$I$142)","v":""},{"$f":"IF('800111a - Nota. Detalle de CxC.'!$I$143=\"\",\"\",'800111a - Nota. Detalle de CxC.'!$I$143)","v":""},{"$f":"IF('800111a - Nota. Detalle de CxC.'!$I$144=\"\",\"\",'800111a - Nota. Detalle de CxC.'!$I$144)","v":""},{"$f":"IF('800111a - Nota. Detalle de CxC.'!$I$145=\"\",\"\",'800111a - Nota. Detalle de CxC.'!$I$145)","v":""},{"$f":"IF('800111a - Nota. Detalle de CxC.'!$I$146=\"\",\"\",'800111a - Nota. Detalle de CxC.'!$I$146)","v":""},{"$f":"IF('800111a - Nota. Detalle de CxC.'!$I$147=\"\",\"\",'800111a - Nota. Detalle de CxC.'!$I$147)","v":""},{"$f":"IF('800111a - Nota. Detalle de CxC.'!$I$148=\"\",\"\",'800111a - Nota. Detalle de CxC.'!$I$148)","v":""},{"$f":"IF('800111a - Nota. Detalle de CxC.'!$I$149=\"\",\"\",'800111a - Nota. Detalle de CxC.'!$I$149)","v":""},{"$f":"IF('800111a - Nota. Detalle de CxC.'!$I$150=\"\",\"\",'800111a - Nota. Detalle de CxC.'!$I$150)","v":""},{"$f":"IF('800111a - Nota. Detalle de CxC.'!$I$151=\"\",\"\",'800111a - Nota. Detalle de CxC.'!$I$151)","v":""},{"$f":"IF('800111a - Nota. Detalle de CxC.'!$I$152=\"\",\"\",'800111a - Nota. Detalle de CxC.'!$I$152)","v":""},{"$f":"IF('800111a - Nota. Detalle de CxC.'!$I$153=\"\",\"\",'800111a - Nota. Detalle de CxC.'!$I$153)","v":""},{"$f":"IF('800111a - Nota. Detalle de CxC.'!$I$154=\"\",\"\",'800111a - Nota. Detalle de CxC.'!$I$154)","v":""},{"$f":"IF('800111a - Nota. Detalle de CxC.'!$I$155=\"\",\"\",'800111a - Nota. Detalle de CxC.'!$I$155)","v":""},{"$f":"IF('800111a - Nota. Detalle de CxC.'!$I$156=\"\",\"\",'800111a - Nota. Detalle de CxC.'!$I$156)","v":""},{"$f":"IF('800111a - Nota. Detalle de CxC.'!$I$157=\"\",\"\",'800111a - Nota. Detalle de CxC.'!$I$157)","v":""},{"$f":"IF('800111a - Nota. Detalle de CxC.'!$I$158=\"\",\"\",'800111a - Nota. Detalle de CxC.'!$I$158)","v":""},{"$f":"IF('800111a - Nota. Detalle de CxC.'!$I$159=\"\",\"\",'800111a - Nota. Detalle de CxC.'!$I$159)","v":""},{"$f":"IF('800111a - Nota. Detalle de CxC.'!$I$160=\"\",\"\",'800111a - Nota. Detalle de CxC.'!$I$160)","v":""},{"$f":"IF('800111a - Nota. Detalle de CxC.'!$I$161=\"\",\"\",'800111a - Nota. Detalle de CxC.'!$I$161)","v":""},{"$f":"IF('800111a - Nota. Detalle de CxC.'!$I$162=\"\",\"\",'800111a - Nota. Detalle de CxC.'!$I$162)","v":""},{"$f":"IF('800111a - Nota. Detalle de CxC.'!$I$163=\"\",\"\",'800111a - Nota. Detalle de CxC.'!$I$163)","v":""},{"$f":"IF('800111a - Nota. Detalle de CxC.'!$I$164=\"\",\"\",'800111a - Nota. Detalle de CxC.'!$I$164)","v":""},{"$f":"IF('800111a - Nota. Detalle de CxC.'!$I$165=\"\",\"\",'800111a - Nota. Detalle de CxC.'!$I$165)","v":""},{"$f":"IF('800111a - Nota. Detalle de CxC.'!$I$166=\"\",\"\",'800111a - Nota. Detalle de CxC.'!$I$166)","v":""},{"$f":"IF('800111a - Nota. Detalle de CxC.'!$I$167=\"\",\"\",'800111a - Nota. Detalle de CxC.'!$I$167)","v":""},{"$f":"IF('800111a - Nota. Detalle de CxC.'!$I$168=\"\",\"\",'800111a - Nota. Detalle de CxC.'!$I$168)","v":""},{"$f":"IF('800111a - Nota. Detalle de CxC.'!$I$169=\"\",\"\",'800111a - Nota. Detalle de CxC.'!$I$169)","v":""},{"$f":"IF('800111a - Nota. Detalle de CxC.'!$I$170=\"\",\"\",'800111a - Nota. Detalle de CxC.'!$I$170)","v":""},{"$f":"IF('800111a - Nota. Detalle de CxC.'!$I$171=\"\",\"\",'800111a - Nota. Detalle de CxC.'!$I$171)","v":""},{"$f":"IF('800111a - Nota. Detalle de CxC.'!$I$172=\"\",\"\",'800111a - Nota. Detalle de CxC.'!$I$172)","v":""}]
[null,"1;1","co-svsp-core:PrimerNombreDeudorCxC","Primer nombre deudor",null,null,{"$f":"IF('800111a - Nota. Detalle de CxC.'!$J$17=\"\",\"\",'800111a - Nota. Detalle de CxC.'!$J$17)","v":""},{"$f":"IF('800111a - Nota. Detalle de CxC.'!$J$18=\"\",\"\",'800111a - Nota. Detalle de CxC.'!$J$18)","v":""},{"$f":"IF('800111a - Nota. Detalle de CxC.'!$J$19=\"\",\"\",'800111a - Nota. Detalle de CxC.'!$J$19)","v":""},{"$f":"IF('800111a - Nota. Detalle de CxC.'!$J$20=\"\",\"\",'800111a - Nota. Detalle de CxC.'!$J$20)","v":""},{"$f":"IF('800111a - Nota. Detalle de CxC.'!$J$21=\"\",\"\",'800111a - Nota. Detalle de CxC.'!$J$21)","v":""},{"$f":"IF('800111a - Nota. Detalle de CxC.'!$J$22=\"\",\"\",'800111a - Nota. Detalle de CxC.'!$J$22)","v":""},{"$f":"IF('800111a - Nota. Detalle de CxC.'!$J$23=\"\",\"\",'800111a - Nota. Detalle de CxC.'!$J$23)","v":""},{"$f":"IF('800111a - Nota. Detalle de CxC.'!$J$24=\"\",\"\",'800111a - Nota. Detalle de CxC.'!$J$24)","v":""},{"$f":"IF('800111a - Nota. Detalle de CxC.'!$J$25=\"\",\"\",'800111a - Nota. Detalle de CxC.'!$J$25)","v":""},{"$f":"IF('800111a - Nota. Detalle de CxC.'!$J$26=\"\",\"\",'800111a - Nota. Detalle de CxC.'!$J$26)","v":""},{"$f":"IF('800111a - Nota. Detalle de CxC.'!$J$27=\"\",\"\",'800111a - Nota. Detalle de CxC.'!$J$27)","v":""},{"$f":"IF('800111a - Nota. Detalle de CxC.'!$J$28=\"\",\"\",'800111a - Nota. Detalle de CxC.'!$J$28)","v":""},{"$f":"IF('800111a - Nota. Detalle de CxC.'!$J$29=\"\",\"\",'800111a - Nota. Detalle de CxC.'!$J$29)","v":""},{"$f":"IF('800111a - Nota. Detalle de CxC.'!$J$30=\"\",\"\",'800111a - Nota. Detalle de CxC.'!$J$30)","v":""},{"$f":"IF('800111a - Nota. Detalle de CxC.'!$J$31=\"\",\"\",'800111a - Nota. Detalle de CxC.'!$J$31)","v":""},{"$f":"IF('800111a - Nota. Detalle de CxC.'!$J$32=\"\",\"\",'800111a - Nota. Detalle de CxC.'!$J$32)","v":""},{"$f":"IF('800111a - Nota. Detalle de CxC.'!$J$33=\"\",\"\",'800111a - Nota. Detalle de CxC.'!$J$33)","v":""},{"$f":"IF('800111a - Nota. Detalle de CxC.'!$J$34=\"\",\"\",'800111a - Nota. Detalle de CxC.'!$J$34)","v":""},{"$f":"IF('800111a - Nota. Detalle de CxC.'!$J$35=\"\",\"\",'800111a - Nota. Detalle de CxC.'!$J$35)","v":""},{"$f":"IF('800111a - Nota. Detalle de CxC.'!$J$36=\"\",\"\",'800111a - Nota. Detalle de CxC.'!$J$36)","v":""},{"$f":"IF('800111a - Nota. Detalle de CxC.'!$J$37=\"\",\"\",'800111a - Nota. Detalle de CxC.'!$J$37)","v":""},{"$f":"IF('800111a - Nota. Detalle de CxC.'!$J$38=\"\",\"\",'800111a - Nota. Detalle de CxC.'!$J$38)","v":""},{"$f":"IF('800111a - Nota. Detalle de CxC.'!$J$39=\"\",\"\",'800111a - Nota. Detalle de CxC.'!$J$39)","v":""},{"$f":"IF('800111a - Nota. Detalle de CxC.'!$J$40=\"\",\"\",'800111a - Nota. Detalle de CxC.'!$J$40)","v":""},{"$f":"IF('800111a - Nota. Detalle de CxC.'!$J$41=\"\",\"\",'800111a - Nota. Detalle de CxC.'!$J$41)","v":""},{"$f":"IF('800111a - Nota. Detalle de CxC.'!$J$42=\"\",\"\",'800111a - Nota. Detalle de CxC.'!$J$42)","v":""},{"$f":"IF('800111a - Nota. Detalle de CxC.'!$J$43=\"\",\"\",'800111a - Nota. Detalle de CxC.'!$J$43)","v":""},{"$f":"IF('800111a - Nota. Detalle de CxC.'!$J$44=\"\",\"\",'800111a - Nota. Detalle de CxC.'!$J$44)","v":""},{"$f":"IF('800111a - Nota. Detalle de CxC.'!$J$45=\"\",\"\",'800111a - Nota. Detalle de CxC.'!$J$45)","v":""},{"$f":"IF('800111a - Nota. Detalle de CxC.'!$J$46=\"\",\"\",'800111a - Nota. Detalle de CxC.'!$J$46)","v":""},{"$f":"IF('800111a - Nota. Detalle de CxC.'!$J$47=\"\",\"\",'800111a - Nota. Detalle de CxC.'!$J$47)","v":""},{"$f":"IF('800111a - Nota. Detalle de CxC.'!$J$48=\"\",\"\",'800111a - Nota. Detalle de CxC.'!$J$48)","v":""},{"$f":"IF('800111a - Nota. Detalle de CxC.'!$J$49=\"\",\"\",'800111a - Nota. Detalle de CxC.'!$J$49)","v":""},{"$f":"IF('800111a - Nota. Detalle de CxC.'!$J$50=\"\",\"\",'800111a - Nota. Detalle de CxC.'!$J$50)","v":""},{"$f":"IF('800111a - Nota. Detalle de CxC.'!$J$51=\"\",\"\",'800111a - Nota. Detalle de CxC.'!$J$51)","v":""},{"$f":"IF('800111a - Nota. Detalle de CxC.'!$J$52=\"\",\"\",'800111a - Nota. Detalle de CxC.'!$J$52)","v":""},{"$f":"IF('800111a - Nota. Detalle de CxC.'!$J$53=\"\",\"\",'800111a - Nota. Detalle de CxC.'!$J$53)","v":""},{"$f":"IF('800111a - Nota. Detalle de CxC.'!$J$54=\"\",\"\",'800111a - Nota. Detalle de CxC.'!$J$54)","v":""},{"$f":"IF('800111a - Nota. Detalle de CxC.'!$J$55=\"\",\"\",'800111a - Nota. Detalle de CxC.'!$J$55)","v":""},{"$f":"IF('800111a - Nota. Detalle de CxC.'!$J$56=\"\",\"\",'800111a - Nota. Detalle de CxC.'!$J$56)","v":""},{"$f":"IF('800111a - Nota. Detalle de CxC.'!$J$57=\"\",\"\",'800111a - Nota. Detalle de CxC.'!$J$57)","v":""},{"$f":"IF('800111a - Nota. Detalle de CxC.'!$J$58=\"\",\"\",'800111a - Nota. Detalle de CxC.'!$J$58)","v":""},{"$f":"IF('800111a - Nota. Detalle de CxC.'!$J$59=\"\",\"\",'800111a - Nota. Detalle de CxC.'!$J$59)","v":""},{"$f":"IF('800111a - Nota. Detalle de CxC.'!$J$60=\"\",\"\",'800111a - Nota. Detalle de CxC.'!$J$60)","v":""},{"$f":"IF('800111a - Nota. Detalle de CxC.'!$J$61=\"\",\"\",'800111a - Nota. Detalle de CxC.'!$J$61)","v":""},{"$f":"IF('800111a - Nota. Detalle de CxC.'!$J$62=\"\",\"\",'800111a - Nota. Detalle de CxC.'!$J$62)","v":""},{"$f":"IF('800111a - Nota. Detalle de CxC.'!$J$63=\"\",\"\",'800111a - Nota. Detalle de CxC.'!$J$63)","v":""},{"$f":"IF('800111a - Nota. Detalle de CxC.'!$J$64=\"\",\"\",'800111a - Nota. Detalle de CxC.'!$J$64)","v":""},{"$f":"IF('800111a - Nota. Detalle de CxC.'!$J$65=\"\",\"\",'800111a - Nota. Detalle de CxC.'!$J$65)","v":""},{"$f":"IF('800111a - Nota. Detalle de CxC.'!$J$66=\"\",\"\",'800111a - Nota. Detalle de CxC.'!$J$66)","v":""},null,null,null,{"$f":"IF('800111a - Nota. Detalle de CxC.'!$J$70=\"\",\"\",'800111a - Nota. Detalle de CxC.'!$J$70)","v":""},{"$f":"IF('800111a - Nota. Detalle de CxC.'!$J$71=\"\",\"\",'800111a - Nota. Detalle de CxC.'!$J$71)","v":""},{"$f":"IF('800111a - Nota. Detalle de CxC.'!$J$72=\"\",\"\",'800111a - Nota. Detalle de CxC.'!$J$72)","v":""},{"$f":"IF('800111a - Nota. Detalle de CxC.'!$J$73=\"\",\"\",'800111a - Nota. Detalle de CxC.'!$J$73)","v":""},{"$f":"IF('800111a - Nota. Detalle de CxC.'!$J$74=\"\",\"\",'800111a - Nota. Detalle de CxC.'!$J$74)","v":""},{"$f":"IF('800111a - Nota. Detalle de CxC.'!$J$75=\"\",\"\",'800111a - Nota. Detalle de CxC.'!$J$75)","v":""},{"$f":"IF('800111a - Nota. Detalle de CxC.'!$J$76=\"\",\"\",'800111a - Nota. Detalle de CxC.'!$J$76)","v":""},{"$f":"IF('800111a - Nota. Detalle de CxC.'!$J$77=\"\",\"\",'800111a - Nota. Detalle de CxC.'!$J$77)","v":""},{"$f":"IF('800111a - Nota. Detalle de CxC.'!$J$78=\"\",\"\",'800111a - Nota. Detalle de CxC.'!$J$78)","v":""},{"$f":"IF('800111a - Nota. Detalle de CxC.'!$J$79=\"\",\"\",'800111a - Nota. Detalle de CxC.'!$J$79)","v":""},{"$f":"IF('800111a - Nota. Detalle de CxC.'!$J$80=\"\",\"\",'800111a - Nota. Detalle de CxC.'!$J$80)","v":""},{"$f":"IF('800111a - Nota. Detalle de CxC.'!$J$81=\"\",\"\",'800111a - Nota. Detalle de CxC.'!$J$81)","v":""},{"$f":"IF('800111a - Nota. Detalle de CxC.'!$J$82=\"\",\"\",'800111a - Nota. Detalle de CxC.'!$J$82)","v":""},{"$f":"IF('800111a - Nota. Detalle de CxC.'!$J$83=\"\",\"\",'800111a - Nota. Detalle de CxC.'!$J$83)","v":""},{"$f":"IF('800111a - Nota. Detalle de CxC.'!$J$84=\"\",\"\",'800111a - Nota. Detalle de CxC.'!$J$84)","v":""},{"$f":"IF('800111a - Nota. Detalle de CxC.'!$J$85=\"\",\"\",'800111a - Nota. Detalle de CxC.'!$J$85)","v":""},{"$f":"IF('800111a - Nota. Detalle de CxC.'!$J$86=\"\",\"\",'800111a - Nota. Detalle de CxC.'!$J$86)","v":""},{"$f":"IF('800111a - Nota. Detalle de CxC.'!$J$87=\"\",\"\",'800111a - Nota. Detalle de CxC.'!$J$87)","v":""},{"$f":"IF('800111a - Nota. Detalle de CxC.'!$J$88=\"\",\"\",'800111a - Nota. Detalle de CxC.'!$J$88)","v":""},{"$f":"IF('800111a - Nota. Detalle de CxC.'!$J$89=\"\",\"\",'800111a - Nota. Detalle de CxC.'!$J$89)","v":""},{"$f":"IF('800111a - Nota. Detalle de CxC.'!$J$90=\"\",\"\",'800111a - Nota. Detalle de CxC.'!$J$90)","v":""},{"$f":"IF('800111a - Nota. Detalle de CxC.'!$J$91=\"\",\"\",'800111a - Nota. Detalle de CxC.'!$J$91)","v":""},{"$f":"IF('800111a - Nota. Detalle de CxC.'!$J$92=\"\",\"\",'800111a - Nota. Detalle de CxC.'!$J$92)","v":""},{"$f":"IF('800111a - Nota. Detalle de CxC.'!$J$93=\"\",\"\",'800111a - Nota. Detalle de CxC.'!$J$93)","v":""},{"$f":"IF('800111a - Nota. Detalle de CxC.'!$J$94=\"\",\"\",'800111a - Nota. Detalle de CxC.'!$J$94)","v":""},{"$f":"IF('800111a - Nota. Detalle de CxC.'!$J$95=\"\",\"\",'800111a - Nota. Detalle de CxC.'!$J$95)","v":""},{"$f":"IF('800111a - Nota. Detalle de CxC.'!$J$96=\"\",\"\",'800111a - Nota. Detalle de CxC.'!$J$96)","v":""},{"$f":"IF('800111a - Nota. Detalle de CxC.'!$J$97=\"\",\"\",'800111a - Nota. Detalle de CxC.'!$J$97)","v":""},{"$f":"IF('800111a - Nota. Detalle de CxC.'!$J$98=\"\",\"\",'800111a - Nota. Detalle de CxC.'!$J$98)","v":""},{"$f":"IF('800111a - Nota. Detalle de CxC.'!$J$99=\"\",\"\",'800111a - Nota. Detalle de CxC.'!$J$99)","v":""},{"$f":"IF('800111a - Nota. Detalle de CxC.'!$J$100=\"\",\"\",'800111a - Nota. Detalle de CxC.'!$J$100)","v":""},{"$f":"IF('800111a - Nota. Detalle de CxC.'!$J$101=\"\",\"\",'800111a - Nota. Detalle de CxC.'!$J$101)","v":""},{"$f":"IF('800111a - Nota. Detalle de CxC.'!$J$102=\"\",\"\",'800111a - Nota. Detalle de CxC.'!$J$102)","v":""},{"$f":"IF('800111a - Nota. Detalle de CxC.'!$J$103=\"\",\"\",'800111a - Nota. Detalle de CxC.'!$J$103)","v":""},{"$f":"IF('800111a - Nota. Detalle de CxC.'!$J$104=\"\",\"\",'800111a - Nota. Detalle de CxC.'!$J$104)","v":""},{"$f":"IF('800111a - Nota. Detalle de CxC.'!$J$105=\"\",\"\",'800111a - Nota. Detalle de CxC.'!$J$105)","v":""},{"$f":"IF('800111a - Nota. Detalle de CxC.'!$J$106=\"\",\"\",'800111a - Nota. Detalle de CxC.'!$J$106)","v":""},{"$f":"IF('800111a - Nota. Detalle de CxC.'!$J$107=\"\",\"\",'800111a - Nota. Detalle de CxC.'!$J$107)","v":""},{"$f":"IF('800111a - Nota. Detalle de CxC.'!$J$108=\"\",\"\",'800111a - Nota. Detalle de CxC.'!$J$108)","v":""},{"$f":"IF('800111a - Nota. Detalle de CxC.'!$J$109=\"\",\"\",'800111a - Nota. Detalle de CxC.'!$J$109)","v":""},{"$f":"IF('800111a - Nota. Detalle de CxC.'!$J$110=\"\",\"\",'800111a - Nota. Detalle de CxC.'!$J$110)","v":""},{"$f":"IF('800111a - Nota. Detalle de CxC.'!$J$111=\"\",\"\",'800111a - Nota. Detalle de CxC.'!$J$111)","v":""},{"$f":"IF('800111a - Nota. Detalle de CxC.'!$J$112=\"\",\"\",'800111a - Nota. Detalle de CxC.'!$J$112)","v":""},{"$f":"IF('800111a - Nota. Detalle de CxC.'!$J$113=\"\",\"\",'800111a - Nota. Detalle de CxC.'!$J$113)","v":""},{"$f":"IF('800111a - Nota. Detalle de CxC.'!$J$114=\"\",\"\",'800111a - Nota. Detalle de CxC.'!$J$114)","v":""},{"$f":"IF('800111a - Nota. Detalle de CxC.'!$J$115=\"\",\"\",'800111a - Nota. Detalle de CxC.'!$J$115)","v":""},{"$f":"IF('800111a - Nota. Detalle de CxC.'!$J$116=\"\",\"\",'800111a - Nota. Detalle de CxC.'!$J$116)","v":""},{"$f":"IF('800111a - Nota. Detalle de CxC.'!$J$117=\"\",\"\",'800111a - Nota. Detalle de CxC.'!$J$117)","v":""},{"$f":"IF('800111a - Nota. Detalle de CxC.'!$J$118=\"\",\"\",'800111a - Nota. Detalle de CxC.'!$J$118)","v":""},{"$f":"IF('800111a - Nota. Detalle de CxC.'!$J$119=\"\",\"\",'800111a - Nota. Detalle de CxC.'!$J$119)","v":""},null,null,null,{"$f":"IF('800111a - Nota. Detalle de CxC.'!$J$123=\"\",\"\",'800111a - Nota. Detalle de CxC.'!$J$123)","v":""},{"$f":"IF('800111a - Nota. Detalle de CxC.'!$J$124=\"\",\"\",'800111a - Nota. Detalle de CxC.'!$J$124)","v":""},{"$f":"IF('800111a - Nota. Detalle de CxC.'!$J$125=\"\",\"\",'800111a - Nota. Detalle de CxC.'!$J$125)","v":""},{"$f":"IF('800111a - Nota. Detalle de CxC.'!$J$126=\"\",\"\",'800111a - Nota. Detalle de CxC.'!$J$126)","v":""},{"$f":"IF('800111a - Nota. Detalle de CxC.'!$J$127=\"\",\"\",'800111a - Nota. Detalle de CxC.'!$J$127)","v":""},{"$f":"IF('800111a - Nota. Detalle de CxC.'!$J$128=\"\",\"\",'800111a - Nota. Detalle de CxC.'!$J$128)","v":""},{"$f":"IF('800111a - Nota. Detalle de CxC.'!$J$129=\"\",\"\",'800111a - Nota. Detalle de CxC.'!$J$129)","v":""},{"$f":"IF('800111a - Nota. Detalle de CxC.'!$J$130=\"\",\"\",'800111a - Nota. Detalle de CxC.'!$J$130)","v":""},{"$f":"IF('800111a - Nota. Detalle de CxC.'!$J$131=\"\",\"\",'800111a - Nota. Detalle de CxC.'!$J$131)","v":""},{"$f":"IF('800111a - Nota. Detalle de CxC.'!$J$132=\"\",\"\",'800111a - Nota. Detalle de CxC.'!$J$132)","v":""},{"$f":"IF('800111a - Nota. Detalle de CxC.'!$J$133=\"\",\"\",'800111a - Nota. Detalle de CxC.'!$J$133)","v":""},{"$f":"IF('800111a - Nota. Detalle de CxC.'!$J$134=\"\",\"\",'800111a - Nota. Detalle de CxC.'!$J$134)","v":""},{"$f":"IF('800111a - Nota. Detalle de CxC.'!$J$135=\"\",\"\",'800111a - Nota. Detalle de CxC.'!$J$135)","v":""},{"$f":"IF('800111a - Nota. Detalle de CxC.'!$J$136=\"\",\"\",'800111a - Nota. Detalle de CxC.'!$J$136)","v":""},{"$f":"IF('800111a - Nota. Detalle de CxC.'!$J$137=\"\",\"\",'800111a - Nota. Detalle de CxC.'!$J$137)","v":""},{"$f":"IF('800111a - Nota. Detalle de CxC.'!$J$138=\"\",\"\",'800111a - Nota. Detalle de CxC.'!$J$138)","v":""},{"$f":"IF('800111a - Nota. Detalle de CxC.'!$J$139=\"\",\"\",'800111a - Nota. Detalle de CxC.'!$J$139)","v":""},{"$f":"IF('800111a - Nota. Detalle de CxC.'!$J$140=\"\",\"\",'800111a - Nota. Detalle de CxC.'!$J$140)","v":""},{"$f":"IF('800111a - Nota. Detalle de CxC.'!$J$141=\"\",\"\",'800111a - Nota. Detalle de CxC.'!$J$141)","v":""},{"$f":"IF('800111a - Nota. Detalle de CxC.'!$J$142=\"\",\"\",'800111a - Nota. Detalle de CxC.'!$J$142)","v":""},{"$f":"IF('800111a - Nota. Detalle de CxC.'!$J$143=\"\",\"\",'800111a - Nota. Detalle de CxC.'!$J$143)","v":""},{"$f":"IF('800111a - Nota. Detalle de CxC.'!$J$144=\"\",\"\",'800111a - Nota. Detalle de CxC.'!$J$144)","v":""},{"$f":"IF('800111a - Nota. Detalle de CxC.'!$J$145=\"\",\"\",'800111a - Nota. Detalle de CxC.'!$J$145)","v":""},{"$f":"IF('800111a - Nota. Detalle de CxC.'!$J$146=\"\",\"\",'800111a - Nota. Detalle de CxC.'!$J$146)","v":""},{"$f":"IF('800111a - Nota. Detalle de CxC.'!$J$147=\"\",\"\",'800111a - Nota. Detalle de CxC.'!$J$147)","v":""},{"$f":"IF('800111a - Nota. Detalle de CxC.'!$J$148=\"\",\"\",'800111a - Nota. Detalle de CxC.'!$J$148)","v":""},{"$f":"IF('800111a - Nota. Detalle de CxC.'!$J$149=\"\",\"\",'800111a - Nota. Detalle de CxC.'!$J$149)","v":""},{"$f":"IF('800111a - Nota. Detalle de CxC.'!$J$150=\"\",\"\",'800111a - Nota. Detalle de CxC.'!$J$150)","v":""},{"$f":"IF('800111a - Nota. Detalle de CxC.'!$J$151=\"\",\"\",'800111a - Nota. Detalle de CxC.'!$J$151)","v":""},{"$f":"IF('800111a - Nota. Detalle de CxC.'!$J$152=\"\",\"\",'800111a - Nota. Detalle de CxC.'!$J$152)","v":""},{"$f":"IF('800111a - Nota. Detalle de CxC.'!$J$153=\"\",\"\",'800111a - Nota. Detalle de CxC.'!$J$153)","v":""},{"$f":"IF('800111a - Nota. Detalle de CxC.'!$J$154=\"\",\"\",'800111a - Nota. Detalle de CxC.'!$J$154)","v":""},{"$f":"IF('800111a - Nota. Detalle de CxC.'!$J$155=\"\",\"\",'800111a - Nota. Detalle de CxC.'!$J$155)","v":""},{"$f":"IF('800111a - Nota. Detalle de CxC.'!$J$156=\"\",\"\",'800111a - Nota. Detalle de CxC.'!$J$156)","v":""},{"$f":"IF('800111a - Nota. Detalle de CxC.'!$J$157=\"\",\"\",'800111a - Nota. Detalle de CxC.'!$J$157)","v":""},{"$f":"IF('800111a - Nota. Detalle de CxC.'!$J$158=\"\",\"\",'800111a - Nota. Detalle de CxC.'!$J$158)","v":""},{"$f":"IF('800111a - Nota. Detalle de CxC.'!$J$159=\"\",\"\",'800111a - Nota. Detalle de CxC.'!$J$159)","v":""},{"$f":"IF('800111a - Nota. Detalle de CxC.'!$J$160=\"\",\"\",'800111a - Nota. Detalle de CxC.'!$J$160)","v":""},{"$f":"IF('800111a - Nota. Detalle de CxC.'!$J$161=\"\",\"\",'800111a - Nota. Detalle de CxC.'!$J$161)","v":""},{"$f":"IF('800111a - Nota. Detalle de CxC.'!$J$162=\"\",\"\",'800111a - Nota. Detalle de CxC.'!$J$162)","v":""},{"$f":"IF('800111a - Nota. Detalle de CxC.'!$J$163=\"\",\"\",'800111a - Nota. Detalle de CxC.'!$J$163)","v":""},{"$f":"IF('800111a - Nota. Detalle de CxC.'!$J$164=\"\",\"\",'800111a - Nota. Detalle de CxC.'!$J$164)","v":""},{"$f":"IF('800111a - Nota. Detalle de CxC.'!$J$165=\"\",\"\",'800111a - Nota. Detalle de CxC.'!$J$165)","v":""},{"$f":"IF('800111a - Nota. Detalle de CxC.'!$J$166=\"\",\"\",'800111a - Nota. Detalle de CxC.'!$J$166)","v":""},{"$f":"IF('800111a - Nota. Detalle de CxC.'!$J$167=\"\",\"\",'800111a - Nota. Detalle de CxC.'!$J$167)","v":""},{"$f":"IF('800111a - Nota. Detalle de CxC.'!$J$168=\"\",\"\",'800111a - Nota. Detalle de CxC.'!$J$168)","v":""},{"$f":"IF('800111a - Nota. Detalle de CxC.'!$J$169=\"\",\"\",'800111a - Nota. Detalle de CxC.'!$J$169)","v":""},{"$f":"IF('800111a - Nota. Detalle de CxC.'!$J$170=\"\",\"\",'800111a - Nota. Detalle de CxC.'!$J$170)","v":""},{"$f":"IF('800111a - Nota. Detalle de CxC.'!$J$171=\"\",\"\",'800111a - Nota. Detalle de CxC.'!$J$171)","v":""},{"$f":"IF('800111a - Nota. Detalle de CxC.'!$J$172=\"\",\"\",'800111a - Nota. Detalle de CxC.'!$J$172)","v":""}]
[null,"1;1","co-svsp-core:OtrosNombresDeudorCxC","Otros nombres deudor",null,null,{"$f":"IF('800111a - Nota. Detalle de CxC.'!$K$17=\"\",\"\",'800111a - Nota. Detalle de CxC.'!$K$17)","v":""},{"$f":"IF('800111a - Nota. Detalle de CxC.'!$K$18=\"\",\"\",'800111a - Nota. Detalle de CxC.'!$K$18)","v":""},{"$f":"IF('800111a - Nota. Detalle de CxC.'!$K$19=\"\",\"\",'800111a - Nota. Detalle de CxC.'!$K$19)","v":""},{"$f":"IF('800111a - Nota. Detalle de CxC.'!$K$20=\"\",\"\",'800111a - Nota. Detalle de CxC.'!$K$20)","v":""},{"$f":"IF('800111a - Nota. Detalle de CxC.'!$K$21=\"\",\"\",'800111a - Nota. Detalle de CxC.'!$K$21)","v":""},{"$f":"IF('800111a - Nota. Detalle de CxC.'!$K$22=\"\",\"\",'800111a - Nota. Detalle de CxC.'!$K$22)","v":""},{"$f":"IF('800111a - Nota. Detalle de CxC.'!$K$23=\"\",\"\",'800111a - Nota. Detalle de CxC.'!$K$23)","v":""},{"$f":"IF('800111a - Nota. Detalle de CxC.'!$K$24=\"\",\"\",'800111a - Nota. Detalle de CxC.'!$K$24)","v":""},{"$f":"IF('800111a - Nota. Detalle de CxC.'!$K$25=\"\",\"\",'800111a - Nota. Detalle de CxC.'!$K$25)","v":""},{"$f":"IF('800111a - Nota. Detalle de CxC.'!$K$26=\"\",\"\",'800111a - Nota. Detalle de CxC.'!$K$26)","v":""},{"$f":"IF('800111a - Nota. Detalle de CxC.'!$K$27=\"\",\"\",'800111a - Nota. Detalle de CxC.'!$K$27)","v":""},{"$f":"IF('800111a - Nota. Detalle de CxC.'!$K$28=\"\",\"\",'800111a - Nota. Detalle de CxC.'!$K$28)","v":""},{"$f":"IF('800111a - Nota. Detalle de CxC.'!$K$29=\"\",\"\",'800111a - Nota. Detalle de CxC.'!$K$29)","v":""},{"$f":"IF('800111a - Nota. Detalle de CxC.'!$K$30=\"\",\"\",'800111a - Nota. Detalle de CxC.'!$K$30)","v":""},{"$f":"IF('800111a - Nota. Detalle de CxC.'!$K$31=\"\",\"\",'800111a - Nota. Detalle de CxC.'!$K$31)","v":""},{"$f":"IF('800111a - Nota. Detalle de CxC.'!$K$32=\"\",\"\",'800111a - Nota. Detalle de CxC.'!$K$32)","v":""},{"$f":"IF('800111a - Nota. Detalle de CxC.'!$K$33=\"\",\"\",'800111a - Nota. Detalle de CxC.'!$K$33)","v":""},{"$f":"IF('800111a - Nota. Detalle de CxC.'!$K$34=\"\",\"\",'800111a - Nota. Detalle de CxC.'!$K$34)","v":""},{"$f":"IF('800111a - Nota. Detalle de CxC.'!$K$35=\"\",\"\",'800111a - Nota. Detalle de CxC.'!$K$35)","v":""},{"$f":"IF('800111a - Nota. Detalle de CxC.'!$K$36=\"\",\"\",'800111a - Nota. Detalle de CxC.'!$K$36)","v":""},{"$f":"IF('800111a - Nota. Detalle de CxC.'!$K$37=\"\",\"\",'800111a - Nota. Detalle de CxC.'!$K$37)","v":""},{"$f":"IF('800111a - Nota. Detalle de CxC.'!$K$38=\"\",\"\",'800111a - Nota. Detalle de CxC.'!$K$38)","v":""},{"$f":"IF('800111a - Nota. Detalle de CxC.'!$K$39=\"\",\"\",'800111a - Nota. Detalle de CxC.'!$K$39)","v":""},{"$f":"IF('800111a - Nota. Detalle de CxC.'!$K$40=\"\",\"\",'800111a - Nota. Detalle de CxC.'!$K$40)","v":""},{"$f":"IF('800111a - Nota. Detalle de CxC.'!$K$41=\"\",\"\",'800111a - Nota. Detalle de CxC.'!$K$41)","v":""},{"$f":"IF('800111a - Nota. Detalle de CxC.'!$K$42=\"\",\"\",'800111a - Nota. Detalle de CxC.'!$K$42)","v":""},{"$f":"IF('800111a - Nota. Detalle de CxC.'!$K$43=\"\",\"\",'800111a - Nota. Detalle de CxC.'!$K$43)","v":""},{"$f":"IF('800111a - Nota. Detalle de CxC.'!$K$44=\"\",\"\",'800111a - Nota. Detalle de CxC.'!$K$44)","v":""},{"$f":"IF('800111a - Nota. Detalle de CxC.'!$K$45=\"\",\"\",'800111a - Nota. Detalle de CxC.'!$K$45)","v":""},{"$f":"IF('800111a - Nota. Detalle de CxC.'!$K$46=\"\",\"\",'800111a - Nota. Detalle de CxC.'!$K$46)","v":""},{"$f":"IF('800111a - Nota. Detalle de CxC.'!$K$47=\"\",\"\",'800111a - Nota. Detalle de CxC.'!$K$47)","v":""},{"$f":"IF('800111a - Nota. Detalle de CxC.'!$K$48=\"\",\"\",'800111a - Nota. Detalle de CxC.'!$K$48)","v":""},{"$f":"IF('800111a - Nota. Detalle de CxC.'!$K$49=\"\",\"\",'800111a - Nota. Detalle de CxC.'!$K$49)","v":""},{"$f":"IF('800111a - Nota. Detalle de CxC.'!$K$50=\"\",\"\",'800111a - Nota. Detalle de CxC.'!$K$50)","v":""},{"$f":"IF('800111a - Nota. Detalle de CxC.'!$K$51=\"\",\"\",'800111a - Nota. Detalle de CxC.'!$K$51)","v":""},{"$f":"IF('800111a - Nota. Detalle de CxC.'!$K$52=\"\",\"\",'800111a - Nota. Detalle de CxC.'!$K$52)","v":""},{"$f":"IF('800111a - Nota. Detalle de CxC.'!$K$53=\"\",\"\",'800111a - Nota. Detalle de CxC.'!$K$53)","v":""},{"$f":"IF('800111a - Nota. Detalle de CxC.'!$K$54=\"\",\"\",'800111a - Nota. Detalle de CxC.'!$K$54)","v":""},{"$f":"IF('800111a - Nota. Detalle de CxC.'!$K$55=\"\",\"\",'800111a - Nota. Detalle de CxC.'!$K$55)","v":""},{"$f":"IF('800111a - Nota. Detalle de CxC.'!$K$56=\"\",\"\",'800111a - Nota. Detalle de CxC.'!$K$56)","v":""},{"$f":"IF('800111a - Nota. Detalle de CxC.'!$K$57=\"\",\"\",'800111a - Nota. Detalle de CxC.'!$K$57)","v":""},{"$f":"IF('800111a - Nota. Detalle de CxC.'!$K$58=\"\",\"\",'800111a - Nota. Detalle de CxC.'!$K$58)","v":""},{"$f":"IF('800111a - Nota. Detalle de CxC.'!$K$59=\"\",\"\",'800111a - Nota. Detalle de CxC.'!$K$59)","v":""},{"$f":"IF('800111a - Nota. Detalle de CxC.'!$K$60=\"\",\"\",'800111a - Nota. Detalle de CxC.'!$K$60)","v":""},{"$f":"IF('800111a - Nota. Detalle de CxC.'!$K$61=\"\",\"\",'800111a - Nota. Detalle de CxC.'!$K$61)","v":""},{"$f":"IF('800111a - Nota. Detalle de CxC.'!$K$62=\"\",\"\",'800111a - Nota. Detalle de CxC.'!$K$62)","v":""},{"$f":"IF('800111a - Nota. Detalle de CxC.'!$K$63=\"\",\"\",'800111a - Nota. Detalle de CxC.'!$K$63)","v":""},{"$f":"IF('800111a - Nota. Detalle de CxC.'!$K$64=\"\",\"\",'800111a - Nota. Detalle de CxC.'!$K$64)","v":""},{"$f":"IF('800111a - Nota. Detalle de CxC.'!$K$65=\"\",\"\",'800111a - Nota. Detalle de CxC.'!$K$65)","v":""},{"$f":"IF('800111a - Nota. Detalle de CxC.'!$K$66=\"\",\"\",'800111a - Nota. Detalle de CxC.'!$K$66)","v":""},null,null,null,{"$f":"IF('800111a - Nota. Detalle de CxC.'!$K$70=\"\",\"\",'800111a - Nota. Detalle de CxC.'!$K$70)","v":""},{"$f":"IF('800111a - Nota. Detalle de CxC.'!$K$71=\"\",\"\",'800111a - Nota. Detalle de CxC.'!$K$71)","v":""},{"$f":"IF('800111a - Nota. Detalle de CxC.'!$K$72=\"\",\"\",'800111a - Nota. Detalle de CxC.'!$K$72)","v":""},{"$f":"IF('800111a - Nota. Detalle de CxC.'!$K$73=\"\",\"\",'800111a - Nota. Detalle de CxC.'!$K$73)","v":""},{"$f":"IF('800111a - Nota. Detalle de CxC.'!$K$74=\"\",\"\",'800111a - Nota. Detalle de CxC.'!$K$74)","v":""},{"$f":"IF('800111a - Nota. Detalle de CxC.'!$K$75=\"\",\"\",'800111a - Nota. Detalle de CxC.'!$K$75)","v":""},{"$f":"IF('800111a - Nota. Detalle de CxC.'!$K$76=\"\",\"\",'800111a - Nota. Detalle de CxC.'!$K$76)","v":""},{"$f":"IF('800111a - Nota. Detalle de CxC.'!$K$77=\"\",\"\",'800111a - Nota. Detalle de CxC.'!$K$77)","v":""},{"$f":"IF('800111a - Nota. Detalle de CxC.'!$K$78=\"\",\"\",'800111a - Nota. Detalle de CxC.'!$K$78)","v":""},{"$f":"IF('800111a - Nota. Detalle de CxC.'!$K$79=\"\",\"\",'800111a - Nota. Detalle de CxC.'!$K$79)","v":""},{"$f":"IF('800111a - Nota. Detalle de CxC.'!$K$80=\"\",\"\",'800111a - Nota. Detalle de CxC.'!$K$80)","v":""},{"$f":"IF('800111a - Nota. Detalle de CxC.'!$K$81=\"\",\"\",'800111a - Nota. Detalle de CxC.'!$K$81)","v":""},{"$f":"IF('800111a - Nota. Detalle de CxC.'!$K$82=\"\",\"\",'800111a - Nota. Detalle de CxC.'!$K$82)","v":""},{"$f":"IF('800111a - Nota. Detalle de CxC.'!$K$83=\"\",\"\",'800111a - Nota. Detalle de CxC.'!$K$83)","v":""},{"$f":"IF('800111a - Nota. Detalle de CxC.'!$K$84=\"\",\"\",'800111a - Nota. Detalle de CxC.'!$K$84)","v":""},{"$f":"IF('800111a - Nota. Detalle de CxC.'!$K$85=\"\",\"\",'800111a - Nota. Detalle de CxC.'!$K$85)","v":""},{"$f":"IF('800111a - Nota. Detalle de CxC.'!$K$86=\"\",\"\",'800111a - Nota. Detalle de CxC.'!$K$86)","v":""},{"$f":"IF('800111a - Nota. Detalle de CxC.'!$K$87=\"\",\"\",'800111a - Nota. Detalle de CxC.'!$K$87)","v":""},{"$f":"IF('800111a - Nota. Detalle de CxC.'!$K$88=\"\",\"\",'800111a - Nota. Detalle de CxC.'!$K$88)","v":""},{"$f":"IF('800111a - Nota. Detalle de CxC.'!$K$89=\"\",\"\",'800111a - Nota. Detalle de CxC.'!$K$89)","v":""},{"$f":"IF('800111a - Nota. Detalle de CxC.'!$K$90=\"\",\"\",'800111a - Nota. Detalle de CxC.'!$K$90)","v":""},{"$f":"IF('800111a - Nota. Detalle de CxC.'!$K$91=\"\",\"\",'800111a - Nota. Detalle de CxC.'!$K$91)","v":""},{"$f":"IF('800111a - Nota. Detalle de CxC.'!$K$92=\"\",\"\",'800111a - Nota. Detalle de CxC.'!$K$92)","v":""},{"$f":"IF('800111a - Nota. Detalle de CxC.'!$K$93=\"\",\"\",'800111a - Nota. Detalle de CxC.'!$K$93)","v":""},{"$f":"IF('800111a - Nota. Detalle de CxC.'!$K$94=\"\",\"\",'800111a - Nota. Detalle de CxC.'!$K$94)","v":""},{"$f":"IF('800111a - Nota. Detalle de CxC.'!$K$95=\"\",\"\",'800111a - Nota. Detalle de CxC.'!$K$95)","v":""},{"$f":"IF('800111a - Nota. Detalle de CxC.'!$K$96=\"\",\"\",'800111a - Nota. Detalle de CxC.'!$K$96)","v":""},{"$f":"IF('800111a - Nota. Detalle de CxC.'!$K$97=\"\",\"\",'800111a - Nota. Detalle de CxC.'!$K$97)","v":""},{"$f":"IF('800111a - Nota. Detalle de CxC.'!$K$98=\"\",\"\",'800111a - Nota. Detalle de CxC.'!$K$98)","v":""},{"$f":"IF('800111a - Nota. Detalle de CxC.'!$K$99=\"\",\"\",'800111a - Nota. Detalle de CxC.'!$K$99)","v":""},{"$f":"IF('800111a - Nota. Detalle de CxC.'!$K$100=\"\",\"\",'800111a - Nota. Detalle de CxC.'!$K$100)","v":""},{"$f":"IF('800111a - Nota. Detalle de CxC.'!$K$101=\"\",\"\",'800111a - Nota. Detalle de CxC.'!$K$101)","v":""},{"$f":"IF('800111a - Nota. Detalle de CxC.'!$K$102=\"\",\"\",'800111a - Nota. Detalle de CxC.'!$K$102)","v":""},{"$f":"IF('800111a - Nota. Detalle de CxC.'!$K$103=\"\",\"\",'800111a - Nota. Detalle de CxC.'!$K$103)","v":""},{"$f":"IF('800111a - Nota. Detalle de CxC.'!$K$104=\"\",\"\",'800111a - Nota. Detalle de CxC.'!$K$104)","v":""},{"$f":"IF('800111a - Nota. Detalle de CxC.'!$K$105=\"\",\"\",'800111a - Nota. Detalle de CxC.'!$K$105)","v":""},{"$f":"IF('800111a - Nota. Detalle de CxC.'!$K$106=\"\",\"\",'800111a - Nota. Detalle de CxC.'!$K$106)","v":""},{"$f":"IF('800111a - Nota. Detalle de CxC.'!$K$107=\"\",\"\",'800111a - Nota. Detalle de CxC.'!$K$107)","v":""},{"$f":"IF('800111a - Nota. Detalle de CxC.'!$K$108=\"\",\"\",'800111a - Nota. Detalle de CxC.'!$K$108)","v":""},{"$f":"IF('800111a - Nota. Detalle de CxC.'!$K$109=\"\",\"\",'800111a - Nota. Detalle de CxC.'!$K$109)","v":""},{"$f":"IF('800111a - Nota. Detalle de CxC.'!$K$110=\"\",\"\",'800111a - Nota. Detalle de CxC.'!$K$110)","v":""},{"$f":"IF('800111a - Nota. Detalle de CxC.'!$K$111=\"\",\"\",'800111a - Nota. Detalle de CxC.'!$K$111)","v":""},{"$f":"IF('800111a - Nota. Detalle de CxC.'!$K$112=\"\",\"\",'800111a - Nota. Detalle de CxC.'!$K$112)","v":""},{"$f":"IF('800111a - Nota. Detalle de CxC.'!$K$113=\"\",\"\",'800111a - Nota. Detalle de CxC.'!$K$113)","v":""},{"$f":"IF('800111a - Nota. Detalle de CxC.'!$K$114=\"\",\"\",'800111a - Nota. Detalle de CxC.'!$K$114)","v":""},{"$f":"IF('800111a - Nota. Detalle de CxC.'!$K$115=\"\",\"\",'800111a - Nota. Detalle de CxC.'!$K$115)","v":""},{"$f":"IF('800111a - Nota. Detalle de CxC.'!$K$116=\"\",\"\",'800111a - Nota. Detalle de CxC.'!$K$116)","v":""},{"$f":"IF('800111a - Nota. Detalle de CxC.'!$K$117=\"\",\"\",'800111a - Nota. Detalle de CxC.'!$K$117)","v":""},{"$f":"IF('800111a - Nota. Detalle de CxC.'!$K$118=\"\",\"\",'800111a - Nota. Detalle de CxC.'!$K$118)","v":""},{"$f":"IF('800111a - Nota. Detalle de CxC.'!$K$119=\"\",\"\",'800111a - Nota. Detalle de CxC.'!$K$119)","v":""},null,null,null,{"$f":"IF('800111a - Nota. Detalle de CxC.'!$K$123=\"\",\"\",'800111a - Nota. Detalle de CxC.'!$K$123)","v":""},{"$f":"IF('800111a - Nota. Detalle de CxC.'!$K$124=\"\",\"\",'800111a - Nota. Detalle de CxC.'!$K$124)","v":""},{"$f":"IF('800111a - Nota. Detalle de CxC.'!$K$125=\"\",\"\",'800111a - Nota. Detalle de CxC.'!$K$125)","v":""},{"$f":"IF('800111a - Nota. Detalle de CxC.'!$K$126=\"\",\"\",'800111a - Nota. Detalle de CxC.'!$K$126)","v":""},{"$f":"IF('800111a - Nota. Detalle de CxC.'!$K$127=\"\",\"\",'800111a - Nota. Detalle de CxC.'!$K$127)","v":""},{"$f":"IF('800111a - Nota. Detalle de CxC.'!$K$128=\"\",\"\",'800111a - Nota. Detalle de CxC.'!$K$128)","v":""},{"$f":"IF('800111a - Nota. Detalle de CxC.'!$K$129=\"\",\"\",'800111a - Nota. Detalle de CxC.'!$K$129)","v":""},{"$f":"IF('800111a - Nota. Detalle de CxC.'!$K$130=\"\",\"\",'800111a - Nota. Detalle de CxC.'!$K$130)","v":""},{"$f":"IF('800111a - Nota. Detalle de CxC.'!$K$131=\"\",\"\",'800111a - Nota. Detalle de CxC.'!$K$131)","v":""},{"$f":"IF('800111a - Nota. Detalle de CxC.'!$K$132=\"\",\"\",'800111a - Nota. Detalle de CxC.'!$K$132)","v":""},{"$f":"IF('800111a - Nota. Detalle de CxC.'!$K$133=\"\",\"\",'800111a - Nota. Detalle de CxC.'!$K$133)","v":""},{"$f":"IF('800111a - Nota. Detalle de CxC.'!$K$134=\"\",\"\",'800111a - Nota. Detalle de CxC.'!$K$134)","v":""},{"$f":"IF('800111a - Nota. Detalle de CxC.'!$K$135=\"\",\"\",'800111a - Nota. Detalle de CxC.'!$K$135)","v":""},{"$f":"IF('800111a - Nota. Detalle de CxC.'!$K$136=\"\",\"\",'800111a - Nota. Detalle de CxC.'!$K$136)","v":""},{"$f":"IF('800111a - Nota. Detalle de CxC.'!$K$137=\"\",\"\",'800111a - Nota. Detalle de CxC.'!$K$137)","v":""},{"$f":"IF('800111a - Nota. Detalle de CxC.'!$K$138=\"\",\"\",'800111a - Nota. Detalle de CxC.'!$K$138)","v":""},{"$f":"IF('800111a - Nota. Detalle de CxC.'!$K$139=\"\",\"\",'800111a - Nota. Detalle de CxC.'!$K$139)","v":""},{"$f":"IF('800111a - Nota. Detalle de CxC.'!$K$140=\"\",\"\",'800111a - Nota. Detalle de CxC.'!$K$140)","v":""},{"$f":"IF('800111a - Nota. Detalle de CxC.'!$K$141=\"\",\"\",'800111a - Nota. Detalle de CxC.'!$K$141)","v":""},{"$f":"IF('800111a - Nota. Detalle de CxC.'!$K$142=\"\",\"\",'800111a - Nota. Detalle de CxC.'!$K$142)","v":""},{"$f":"IF('800111a - Nota. Detalle de CxC.'!$K$143=\"\",\"\",'800111a - Nota. Detalle de CxC.'!$K$143)","v":""},{"$f":"IF('800111a - Nota. Detalle de CxC.'!$K$144=\"\",\"\",'800111a - Nota. Detalle de CxC.'!$K$144)","v":""},{"$f":"IF('800111a - Nota. Detalle de CxC.'!$K$145=\"\",\"\",'800111a - Nota. Detalle de CxC.'!$K$145)","v":""},{"$f":"IF('800111a - Nota. Detalle de CxC.'!$K$146=\"\",\"\",'800111a - Nota. Detalle de CxC.'!$K$146)","v":""},{"$f":"IF('800111a - Nota. Detalle de CxC.'!$K$147=\"\",\"\",'800111a - Nota. Detalle de CxC.'!$K$147)","v":""},{"$f":"IF('800111a - Nota. Detalle de CxC.'!$K$148=\"\",\"\",'800111a - Nota. Detalle de CxC.'!$K$148)","v":""},{"$f":"IF('800111a - Nota. Detalle de CxC.'!$K$149=\"\",\"\",'800111a - Nota. Detalle de CxC.'!$K$149)","v":""},{"$f":"IF('800111a - Nota. Detalle de CxC.'!$K$150=\"\",\"\",'800111a - Nota. Detalle de CxC.'!$K$150)","v":""},{"$f":"IF('800111a - Nota. Detalle de CxC.'!$K$151=\"\",\"\",'800111a - Nota. Detalle de CxC.'!$K$151)","v":""},{"$f":"IF('800111a - Nota. Detalle de CxC.'!$K$152=\"\",\"\",'800111a - Nota. Detalle de CxC.'!$K$152)","v":""},{"$f":"IF('800111a - Nota. Detalle de CxC.'!$K$153=\"\",\"\",'800111a - Nota. Detalle de CxC.'!$K$153)","v":""},{"$f":"IF('800111a - Nota. Detalle de CxC.'!$K$154=\"\",\"\",'800111a - Nota. Detalle de CxC.'!$K$154)","v":""},{"$f":"IF('800111a - Nota. Detalle de CxC.'!$K$155=\"\",\"\",'800111a - Nota. Detalle de CxC.'!$K$155)","v":""},{"$f":"IF('800111a - Nota. Detalle de CxC.'!$K$156=\"\",\"\",'800111a - Nota. Detalle de CxC.'!$K$156)","v":""},{"$f":"IF('800111a - Nota. Detalle de CxC.'!$K$157=\"\",\"\",'800111a - Nota. Detalle de CxC.'!$K$157)","v":""},{"$f":"IF('800111a - Nota. Detalle de CxC.'!$K$158=\"\",\"\",'800111a - Nota. Detalle de CxC.'!$K$158)","v":""},{"$f":"IF('800111a - Nota. Detalle de CxC.'!$K$159=\"\",\"\",'800111a - Nota. Detalle de CxC.'!$K$159)","v":""},{"$f":"IF('800111a - Nota. Detalle de CxC.'!$K$160=\"\",\"\",'800111a - Nota. Detalle de CxC.'!$K$160)","v":""},{"$f":"IF('800111a - Nota. Detalle de CxC.'!$K$161=\"\",\"\",'800111a - Nota. Detalle de CxC.'!$K$161)","v":""},{"$f":"IF('800111a - Nota. Detalle de CxC.'!$K$162=\"\",\"\",'800111a - Nota. Detalle de CxC.'!$K$162)","v":""},{"$f":"IF('800111a - Nota. Detalle de CxC.'!$K$163=\"\",\"\",'800111a - Nota. Detalle de CxC.'!$K$163)","v":""},{"$f":"IF('800111a - Nota. Detalle de CxC.'!$K$164=\"\",\"\",'800111a - Nota. Detalle de CxC.'!$K$164)","v":""},{"$f":"IF('800111a - Nota. Detalle de CxC.'!$K$165=\"\",\"\",'800111a - Nota. Detalle de CxC.'!$K$165)","v":""},{"$f":"IF('800111a - Nota. Detalle de CxC.'!$K$166=\"\",\"\",'800111a - Nota. Detalle de CxC.'!$K$166)","v":""},{"$f":"IF('800111a - Nota. Detalle de CxC.'!$K$167=\"\",\"\",'800111a - Nota. Detalle de CxC.'!$K$167)","v":""},{"$f":"IF('800111a - Nota. Detalle de CxC.'!$K$168=\"\",\"\",'800111a - Nota. Detalle de CxC.'!$K$168)","v":""},{"$f":"IF('800111a - Nota. Detalle de CxC.'!$K$169=\"\",\"\",'800111a - Nota. Detalle de CxC.'!$K$169)","v":""},{"$f":"IF('800111a - Nota. Detalle de CxC.'!$K$170=\"\",\"\",'800111a - Nota. Detalle de CxC.'!$K$170)","v":""},{"$f":"IF('800111a - Nota. Detalle de CxC.'!$K$171=\"\",\"\",'800111a - Nota. Detalle de CxC.'!$K$171)","v":""},{"$f":"IF('800111a - Nota. Detalle de CxC.'!$K$172=\"\",\"\",'800111a - Nota. Detalle de CxC.'!$K$172)","v":""}]
[null,"1;1","co-svsp-core:RazonSocialDeudorCxC","Razón Social deudor",null,null,{"$f":"IF('800111a - Nota. Detalle de CxC.'!$L$17=\"\",\"\",'800111a - Nota. Detalle de CxC.'!$L$17)","v":""},{"$f":"IF('800111a - Nota. Detalle de CxC.'!$L$18=\"\",\"\",'800111a - Nota. Detalle de CxC.'!$L$18)","v":""},{"$f":"IF('800111a - Nota. Detalle de CxC.'!$L$19=\"\",\"\",'800111a - Nota. Detalle de CxC.'!$L$19)","v":""},{"$f":"IF('800111a - Nota. Detalle de CxC.'!$L$20=\"\",\"\",'800111a - Nota. Detalle de CxC.'!$L$20)","v":""},{"$f":"IF('800111a - Nota. Detalle de CxC.'!$L$21=\"\",\"\",'800111a - Nota. Detalle de CxC.'!$L$21)","v":""},{"$f":"IF('800111a - Nota. Detalle de CxC.'!$L$22=\"\",\"\",'800111a - Nota. Detalle de CxC.'!$L$22)","v":""},{"$f":"IF('800111a - Nota. Detalle de CxC.'!$L$23=\"\",\"\",'800111a - Nota. Detalle de CxC.'!$L$23)","v":""},{"$f":"IF('800111a - Nota. Detalle de CxC.'!$L$24=\"\",\"\",'800111a - Nota. Detalle de CxC.'!$L$24)","v":""},{"$f":"IF('800111a - Nota. Detalle de CxC.'!$L$25=\"\",\"\",'800111a - Nota. Detalle de CxC.'!$L$25)","v":""},{"$f":"IF('800111a - Nota. Detalle de CxC.'!$L$26=\"\",\"\",'800111a - Nota. Detalle de CxC.'!$L$26)","v":""},{"$f":"IF('800111a - Nota. Detalle de CxC.'!$L$27=\"\",\"\",'800111a - Nota. Detalle de CxC.'!$L$27)","v":""},{"$f":"IF('800111a - Nota. Detalle de CxC.'!$L$28=\"\",\"\",'800111a - Nota. Detalle de CxC.'!$L$28)","v":""},{"$f":"IF('800111a - Nota. Detalle de CxC.'!$L$29=\"\",\"\",'800111a - Nota. Detalle de CxC.'!$L$29)","v":""},{"$f":"IF('800111a - Nota. Detalle de CxC.'!$L$30=\"\",\"\",'800111a - Nota. Detalle de CxC.'!$L$30)","v":""},{"$f":"IF('800111a - Nota. Detalle de CxC.'!$L$31=\"\",\"\",'800111a - Nota. Detalle de CxC.'!$L$31)","v":""},{"$f":"IF('800111a - Nota. Detalle de CxC.'!$L$32=\"\",\"\",'800111a - Nota. Detalle de CxC.'!$L$32)","v":""},{"$f":"IF('800111a - Nota. Detalle de CxC.'!$L$33=\"\",\"\",'800111a - Nota. Detalle de CxC.'!$L$33)","v":""},{"$f":"IF('800111a - Nota. Detalle de CxC.'!$L$34=\"\",\"\",'800111a - Nota. Detalle de CxC.'!$L$34)","v":""},{"$f":"IF('800111a - Nota. Detalle de CxC.'!$L$35=\"\",\"\",'800111a - Nota. Detalle de CxC.'!$L$35)","v":""},{"$f":"IF('800111a - Nota. Detalle de CxC.'!$L$36=\"\",\"\",'800111a - Nota. Detalle de CxC.'!$L$36)","v":""},{"$f":"IF('800111a - Nota. Detalle de CxC.'!$L$37=\"\",\"\",'800111a - Nota. Detalle de CxC.'!$L$37)","v":""},{"$f":"IF('800111a - Nota. Detalle de CxC.'!$L$38=\"\",\"\",'800111a - Nota. Detalle de CxC.'!$L$38)","v":""},{"$f":"IF('800111a - Nota. Detalle de CxC.'!$L$39=\"\",\"\",'800111a - Nota. Detalle de CxC.'!$L$39)","v":""},{"$f":"IF('800111a - Nota. Detalle de CxC.'!$L$40=\"\",\"\",'800111a - Nota. Detalle de CxC.'!$L$40)","v":""},{"$f":"IF('800111a - Nota. Detalle de CxC.'!$L$41=\"\",\"\",'800111a - Nota. Detalle de CxC.'!$L$41)","v":""},{"$f":"IF('800111a - Nota. Detalle de CxC.'!$L$42=\"\",\"\",'800111a - Nota. Detalle de CxC.'!$L$42)","v":""},{"$f":"IF('800111a - Nota. Detalle de CxC.'!$L$43=\"\",\"\",'800111a - Nota. Detalle de CxC.'!$L$43)","v":""},{"$f":"IF('800111a - Nota. Detalle de CxC.'!$L$44=\"\",\"\",'800111a - Nota. Detalle de CxC.'!$L$44)","v":""},{"$f":"IF('800111a - Nota. Detalle de CxC.'!$L$45=\"\",\"\",'800111a - Nota. Detalle de CxC.'!$L$45)","v":""},{"$f":"IF('800111a - Nota. Detalle de CxC.'!$L$46=\"\",\"\",'800111a - Nota. Detalle de CxC.'!$L$46)","v":""},{"$f":"IF('800111a - Nota. Detalle de CxC.'!$L$47=\"\",\"\",'800111a - Nota. Detalle de CxC.'!$L$47)","v":""},{"$f":"IF('800111a - Nota. Detalle de CxC.'!$L$48=\"\",\"\",'800111a - Nota. Detalle de CxC.'!$L$48)","v":""},{"$f":"IF('800111a - Nota. Detalle de CxC.'!$L$49=\"\",\"\",'800111a - Nota. Detalle de CxC.'!$L$49)","v":""},{"$f":"IF('800111a - Nota. Detalle de CxC.'!$L$50=\"\",\"\",'800111a - Nota. Detalle de CxC.'!$L$50)","v":""},{"$f":"IF('800111a - Nota. Detalle de CxC.'!$L$51=\"\",\"\",'800111a - Nota. Detalle de CxC.'!$L$51)","v":""},{"$f":"IF('800111a - Nota. Detalle de CxC.'!$L$52=\"\",\"\",'800111a - Nota. Detalle de CxC.'!$L$52)","v":""},{"$f":"IF('800111a - Nota. Detalle de CxC.'!$L$53=\"\",\"\",'800111a - Nota. Detalle de CxC.'!$L$53)","v":""},{"$f":"IF('800111a - Nota. Detalle de CxC.'!$L$54=\"\",\"\",'800111a - Nota. Detalle de CxC.'!$L$54)","v":""},{"$f":"IF('800111a - Nota. Detalle de CxC.'!$L$55=\"\",\"\",'800111a - Nota. Detalle de CxC.'!$L$55)","v":""},{"$f":"IF('800111a - Nota. Detalle de CxC.'!$L$56=\"\",\"\",'800111a - Nota. Detalle de CxC.'!$L$56)","v":""},{"$f":"IF('800111a - Nota. Detalle de CxC.'!$L$57=\"\",\"\",'800111a - Nota. Detalle de CxC.'!$L$57)","v":""},{"$f":"IF('800111a - Nota. Detalle de CxC.'!$L$58=\"\",\"\",'800111a - Nota. Detalle de CxC.'!$L$58)","v":""},{"$f":"IF('800111a - Nota. Detalle de CxC.'!$L$59=\"\",\"\",'800111a - Nota. Detalle de CxC.'!$L$59)","v":""},{"$f":"IF('800111a - Nota. Detalle de CxC.'!$L$60=\"\",\"\",'800111a - Nota. Detalle de CxC.'!$L$60)","v":""},{"$f":"IF('800111a - Nota. Detalle de CxC.'!$L$61=\"\",\"\",'800111a - Nota. Detalle de CxC.'!$L$61)","v":""},{"$f":"IF('800111a - Nota. Detalle de CxC.'!$L$62=\"\",\"\",'800111a - Nota. Detalle de CxC.'!$L$62)","v":""},{"$f":"IF('800111a - Nota. Detalle de CxC.'!$L$63=\"\",\"\",'800111a - Nota. Detalle de CxC.'!$L$63)","v":""},{"$f":"IF('800111a - Nota. Detalle de CxC.'!$L$64=\"\",\"\",'800111a - Nota. Detalle de CxC.'!$L$64)","v":""},{"$f":"IF('800111a - Nota. Detalle de CxC.'!$L$65=\"\",\"\",'800111a - Nota. Detalle de CxC.'!$L$65)","v":""},{"$f":"IF('800111a - Nota. Detalle de CxC.'!$L$66=\"\",\"\",'800111a - Nota. Detalle de CxC.'!$L$66)","v":""},null,null,null,{"$f":"IF('800111a - Nota. Detalle de CxC.'!$L$70=\"\",\"\",'800111a - Nota. Detalle de CxC.'!$L$70)","v":""},{"$f":"IF('800111a - Nota. Detalle de CxC.'!$L$71=\"\",\"\",'800111a - Nota. Detalle de CxC.'!$L$71)","v":""},{"$f":"IF('800111a - Nota. Detalle de CxC.'!$L$72=\"\",\"\",'800111a - Nota. Detalle de CxC.'!$L$72)","v":""},{"$f":"IF('800111a - Nota. Detalle de CxC.'!$L$73=\"\",\"\",'800111a - Nota. Detalle de CxC.'!$L$73)","v":""},{"$f":"IF('800111a - Nota. Detalle de CxC.'!$L$74=\"\",\"\",'800111a - Nota. Detalle de CxC.'!$L$74)","v":""},{"$f":"IF('800111a - Nota. Detalle de CxC.'!$L$75=\"\",\"\",'800111a - Nota. Detalle de CxC.'!$L$75)","v":""},{"$f":"IF('800111a - Nota. Detalle de CxC.'!$L$76=\"\",\"\",'800111a - Nota. Detalle de CxC.'!$L$76)","v":""},{"$f":"IF('800111a - Nota. Detalle de CxC.'!$L$77=\"\",\"\",'800111a - Nota. Detalle de CxC.'!$L$77)","v":""},{"$f":"IF('800111a - Nota. Detalle de CxC.'!$L$78=\"\",\"\",'800111a - Nota. Detalle de CxC.'!$L$78)","v":""},{"$f":"IF('800111a - Nota. Detalle de CxC.'!$L$79=\"\",\"\",'800111a - Nota. Detalle de CxC.'!$L$79)","v":""},{"$f":"IF('800111a - Nota. Detalle de CxC.'!$L$80=\"\",\"\",'800111a - Nota. Detalle de CxC.'!$L$80)","v":""},{"$f":"IF('800111a - Nota. Detalle de CxC.'!$L$81=\"\",\"\",'800111a - Nota. Detalle de CxC.'!$L$81)","v":""},{"$f":"IF('800111a - Nota. Detalle de CxC.'!$L$82=\"\",\"\",'800111a - Nota. Detalle de CxC.'!$L$82)","v":""},{"$f":"IF('800111a - Nota. Detalle de CxC.'!$L$83=\"\",\"\",'800111a - Nota. Detalle de CxC.'!$L$83)","v":""},{"$f":"IF('800111a - Nota. Detalle de CxC.'!$L$84=\"\",\"\",'800111a - Nota. Detalle de CxC.'!$L$84)","v":""},{"$f":"IF('800111a - Nota. Detalle de CxC.'!$L$85=\"\",\"\",'800111a - Nota. Detalle de CxC.'!$L$85)","v":""},{"$f":"IF('800111a - Nota. Detalle de CxC.'!$L$86=\"\",\"\",'800111a - Nota. Detalle de CxC.'!$L$86)","v":""},{"$f":"IF('800111a - Nota. Detalle de CxC.'!$L$87=\"\",\"\",'800111a - Nota. Detalle de CxC.'!$L$87)","v":""},{"$f":"IF('800111a - Nota. Detalle de CxC.'!$L$88=\"\",\"\",'800111a - Nota. Detalle de CxC.'!$L$88)","v":""},{"$f":"IF('800111a - Nota. Detalle de CxC.'!$L$89=\"\",\"\",'800111a - Nota. Detalle de CxC.'!$L$89)","v":""},{"$f":"IF('800111a - Nota. Detalle de CxC.'!$L$90=\"\",\"\",'800111a - Nota. Detalle de CxC.'!$L$90)","v":""},{"$f":"IF('800111a - Nota. Detalle de CxC.'!$L$91=\"\",\"\",'800111a - Nota. Detalle de CxC.'!$L$91)","v":""},{"$f":"IF('800111a - Nota. Detalle de CxC.'!$L$92=\"\",\"\",'800111a - Nota. Detalle de CxC.'!$L$92)","v":""},{"$f":"IF('800111a - Nota. Detalle de CxC.'!$L$93=\"\",\"\",'800111a - Nota. Detalle de CxC.'!$L$93)","v":""},{"$f":"IF('800111a - Nota. Detalle de CxC.'!$L$94=\"\",\"\",'800111a - Nota. Detalle de CxC.'!$L$94)","v":""},{"$f":"IF('800111a - Nota. Detalle de CxC.'!$L$95=\"\",\"\",'800111a - Nota. Detalle de CxC.'!$L$95)","v":""},{"$f":"IF('800111a - Nota. Detalle de CxC.'!$L$96=\"\",\"\",'800111a - Nota. Detalle de CxC.'!$L$96)","v":""},{"$f":"IF('800111a - Nota. Detalle de CxC.'!$L$97=\"\",\"\",'800111a - Nota. Detalle de CxC.'!$L$97)","v":""},{"$f":"IF('800111a - Nota. Detalle de CxC.'!$L$98=\"\",\"\",'800111a - Nota. Detalle de CxC.'!$L$98)","v":""},{"$f":"IF('800111a - Nota. Detalle de CxC.'!$L$99=\"\",\"\",'800111a - Nota. Detalle de CxC.'!$L$99)","v":""},{"$f":"IF('800111a - Nota. Detalle de CxC.'!$L$100=\"\",\"\",'800111a - Nota. Detalle de CxC.'!$L$100)","v":""},{"$f":"IF('800111a - Nota. Detalle de CxC.'!$L$101=\"\",\"\",'800111a - Nota. Detalle de CxC.'!$L$101)","v":""},{"$f":"IF('800111a - Nota. Detalle de CxC.'!$L$102=\"\",\"\",'800111a - Nota. Detalle de CxC.'!$L$102)","v":""},{"$f":"IF('800111a - Nota. Detalle de CxC.'!$L$103=\"\",\"\",'800111a - Nota. Detalle de CxC.'!$L$103)","v":""},{"$f":"IF('800111a - Nota. Detalle de CxC.'!$L$104=\"\",\"\",'800111a - Nota. Detalle de CxC.'!$L$104)","v":""},{"$f":"IF('800111a - Nota. Detalle de CxC.'!$L$105=\"\",\"\",'800111a - Nota. Detalle de CxC.'!$L$105)","v":""},{"$f":"IF('800111a - Nota. Detalle de CxC.'!$L$106=\"\",\"\",'800111a - Nota. Detalle de CxC.'!$L$106)","v":""},{"$f":"IF('800111a - Nota. Detalle de CxC.'!$L$107=\"\",\"\",'800111a - Nota. Detalle de CxC.'!$L$107)","v":""},{"$f":"IF('800111a - Nota. Detalle de CxC.'!$L$108=\"\",\"\",'800111a - Nota. Detalle de CxC.'!$L$108)","v":""},{"$f":"IF('800111a - Nota. Detalle de CxC.'!$L$109=\"\",\"\",'800111a - Nota. Detalle de CxC.'!$L$109)","v":""},{"$f":"IF('800111a - Nota. Detalle de CxC.'!$L$110=\"\",\"\",'800111a - Nota. Detalle de CxC.'!$L$110)","v":""},{"$f":"IF('800111a - Nota. Detalle de CxC.'!$L$111=\"\",\"\",'800111a - Nota. Detalle de CxC.'!$L$111)","v":""},{"$f":"IF('800111a - Nota. Detalle de CxC.'!$L$112=\"\",\"\",'800111a - Nota. Detalle de CxC.'!$L$112)","v":""},{"$f":"IF('800111a - Nota. Detalle de CxC.'!$L$113=\"\",\"\",'800111a - Nota. Detalle de CxC.'!$L$113)","v":""},{"$f":"IF('800111a - Nota. Detalle de CxC.'!$L$114=\"\",\"\",'800111a - Nota. Detalle de CxC.'!$L$114)","v":""},{"$f":"IF('800111a - Nota. Detalle de CxC.'!$L$115=\"\",\"\",'800111a - Nota. Detalle de CxC.'!$L$115)","v":""},{"$f":"IF('800111a - Nota. Detalle de CxC.'!$L$116=\"\",\"\",'800111a - Nota. Detalle de CxC.'!$L$116)","v":""},{"$f":"IF('800111a - Nota. Detalle de CxC.'!$L$117=\"\",\"\",'800111a - Nota. Detalle de CxC.'!$L$117)","v":""},{"$f":"IF('800111a - Nota. Detalle de CxC.'!$L$118=\"\",\"\",'800111a - Nota. Detalle de CxC.'!$L$118)","v":""},{"$f":"IF('800111a - Nota. Detalle de CxC.'!$L$119=\"\",\"\",'800111a - Nota. Detalle de CxC.'!$L$119)","v":""},null,null,null,{"$f":"IF('800111a - Nota. Detalle de CxC.'!$L$123=\"\",\"\",'800111a - Nota. Detalle de CxC.'!$L$123)","v":""},{"$f":"IF('800111a - Nota. Detalle de CxC.'!$L$124=\"\",\"\",'800111a - Nota. Detalle de CxC.'!$L$124)","v":""},{"$f":"IF('800111a - Nota. Detalle de CxC.'!$L$125=\"\",\"\",'800111a - Nota. Detalle de CxC.'!$L$125)","v":""},{"$f":"IF('800111a - Nota. Detalle de CxC.'!$L$126=\"\",\"\",'800111a - Nota. Detalle de CxC.'!$L$126)","v":""},{"$f":"IF('800111a - Nota. Detalle de CxC.'!$L$127=\"\",\"\",'800111a - Nota. Detalle de CxC.'!$L$127)","v":""},{"$f":"IF('800111a - Nota. Detalle de CxC.'!$L$128=\"\",\"\",'800111a - Nota. Detalle de CxC.'!$L$128)","v":""},{"$f":"IF('800111a - Nota. Detalle de CxC.'!$L$129=\"\",\"\",'800111a - Nota. Detalle de CxC.'!$L$129)","v":""},{"$f":"IF('800111a - Nota. Detalle de CxC.'!$L$130=\"\",\"\",'800111a - Nota. Detalle de CxC.'!$L$130)","v":""},{"$f":"IF('800111a - Nota. Detalle de CxC.'!$L$131=\"\",\"\",'800111a - Nota. Detalle de CxC.'!$L$131)","v":""},{"$f":"IF('800111a - Nota. Detalle de CxC.'!$L$132=\"\",\"\",'800111a - Nota. Detalle de CxC.'!$L$132)","v":""},{"$f":"IF('800111a - Nota. Detalle de CxC.'!$L$133=\"\",\"\",'800111a - Nota. Detalle de CxC.'!$L$133)","v":""},{"$f":"IF('800111a - Nota. Detalle de CxC.'!$L$134=\"\",\"\",'800111a - Nota. Detalle de CxC.'!$L$134)","v":""},{"$f":"IF('800111a - Nota. Detalle de CxC.'!$L$135=\"\",\"\",'800111a - Nota. Detalle de CxC.'!$L$135)","v":""},{"$f":"IF('800111a - Nota. Detalle de CxC.'!$L$136=\"\",\"\",'800111a - Nota. Detalle de CxC.'!$L$136)","v":""},{"$f":"IF('800111a - Nota. Detalle de CxC.'!$L$137=\"\",\"\",'800111a - Nota. Detalle de CxC.'!$L$137)","v":""},{"$f":"IF('800111a - Nota. Detalle de CxC.'!$L$138=\"\",\"\",'800111a - Nota. Detalle de CxC.'!$L$138)","v":""},{"$f":"IF('800111a - Nota. Detalle de CxC.'!$L$139=\"\",\"\",'800111a - Nota. Detalle de CxC.'!$L$139)","v":""},{"$f":"IF('800111a - Nota. Detalle de CxC.'!$L$140=\"\",\"\",'800111a - Nota. Detalle de CxC.'!$L$140)","v":""},{"$f":"IF('800111a - Nota. Detalle de CxC.'!$L$141=\"\",\"\",'800111a - Nota. Detalle de CxC.'!$L$141)","v":""},{"$f":"IF('800111a - Nota. Detalle de CxC.'!$L$142=\"\",\"\",'800111a - Nota. Detalle de CxC.'!$L$142)","v":""},{"$f":"IF('800111a - Nota. Detalle de CxC.'!$L$143=\"\",\"\",'800111a - Nota. Detalle de CxC.'!$L$143)","v":""},{"$f":"IF('800111a - Nota. Detalle de CxC.'!$L$144=\"\",\"\",'800111a - Nota. Detalle de CxC.'!$L$144)","v":""},{"$f":"IF('800111a - Nota. Detalle de CxC.'!$L$145=\"\",\"\",'800111a - Nota. Detalle de CxC.'!$L$145)","v":""},{"$f":"IF('800111a - Nota. Detalle de CxC.'!$L$146=\"\",\"\",'800111a - Nota. Detalle de CxC.'!$L$146)","v":""},{"$f":"IF('800111a - Nota. Detalle de CxC.'!$L$147=\"\",\"\",'800111a - Nota. Detalle de CxC.'!$L$147)","v":""},{"$f":"IF('800111a - Nota. Detalle de CxC.'!$L$148=\"\",\"\",'800111a - Nota. Detalle de CxC.'!$L$148)","v":""},{"$f":"IF('800111a - Nota. Detalle de CxC.'!$L$149=\"\",\"\",'800111a - Nota. Detalle de CxC.'!$L$149)","v":""},{"$f":"IF('800111a - Nota. Detalle de CxC.'!$L$150=\"\",\"\",'800111a - Nota. Detalle de CxC.'!$L$150)","v":""},{"$f":"IF('800111a - Nota. Detalle de CxC.'!$L$151=\"\",\"\",'800111a - Nota. Detalle de CxC.'!$L$151)","v":""},{"$f":"IF('800111a - Nota. Detalle de CxC.'!$L$152=\"\",\"\",'800111a - Nota. Detalle de CxC.'!$L$152)","v":""},{"$f":"IF('800111a - Nota. Detalle de CxC.'!$L$153=\"\",\"\",'800111a - Nota. Detalle de CxC.'!$L$153)","v":""},{"$f":"IF('800111a - Nota. Detalle de CxC.'!$L$154=\"\",\"\",'800111a - Nota. Detalle de CxC.'!$L$154)","v":""},{"$f":"IF('800111a - Nota. Detalle de CxC.'!$L$155=\"\",\"\",'800111a - Nota. Detalle de CxC.'!$L$155)","v":""},{"$f":"IF('800111a - Nota. Detalle de CxC.'!$L$156=\"\",\"\",'800111a - Nota. Detalle de CxC.'!$L$156)","v":""},{"$f":"IF('800111a - Nota. Detalle de CxC.'!$L$157=\"\",\"\",'800111a - Nota. Detalle de CxC.'!$L$157)","v":""},{"$f":"IF('800111a - Nota. Detalle de CxC.'!$L$158=\"\",\"\",'800111a - Nota. Detalle de CxC.'!$L$158)","v":""},{"$f":"IF('800111a - Nota. Detalle de CxC.'!$L$159=\"\",\"\",'800111a - Nota. Detalle de CxC.'!$L$159)","v":""},{"$f":"IF('800111a - Nota. Detalle de CxC.'!$L$160=\"\",\"\",'800111a - Nota. Detalle de CxC.'!$L$160)","v":""},{"$f":"IF('800111a - Nota. Detalle de CxC.'!$L$161=\"\",\"\",'800111a - Nota. Detalle de CxC.'!$L$161)","v":""},{"$f":"IF('800111a - Nota. Detalle de CxC.'!$L$162=\"\",\"\",'800111a - Nota. Detalle de CxC.'!$L$162)","v":""},{"$f":"IF('800111a - Nota. Detalle de CxC.'!$L$163=\"\",\"\",'800111a - Nota. Detalle de CxC.'!$L$163)","v":""},{"$f":"IF('800111a - Nota. Detalle de CxC.'!$L$164=\"\",\"\",'800111a - Nota. Detalle de CxC.'!$L$164)","v":""},{"$f":"IF('800111a - Nota. Detalle de CxC.'!$L$165=\"\",\"\",'800111a - Nota. Detalle de CxC.'!$L$165)","v":""},{"$f":"IF('800111a - Nota. Detalle de CxC.'!$L$166=\"\",\"\",'800111a - Nota. Detalle de CxC.'!$L$166)","v":""},{"$f":"IF('800111a - Nota. Detalle de CxC.'!$L$167=\"\",\"\",'800111a - Nota. Detalle de CxC.'!$L$167)","v":""},{"$f":"IF('800111a - Nota. Detalle de CxC.'!$L$168=\"\",\"\",'800111a - Nota. Detalle de CxC.'!$L$168)","v":""},{"$f":"IF('800111a - Nota. Detalle de CxC.'!$L$169=\"\",\"\",'800111a - Nota. Detalle de CxC.'!$L$169)","v":""},{"$f":"IF('800111a - Nota. Detalle de CxC.'!$L$170=\"\",\"\",'800111a - Nota. Detalle de CxC.'!$L$170)","v":""},{"$f":"IF('800111a - Nota. Detalle de CxC.'!$L$171=\"\",\"\",'800111a - Nota. Detalle de CxC.'!$L$171)","v":""},{"$f":"IF('800111a - Nota. Detalle de CxC.'!$L$172=\"\",\"\",'800111a - Nota. Detalle de CxC.'!$L$172)","v":""}]
[null,"1;1","co-svsp-core:DireccionDeudorCxC","Dirección deudor",null,null,{"$f":"IF('800111a - Nota. Detalle de CxC.'!$M$17=\"\",\"\",'800111a - Nota. Detalle de CxC.'!$M$17)","v":""},{"$f":"IF('800111a - Nota. Detalle de CxC.'!$M$18=\"\",\"\",'800111a - Nota. Detalle de CxC.'!$M$18)","v":""},{"$f":"IF('800111a - Nota. Detalle de CxC.'!$M$19=\"\",\"\",'800111a - Nota. Detalle de CxC.'!$M$19)","v":""},{"$f":"IF('800111a - Nota. Detalle de CxC.'!$M$20=\"\",\"\",'800111a - Nota. Detalle de CxC.'!$M$20)","v":""},{"$f":"IF('800111a - Nota. Detalle de CxC.'!$M$21=\"\",\"\",'800111a - Nota. Detalle de CxC.'!$M$21)","v":""},{"$f":"IF('800111a - Nota. Detalle de CxC.'!$M$22=\"\",\"\",'800111a - Nota. Detalle de CxC.'!$M$22)","v":""},{"$f":"IF('800111a - Nota. Detalle de CxC.'!$M$23=\"\",\"\",'800111a - Nota. Detalle de CxC.'!$M$23)","v":""},{"$f":"IF('800111a - Nota. Detalle de CxC.'!$M$24=\"\",\"\",'800111a - Nota. Detalle de CxC.'!$M$24)","v":""},{"$f":"IF('800111a - Nota. Detalle de CxC.'!$M$25=\"\",\"\",'800111a - Nota. Detalle de CxC.'!$M$25)","v":""},{"$f":"IF('800111a - Nota. Detalle de CxC.'!$M$26=\"\",\"\",'800111a - Nota. Detalle de CxC.'!$M$26)","v":""},{"$f":"IF('800111a - Nota. Detalle de CxC.'!$M$27=\"\",\"\",'800111a - Nota. Detalle de CxC.'!$M$27)","v":""},{"$f":"IF('800111a - Nota. Detalle de CxC.'!$M$28=\"\",\"\",'800111a - Nota. Detalle de CxC.'!$M$28)","v":""},{"$f":"IF('800111a - Nota. Detalle de CxC.'!$M$29=\"\",\"\",'800111a - Nota. Detalle de CxC.'!$M$29)","v":""},{"$f":"IF('800111a - Nota. Detalle de CxC.'!$M$30=\"\",\"\",'800111a - Nota. Detalle de CxC.'!$M$30)","v":""},{"$f":"IF('800111a - Nota. Detalle de CxC.'!$M$31=\"\",\"\",'800111a - Nota. Detalle de CxC.'!$M$31)","v":""},{"$f":"IF('800111a - Nota. Detalle de CxC.'!$M$32=\"\",\"\",'800111a - Nota. Detalle de CxC.'!$M$32)","v":""},{"$f":"IF('800111a - Nota. Detalle de CxC.'!$M$33=\"\",\"\",'800111a - Nota. Detalle de CxC.'!$M$33)","v":""},{"$f":"IF('800111a - Nota. Detalle de CxC.'!$M$34=\"\",\"\",'800111a - Nota. Detalle de CxC.'!$M$34)","v":""},{"$f":"IF('800111a - Nota. Detalle de CxC.'!$M$35=\"\",\"\",'800111a - Nota. Detalle de CxC.'!$M$35)","v":""},{"$f":"IF('800111a - Nota. Detalle de CxC.'!$M$36=\"\",\"\",'800111a - Nota. Detalle de CxC.'!$M$36)","v":""},{"$f":"IF('800111a - Nota. Detalle de CxC.'!$M$37=\"\",\"\",'800111a - Nota. Detalle de CxC.'!$M$37)","v":""},{"$f":"IF('800111a - Nota. Detalle de CxC.'!$M$38=\"\",\"\",'800111a - Nota. Detalle de CxC.'!$M$38)","v":""},{"$f":"IF('800111a - Nota. Detalle de CxC.'!$M$39=\"\",\"\",'800111a - Nota. Detalle de CxC.'!$M$39)","v":""},{"$f":"IF('800111a - Nota. Detalle de CxC.'!$M$40=\"\",\"\",'800111a - Nota. Detalle de CxC.'!$M$40)","v":""},{"$f":"IF('800111a - Nota. Detalle de CxC.'!$M$41=\"\",\"\",'800111a - Nota. Detalle de CxC.'!$M$41)","v":""},{"$f":"IF('800111a - Nota. Detalle de CxC.'!$M$42=\"\",\"\",'800111a - Nota. Detalle de CxC.'!$M$42)","v":""},{"$f":"IF('800111a - Nota. Detalle de CxC.'!$M$43=\"\",\"\",'800111a - Nota. Detalle de CxC.'!$M$43)","v":""},{"$f":"IF('800111a - Nota. Detalle de CxC.'!$M$44=\"\",\"\",'800111a - Nota. Detalle de CxC.'!$M$44)","v":""},{"$f":"IF('800111a - Nota. Detalle de CxC.'!$M$45=\"\",\"\",'800111a - Nota. Detalle de CxC.'!$M$45)","v":""},{"$f":"IF('800111a - Nota. Detalle de CxC.'!$M$46=\"\",\"\",'800111a - Nota. Detalle de CxC.'!$M$46)","v":""},{"$f":"IF('800111a - Nota. Detalle de CxC.'!$M$47=\"\",\"\",'800111a - Nota. Detalle de CxC.'!$M$47)","v":""},{"$f":"IF('800111a - Nota. Detalle de CxC.'!$M$48=\"\",\"\",'800111a - Nota. Detalle de CxC.'!$M$48)","v":""},{"$f":"IF('800111a - Nota. Detalle de CxC.'!$M$49=\"\",\"\",'800111a - Nota. Detalle de CxC.'!$M$49)","v":""},{"$f":"IF('800111a - Nota. Detalle de CxC.'!$M$50=\"\",\"\",'800111a - Nota. Detalle de CxC.'!$M$50)","v":""},{"$f":"IF('800111a - Nota. Detalle de CxC.'!$M$51=\"\",\"\",'800111a - Nota. Detalle de CxC.'!$M$51)","v":""},{"$f":"IF('800111a - Nota. Detalle de CxC.'!$M$52=\"\",\"\",'800111a - Nota. Detalle de CxC.'!$M$52)","v":""},{"$f":"IF('800111a - Nota. Detalle de CxC.'!$M$53=\"\",\"\",'800111a - Nota. Detalle de CxC.'!$M$53)","v":""},{"$f":"IF('800111a - Nota. Detalle de CxC.'!$M$54=\"\",\"\",'800111a - Nota. Detalle de CxC.'!$M$54)","v":""},{"$f":"IF('800111a - Nota. Detalle de CxC.'!$M$55=\"\",\"\",'800111a - Nota. Detalle de CxC.'!$M$55)","v":""},{"$f":"IF('800111a - Nota. Detalle de CxC.'!$M$56=\"\",\"\",'800111a - Nota. Detalle de CxC.'!$M$56)","v":""},{"$f":"IF('800111a - Nota. Detalle de CxC.'!$M$57=\"\",\"\",'800111a - Nota. Detalle de CxC.'!$M$57)","v":""},{"$f":"IF('800111a - Nota. Detalle de CxC.'!$M$58=\"\",\"\",'800111a - Nota. Detalle de CxC.'!$M$58)","v":""},{"$f":"IF('800111a - Nota. Detalle de CxC.'!$M$59=\"\",\"\",'800111a - Nota. Detalle de CxC.'!$M$59)","v":""},{"$f":"IF('800111a - Nota. Detalle de CxC.'!$M$60=\"\",\"\",'800111a - Nota. Detalle de CxC.'!$M$60)","v":""},{"$f":"IF('800111a - Nota. Detalle de CxC.'!$M$61=\"\",\"\",'800111a - Nota. Detalle de CxC.'!$M$61)","v":""},{"$f":"IF('800111a - Nota. Detalle de CxC.'!$M$62=\"\",\"\",'800111a - Nota. Detalle de CxC.'!$M$62)","v":""},{"$f":"IF('800111a - Nota. Detalle de CxC.'!$M$63=\"\",\"\",'800111a - Nota. Detalle de CxC.'!$M$63)","v":""},{"$f":"IF('800111a - Nota. Detalle de CxC.'!$M$64=\"\",\"\",'800111a - Nota. Detalle de CxC.'!$M$64)","v":""},{"$f":"IF('800111a - Nota. Detalle de CxC.'!$M$65=\"\",\"\",'800111a - Nota. Detalle de CxC.'!$M$65)","v":""},{"$f":"IF('800111a - Nota. Detalle de CxC.'!$M$66=\"\",\"\",'800111a - Nota. Detalle de CxC.'!$M$66)","v":""},null,null,null,{"$f":"IF('800111a - Nota. Detalle de CxC.'!$M$70=\"\",\"\",'800111a - Nota. Detalle de CxC.'!$M$70)","v":""},{"$f":"IF('800111a - Nota. Detalle de CxC.'!$M$71=\"\",\"\",'800111a - Nota. Detalle de CxC.'!$M$71)","v":""},{"$f":"IF('800111a - Nota. Detalle de CxC.'!$M$72=\"\",\"\",'800111a - Nota. Detalle de CxC.'!$M$72)","v":""},{"$f":"IF('800111a - Nota. Detalle de CxC.'!$M$73=\"\",\"\",'800111a - Nota. Detalle de CxC.'!$M$73)","v":""},{"$f":"IF('800111a - Nota. Detalle de CxC.'!$M$74=\"\",\"\",'800111a - Nota. Detalle de CxC.'!$M$74)","v":""},{"$f":"IF('800111a - Nota. Detalle de CxC.'!$M$75=\"\",\"\",'800111a - Nota. Detalle de CxC.'!$M$75)","v":""},{"$f":"IF('800111a - Nota. Detalle de CxC.'!$M$76=\"\",\"\",'800111a - Nota. Detalle de CxC.'!$M$76)","v":""},{"$f":"IF('800111a - Nota. Detalle de CxC.'!$M$77=\"\",\"\",'800111a - Nota. Detalle de CxC.'!$M$77)","v":""},{"$f":"IF('800111a - Nota. Detalle de CxC.'!$M$78=\"\",\"\",'800111a - Nota. Detalle de CxC.'!$M$78)","v":""},{"$f":"IF('800111a - Nota. Detalle de CxC.'!$M$79=\"\",\"\",'800111a - Nota. Detalle de CxC.'!$M$79)","v":""},{"$f":"IF('800111a - Nota. Detalle de CxC.'!$M$80=\"\",\"\",'800111a - Nota. Detalle de CxC.'!$M$80)","v":""},{"$f":"IF('800111a - Nota. Detalle de CxC.'!$M$81=\"\",\"\",'800111a - Nota. Detalle de CxC.'!$M$81)","v":""},{"$f":"IF('800111a - Nota. Detalle de CxC.'!$M$82=\"\",\"\",'800111a - Nota. Detalle de CxC.'!$M$82)","v":""},{"$f":"IF('800111a - Nota. Detalle de CxC.'!$M$83=\"\",\"\",'800111a - Nota. Detalle de CxC.'!$M$83)","v":""},{"$f":"IF('800111a - Nota. Detalle de CxC.'!$M$84=\"\",\"\",'800111a - Nota. Detalle de CxC.'!$M$84)","v":""},{"$f":"IF('800111a - Nota. Detalle de CxC.'!$M$85=\"\",\"\",'800111a - Nota. Detalle de CxC.'!$M$85)","v":""},{"$f":"IF('800111a - Nota. Detalle de CxC.'!$M$86=\"\",\"\",'800111a - Nota. Detalle de CxC.'!$M$86)","v":""},{"$f":"IF('800111a - Nota. Detalle de CxC.'!$M$87=\"\",\"\",'800111a - Nota. Detalle de CxC.'!$M$87)","v":""},{"$f":"IF('800111a - Nota. Detalle de CxC.'!$M$88=\"\",\"\",'800111a - Nota. Detalle de CxC.'!$M$88)","v":""},{"$f":"IF('800111a - Nota. Detalle de CxC.'!$M$89=\"\",\"\",'800111a - Nota. Detalle de CxC.'!$M$89)","v":""},{"$f":"IF('800111a - Nota. Detalle de CxC.'!$M$90=\"\",\"\",'800111a - Nota. Detalle de CxC.'!$M$90)","v":""},{"$f":"IF('800111a - Nota. Detalle de CxC.'!$M$91=\"\",\"\",'800111a - Nota. Detalle de CxC.'!$M$91)","v":""},{"$f":"IF('800111a - Nota. Detalle de CxC.'!$M$92=\"\",\"\",'800111a - Nota. Detalle de CxC.'!$M$92)","v":""},{"$f":"IF('800111a - Nota. Detalle de CxC.'!$M$93=\"\",\"\",'800111a - Nota. Detalle de CxC.'!$M$93)","v":""},{"$f":"IF('800111a - Nota. Detalle de CxC.'!$M$94=\"\",\"\",'800111a - Nota. Detalle de CxC.'!$M$94)","v":""},{"$f":"IF('800111a - Nota. Detalle de CxC.'!$M$95=\"\",\"\",'800111a - Nota. Detalle de CxC.'!$M$95)","v":""},{"$f":"IF('800111a - Nota. Detalle de CxC.'!$M$96=\"\",\"\",'800111a - Nota. Detalle de CxC.'!$M$96)","v":""},{"$f":"IF('800111a - Nota. Detalle de CxC.'!$M$97=\"\",\"\",'800111a - Nota. Detalle de CxC.'!$M$97)","v":""},{"$f":"IF('800111a - Nota. Detalle de CxC.'!$M$98=\"\",\"\",'800111a - Nota. Detalle de CxC.'!$M$98)","v":""},{"$f":"IF('800111a - Nota. Detalle de CxC.'!$M$99=\"\",\"\",'800111a - Nota. Detalle de CxC.'!$M$99)","v":""},{"$f":"IF('800111a - Nota. Detalle de CxC.'!$M$100=\"\",\"\",'800111a - Nota. Detalle de CxC.'!$M$100)","v":""},{"$f":"IF('800111a - Nota. Detalle de CxC.'!$M$101=\"\",\"\",'800111a - Nota. Detalle de CxC.'!$M$101)","v":""},{"$f":"IF('800111a - Nota. Detalle de CxC.'!$M$102=\"\",\"\",'800111a - Nota. Detalle de CxC.'!$M$102)","v":""},{"$f":"IF('800111a - Nota. Detalle de CxC.'!$M$103=\"\",\"\",'800111a - Nota. Detalle de CxC.'!$M$103)","v":""},{"$f":"IF('800111a - Nota. Detalle de CxC.'!$M$104=\"\",\"\",'800111a - Nota. Detalle de CxC.'!$M$104)","v":""},{"$f":"IF('800111a - Nota. Detalle de CxC.'!$M$105=\"\",\"\",'800111a - Nota. Detalle de CxC.'!$M$105)","v":""},{"$f":"IF('800111a - Nota. Detalle de CxC.'!$M$106=\"\",\"\",'800111a - Nota. Detalle de CxC.'!$M$106)","v":""},{"$f":"IF('800111a - Nota. Detalle de CxC.'!$M$107=\"\",\"\",'800111a - Nota. Detalle de CxC.'!$M$107)","v":""},{"$f":"IF('800111a - Nota. Detalle de CxC.'!$M$108=\"\",\"\",'800111a - Nota. Detalle de CxC.'!$M$108)","v":""},{"$f":"IF('800111a - Nota. Detalle de CxC.'!$M$109=\"\",\"\",'800111a - Nota. Detalle de CxC.'!$M$109)","v":""},{"$f":"IF('800111a - Nota. Detalle de CxC.'!$M$110=\"\",\"\",'800111a - Nota. Detalle de CxC.'!$M$110)","v":""},{"$f":"IF('800111a - Nota. Detalle de CxC.'!$M$111=\"\",\"\",'800111a - Nota. Detalle de CxC.'!$M$111)","v":""},{"$f":"IF('800111a - Nota. Detalle de CxC.'!$M$112=\"\",\"\",'800111a - Nota. Detalle de CxC.'!$M$112)","v":""},{"$f":"IF('800111a - Nota. Detalle de CxC.'!$M$113=\"\",\"\",'800111a - Nota. Detalle de CxC.'!$M$113)","v":""},{"$f":"IF('800111a - Nota. Detalle de CxC.'!$M$114=\"\",\"\",'800111a - Nota. Detalle de CxC.'!$M$114)","v":""},{"$f":"IF('800111a - Nota. Detalle de CxC.'!$M$115=\"\",\"\",'800111a - Nota. Detalle de CxC.'!$M$115)","v":""},{"$f":"IF('800111a - Nota. Detalle de CxC.'!$M$116=\"\",\"\",'800111a - Nota. Detalle de CxC.'!$M$116)","v":""},{"$f":"IF('800111a - Nota. Detalle de CxC.'!$M$117=\"\",\"\",'800111a - Nota. Detalle de CxC.'!$M$117)","v":""},{"$f":"IF('800111a - Nota. Detalle de CxC.'!$M$118=\"\",\"\",'800111a - Nota. Detalle de CxC.'!$M$118)","v":""},{"$f":"IF('800111a - Nota. Detalle de CxC.'!$M$119=\"\",\"\",'800111a - Nota. Detalle de CxC.'!$M$119)","v":""},null,null,null,{"$f":"IF('800111a - Nota. Detalle de CxC.'!$M$123=\"\",\"\",'800111a - Nota. Detalle de CxC.'!$M$123)","v":""},{"$f":"IF('800111a - Nota. Detalle de CxC.'!$M$124=\"\",\"\",'800111a - Nota. Detalle de CxC.'!$M$124)","v":""},{"$f":"IF('800111a - Nota. Detalle de CxC.'!$M$125=\"\",\"\",'800111a - Nota. Detalle de CxC.'!$M$125)","v":""},{"$f":"IF('800111a - Nota. Detalle de CxC.'!$M$126=\"\",\"\",'800111a - Nota. Detalle de CxC.'!$M$126)","v":""},{"$f":"IF('800111a - Nota. Detalle de CxC.'!$M$127=\"\",\"\",'800111a - Nota. Detalle de CxC.'!$M$127)","v":""},{"$f":"IF('800111a - Nota. Detalle de CxC.'!$M$128=\"\",\"\",'800111a - Nota. Detalle de CxC.'!$M$128)","v":""},{"$f":"IF('800111a - Nota. Detalle de CxC.'!$M$129=\"\",\"\",'800111a - Nota. Detalle de CxC.'!$M$129)","v":""},{"$f":"IF('800111a - Nota. Detalle de CxC.'!$M$130=\"\",\"\",'800111a - Nota. Detalle de CxC.'!$M$130)","v":""},{"$f":"IF('800111a - Nota. Detalle de CxC.'!$M$131=\"\",\"\",'800111a - Nota. Detalle de CxC.'!$M$131)","v":""},{"$f":"IF('800111a - Nota. Detalle de CxC.'!$M$132=\"\",\"\",'800111a - Nota. Detalle de CxC.'!$M$132)","v":""},{"$f":"IF('800111a - Nota. Detalle de CxC.'!$M$133=\"\",\"\",'800111a - Nota. Detalle de CxC.'!$M$133)","v":""},{"$f":"IF('800111a - Nota. Detalle de CxC.'!$M$134=\"\",\"\",'800111a - Nota. Detalle de CxC.'!$M$134)","v":""},{"$f":"IF('800111a - Nota. Detalle de CxC.'!$M$135=\"\",\"\",'800111a - Nota. Detalle de CxC.'!$M$135)","v":""},{"$f":"IF('800111a - Nota. Detalle de CxC.'!$M$136=\"\",\"\",'800111a - Nota. Detalle de CxC.'!$M$136)","v":""},{"$f":"IF('800111a - Nota. Detalle de CxC.'!$M$137=\"\",\"\",'800111a - Nota. Detalle de CxC.'!$M$137)","v":""},{"$f":"IF('800111a - Nota. Detalle de CxC.'!$M$138=\"\",\"\",'800111a - Nota. Detalle de CxC.'!$M$138)","v":""},{"$f":"IF('800111a - Nota. Detalle de CxC.'!$M$139=\"\",\"\",'800111a - Nota. Detalle de CxC.'!$M$139)","v":""},{"$f":"IF('800111a - Nota. Detalle de CxC.'!$M$140=\"\",\"\",'800111a - Nota. Detalle de CxC.'!$M$140)","v":""},{"$f":"IF('800111a - Nota. Detalle de CxC.'!$M$141=\"\",\"\",'800111a - Nota. Detalle de CxC.'!$M$141)","v":""},{"$f":"IF('800111a - Nota. Detalle de CxC.'!$M$142=\"\",\"\",'800111a - Nota. Detalle de CxC.'!$M$142)","v":""},{"$f":"IF('800111a - Nota. Detalle de CxC.'!$M$143=\"\",\"\",'800111a - Nota. Detalle de CxC.'!$M$143)","v":""},{"$f":"IF('800111a - Nota. Detalle de CxC.'!$M$144=\"\",\"\",'800111a - Nota. Detalle de CxC.'!$M$144)","v":""},{"$f":"IF('800111a - Nota. Detalle de CxC.'!$M$145=\"\",\"\",'800111a - Nota. Detalle de CxC.'!$M$145)","v":""},{"$f":"IF('800111a - Nota. Detalle de CxC.'!$M$146=\"\",\"\",'800111a - Nota. Detalle de CxC.'!$M$146)","v":""},{"$f":"IF('800111a - Nota. Detalle de CxC.'!$M$147=\"\",\"\",'800111a - Nota. Detalle de CxC.'!$M$147)","v":""},{"$f":"IF('800111a - Nota. Detalle de CxC.'!$M$148=\"\",\"\",'800111a - Nota. Detalle de CxC.'!$M$148)","v":""},{"$f":"IF('800111a - Nota. Detalle de CxC.'!$M$149=\"\",\"\",'800111a - Nota. Detalle de CxC.'!$M$149)","v":""},{"$f":"IF('800111a - Nota. Detalle de CxC.'!$M$150=\"\",\"\",'800111a - Nota. Detalle de CxC.'!$M$150)","v":""},{"$f":"IF('800111a - Nota. Detalle de CxC.'!$M$151=\"\",\"\",'800111a - Nota. Detalle de CxC.'!$M$151)","v":""},{"$f":"IF('800111a - Nota. Detalle de CxC.'!$M$152=\"\",\"\",'800111a - Nota. Detalle de CxC.'!$M$152)","v":""},{"$f":"IF('800111a - Nota. Detalle de CxC.'!$M$153=\"\",\"\",'800111a - Nota. Detalle de CxC.'!$M$153)","v":""},{"$f":"IF('800111a - Nota. Detalle de CxC.'!$M$154=\"\",\"\",'800111a - Nota. Detalle de CxC.'!$M$154)","v":""},{"$f":"IF('800111a - Nota. Detalle de CxC.'!$M$155=\"\",\"\",'800111a - Nota. Detalle de CxC.'!$M$155)","v":""},{"$f":"IF('800111a - Nota. Detalle de CxC.'!$M$156=\"\",\"\",'800111a - Nota. Detalle de CxC.'!$M$156)","v":""},{"$f":"IF('800111a - Nota. Detalle de CxC.'!$M$157=\"\",\"\",'800111a - Nota. Detalle de CxC.'!$M$157)","v":""},{"$f":"IF('800111a - Nota. Detalle de CxC.'!$M$158=\"\",\"\",'800111a - Nota. Detalle de CxC.'!$M$158)","v":""},{"$f":"IF('800111a - Nota. Detalle de CxC.'!$M$159=\"\",\"\",'800111a - Nota. Detalle de CxC.'!$M$159)","v":""},{"$f":"IF('800111a - Nota. Detalle de CxC.'!$M$160=\"\",\"\",'800111a - Nota. Detalle de CxC.'!$M$160)","v":""},{"$f":"IF('800111a - Nota. Detalle de CxC.'!$M$161=\"\",\"\",'800111a - Nota. Detalle de CxC.'!$M$161)","v":""},{"$f":"IF('800111a - Nota. Detalle de CxC.'!$M$162=\"\",\"\",'800111a - Nota. Detalle de CxC.'!$M$162)","v":""},{"$f":"IF('800111a - Nota. Detalle de CxC.'!$M$163=\"\",\"\",'800111a - Nota. Detalle de CxC.'!$M$163)","v":""},{"$f":"IF('800111a - Nota. Detalle de CxC.'!$M$164=\"\",\"\",'800111a - Nota. Detalle de CxC.'!$M$164)","v":""},{"$f":"IF('800111a - Nota. Detalle de CxC.'!$M$165=\"\",\"\",'800111a - Nota. Detalle de CxC.'!$M$165)","v":""},{"$f":"IF('800111a - Nota. Detalle de CxC.'!$M$166=\"\",\"\",'800111a - Nota. Detalle de CxC.'!$M$166)","v":""},{"$f":"IF('800111a - Nota. Detalle de CxC.'!$M$167=\"\",\"\",'800111a - Nota. Detalle de CxC.'!$M$167)","v":""},{"$f":"IF('800111a - Nota. Detalle de CxC.'!$M$168=\"\",\"\",'800111a - Nota. Detalle de CxC.'!$M$168)","v":""},{"$f":"IF('800111a - Nota. Detalle de CxC.'!$M$169=\"\",\"\",'800111a - Nota. Detalle de CxC.'!$M$169)","v":""},{"$f":"IF('800111a - Nota. Detalle de CxC.'!$M$170=\"\",\"\",'800111a - Nota. Detalle de CxC.'!$M$170)","v":""},{"$f":"IF('800111a - Nota. Detalle de CxC.'!$M$171=\"\",\"\",'800111a - Nota. Detalle de CxC.'!$M$171)","v":""},{"$f":"IF('800111a - Nota. Detalle de CxC.'!$M$172=\"\",\"\",'800111a - Nota. Detalle de CxC.'!$M$172)","v":""}]
[null,"1;1","co-svsp-core:DepartamentoDeudorCxC","Departamento deudor",null,null,{"$f":"IF('800111a - Nota. Detalle de CxC.'!$N$17=\"\",\"\",'800111a - Nota. Detalle de CxC.'!$N$17)","v":""},{"$f":"IF('800111a - Nota. Detalle de CxC.'!$N$18=\"\",\"\",'800111a - Nota. Detalle de CxC.'!$N$18)","v":""},{"$f":"IF('800111a - Nota. Detalle de CxC.'!$N$19=\"\",\"\",'800111a - Nota. Detalle de CxC.'!$N$19)","v":""},{"$f":"IF('800111a - Nota. Detalle de CxC.'!$N$20=\"\",\"\",'800111a - Nota. Detalle de CxC.'!$N$20)","v":""},{"$f":"IF('800111a - Nota. Detalle de CxC.'!$N$21=\"\",\"\",'800111a - Nota. Detalle de CxC.'!$N$21)","v":""},{"$f":"IF('800111a - Nota. Detalle de CxC.'!$N$22=\"\",\"\",'800111a - Nota. Detalle de CxC.'!$N$22)","v":""},{"$f":"IF('800111a - Nota. Detalle de CxC.'!$N$23=\"\",\"\",'800111a - Nota. Detalle de CxC.'!$N$23)","v":""},{"$f":"IF('800111a - Nota. Detalle de CxC.'!$N$24=\"\",\"\",'800111a - Nota. Detalle de CxC.'!$N$24)","v":""},{"$f":"IF('800111a - Nota. Detalle de CxC.'!$N$25=\"\",\"\",'800111a - Nota. Detalle de CxC.'!$N$25)","v":""},{"$f":"IF('800111a - Nota. Detalle de CxC.'!$N$26=\"\",\"\",'800111a - Nota. Detalle de CxC.'!$N$26)","v":""},{"$f":"IF('800111a - Nota. Detalle de CxC.'!$N$27=\"\",\"\",'800111a - Nota. Detalle de CxC.'!$N$27)","v":""},{"$f":"IF('800111a - Nota. Detalle de CxC.'!$N$28=\"\",\"\",'800111a - Nota. Detalle de CxC.'!$N$28)","v":""},{"$f":"IF('800111a - Nota. Detalle de CxC.'!$N$29=\"\",\"\",'800111a - Nota. Detalle de CxC.'!$N$29)","v":""},{"$f":"IF('800111a - Nota. Detalle de CxC.'!$N$30=\"\",\"\",'800111a - Nota. Detalle de CxC.'!$N$30)","v":""},{"$f":"IF('800111a - Nota. Detalle de CxC.'!$N$31=\"\",\"\",'800111a - Nota. Detalle de CxC.'!$N$31)","v":""},{"$f":"IF('800111a - Nota. Detalle de CxC.'!$N$32=\"\",\"\",'800111a - Nota. Detalle de CxC.'!$N$32)","v":""},{"$f":"IF('800111a - Nota. Detalle de CxC.'!$N$33=\"\",\"\",'800111a - Nota. Detalle de CxC.'!$N$33)","v":""},{"$f":"IF('800111a - Nota. Detalle de CxC.'!$N$34=\"\",\"\",'800111a - Nota. Detalle de CxC.'!$N$34)","v":""},{"$f":"IF('800111a - Nota. Detalle de CxC.'!$N$35=\"\",\"\",'800111a - Nota. Detalle de CxC.'!$N$35)","v":""},{"$f":"IF('800111a - Nota. Detalle de CxC.'!$N$36=\"\",\"\",'800111a - Nota. Detalle de CxC.'!$N$36)","v":""},{"$f":"IF('800111a - Nota. Detalle de CxC.'!$N$37=\"\",\"\",'800111a - Nota. Detalle de CxC.'!$N$37)","v":""},{"$f":"IF('800111a - Nota. Detalle de CxC.'!$N$38=\"\",\"\",'800111a - Nota. Detalle de CxC.'!$N$38)","v":""},{"$f":"IF('800111a - Nota. Detalle de CxC.'!$N$39=\"\",\"\",'800111a - Nota. Detalle de CxC.'!$N$39)","v":""},{"$f":"IF('800111a - Nota. Detalle de CxC.'!$N$40=\"\",\"\",'800111a - Nota. Detalle de CxC.'!$N$40)","v":""},{"$f":"IF('800111a - Nota. Detalle de CxC.'!$N$41=\"\",\"\",'800111a - Nota. Detalle de CxC.'!$N$41)","v":""},{"$f":"IF('800111a - Nota. Detalle de CxC.'!$N$42=\"\",\"\",'800111a - Nota. Detalle de CxC.'!$N$42)","v":""},{"$f":"IF('800111a - Nota. Detalle de CxC.'!$N$43=\"\",\"\",'800111a - Nota. Detalle de CxC.'!$N$43)","v":""},{"$f":"IF('800111a - Nota. Detalle de CxC.'!$N$44=\"\",\"\",'800111a - Nota. Detalle de CxC.'!$N$44)","v":""},{"$f":"IF('800111a - Nota. Detalle de CxC.'!$N$45=\"\",\"\",'800111a - Nota. Detalle de CxC.'!$N$45)","v":""},{"$f":"IF('800111a - Nota. Detalle de CxC.'!$N$46=\"\",\"\",'800111a - Nota. Detalle de CxC.'!$N$46)","v":""},{"$f":"IF('800111a - Nota. Detalle de CxC.'!$N$47=\"\",\"\",'800111a - Nota. Detalle de CxC.'!$N$47)","v":""},{"$f":"IF('800111a - Nota. Detalle de CxC.'!$N$48=\"\",\"\",'800111a - Nota. Detalle de CxC.'!$N$48)","v":""},{"$f":"IF('800111a - Nota. Detalle de CxC.'!$N$49=\"\",\"\",'800111a - Nota. Detalle de CxC.'!$N$49)","v":""},{"$f":"IF('800111a - Nota. Detalle de CxC.'!$N$50=\"\",\"\",'800111a - Nota. Detalle de CxC.'!$N$50)","v":""},{"$f":"IF('800111a - Nota. Detalle de CxC.'!$N$51=\"\",\"\",'800111a - Nota. Detalle de CxC.'!$N$51)","v":""},{"$f":"IF('800111a - Nota. Detalle de CxC.'!$N$52=\"\",\"\",'800111a - Nota. Detalle de CxC.'!$N$52)","v":""},{"$f":"IF('800111a - Nota. Detalle de CxC.'!$N$53=\"\",\"\",'800111a - Nota. Detalle de CxC.'!$N$53)","v":""},{"$f":"IF('800111a - Nota. Detalle de CxC.'!$N$54=\"\",\"\",'800111a - Nota. Detalle de CxC.'!$N$54)","v":""},{"$f":"IF('800111a - Nota. Detalle de CxC.'!$N$55=\"\",\"\",'800111a - Nota. Detalle de CxC.'!$N$55)","v":""},{"$f":"IF('800111a - Nota. Detalle de CxC.'!$N$56=\"\",\"\",'800111a - Nota. Detalle de CxC.'!$N$56)","v":""},{"$f":"IF('800111a - Nota. Detalle de CxC.'!$N$57=\"\",\"\",'800111a - Nota. Detalle de CxC.'!$N$57)","v":""},{"$f":"IF('800111a - Nota. Detalle de CxC.'!$N$58=\"\",\"\",'800111a - Nota. Detalle de CxC.'!$N$58)","v":""},{"$f":"IF('800111a - Nota. Detalle de CxC.'!$N$59=\"\",\"\",'800111a - Nota. Detalle de CxC.'!$N$59)","v":""},{"$f":"IF('800111a - Nota. Detalle de CxC.'!$N$60=\"\",\"\",'800111a - Nota. Detalle de CxC.'!$N$60)","v":""},{"$f":"IF('800111a - Nota. Detalle de CxC.'!$N$61=\"\",\"\",'800111a - Nota. Detalle de CxC.'!$N$61)","v":""},{"$f":"IF('800111a - Nota. Detalle de CxC.'!$N$62=\"\",\"\",'800111a - Nota. Detalle de CxC.'!$N$62)","v":""},{"$f":"IF('800111a - Nota. Detalle de CxC.'!$N$63=\"\",\"\",'800111a - Nota. Detalle de CxC.'!$N$63)","v":""},{"$f":"IF('800111a - Nota. Detalle de CxC.'!$N$64=\"\",\"\",'800111a - Nota. Detalle de CxC.'!$N$64)","v":""},{"$f":"IF('800111a - Nota. Detalle de CxC.'!$N$65=\"\",\"\",'800111a - Nota. Detalle de CxC.'!$N$65)","v":""},{"$f":"IF('800111a - Nota. Detalle de CxC.'!$N$66=\"\",\"\",'800111a - Nota. Detalle de CxC.'!$N$66)","v":""},null,null,null,{"$f":"IF('800111a - Nota. Detalle de CxC.'!$N$70=\"\",\"\",'800111a - Nota. Detalle de CxC.'!$N$70)","v":""},{"$f":"IF('800111a - Nota. Detalle de CxC.'!$N$71=\"\",\"\",'800111a - Nota. Detalle de CxC.'!$N$71)","v":""},{"$f":"IF('800111a - Nota. Detalle de CxC.'!$N$72=\"\",\"\",'800111a - Nota. Detalle de CxC.'!$N$72)","v":""},{"$f":"IF('800111a - Nota. Detalle de CxC.'!$N$73=\"\",\"\",'800111a - Nota. Detalle de CxC.'!$N$73)","v":""},{"$f":"IF('800111a - Nota. Detalle de CxC.'!$N$74=\"\",\"\",'800111a - Nota. Detalle de CxC.'!$N$74)","v":""},{"$f":"IF('800111a - Nota. Detalle de CxC.'!$N$75=\"\",\"\",'800111a - Nota. Detalle de CxC.'!$N$75)","v":""},{"$f":"IF('800111a - Nota. Detalle de CxC.'!$N$76=\"\",\"\",'800111a - Nota. Detalle de CxC.'!$N$76)","v":""},{"$f":"IF('800111a - Nota. Detalle de CxC.'!$N$77=\"\",\"\",'800111a - Nota. Detalle de CxC.'!$N$77)","v":""},{"$f":"IF('800111a - Nota. Detalle de CxC.'!$N$78=\"\",\"\",'800111a - Nota. Detalle de CxC.'!$N$78)","v":""},{"$f":"IF('800111a - Nota. Detalle de CxC.'!$N$79=\"\",\"\",'800111a - Nota. Detalle de CxC.'!$N$79)","v":""},{"$f":"IF('800111a - Nota. Detalle de CxC.'!$N$80=\"\",\"\",'800111a - Nota. Detalle de CxC.'!$N$80)","v":""},{"$f":"IF('800111a - Nota. Detalle de CxC.'!$N$81=\"\",\"\",'800111a - Nota. Detalle de CxC.'!$N$81)","v":""},{"$f":"IF('800111a - Nota. Detalle de CxC.'!$N$82=\"\",\"\",'800111a - Nota. Detalle de CxC.'!$N$82)","v":""},{"$f":"IF('800111a - Nota. Detalle de CxC.'!$N$83=\"\",\"\",'800111a - Nota. Detalle de CxC.'!$N$83)","v":""},{"$f":"IF('800111a - Nota. Detalle de CxC.'!$N$84=\"\",\"\",'800111a - Nota. Detalle de CxC.'!$N$84)","v":""},{"$f":"IF('800111a - Nota. Detalle de CxC.'!$N$85=\"\",\"\",'800111a - Nota. Detalle de CxC.'!$N$85)","v":""},{"$f":"IF('800111a - Nota. Detalle de CxC.'!$N$86=\"\",\"\",'800111a - Nota. Detalle de CxC.'!$N$86)","v":""},{"$f":"IF('800111a - Nota. Detalle de CxC.'!$N$87=\"\",\"\",'800111a - Nota. Detalle de CxC.'!$N$87)","v":""},{"$f":"IF('800111a - Nota. Detalle de CxC.'!$N$88=\"\",\"\",'800111a - Nota. Detalle de CxC.'!$N$88)","v":""},{"$f":"IF('800111a - Nota. Detalle de CxC.'!$N$89=\"\",\"\",'800111a - Nota. Detalle de CxC.'!$N$89)","v":""},{"$f":"IF('800111a - Nota. Detalle de CxC.'!$N$90=\"\",\"\",'800111a - Nota. Detalle de CxC.'!$N$90)","v":""},{"$f":"IF('800111a - Nota. Detalle de CxC.'!$N$91=\"\",\"\",'800111a - Nota. Detalle de CxC.'!$N$91)","v":""},{"$f":"IF('800111a - Nota. Detalle de CxC.'!$N$92=\"\",\"\",'800111a - Nota. Detalle de CxC.'!$N$92)","v":""},{"$f":"IF('800111a - Nota. Detalle de CxC.'!$N$93=\"\",\"\",'800111a - Nota. Detalle de CxC.'!$N$93)","v":""},{"$f":"IF('800111a - Nota. Detalle de CxC.'!$N$94=\"\",\"\",'800111a - Nota. Detalle de CxC.'!$N$94)","v":""},{"$f":"IF('800111a - Nota. Detalle de CxC.'!$N$95=\"\",\"\",'800111a - Nota. Detalle de CxC.'!$N$95)","v":""},{"$f":"IF('800111a - Nota. Detalle de CxC.'!$N$96=\"\",\"\",'800111a - Nota. Detalle de CxC.'!$N$96)","v":""},{"$f":"IF('800111a - Nota. Detalle de CxC.'!$N$97=\"\",\"\",'800111a - Nota. Detalle de CxC.'!$N$97)","v":""},{"$f":"IF('800111a - Nota. Detalle de CxC.'!$N$98=\"\",\"\",'800111a - Nota. Detalle de CxC.'!$N$98)","v":""},{"$f":"IF('800111a - Nota. Detalle de CxC.'!$N$99=\"\",\"\",'800111a - Nota. Detalle de CxC.'!$N$99)","v":""},{"$f":"IF('800111a - Nota. Detalle de CxC.'!$N$100=\"\",\"\",'800111a - Nota. Detalle de CxC.'!$N$100)","v":""},{"$f":"IF('800111a - Nota. Detalle de CxC.'!$N$101=\"\",\"\",'800111a - Nota. Detalle de CxC.'!$N$101)","v":""},{"$f":"IF('800111a - Nota. Detalle de CxC.'!$N$102=\"\",\"\",'800111a - Nota. Detalle de CxC.'!$N$102)","v":""},{"$f":"IF('800111a - Nota. Detalle de CxC.'!$N$103=\"\",\"\",'800111a - Nota. Detalle de CxC.'!$N$103)","v":""},{"$f":"IF('800111a - Nota. Detalle de CxC.'!$N$104=\"\",\"\",'800111a - Nota. Detalle de CxC.'!$N$104)","v":""},{"$f":"IF('800111a - Nota. Detalle de CxC.'!$N$105=\"\",\"\",'800111a - Nota. Detalle de CxC.'!$N$105)","v":""},{"$f":"IF('800111a - Nota. Detalle de CxC.'!$N$106=\"\",\"\",'800111a - Nota. Detalle de CxC.'!$N$106)","v":""},{"$f":"IF('800111a - Nota. Detalle de CxC.'!$N$107=\"\",\"\",'800111a - Nota. Detalle de CxC.'!$N$107)","v":""},{"$f":"IF('800111a - Nota. Detalle de CxC.'!$N$108=\"\",\"\",'800111a - Nota. Detalle de CxC.'!$N$108)","v":""},{"$f":"IF('800111a - Nota. Detalle de CxC.'!$N$109=\"\",\"\",'800111a - Nota. Detalle de CxC.'!$N$109)","v":""},{"$f":"IF('800111a - Nota. Detalle de CxC.'!$N$110=\"\",\"\",'800111a - Nota. Detalle de CxC.'!$N$110)","v":""},{"$f":"IF('800111a - Nota. Detalle de CxC.'!$N$111=\"\",\"\",'800111a - Nota. Detalle de CxC.'!$N$111)","v":""},{"$f":"IF('800111a - Nota. Detalle de CxC.'!$N$112=\"\",\"\",'800111a - Nota. Detalle de CxC.'!$N$112)","v":""},{"$f":"IF('800111a - Nota. Detalle de CxC.'!$N$113=\"\",\"\",'800111a - Nota. Detalle de CxC.'!$N$113)","v":""},{"$f":"IF('800111a - Nota. Detalle de CxC.'!$N$114=\"\",\"\",'800111a - Nota. Detalle de CxC.'!$N$114)","v":""},{"$f":"IF('800111a - Nota. Detalle de CxC.'!$N$115=\"\",\"\",'800111a - Nota. Detalle de CxC.'!$N$115)","v":""},{"$f":"IF('800111a - Nota. Detalle de CxC.'!$N$116=\"\",\"\",'800111a - Nota. Detalle de CxC.'!$N$116)","v":""},{"$f":"IF('800111a - Nota. Detalle de CxC.'!$N$117=\"\",\"\",'800111a - Nota. Detalle de CxC.'!$N$117)","v":""},{"$f":"IF('800111a - Nota. Detalle de CxC.'!$N$118=\"\",\"\",'800111a - Nota. Detalle de CxC.'!$N$118)","v":""},{"$f":"IF('800111a - Nota. Detalle de CxC.'!$N$119=\"\",\"\",'800111a - Nota. Detalle de CxC.'!$N$119)","v":""},null,null,null,{"$f":"IF('800111a - Nota. Detalle de CxC.'!$N$123=\"\",\"\",'800111a - Nota. Detalle de CxC.'!$N$123)","v":""},{"$f":"IF('800111a - Nota. Detalle de CxC.'!$N$124=\"\",\"\",'800111a - Nota. Detalle de CxC.'!$N$124)","v":""},{"$f":"IF('800111a - Nota. Detalle de CxC.'!$N$125=\"\",\"\",'800111a - Nota. Detalle de CxC.'!$N$125)","v":""},{"$f":"IF('800111a - Nota. Detalle de CxC.'!$N$126=\"\",\"\",'800111a - Nota. Detalle de CxC.'!$N$126)","v":""},{"$f":"IF('800111a - Nota. Detalle de CxC.'!$N$127=\"\",\"\",'800111a - Nota. Detalle de CxC.'!$N$127)","v":""},{"$f":"IF('800111a - Nota. Detalle de CxC.'!$N$128=\"\",\"\",'800111a - Nota. Detalle de CxC.'!$N$128)","v":""},{"$f":"IF('800111a - Nota. Detalle de CxC.'!$N$129=\"\",\"\",'800111a - Nota. Detalle de CxC.'!$N$129)","v":""},{"$f":"IF('800111a - Nota. Detalle de CxC.'!$N$130=\"\",\"\",'800111a - Nota. Detalle de CxC.'!$N$130)","v":""},{"$f":"IF('800111a - Nota. Detalle de CxC.'!$N$131=\"\",\"\",'800111a - Nota. Detalle de CxC.'!$N$131)","v":""},{"$f":"IF('800111a - Nota. Detalle de CxC.'!$N$132=\"\",\"\",'800111a - Nota. Detalle de CxC.'!$N$132)","v":""},{"$f":"IF('800111a - Nota. Detalle de CxC.'!$N$133=\"\",\"\",'800111a - Nota. Detalle de CxC.'!$N$133)","v":""},{"$f":"IF('800111a - Nota. Detalle de CxC.'!$N$134=\"\",\"\",'800111a - Nota. Detalle de CxC.'!$N$134)","v":""},{"$f":"IF('800111a - Nota. Detalle de CxC.'!$N$135=\"\",\"\",'800111a - Nota. Detalle de CxC.'!$N$135)","v":""},{"$f":"IF('800111a - Nota. Detalle de CxC.'!$N$136=\"\",\"\",'800111a - Nota. Detalle de CxC.'!$N$136)","v":""},{"$f":"IF('800111a - Nota. Detalle de CxC.'!$N$137=\"\",\"\",'800111a - Nota. Detalle de CxC.'!$N$137)","v":""},{"$f":"IF('800111a - Nota. Detalle de CxC.'!$N$138=\"\",\"\",'800111a - Nota. Detalle de CxC.'!$N$138)","v":""},{"$f":"IF('800111a - Nota. Detalle de CxC.'!$N$139=\"\",\"\",'800111a - Nota. Detalle de CxC.'!$N$139)","v":""},{"$f":"IF('800111a - Nota. Detalle de CxC.'!$N$140=\"\",\"\",'800111a - Nota. Detalle de CxC.'!$N$140)","v":""},{"$f":"IF('800111a - Nota. Detalle de CxC.'!$N$141=\"\",\"\",'800111a - Nota. Detalle de CxC.'!$N$141)","v":""},{"$f":"IF('800111a - Nota. Detalle de CxC.'!$N$142=\"\",\"\",'800111a - Nota. Detalle de CxC.'!$N$142)","v":""},{"$f":"IF('800111a - Nota. Detalle de CxC.'!$N$143=\"\",\"\",'800111a - Nota. Detalle de CxC.'!$N$143)","v":""},{"$f":"IF('800111a - Nota. Detalle de CxC.'!$N$144=\"\",\"\",'800111a - Nota. Detalle de CxC.'!$N$144)","v":""},{"$f":"IF('800111a - Nota. Detalle de CxC.'!$N$145=\"\",\"\",'800111a - Nota. Detalle de CxC.'!$N$145)","v":""},{"$f":"IF('800111a - Nota. Detalle de CxC.'!$N$146=\"\",\"\",'800111a - Nota. Detalle de CxC.'!$N$146)","v":""},{"$f":"IF('800111a - Nota. Detalle de CxC.'!$N$147=\"\",\"\",'800111a - Nota. Detalle de CxC.'!$N$147)","v":""},{"$f":"IF('800111a - Nota. Detalle de CxC.'!$N$148=\"\",\"\",'800111a - Nota. Detalle de CxC.'!$N$148)","v":""},{"$f":"IF('800111a - Nota. Detalle de CxC.'!$N$149=\"\",\"\",'800111a - Nota. Detalle de CxC.'!$N$149)","v":""},{"$f":"IF('800111a - Nota. Detalle de CxC.'!$N$150=\"\",\"\",'800111a - Nota. Detalle de CxC.'!$N$150)","v":""},{"$f":"IF('800111a - Nota. Detalle de CxC.'!$N$151=\"\",\"\",'800111a - Nota. Detalle de CxC.'!$N$151)","v":""},{"$f":"IF('800111a - Nota. Detalle de CxC.'!$N$152=\"\",\"\",'800111a - Nota. Detalle de CxC.'!$N$152)","v":""},{"$f":"IF('800111a - Nota. Detalle de CxC.'!$N$153=\"\",\"\",'800111a - Nota. Detalle de CxC.'!$N$153)","v":""},{"$f":"IF('800111a - Nota. Detalle de CxC.'!$N$154=\"\",\"\",'800111a - Nota. Detalle de CxC.'!$N$154)","v":""},{"$f":"IF('800111a - Nota. Detalle de CxC.'!$N$155=\"\",\"\",'800111a - Nota. Detalle de CxC.'!$N$155)","v":""},{"$f":"IF('800111a - Nota. Detalle de CxC.'!$N$156=\"\",\"\",'800111a - Nota. Detalle de CxC.'!$N$156)","v":""},{"$f":"IF('800111a - Nota. Detalle de CxC.'!$N$157=\"\",\"\",'800111a - Nota. Detalle de CxC.'!$N$157)","v":""},{"$f":"IF('800111a - Nota. Detalle de CxC.'!$N$158=\"\",\"\",'800111a - Nota. Detalle de CxC.'!$N$158)","v":""},{"$f":"IF('800111a - Nota. Detalle de CxC.'!$N$159=\"\",\"\",'800111a - Nota. Detalle de CxC.'!$N$159)","v":""},{"$f":"IF('800111a - Nota. Detalle de CxC.'!$N$160=\"\",\"\",'800111a - Nota. Detalle de CxC.'!$N$160)","v":""},{"$f":"IF('800111a - Nota. Detalle de CxC.'!$N$161=\"\",\"\",'800111a - Nota. Detalle de CxC.'!$N$161)","v":""},{"$f":"IF('800111a - Nota. Detalle de CxC.'!$N$162=\"\",\"\",'800111a - Nota. Detalle de CxC.'!$N$162)","v":""},{"$f":"IF('800111a - Nota. Detalle de CxC.'!$N$163=\"\",\"\",'800111a - Nota. Detalle de CxC.'!$N$163)","v":""},{"$f":"IF('800111a - Nota. Detalle de CxC.'!$N$164=\"\",\"\",'800111a - Nota. Detalle de CxC.'!$N$164)","v":""},{"$f":"IF('800111a - Nota. Detalle de CxC.'!$N$165=\"\",\"\",'800111a - Nota. Detalle de CxC.'!$N$165)","v":""},{"$f":"IF('800111a - Nota. Detalle de CxC.'!$N$166=\"\",\"\",'800111a - Nota. Detalle de CxC.'!$N$166)","v":""},{"$f":"IF('800111a - Nota. Detalle de CxC.'!$N$167=\"\",\"\",'800111a - Nota. Detalle de CxC.'!$N$167)","v":""},{"$f":"IF('800111a - Nota. Detalle de CxC.'!$N$168=\"\",\"\",'800111a - Nota. Detalle de CxC.'!$N$168)","v":""},{"$f":"IF('800111a - Nota. Detalle de CxC.'!$N$169=\"\",\"\",'800111a - Nota. Detalle de CxC.'!$N$169)","v":""},{"$f":"IF('800111a - Nota. Detalle de CxC.'!$N$170=\"\",\"\",'800111a - Nota. Detalle de CxC.'!$N$170)","v":""},{"$f":"IF('800111a - Nota. Detalle de CxC.'!$N$171=\"\",\"\",'800111a - Nota. Detalle de CxC.'!$N$171)","v":""},{"$f":"IF('800111a - Nota. Detalle de CxC.'!$N$172=\"\",\"\",'800111a - Nota. Detalle de CxC.'!$N$172)","v":""}]
[null,"1;1","co-svsp-core:MunicipioDeudorCxC","Municipio deudor",null,null,{"$f":"IF('800111a - Nota. Detalle de CxC.'!$O$17=\"\",\"\",'800111a - Nota. Detalle de CxC.'!$O$17)","v":""},{"$f":"IF('800111a - Nota. Detalle de CxC.'!$O$18=\"\",\"\",'800111a - Nota. Detalle de CxC.'!$O$18)","v":""},{"$f":"IF('800111a - Nota. Detalle de CxC.'!$O$19=\"\",\"\",'800111a - Nota. Detalle de CxC.'!$O$19)","v":""},{"$f":"IF('800111a - Nota. Detalle de CxC.'!$O$20=\"\",\"\",'800111a - Nota. Detalle de CxC.'!$O$20)","v":""},{"$f":"IF('800111a - Nota. Detalle de CxC.'!$O$21=\"\",\"\",'800111a - Nota. Detalle de CxC.'!$O$21)","v":""},{"$f":"IF('800111a - Nota. Detalle de CxC.'!$O$22=\"\",\"\",'800111a - Nota. Detalle de CxC.'!$O$22)","v":""},{"$f":"IF('800111a - Nota. Detalle de CxC.'!$O$23=\"\",\"\",'800111a - Nota. Detalle de CxC.'!$O$23)","v":""},{"$f":"IF('800111a - Nota. Detalle de CxC.'!$O$24=\"\",\"\",'800111a - Nota. Detalle de CxC.'!$O$24)","v":""},{"$f":"IF('800111a - Nota. Detalle de CxC.'!$O$25=\"\",\"\",'800111a - Nota. Detalle de CxC.'!$O$25)","v":""},{"$f":"IF('800111a - Nota. Detalle de CxC.'!$O$26=\"\",\"\",'800111a - Nota. Detalle de CxC.'!$O$26)","v":""},{"$f":"IF('800111a - Nota. Detalle de CxC.'!$O$27=\"\",\"\",'800111a - Nota. Detalle de CxC.'!$O$27)","v":""},{"$f":"IF('800111a - Nota. Detalle de CxC.'!$O$28=\"\",\"\",'800111a - Nota. Detalle de CxC.'!$O$28)","v":""},{"$f":"IF('800111a - Nota. Detalle de CxC.'!$O$29=\"\",\"\",'800111a - Nota. Detalle de CxC.'!$O$29)","v":""},{"$f":"IF('800111a - Nota. Detalle de CxC.'!$O$30=\"\",\"\",'800111a - Nota. Detalle de CxC.'!$O$30)","v":""},{"$f":"IF('800111a - Nota. Detalle de CxC.'!$O$31=\"\",\"\",'800111a - Nota. Detalle de CxC.'!$O$31)","v":""},{"$f":"IF('800111a - Nota. Detalle de CxC.'!$O$32=\"\",\"\",'800111a - Nota. Detalle de CxC.'!$O$32)","v":""},{"$f":"IF('800111a - Nota. Detalle de CxC.'!$O$33=\"\",\"\",'800111a - Nota. Detalle de CxC.'!$O$33)","v":""},{"$f":"IF('800111a - Nota. Detalle de CxC.'!$O$34=\"\",\"\",'800111a - Nota. Detalle de CxC.'!$O$34)","v":""},{"$f":"IF('800111a - Nota. Detalle de CxC.'!$O$35=\"\",\"\",'800111a - Nota. Detalle de CxC.'!$O$35)","v":""},{"$f":"IF('800111a - Nota. Detalle de CxC.'!$O$36=\"\",\"\",'800111a - Nota. Detalle de CxC.'!$O$36)","v":""},{"$f":"IF('800111a - Nota. Detalle de CxC.'!$O$37=\"\",\"\",'800111a - Nota. Detalle de CxC.'!$O$37)","v":""},{"$f":"IF('800111a - Nota. Detalle de CxC.'!$O$38=\"\",\"\",'800111a - Nota. Detalle de CxC.'!$O$38)","v":""},{"$f":"IF('800111a - Nota. Detalle de CxC.'!$O$39=\"\",\"\",'800111a - Nota. Detalle de CxC.'!$O$39)","v":""},{"$f":"IF('800111a - Nota. Detalle de CxC.'!$O$40=\"\",\"\",'800111a - Nota. Detalle de CxC.'!$O$40)","v":""},{"$f":"IF('800111a - Nota. Detalle de CxC.'!$O$41=\"\",\"\",'800111a - Nota. Detalle de CxC.'!$O$41)","v":""},{"$f":"IF('800111a - Nota. Detalle de CxC.'!$O$42=\"\",\"\",'800111a - Nota. Detalle de CxC.'!$O$42)","v":""},{"$f":"IF('800111a - Nota. Detalle de CxC.'!$O$43=\"\",\"\",'800111a - Nota. Detalle de CxC.'!$O$43)","v":""},{"$f":"IF('800111a - Nota. Detalle de CxC.'!$O$44=\"\",\"\",'800111a - Nota. Detalle de CxC.'!$O$44)","v":""},{"$f":"IF('800111a - Nota. Detalle de CxC.'!$O$45=\"\",\"\",'800111a - Nota. Detalle de CxC.'!$O$45)","v":""},{"$f":"IF('800111a - Nota. Detalle de CxC.'!$O$46=\"\",\"\",'800111a - Nota. Detalle de CxC.'!$O$46)","v":""},{"$f":"IF('800111a - Nota. Detalle de CxC.'!$O$47=\"\",\"\",'800111a - Nota. Detalle de CxC.'!$O$47)","v":""},{"$f":"IF('800111a - Nota. Detalle de CxC.'!$O$48=\"\",\"\",'800111a - Nota. Detalle de CxC.'!$O$48)","v":""},{"$f":"IF('800111a - Nota. Detalle de CxC.'!$O$49=\"\",\"\",'800111a - Nota. Detalle de CxC.'!$O$49)","v":""},{"$f":"IF('800111a - Nota. Detalle de CxC.'!$O$50=\"\",\"\",'800111a - Nota. Detalle de CxC.'!$O$50)","v":""},{"$f":"IF('800111a - Nota. Detalle de CxC.'!$O$51=\"\",\"\",'800111a - Nota. Detalle de CxC.'!$O$51)","v":""},{"$f":"IF('800111a - Nota. Detalle de CxC.'!$O$52=\"\",\"\",'800111a - Nota. Detalle de CxC.'!$O$52)","v":""},{"$f":"IF('800111a - Nota. Detalle de CxC.'!$O$53=\"\",\"\",'800111a - Nota. Detalle de CxC.'!$O$53)","v":""},{"$f":"IF('800111a - Nota. Detalle de CxC.'!$O$54=\"\",\"\",'800111a - Nota. Detalle de CxC.'!$O$54)","v":""},{"$f":"IF('800111a - Nota. Detalle de CxC.'!$O$55=\"\",\"\",'800111a - Nota. Detalle de CxC.'!$O$55)","v":""},{"$f":"IF('800111a - Nota. Detalle de CxC.'!$O$56=\"\",\"\",'800111a - Nota. Detalle de CxC.'!$O$56)","v":""},{"$f":"IF('800111a - Nota. Detalle de CxC.'!$O$57=\"\",\"\",'800111a - Nota. Detalle de CxC.'!$O$57)","v":""},{"$f":"IF('800111a - Nota. Detalle de CxC.'!$O$58=\"\",\"\",'800111a - Nota. Detalle de CxC.'!$O$58)","v":""},{"$f":"IF('800111a - Nota. Detalle de CxC.'!$O$59=\"\",\"\",'800111a - Nota. Detalle de CxC.'!$O$59)","v":""},{"$f":"IF('800111a - Nota. Detalle de CxC.'!$O$60=\"\",\"\",'800111a - Nota. Detalle de CxC.'!$O$60)","v":""},{"$f":"IF('800111a - Nota. Detalle de CxC.'!$O$61=\"\",\"\",'800111a - Nota. Detalle de CxC.'!$O$61)","v":""},{"$f":"IF('800111a - Nota. Detalle de CxC.'!$O$62=\"\",\"\",'800111a - Nota. Detalle de CxC.'!$O$62)","v":""},{"$f":"IF('800111a - Nota. Detalle de CxC.'!$O$63=\"\",\"\",'800111a - Nota. Detalle de CxC.'!$O$63)","v":""},{"$f":"IF('800111a - Nota. Detalle de CxC.'!$O$64=\"\",\"\",'800111a - Nota. Detalle de CxC.'!$O$64)","v":""},{"$f":"IF('800111a - Nota. Detalle de CxC.'!$O$65=\"\",\"\",'800111a - Nota. Detalle de CxC.'!$O$65)","v":""},{"$f":"IF('800111a - Nota. Detalle de CxC.'!$O$66=\"\",\"\",'800111a - Nota. Detalle de CxC.'!$O$66)","v":""},null,null,null,{"$f":"IF('800111a - Nota. Detalle de CxC.'!$O$70=\"\",\"\",'800111a - Nota. Detalle de CxC.'!$O$70)","v":""},{"$f":"IF('800111a - Nota. Detalle de CxC.'!$O$71=\"\",\"\",'800111a - Nota. Detalle de CxC.'!$O$71)","v":""},{"$f":"IF('800111a - Nota. Detalle de CxC.'!$O$72=\"\",\"\",'800111a - Nota. Detalle de CxC.'!$O$72)","v":""},{"$f":"IF('800111a - Nota. Detalle de CxC.'!$O$73=\"\",\"\",'800111a - Nota. Detalle de CxC.'!$O$73)","v":""},{"$f":"IF('800111a - Nota. Detalle de CxC.'!$O$74=\"\",\"\",'800111a - Nota. Detalle de CxC.'!$O$74)","v":""},{"$f":"IF('800111a - Nota. Detalle de CxC.'!$O$75=\"\",\"\",'800111a - Nota. Detalle de CxC.'!$O$75)","v":""},{"$f":"IF('800111a - Nota. Detalle de CxC.'!$O$76=\"\",\"\",'800111a - Nota. Detalle de CxC.'!$O$76)","v":""},{"$f":"IF('800111a - Nota. Detalle de CxC.'!$O$77=\"\",\"\",'800111a - Nota. Detalle de CxC.'!$O$77)","v":""},{"$f":"IF('800111a - Nota. Detalle de CxC.'!$O$78=\"\",\"\",'800111a - Nota. Detalle de CxC.'!$O$78)","v":""},{"$f":"IF('800111a - Nota. Detalle de CxC.'!$O$79=\"\",\"\",'800111a - Nota. Detalle de CxC.'!$O$79)","v":""},{"$f":"IF('800111a - Nota. Detalle de CxC.'!$O$80=\"\",\"\",'800111a - Nota. Detalle de CxC.'!$O$80)","v":""},{"$f":"IF('800111a - Nota. Detalle de CxC.'!$O$81=\"\",\"\",'800111a - Nota. Detalle de CxC.'!$O$81)","v":""},{"$f":"IF('800111a - Nota. Detalle de CxC.'!$O$82=\"\",\"\",'800111a - Nota. Detalle de CxC.'!$O$82)","v":""},{"$f":"IF('800111a - Nota. Detalle de CxC.'!$O$83=\"\",\"\",'800111a - Nota. Detalle de CxC.'!$O$83)","v":""},{"$f":"IF('800111a - Nota. Detalle de CxC.'!$O$84=\"\",\"\",'800111a - Nota. Detalle de CxC.'!$O$84)","v":""},{"$f":"IF('800111a - Nota. Detalle de CxC.'!$O$85=\"\",\"\",'800111a - Nota. Detalle de CxC.'!$O$85)","v":""},{"$f":"IF('800111a - Nota. Detalle de CxC.'!$O$86=\"\",\"\",'800111a - Nota. Detalle de CxC.'!$O$86)","v":""},{"$f":"IF('800111a - Nota. Detalle de CxC.'!$O$87=\"\",\"\",'800111a - Nota. Detalle de CxC.'!$O$87)","v":""},{"$f":"IF('800111a - Nota. Detalle de CxC.'!$O$88=\"\",\"\",'800111a - Nota. Detalle de CxC.'!$O$88)","v":""},{"$f":"IF('800111a - Nota. Detalle de CxC.'!$O$89=\"\",\"\",'800111a - Nota. Detalle de CxC.'!$O$89)","v":""},{"$f":"IF('800111a - Nota. Detalle de CxC.'!$O$90=\"\",\"\",'800111a - Nota. Detalle de CxC.'!$O$90)","v":""},{"$f":"IF('800111a - Nota. Detalle de CxC.'!$O$91=\"\",\"\",'800111a - Nota. Detalle de CxC.'!$O$91)","v":""},{"$f":"IF('800111a - Nota. Detalle de CxC.'!$O$92=\"\",\"\",'800111a - Nota. Detalle de CxC.'!$O$92)","v":""},{"$f":"IF('800111a - Nota. Detalle de CxC.'!$O$93=\"\",\"\",'800111a - Nota. Detalle de CxC.'!$O$93)","v":""},{"$f":"IF('800111a - Nota. Detalle de CxC.'!$O$94=\"\",\"\",'800111a - Nota. Detalle de CxC.'!$O$94)","v":""},{"$f":"IF('800111a - Nota. Detalle de CxC.'!$O$95=\"\",\"\",'800111a - Nota. Detalle de CxC.'!$O$95)","v":""},{"$f":"IF('800111a - Nota. Detalle de CxC.'!$O$96=\"\",\"\",'800111a - Nota. Detalle de CxC.'!$O$96)","v":""},{"$f":"IF('800111a - Nota. Detalle de CxC.'!$O$97=\"\",\"\",'800111a - Nota. Detalle de CxC.'!$O$97)","v":""},{"$f":"IF('800111a - Nota. Detalle de CxC.'!$O$98=\"\",\"\",'800111a - Nota. Detalle de CxC.'!$O$98)","v":""},{"$f":"IF('800111a - Nota. Detalle de CxC.'!$O$99=\"\",\"\",'800111a - Nota. Detalle de CxC.'!$O$99)","v":""},{"$f":"IF('800111a - Nota. Detalle de CxC.'!$O$100=\"\",\"\",'800111a - Nota. Detalle de CxC.'!$O$100)","v":""},{"$f":"IF('800111a - Nota. Detalle de CxC.'!$O$101=\"\",\"\",'800111a - Nota. Detalle de CxC.'!$O$101)","v":""},{"$f":"IF('800111a - Nota. Detalle de CxC.'!$O$102=\"\",\"\",'800111a - Nota. Detalle de CxC.'!$O$102)","v":""},{"$f":"IF('800111a - Nota. Detalle de CxC.'!$O$103=\"\",\"\",'800111a - Nota. Detalle de CxC.'!$O$103)","v":""},{"$f":"IF('800111a - Nota. Detalle de CxC.'!$O$104=\"\",\"\",'800111a - Nota. Detalle de CxC.'!$O$104)","v":""},{"$f":"IF('800111a - Nota. Detalle de CxC.'!$O$105=\"\",\"\",'800111a - Nota. Detalle de CxC.'!$O$105)","v":""},{"$f":"IF('800111a - Nota. Detalle de CxC.'!$O$106=\"\",\"\",'800111a - Nota. Detalle de CxC.'!$O$106)","v":""},{"$f":"IF('800111a - Nota. Detalle de CxC.'!$O$107=\"\",\"\",'800111a - Nota. Detalle de CxC.'!$O$107)","v":""},{"$f":"IF('800111a - Nota. Detalle de CxC.'!$O$108=\"\",\"\",'800111a - Nota. Detalle de CxC.'!$O$108)","v":""},{"$f":"IF('800111a - Nota. Detalle de CxC.'!$O$109=\"\",\"\",'800111a - Nota. Detalle de CxC.'!$O$109)","v":""},{"$f":"IF('800111a - Nota. Detalle de CxC.'!$O$110=\"\",\"\",'800111a - Nota. Detalle de CxC.'!$O$110)","v":""},{"$f":"IF('800111a - Nota. Detalle de CxC.'!$O$111=\"\",\"\",'800111a - Nota. Detalle de CxC.'!$O$111)","v":""},{"$f":"IF('800111a - Nota. Detalle de CxC.'!$O$112=\"\",\"\",'800111a - Nota. Detalle de CxC.'!$O$112)","v":""},{"$f":"IF('800111a - Nota. Detalle de CxC.'!$O$113=\"\",\"\",'800111a - Nota. Detalle de CxC.'!$O$113)","v":""},{"$f":"IF('800111a - Nota. Detalle de CxC.'!$O$114=\"\",\"\",'800111a - Nota. Detalle de CxC.'!$O$114)","v":""},{"$f":"IF('800111a - Nota. Detalle de CxC.'!$O$115=\"\",\"\",'800111a - Nota. Detalle de CxC.'!$O$115)","v":""},{"$f":"IF('800111a - Nota. Detalle de CxC.'!$O$116=\"\",\"\",'800111a - Nota. Detalle de CxC.'!$O$116)","v":""},{"$f":"IF('800111a - Nota. Detalle de CxC.'!$O$117=\"\",\"\",'800111a - Nota. Detalle de CxC.'!$O$117)","v":""},{"$f":"IF('800111a - Nota. Detalle de CxC.'!$O$118=\"\",\"\",'800111a - Nota. Detalle de CxC.'!$O$118)","v":""},{"$f":"IF('800111a - Nota. Detalle de CxC.'!$O$119=\"\",\"\",'800111a - Nota. Detalle de CxC.'!$O$119)","v":""},null,null,null,{"$f":"IF('800111a - Nota. Detalle de CxC.'!$O$123=\"\",\"\",'800111a - Nota. Detalle de CxC.'!$O$123)","v":""},{"$f":"IF('800111a - Nota. Detalle de CxC.'!$O$124=\"\",\"\",'800111a - Nota. Detalle de CxC.'!$O$124)","v":""},{"$f":"IF('800111a - Nota. Detalle de CxC.'!$O$125=\"\",\"\",'800111a - Nota. Detalle de CxC.'!$O$125)","v":""},{"$f":"IF('800111a - Nota. Detalle de CxC.'!$O$126=\"\",\"\",'800111a - Nota. Detalle de CxC.'!$O$126)","v":""},{"$f":"IF('800111a - Nota. Detalle de CxC.'!$O$127=\"\",\"\",'800111a - Nota. Detalle de CxC.'!$O$127)","v":""},{"$f":"IF('800111a - Nota. Detalle de CxC.'!$O$128=\"\",\"\",'800111a - Nota. Detalle de CxC.'!$O$128)","v":""},{"$f":"IF('800111a - Nota. Detalle de CxC.'!$O$129=\"\",\"\",'800111a - Nota. Detalle de CxC.'!$O$129)","v":""},{"$f":"IF('800111a - Nota. Detalle de CxC.'!$O$130=\"\",\"\",'800111a - Nota. Detalle de CxC.'!$O$130)","v":""},{"$f":"IF('800111a - Nota. Detalle de CxC.'!$O$131=\"\",\"\",'800111a - Nota. Detalle de CxC.'!$O$131)","v":""},{"$f":"IF('800111a - Nota. Detalle de CxC.'!$O$132=\"\",\"\",'800111a - Nota. Detalle de CxC.'!$O$132)","v":""},{"$f":"IF('800111a - Nota. Detalle de CxC.'!$O$133=\"\",\"\",'800111a - Nota. Detalle de CxC.'!$O$133)","v":""},{"$f":"IF('800111a - Nota. Detalle de CxC.'!$O$134=\"\",\"\",'800111a - Nota. Detalle de CxC.'!$O$134)","v":""},{"$f":"IF('800111a - Nota. Detalle de CxC.'!$O$135=\"\",\"\",'800111a - Nota. Detalle de CxC.'!$O$135)","v":""},{"$f":"IF('800111a - Nota. Detalle de CxC.'!$O$136=\"\",\"\",'800111a - Nota. Detalle de CxC.'!$O$136)","v":""},{"$f":"IF('800111a - Nota. Detalle de CxC.'!$O$137=\"\",\"\",'800111a - Nota. Detalle de CxC.'!$O$137)","v":""},{"$f":"IF('800111a - Nota. Detalle de CxC.'!$O$138=\"\",\"\",'800111a - Nota. Detalle de CxC.'!$O$138)","v":""},{"$f":"IF('800111a - Nota. Detalle de CxC.'!$O$139=\"\",\"\",'800111a - Nota. Detalle de CxC.'!$O$139)","v":""},{"$f":"IF('800111a - Nota. Detalle de CxC.'!$O$140=\"\",\"\",'800111a - Nota. Detalle de CxC.'!$O$140)","v":""},{"$f":"IF('800111a - Nota. Detalle de CxC.'!$O$141=\"\",\"\",'800111a - Nota. Detalle de CxC.'!$O$141)","v":""},{"$f":"IF('800111a - Nota. Detalle de CxC.'!$O$142=\"\",\"\",'800111a - Nota. Detalle de CxC.'!$O$142)","v":""},{"$f":"IF('800111a - Nota. Detalle de CxC.'!$O$143=\"\",\"\",'800111a - Nota. Detalle de CxC.'!$O$143)","v":""},{"$f":"IF('800111a - Nota. Detalle de CxC.'!$O$144=\"\",\"\",'800111a - Nota. Detalle de CxC.'!$O$144)","v":""},{"$f":"IF('800111a - Nota. Detalle de CxC.'!$O$145=\"\",\"\",'800111a - Nota. Detalle de CxC.'!$O$145)","v":""},{"$f":"IF('800111a - Nota. Detalle de CxC.'!$O$146=\"\",\"\",'800111a - Nota. Detalle de CxC.'!$O$146)","v":""},{"$f":"IF('800111a - Nota. Detalle de CxC.'!$O$147=\"\",\"\",'800111a - Nota. Detalle de CxC.'!$O$147)","v":""},{"$f":"IF('800111a - Nota. Detalle de CxC.'!$O$148=\"\",\"\",'800111a - Nota. Detalle de CxC.'!$O$148)","v":""},{"$f":"IF('800111a - Nota. Detalle de CxC.'!$O$149=\"\",\"\",'800111a - Nota. Detalle de CxC.'!$O$149)","v":""},{"$f":"IF('800111a - Nota. Detalle de CxC.'!$O$150=\"\",\"\",'800111a - Nota. Detalle de CxC.'!$O$150)","v":""},{"$f":"IF('800111a - Nota. Detalle de CxC.'!$O$151=\"\",\"\",'800111a - Nota. Detalle de CxC.'!$O$151)","v":""},{"$f":"IF('800111a - Nota. Detalle de CxC.'!$O$152=\"\",\"\",'800111a - Nota. Detalle de CxC.'!$O$152)","v":""},{"$f":"IF('800111a - Nota. Detalle de CxC.'!$O$153=\"\",\"\",'800111a - Nota. Detalle de CxC.'!$O$153)","v":""},{"$f":"IF('800111a - Nota. Detalle de CxC.'!$O$154=\"\",\"\",'800111a - Nota. Detalle de CxC.'!$O$154)","v":""},{"$f":"IF('800111a - Nota. Detalle de CxC.'!$O$155=\"\",\"\",'800111a - Nota. Detalle de CxC.'!$O$155)","v":""},{"$f":"IF('800111a - Nota. Detalle de CxC.'!$O$156=\"\",\"\",'800111a - Nota. Detalle de CxC.'!$O$156)","v":""},{"$f":"IF('800111a - Nota. Detalle de CxC.'!$O$157=\"\",\"\",'800111a - Nota. Detalle de CxC.'!$O$157)","v":""},{"$f":"IF('800111a - Nota. Detalle de CxC.'!$O$158=\"\",\"\",'800111a - Nota. Detalle de CxC.'!$O$158)","v":""},{"$f":"IF('800111a - Nota. Detalle de CxC.'!$O$159=\"\",\"\",'800111a - Nota. Detalle de CxC.'!$O$159)","v":""},{"$f":"IF('800111a - Nota. Detalle de CxC.'!$O$160=\"\",\"\",'800111a - Nota. Detalle de CxC.'!$O$160)","v":""},{"$f":"IF('800111a - Nota. Detalle de CxC.'!$O$161=\"\",\"\",'800111a - Nota. Detalle de CxC.'!$O$161)","v":""},{"$f":"IF('800111a - Nota. Detalle de CxC.'!$O$162=\"\",\"\",'800111a - Nota. Detalle de CxC.'!$O$162)","v":""},{"$f":"IF('800111a - Nota. Detalle de CxC.'!$O$163=\"\",\"\",'800111a - Nota. Detalle de CxC.'!$O$163)","v":""},{"$f":"IF('800111a - Nota. Detalle de CxC.'!$O$164=\"\",\"\",'800111a - Nota. Detalle de CxC.'!$O$164)","v":""},{"$f":"IF('800111a - Nota. Detalle de CxC.'!$O$165=\"\",\"\",'800111a - Nota. Detalle de CxC.'!$O$165)","v":""},{"$f":"IF('800111a - Nota. Detalle de CxC.'!$O$166=\"\",\"\",'800111a - Nota. Detalle de CxC.'!$O$166)","v":""},{"$f":"IF('800111a - Nota. Detalle de CxC.'!$O$167=\"\",\"\",'800111a - Nota. Detalle de CxC.'!$O$167)","v":""},{"$f":"IF('800111a - Nota. Detalle de CxC.'!$O$168=\"\",\"\",'800111a - Nota. Detalle de CxC.'!$O$168)","v":""},{"$f":"IF('800111a - Nota. Detalle de CxC.'!$O$169=\"\",\"\",'800111a - Nota. Detalle de CxC.'!$O$169)","v":""},{"$f":"IF('800111a - Nota. Detalle de CxC.'!$O$170=\"\",\"\",'800111a - Nota. Detalle de CxC.'!$O$170)","v":""},{"$f":"IF('800111a - Nota. Detalle de CxC.'!$O$171=\"\",\"\",'800111a - Nota. Detalle de CxC.'!$O$171)","v":""},{"$f":"IF('800111a - Nota. Detalle de CxC.'!$O$172=\"\",\"\",'800111a - Nota. Detalle de CxC.'!$O$172)","v":""}]
[null,"1;1","co-svsp-core:PaisDeudorCxC","País deudor",null,null,{"$f":"IF('800111a - Nota. Detalle de CxC.'!$P$17=\"\",\"\",'800111a - Nota. Detalle de CxC.'!$P$17)","v":""},{"$f":"IF('800111a - Nota. Detalle de CxC.'!$P$18=\"\",\"\",'800111a - Nota. Detalle de CxC.'!$P$18)","v":""},{"$f":"IF('800111a - Nota. Detalle de CxC.'!$P$19=\"\",\"\",'800111a - Nota. Detalle de CxC.'!$P$19)","v":""},{"$f":"IF('800111a - Nota. Detalle de CxC.'!$P$20=\"\",\"\",'800111a - Nota. Detalle de CxC.'!$P$20)","v":""},{"$f":"IF('800111a - Nota. Detalle de CxC.'!$P$21=\"\",\"\",'800111a - Nota. Detalle de CxC.'!$P$21)","v":""},{"$f":"IF('800111a - Nota. Detalle de CxC.'!$P$22=\"\",\"\",'800111a - Nota. Detalle de CxC.'!$P$22)","v":""},{"$f":"IF('800111a - Nota. Detalle de CxC.'!$P$23=\"\",\"\",'800111a - Nota. Detalle de CxC.'!$P$23)","v":""},{"$f":"IF('800111a - Nota. Detalle de CxC.'!$P$24=\"\",\"\",'800111a - Nota. Detalle de CxC.'!$P$24)","v":""},{"$f":"IF('800111a - Nota. Detalle de CxC.'!$P$25=\"\",\"\",'800111a - Nota. Detalle de CxC.'!$P$25)","v":""},{"$f":"IF('800111a - Nota. Detalle de CxC.'!$P$26=\"\",\"\",'800111a - Nota. Detalle de CxC.'!$P$26)","v":""},{"$f":"IF('800111a - Nota. Detalle de CxC.'!$P$27=\"\",\"\",'800111a - Nota. Detalle de CxC.'!$P$27)","v":""},{"$f":"IF('800111a - Nota. Detalle de CxC.'!$P$28=\"\",\"\",'800111a - Nota. Detalle de CxC.'!$P$28)","v":""},{"$f":"IF('800111a - Nota. Detalle de CxC.'!$P$29=\"\",\"\",'800111a - Nota. Detalle de CxC.'!$P$29)","v":""},{"$f":"IF('800111a - Nota. Detalle de CxC.'!$P$30=\"\",\"\",'800111a - Nota. Detalle de CxC.'!$P$30)","v":""},{"$f":"IF('800111a - Nota. Detalle de CxC.'!$P$31=\"\",\"\",'800111a - Nota. Detalle de CxC.'!$P$31)","v":""},{"$f":"IF('800111a - Nota. Detalle de CxC.'!$P$32=\"\",\"\",'800111a - Nota. Detalle de CxC.'!$P$32)","v":""},{"$f":"IF('800111a - Nota. Detalle de CxC.'!$P$33=\"\",\"\",'800111a - Nota. Detalle de CxC.'!$P$33)","v":""},{"$f":"IF('800111a - Nota. Detalle de CxC.'!$P$34=\"\",\"\",'800111a - Nota. Detalle de CxC.'!$P$34)","v":""},{"$f":"IF('800111a - Nota. Detalle de CxC.'!$P$35=\"\",\"\",'800111a - Nota. Detalle de CxC.'!$P$35)","v":""},{"$f":"IF('800111a - Nota. Detalle de CxC.'!$P$36=\"\",\"\",'800111a - Nota. Detalle de CxC.'!$P$36)","v":""},{"$f":"IF('800111a - Nota. Detalle de CxC.'!$P$37=\"\",\"\",'800111a - Nota. Detalle de CxC.'!$P$37)","v":""},{"$f":"IF('800111a - Nota. Detalle de CxC.'!$P$38=\"\",\"\",'800111a - Nota. Detalle de CxC.'!$P$38)","v":""},{"$f":"IF('800111a - Nota. Detalle de CxC.'!$P$39=\"\",\"\",'800111a - Nota. Detalle de CxC.'!$P$39)","v":""},{"$f":"IF('800111a - Nota. Detalle de CxC.'!$P$40=\"\",\"\",'800111a - Nota. Detalle de CxC.'!$P$40)","v":""},{"$f":"IF('800111a - Nota. Detalle de CxC.'!$P$41=\"\",\"\",'800111a - Nota. Detalle de CxC.'!$P$41)","v":""},{"$f":"IF('800111a - Nota. Detalle de CxC.'!$P$42=\"\",\"\",'800111a - Nota. Detalle de CxC.'!$P$42)","v":""},{"$f":"IF('800111a - Nota. Detalle de CxC.'!$P$43=\"\",\"\",'800111a - Nota. Detalle de CxC.'!$P$43)","v":""},{"$f":"IF('800111a - Nota. Detalle de CxC.'!$P$44=\"\",\"\",'800111a - Nota. Detalle de CxC.'!$P$44)","v":""},{"$f":"IF('800111a - Nota. Detalle de CxC.'!$P$45=\"\",\"\",'800111a - Nota. Detalle de CxC.'!$P$45)","v":""},{"$f":"IF('800111a - Nota. Detalle de CxC.'!$P$46=\"\",\"\",'800111a - Nota. Detalle de CxC.'!$P$46)","v":""},{"$f":"IF('800111a - Nota. Detalle de CxC.'!$P$47=\"\",\"\",'800111a - Nota. Detalle de CxC.'!$P$47)","v":""},{"$f":"IF('800111a - Nota. Detalle de CxC.'!$P$48=\"\",\"\",'800111a - Nota. Detalle de CxC.'!$P$48)","v":""},{"$f":"IF('800111a - Nota. Detalle de CxC.'!$P$49=\"\",\"\",'800111a - Nota. Detalle de CxC.'!$P$49)","v":""},{"$f":"IF('800111a - Nota. Detalle de CxC.'!$P$50=\"\",\"\",'800111a - Nota. Detalle de CxC.'!$P$50)","v":""},{"$f":"IF('800111a - Nota. Detalle de CxC.'!$P$51=\"\",\"\",'800111a - Nota. Detalle de CxC.'!$P$51)","v":""},{"$f":"IF('800111a - Nota. Detalle de CxC.'!$P$52=\"\",\"\",'800111a - Nota. Detalle de CxC.'!$P$52)","v":""},{"$f":"IF('800111a - Nota. Detalle de CxC.'!$P$53=\"\",\"\",'800111a - Nota. Detalle de CxC.'!$P$53)","v":""},{"$f":"IF('800111a - Nota. Detalle de CxC.'!$P$54=\"\",\"\",'800111a - Nota. Detalle de CxC.'!$P$54)","v":""},{"$f":"IF('800111a - Nota. Detalle de CxC.'!$P$55=\"\",\"\",'800111a - Nota. Detalle de CxC.'!$P$55)","v":""},{"$f":"IF('800111a - Nota. Detalle de CxC.'!$P$56=\"\",\"\",'800111a - Nota. Detalle de CxC.'!$P$56)","v":""},{"$f":"IF('800111a - Nota. Detalle de CxC.'!$P$57=\"\",\"\",'800111a - Nota. Detalle de CxC.'!$P$57)","v":""},{"$f":"IF('800111a - Nota. Detalle de CxC.'!$P$58=\"\",\"\",'800111a - Nota. Detalle de CxC.'!$P$58)","v":""},{"$f":"IF('800111a - Nota. Detalle de CxC.'!$P$59=\"\",\"\",'800111a - Nota. Detalle de CxC.'!$P$59)","v":""},{"$f":"IF('800111a - Nota. Detalle de CxC.'!$P$60=\"\",\"\",'800111a - Nota. Detalle de CxC.'!$P$60)","v":""},{"$f":"IF('800111a - Nota. Detalle de CxC.'!$P$61=\"\",\"\",'800111a - Nota. Detalle de CxC.'!$P$61)","v":""},{"$f":"IF('800111a - Nota. Detalle de CxC.'!$P$62=\"\",\"\",'800111a - Nota. Detalle de CxC.'!$P$62)","v":""},{"$f":"IF('800111a - Nota. Detalle de CxC.'!$P$63=\"\",\"\",'800111a - Nota. Detalle de CxC.'!$P$63)","v":""},{"$f":"IF('800111a - Nota. Detalle de CxC.'!$P$64=\"\",\"\",'800111a - Nota. Detalle de CxC.'!$P$64)","v":""},{"$f":"IF('800111a - Nota. Detalle de CxC.'!$P$65=\"\",\"\",'800111a - Nota. Detalle de CxC.'!$P$65)","v":""},{"$f":"IF('800111a - Nota. Detalle de CxC.'!$P$66=\"\",\"\",'800111a - Nota. Detalle de CxC.'!$P$66)","v":""},null,null,null,{"$f":"IF('800111a - Nota. Detalle de CxC.'!$P$70=\"\",\"\",'800111a - Nota. Detalle de CxC.'!$P$70)","v":""},{"$f":"IF('800111a - Nota. Detalle de CxC.'!$P$71=\"\",\"\",'800111a - Nota. Detalle de CxC.'!$P$71)","v":""},{"$f":"IF('800111a - Nota. Detalle de CxC.'!$P$72=\"\",\"\",'800111a - Nota. Detalle de CxC.'!$P$72)","v":""},{"$f":"IF('800111a - Nota. Detalle de CxC.'!$P$73=\"\",\"\",'800111a - Nota. Detalle de CxC.'!$P$73)","v":""},{"$f":"IF('800111a - Nota. Detalle de CxC.'!$P$74=\"\",\"\",'800111a - Nota. Detalle de CxC.'!$P$74)","v":""},{"$f":"IF('800111a - Nota. Detalle de CxC.'!$P$75=\"\",\"\",'800111a - Nota. Detalle de CxC.'!$P$75)","v":""},{"$f":"IF('800111a - Nota. Detalle de CxC.'!$P$76=\"\",\"\",'800111a - Nota. Detalle de CxC.'!$P$76)","v":""},{"$f":"IF('800111a - Nota. Detalle de CxC.'!$P$77=\"\",\"\",'800111a - Nota. Detalle de CxC.'!$P$77)","v":""},{"$f":"IF('800111a - Nota. Detalle de CxC.'!$P$78=\"\",\"\",'800111a - Nota. Detalle de CxC.'!$P$78)","v":""},{"$f":"IF('800111a - Nota. Detalle de CxC.'!$P$79=\"\",\"\",'800111a - Nota. Detalle de CxC.'!$P$79)","v":""},{"$f":"IF('800111a - Nota. Detalle de CxC.'!$P$80=\"\",\"\",'800111a - Nota. Detalle de CxC.'!$P$80)","v":""},{"$f":"IF('800111a - Nota. Detalle de CxC.'!$P$81=\"\",\"\",'800111a - Nota. Detalle de CxC.'!$P$81)","v":""},{"$f":"IF('800111a - Nota. Detalle de CxC.'!$P$82=\"\",\"\",'800111a - Nota. Detalle de CxC.'!$P$82)","v":""},{"$f":"IF('800111a - Nota. Detalle de CxC.'!$P$83=\"\",\"\",'800111a - Nota. Detalle de CxC.'!$P$83)","v":""},{"$f":"IF('800111a - Nota. Detalle de CxC.'!$P$84=\"\",\"\",'800111a - Nota. Detalle de CxC.'!$P$84)","v":""},{"$f":"IF('800111a - Nota. Detalle de CxC.'!$P$85=\"\",\"\",'800111a - Nota. Detalle de CxC.'!$P$85)","v":""},{"$f":"IF('800111a - Nota. Detalle de CxC.'!$P$86=\"\",\"\",'800111a - Nota. Detalle de CxC.'!$P$86)","v":""},{"$f":"IF('800111a - Nota. Detalle de CxC.'!$P$87=\"\",\"\",'800111a - Nota. Detalle de CxC.'!$P$87)","v":""},{"$f":"IF('800111a - Nota. Detalle de CxC.'!$P$88=\"\",\"\",'800111a - Nota. Detalle de CxC.'!$P$88)","v":""},{"$f":"IF('800111a - Nota. Detalle de CxC.'!$P$89=\"\",\"\",'800111a - Nota. Detalle de CxC.'!$P$89)","v":""},{"$f":"IF('800111a - Nota. Detalle de CxC.'!$P$90=\"\",\"\",'800111a - Nota. Detalle de CxC.'!$P$90)","v":""},{"$f":"IF('800111a - Nota. Detalle de CxC.'!$P$91=\"\",\"\",'800111a - Nota. Detalle de CxC.'!$P$91)","v":""},{"$f":"IF('800111a - Nota. Detalle de CxC.'!$P$92=\"\",\"\",'800111a - Nota. Detalle de CxC.'!$P$92)","v":""},{"$f":"IF('800111a - Nota. Detalle de CxC.'!$P$93=\"\",\"\",'800111a - Nota. Detalle de CxC.'!$P$93)","v":""},{"$f":"IF('800111a - Nota. Detalle de CxC.'!$P$94=\"\",\"\",'800111a - Nota. Detalle de CxC.'!$P$94)","v":""},{"$f":"IF('800111a - Nota. Detalle de CxC.'!$P$95=\"\",\"\",'800111a - Nota. Detalle de CxC.'!$P$95)","v":""},{"$f":"IF('800111a - Nota. Detalle de CxC.'!$P$96=\"\",\"\",'800111a - Nota. Detalle de CxC.'!$P$96)","v":""},{"$f":"IF('800111a - Nota. Detalle de CxC.'!$P$97=\"\",\"\",'800111a - Nota. Detalle de CxC.'!$P$97)","v":""},{"$f":"IF('800111a - Nota. Detalle de CxC.'!$P$98=\"\",\"\",'800111a - Nota. Detalle de CxC.'!$P$98)","v":""},{"$f":"IF('800111a - Nota. Detalle de CxC.'!$P$99=\"\",\"\",'800111a - Nota. Detalle de CxC.'!$P$99)","v":""},{"$f":"IF('800111a - Nota. Detalle de CxC.'!$P$100=\"\",\"\",'800111a - Nota. Detalle de CxC.'!$P$100)","v":""},{"$f":"IF('800111a - Nota. Detalle de CxC.'!$P$101=\"\",\"\",'800111a - Nota. Detalle de CxC.'!$P$101)","v":""},{"$f":"IF('800111a - Nota. Detalle de CxC.'!$P$102=\"\",\"\",'800111a - Nota. Detalle de CxC.'!$P$102)","v":""},{"$f":"IF('800111a - Nota. Detalle de CxC.'!$P$103=\"\",\"\",'800111a - Nota. Detalle de CxC.'!$P$103)","v":""},{"$f":"IF('800111a - Nota. Detalle de CxC.'!$P$104=\"\",\"\",'800111a - Nota. Detalle de CxC.'!$P$104)","v":""},{"$f":"IF('800111a - Nota. Detalle de CxC.'!$P$105=\"\",\"\",'800111a - Nota. Detalle de CxC.'!$P$105)","v":""},{"$f":"IF('800111a - Nota. Detalle de CxC.'!$P$106=\"\",\"\",'800111a - Nota. Detalle de CxC.'!$P$106)","v":""},{"$f":"IF('800111a - Nota. Detalle de CxC.'!$P$107=\"\",\"\",'800111a - Nota. Detalle de CxC.'!$P$107)","v":""},{"$f":"IF('800111a - Nota. Detalle de CxC.'!$P$108=\"\",\"\",'800111a - Nota. Detalle de CxC.'!$P$108)","v":""},{"$f":"IF('800111a - Nota. Detalle de CxC.'!$P$109=\"\",\"\",'800111a - Nota. Detalle de CxC.'!$P$109)","v":""},{"$f":"IF('800111a - Nota. Detalle de CxC.'!$P$110=\"\",\"\",'800111a - Nota. Detalle de CxC.'!$P$110)","v":""},{"$f":"IF('800111a - Nota. Detalle de CxC.'!$P$111=\"\",\"\",'800111a - Nota. Detalle de CxC.'!$P$111)","v":""},{"$f":"IF('800111a - Nota. Detalle de CxC.'!$P$112=\"\",\"\",'800111a - Nota. Detalle de CxC.'!$P$112)","v":""},{"$f":"IF('800111a - Nota. Detalle de CxC.'!$P$113=\"\",\"\",'800111a - Nota. Detalle de CxC.'!$P$113)","v":""},{"$f":"IF('800111a - Nota. Detalle de CxC.'!$P$114=\"\",\"\",'800111a - Nota. Detalle de CxC.'!$P$114)","v":""},{"$f":"IF('800111a - Nota. Detalle de CxC.'!$P$115=\"\",\"\",'800111a - Nota. Detalle de CxC.'!$P$115)","v":""},{"$f":"IF('800111a - Nota. Detalle de CxC.'!$P$116=\"\",\"\",'800111a - Nota. Detalle de CxC.'!$P$116)","v":""},{"$f":"IF('800111a - Nota. Detalle de CxC.'!$P$117=\"\",\"\",'800111a - Nota. Detalle de CxC.'!$P$117)","v":""},{"$f":"IF('800111a - Nota. Detalle de CxC.'!$P$118=\"\",\"\",'800111a - Nota. Detalle de CxC.'!$P$118)","v":""},{"$f":"IF('800111a - Nota. Detalle de CxC.'!$P$119=\"\",\"\",'800111a - Nota. Detalle de CxC.'!$P$119)","v":""},null,null,null,{"$f":"IF('800111a - Nota. Detalle de CxC.'!$P$123=\"\",\"\",'800111a - Nota. Detalle de CxC.'!$P$123)","v":""},{"$f":"IF('800111a - Nota. Detalle de CxC.'!$P$124=\"\",\"\",'800111a - Nota. Detalle de CxC.'!$P$124)","v":""},{"$f":"IF('800111a - Nota. Detalle de CxC.'!$P$125=\"\",\"\",'800111a - Nota. Detalle de CxC.'!$P$125)","v":""},{"$f":"IF('800111a - Nota. Detalle de CxC.'!$P$126=\"\",\"\",'800111a - Nota. Detalle de CxC.'!$P$126)","v":""},{"$f":"IF('800111a - Nota. Detalle de CxC.'!$P$127=\"\",\"\",'800111a - Nota. Detalle de CxC.'!$P$127)","v":""},{"$f":"IF('800111a - Nota. Detalle de CxC.'!$P$128=\"\",\"\",'800111a - Nota. Detalle de CxC.'!$P$128)","v":""},{"$f":"IF('800111a - Nota. Detalle de CxC.'!$P$129=\"\",\"\",'800111a - Nota. Detalle de CxC.'!$P$129)","v":""},{"$f":"IF('800111a - Nota. Detalle de CxC.'!$P$130=\"\",\"\",'800111a - Nota. Detalle de CxC.'!$P$130)","v":""},{"$f":"IF('800111a - Nota. Detalle de CxC.'!$P$131=\"\",\"\",'800111a - Nota. Detalle de CxC.'!$P$131)","v":""},{"$f":"IF('800111a - Nota. Detalle de CxC.'!$P$132=\"\",\"\",'800111a - Nota. Detalle de CxC.'!$P$132)","v":""},{"$f":"IF('800111a - Nota. Detalle de CxC.'!$P$133=\"\",\"\",'800111a - Nota. Detalle de CxC.'!$P$133)","v":""},{"$f":"IF('800111a - Nota. Detalle de CxC.'!$P$134=\"\",\"\",'800111a - Nota. Detalle de CxC.'!$P$134)","v":""},{"$f":"IF('800111a - Nota. Detalle de CxC.'!$P$135=\"\",\"\",'800111a - Nota. Detalle de CxC.'!$P$135)","v":""},{"$f":"IF('800111a - Nota. Detalle de CxC.'!$P$136=\"\",\"\",'800111a - Nota. Detalle de CxC.'!$P$136)","v":""},{"$f":"IF('800111a - Nota. Detalle de CxC.'!$P$137=\"\",\"\",'800111a - Nota. Detalle de CxC.'!$P$137)","v":""},{"$f":"IF('800111a - Nota. Detalle de CxC.'!$P$138=\"\",\"\",'800111a - Nota. Detalle de CxC.'!$P$138)","v":""},{"$f":"IF('800111a - Nota. Detalle de CxC.'!$P$139=\"\",\"\",'800111a - Nota. Detalle de CxC.'!$P$139)","v":""},{"$f":"IF('800111a - Nota. Detalle de CxC.'!$P$140=\"\",\"\",'800111a - Nota. Detalle de CxC.'!$P$140)","v":""},{"$f":"IF('800111a - Nota. Detalle de CxC.'!$P$141=\"\",\"\",'800111a - Nota. Detalle de CxC.'!$P$141)","v":""},{"$f":"IF('800111a - Nota. Detalle de CxC.'!$P$142=\"\",\"\",'800111a - Nota. Detalle de CxC.'!$P$142)","v":""},{"$f":"IF('800111a - Nota. Detalle de CxC.'!$P$143=\"\",\"\",'800111a - Nota. Detalle de CxC.'!$P$143)","v":""},{"$f":"IF('800111a - Nota. Detalle de CxC.'!$P$144=\"\",\"\",'800111a - Nota. Detalle de CxC.'!$P$144)","v":""},{"$f":"IF('800111a - Nota. Detalle de CxC.'!$P$145=\"\",\"\",'800111a - Nota. Detalle de CxC.'!$P$145)","v":""},{"$f":"IF('800111a - Nota. Detalle de CxC.'!$P$146=\"\",\"\",'800111a - Nota. Detalle de CxC.'!$P$146)","v":""},{"$f":"IF('800111a - Nota. Detalle de CxC.'!$P$147=\"\",\"\",'800111a - Nota. Detalle de CxC.'!$P$147)","v":""},{"$f":"IF('800111a - Nota. Detalle de CxC.'!$P$148=\"\",\"\",'800111a - Nota. Detalle de CxC.'!$P$148)","v":""},{"$f":"IF('800111a - Nota. Detalle de CxC.'!$P$149=\"\",\"\",'800111a - Nota. Detalle de CxC.'!$P$149)","v":""},{"$f":"IF('800111a - Nota. Detalle de CxC.'!$P$150=\"\",\"\",'800111a - Nota. Detalle de CxC.'!$P$150)","v":""},{"$f":"IF('800111a - Nota. Detalle de CxC.'!$P$151=\"\",\"\",'800111a - Nota. Detalle de CxC.'!$P$151)","v":""},{"$f":"IF('800111a - Nota. Detalle de CxC.'!$P$152=\"\",\"\",'800111a - Nota. Detalle de CxC.'!$P$152)","v":""},{"$f":"IF('800111a - Nota. Detalle de CxC.'!$P$153=\"\",\"\",'800111a - Nota. Detalle de CxC.'!$P$153)","v":""},{"$f":"IF('800111a - Nota. Detalle de CxC.'!$P$154=\"\",\"\",'800111a - Nota. Detalle de CxC.'!$P$154)","v":""},{"$f":"IF('800111a - Nota. Detalle de CxC.'!$P$155=\"\",\"\",'800111a - Nota. Detalle de CxC.'!$P$155)","v":""},{"$f":"IF('800111a - Nota. Detalle de CxC.'!$P$156=\"\",\"\",'800111a - Nota. Detalle de CxC.'!$P$156)","v":""},{"$f":"IF('800111a - Nota. Detalle de CxC.'!$P$157=\"\",\"\",'800111a - Nota. Detalle de CxC.'!$P$157)","v":""},{"$f":"IF('800111a - Nota. Detalle de CxC.'!$P$158=\"\",\"\",'800111a - Nota. Detalle de CxC.'!$P$158)","v":""},{"$f":"IF('800111a - Nota. Detalle de CxC.'!$P$159=\"\",\"\",'800111a - Nota. Detalle de CxC.'!$P$159)","v":""},{"$f":"IF('800111a - Nota. Detalle de CxC.'!$P$160=\"\",\"\",'800111a - Nota. Detalle de CxC.'!$P$160)","v":""},{"$f":"IF('800111a - Nota. Detalle de CxC.'!$P$161=\"\",\"\",'800111a - Nota. Detalle de CxC.'!$P$161)","v":""},{"$f":"IF('800111a - Nota. Detalle de CxC.'!$P$162=\"\",\"\",'800111a - Nota. Detalle de CxC.'!$P$162)","v":""},{"$f":"IF('800111a - Nota. Detalle de CxC.'!$P$163=\"\",\"\",'800111a - Nota. Detalle de CxC.'!$P$163)","v":""},{"$f":"IF('800111a - Nota. Detalle de CxC.'!$P$164=\"\",\"\",'800111a - Nota. Detalle de CxC.'!$P$164)","v":""},{"$f":"IF('800111a - Nota. Detalle de CxC.'!$P$165=\"\",\"\",'800111a - Nota. Detalle de CxC.'!$P$165)","v":""},{"$f":"IF('800111a - Nota. Detalle de CxC.'!$P$166=\"\",\"\",'800111a - Nota. Detalle de CxC.'!$P$166)","v":""},{"$f":"IF('800111a - Nota. Detalle de CxC.'!$P$167=\"\",\"\",'800111a - Nota. Detalle de CxC.'!$P$167)","v":""},{"$f":"IF('800111a - Nota. Detalle de CxC.'!$P$168=\"\",\"\",'800111a - Nota. Detalle de CxC.'!$P$168)","v":""},{"$f":"IF('800111a - Nota. Detalle de CxC.'!$P$169=\"\",\"\",'800111a - Nota. Detalle de CxC.'!$P$169)","v":""},{"$f":"IF('800111a - Nota. Detalle de CxC.'!$P$170=\"\",\"\",'800111a - Nota. Detalle de CxC.'!$P$170)","v":""},{"$f":"IF('800111a - Nota. Detalle de CxC.'!$P$171=\"\",\"\",'800111a - Nota. Detalle de CxC.'!$P$171)","v":""},{"$f":"IF('800111a - Nota. Detalle de CxC.'!$P$172=\"\",\"\",'800111a - Nota. Detalle de CxC.'!$P$172)","v":""}]
[null,"1;1","co-svsp-core:SaldoCuentasPorCobrarCxC","Saldo cuentas por cobrar",null,null,{"$f":"IF('800111a - Nota. Detalle de CxC.'!$Q$17=\"\",\"\",'800111a - Nota. Detalle de CxC.'!$Q$17)","v":""},{"$f":"IF('800111a - Nota. Detalle de CxC.'!$Q$18=\"\",\"\",'800111a - Nota. Detalle de CxC.'!$Q$18)","v":""},{"$f":"IF('800111a - Nota. Detalle de CxC.'!$Q$19=\"\",\"\",'800111a - Nota. Detalle de CxC.'!$Q$19)","v":""},{"$f":"IF('800111a - Nota. Detalle de CxC.'!$Q$20=\"\",\"\",'800111a - Nota. Detalle de CxC.'!$Q$20)","v":""},{"$f":"IF('800111a - Nota. Detalle de CxC.'!$Q$21=\"\",\"\",'800111a - Nota. Detalle de CxC.'!$Q$21)","v":""},{"$f":"IF('800111a - Nota. Detalle de CxC.'!$Q$22=\"\",\"\",'800111a - Nota. Detalle de CxC.'!$Q$22)","v":""},{"$f":"IF('800111a - Nota. Detalle de CxC.'!$Q$23=\"\",\"\",'800111a - Nota. Detalle de CxC.'!$Q$23)","v":""},{"$f":"IF('800111a - Nota. Detalle de CxC.'!$Q$24=\"\",\"\",'800111a - Nota. Detalle de CxC.'!$Q$24)","v":""},{"$f":"IF('800111a - Nota. Detalle de CxC.'!$Q$25=\"\",\"\",'800111a - Nota. Detalle de CxC.'!$Q$25)","v":""},{"$f":"IF('800111a - Nota. Detalle de CxC.'!$Q$26=\"\",\"\",'800111a - Nota. Detalle de CxC.'!$Q$26)","v":""},{"$f":"IF('800111a - Nota. Detalle de CxC.'!$Q$27=\"\",\"\",'800111a - Nota. Detalle de CxC.'!$Q$27)","v":""},{"$f":"IF('800111a - Nota. Detalle de CxC.'!$Q$28=\"\",\"\",'800111a - Nota. Detalle de CxC.'!$Q$28)","v":""},{"$f":"IF('800111a - Nota. Detalle de CxC.'!$Q$29=\"\",\"\",'800111a - Nota. Detalle de CxC.'!$Q$29)","v":""},{"$f":"IF('800111a - Nota. Detalle de CxC.'!$Q$30=\"\",\"\",'800111a - Nota. Detalle de CxC.'!$Q$30)","v":""},{"$f":"IF('800111a - Nota. Detalle de CxC.'!$Q$31=\"\",\"\",'800111a - Nota. Detalle de CxC.'!$Q$31)","v":""},{"$f":"IF('800111a - Nota. Detalle de CxC.'!$Q$32=\"\",\"\",'800111a - Nota. Detalle de CxC.'!$Q$32)","v":""},{"$f":"IF('800111a - Nota. Detalle de CxC.'!$Q$33=\"\",\"\",'800111a - Nota. Detalle de CxC.'!$Q$33)","v":""},{"$f":"IF('800111a - Nota. Detalle de CxC.'!$Q$34=\"\",\"\",'800111a - Nota. Detalle de CxC.'!$Q$34)","v":""},{"$f":"IF('800111a - Nota. Detalle de CxC.'!$Q$35=\"\",\"\",'800111a - Nota. Detalle de CxC.'!$Q$35)","v":""},{"$f":"IF('800111a - Nota. Detalle de CxC.'!$Q$36=\"\",\"\",'800111a - Nota. Detalle de CxC.'!$Q$36)","v":""},{"$f":"IF('800111a - Nota. Detalle de CxC.'!$Q$37=\"\",\"\",'800111a - Nota. Detalle de CxC.'!$Q$37)","v":""},{"$f":"IF('800111a - Nota. Detalle de CxC.'!$Q$38=\"\",\"\",'800111a - Nota. Detalle de CxC.'!$Q$38)","v":""},{"$f":"IF('800111a - Nota. Detalle de CxC.'!$Q$39=\"\",\"\",'800111a - Nota. Detalle de CxC.'!$Q$39)","v":""},{"$f":"IF('800111a - Nota. Detalle de CxC.'!$Q$40=\"\",\"\",'800111a - Nota. Detalle de CxC.'!$Q$40)","v":""},{"$f":"IF('800111a - Nota. Detalle de CxC.'!$Q$41=\"\",\"\",'800111a - Nota. Detalle de CxC.'!$Q$41)","v":""},{"$f":"IF('800111a - Nota. Detalle de CxC.'!$Q$42=\"\",\"\",'800111a - Nota. Detalle de CxC.'!$Q$42)","v":""},{"$f":"IF('800111a - Nota. Detalle de CxC.'!$Q$43=\"\",\"\",'800111a - Nota. Detalle de CxC.'!$Q$43)","v":""},{"$f":"IF('800111a - Nota. Detalle de CxC.'!$Q$44=\"\",\"\",'800111a - Nota. Detalle de CxC.'!$Q$44)","v":""},{"$f":"IF('800111a - Nota. Detalle de CxC.'!$Q$45=\"\",\"\",'800111a - Nota. Detalle de CxC.'!$Q$45)","v":""},{"$f":"IF('800111a - Nota. Detalle de CxC.'!$Q$46=\"\",\"\",'800111a - Nota. Detalle de CxC.'!$Q$46)","v":""},{"$f":"IF('800111a - Nota. Detalle de CxC.'!$Q$47=\"\",\"\",'800111a - Nota. Detalle de CxC.'!$Q$47)","v":""},{"$f":"IF('800111a - Nota. Detalle de CxC.'!$Q$48=\"\",\"\",'800111a - Nota. Detalle de CxC.'!$Q$48)","v":""},{"$f":"IF('800111a - Nota. Detalle de CxC.'!$Q$49=\"\",\"\",'800111a - Nota. Detalle de CxC.'!$Q$49)","v":""},{"$f":"IF('800111a - Nota. Detalle de CxC.'!$Q$50=\"\",\"\",'800111a - Nota. Detalle de CxC.'!$Q$50)","v":""},{"$f":"IF('800111a - Nota. Detalle de CxC.'!$Q$51=\"\",\"\",'800111a - Nota. Detalle de CxC.'!$Q$51)","v":""},{"$f":"IF('800111a - Nota. Detalle de CxC.'!$Q$52=\"\",\"\",'800111a - Nota. Detalle de CxC.'!$Q$52)","v":""},{"$f":"IF('800111a - Nota. Detalle de CxC.'!$Q$53=\"\",\"\",'800111a - Nota. Detalle de CxC.'!$Q$53)","v":""},{"$f":"IF('800111a - Nota. Detalle de CxC.'!$Q$54=\"\",\"\",'800111a - Nota. Detalle de CxC.'!$Q$54)","v":""},{"$f":"IF('800111a - Nota. Detalle de CxC.'!$Q$55=\"\",\"\",'800111a - Nota. Detalle de CxC.'!$Q$55)","v":""},{"$f":"IF('800111a - Nota. Detalle de CxC.'!$Q$56=\"\",\"\",'800111a - Nota. Detalle de CxC.'!$Q$56)","v":""},{"$f":"IF('800111a - Nota. Detalle de CxC.'!$Q$57=\"\",\"\",'800111a - Nota. Detalle de CxC.'!$Q$57)","v":""},{"$f":"IF('800111a - Nota. Detalle de CxC.'!$Q$58=\"\",\"\",'800111a - Nota. Detalle de CxC.'!$Q$58)","v":""},{"$f":"IF('800111a - Nota. Detalle de CxC.'!$Q$59=\"\",\"\",'800111a - Nota. Detalle de CxC.'!$Q$59)","v":""},{"$f":"IF('800111a - Nota. Detalle de CxC.'!$Q$60=\"\",\"\",'800111a - Nota. Detalle de CxC.'!$Q$60)","v":""},{"$f":"IF('800111a - Nota. Detalle de CxC.'!$Q$61=\"\",\"\",'800111a - Nota. Detalle de CxC.'!$Q$61)","v":""},{"$f":"IF('800111a - Nota. Detalle de CxC.'!$Q$62=\"\",\"\",'800111a - Nota. Detalle de CxC.'!$Q$62)","v":""},{"$f":"IF('800111a - Nota. Detalle de CxC.'!$Q$63=\"\",\"\",'800111a - Nota. Detalle de CxC.'!$Q$63)","v":""},{"$f":"IF('800111a - Nota. Detalle de CxC.'!$Q$64=\"\",\"\",'800111a - Nota. Detalle de CxC.'!$Q$64)","v":""},{"$f":"IF('800111a - Nota. Detalle de CxC.'!$Q$65=\"\",\"\",'800111a - Nota. Detalle de CxC.'!$Q$65)","v":""},{"$f":"IF('800111a - Nota. Detalle de CxC.'!$Q$66=\"\",\"\",'800111a - Nota. Detalle de CxC.'!$Q$66)","v":""},{"$f":"IF('800111a - Nota. Detalle de CxC.'!$Q$67=\"\",\"\",'800111a - Nota. Detalle de CxC.'!$Q$67)","v":""},{"$f":"IF('800111a - Nota. Detalle de CxC.'!$Q$68=\"\",\"\",'800111a - Nota. Detalle de CxC.'!$Q$68)","v":0},null,{"$f":"IF('800111a - Nota. Detalle de CxC.'!$Q$70=\"\",\"\",'800111a - Nota. Detalle de CxC.'!$Q$70)","v":""},{"$f":"IF('800111a - Nota. Detalle de CxC.'!$Q$71=\"\",\"\",'800111a - Nota. Detalle de CxC.'!$Q$71)","v":""},{"$f":"IF('800111a - Nota. Detalle de CxC.'!$Q$72=\"\",\"\",'800111a - Nota. Detalle de CxC.'!$Q$72)","v":""},{"$f":"IF('800111a - Nota. Detalle de CxC.'!$Q$73=\"\",\"\",'800111a - Nota. Detalle de CxC.'!$Q$73)","v":""},{"$f":"IF('800111a - Nota. Detalle de CxC.'!$Q$74=\"\",\"\",'800111a - Nota. Detalle de CxC.'!$Q$74)","v":""},{"$f":"IF('800111a - Nota. Detalle de CxC.'!$Q$75=\"\",\"\",'800111a - Nota. Detalle de CxC.'!$Q$75)","v":""},{"$f":"IF('800111a - Nota. Detalle de CxC.'!$Q$76=\"\",\"\",'800111a - Nota. Detalle de CxC.'!$Q$76)","v":""},{"$f":"IF('800111a - Nota. Detalle de CxC.'!$Q$77=\"\",\"\",'800111a - Nota. Detalle de CxC.'!$Q$77)","v":""},{"$f":"IF('800111a - Nota. Detalle de CxC.'!$Q$78=\"\",\"\",'800111a - Nota. Detalle de CxC.'!$Q$78)","v":""},{"$f":"IF('800111a - Nota. Detalle de CxC.'!$Q$79=\"\",\"\",'800111a - Nota. Detalle de CxC.'!$Q$79)","v":""},{"$f":"IF('800111a - Nota. Detalle de CxC.'!$Q$80=\"\",\"\",'800111a - Nota. Detalle de CxC.'!$Q$80)","v":""},{"$f":"IF('800111a - Nota. Detalle de CxC.'!$Q$81=\"\",\"\",'800111a - Nota. Detalle de CxC.'!$Q$81)","v":""},{"$f":"IF('800111a - Nota. Detalle de CxC.'!$Q$82=\"\",\"\",'800111a - Nota. Detalle de CxC.'!$Q$82)","v":""},{"$f":"IF('800111a - Nota. Detalle de CxC.'!$Q$83=\"\",\"\",'800111a - Nota. Detalle de CxC.'!$Q$83)","v":""},{"$f":"IF('800111a - Nota. Detalle de CxC.'!$Q$84=\"\",\"\",'800111a - Nota. Detalle de CxC.'!$Q$84)","v":""},{"$f":"IF('800111a - Nota. Detalle de CxC.'!$Q$85=\"\",\"\",'800111a - Nota. Detalle de CxC.'!$Q$85)","v":""},{"$f":"IF('800111a - Nota. Detalle de CxC.'!$Q$86=\"\",\"\",'800111a - Nota. Detalle de CxC.'!$Q$86)","v":""},{"$f":"IF('800111a - Nota. Detalle de CxC.'!$Q$87=\"\",\"\",'800111a - Nota. Detalle de CxC.'!$Q$87)","v":""},{"$f":"IF('800111a - Nota. Detalle de CxC.'!$Q$88=\"\",\"\",'800111a - Nota. Detalle de CxC.'!$Q$88)","v":""},{"$f":"IF('800111a - Nota. Detalle de CxC.'!$Q$89=\"\",\"\",'800111a - Nota. Detalle de CxC.'!$Q$89)","v":""},{"$f":"IF('800111a - Nota. Detalle de CxC.'!$Q$90=\"\",\"\",'800111a - Nota. Detalle de CxC.'!$Q$90)","v":""},{"$f":"IF('800111a - Nota. Detalle de CxC.'!$Q$91=\"\",\"\",'800111a - Nota. Detalle de CxC.'!$Q$91)","v":""},{"$f":"IF('800111a - Nota. Detalle de CxC.'!$Q$92=\"\",\"\",'800111a - Nota. Detalle de CxC.'!$Q$92)","v":""},{"$f":"IF('800111a - Nota. Detalle de CxC.'!$Q$93=\"\",\"\",'800111a - Nota. Detalle de CxC.'!$Q$93)","v":""},{"$f":"IF('800111a - Nota. Detalle de CxC.'!$Q$94=\"\",\"\",'800111a - Nota. Detalle de CxC.'!$Q$94)","v":""},{"$f":"IF('800111a - Nota. Detalle de CxC.'!$Q$95=\"\",\"\",'800111a - Nota. Detalle de CxC.'!$Q$95)","v":""},{"$f":"IF('800111a - Nota. Detalle de CxC.'!$Q$96=\"\",\"\",'800111a - Nota. Detalle de CxC.'!$Q$96)","v":""},{"$f":"IF('800111a - Nota. Detalle de CxC.'!$Q$97=\"\",\"\",'800111a - Nota. Detalle de CxC.'!$Q$97)","v":""},{"$f":"IF('800111a - Nota. Detalle de CxC.'!$Q$98=\"\",\"\",'800111a - Nota. Detalle de CxC.'!$Q$98)","v":""},{"$f":"IF('800111a - Nota. Detalle de CxC.'!$Q$99=\"\",\"\",'800111a - Nota. Detalle de CxC.'!$Q$99)","v":""},{"$f":"IF('800111a - Nota. Detalle de CxC.'!$Q$100=\"\",\"\",'800111a - Nota. Detalle de CxC.'!$Q$100)","v":""},{"$f":"IF('800111a - Nota. Detalle de CxC.'!$Q$101=\"\",\"\",'800111a - Nota. Detalle de CxC.'!$Q$101)","v":""},{"$f":"IF('800111a - Nota. Detalle de CxC.'!$Q$102=\"\",\"\",'800111a - Nota. Detalle de CxC.'!$Q$102)","v":""},{"$f":"IF('800111a - Nota. Detalle de CxC.'!$Q$103=\"\",\"\",'800111a - Nota. Detalle de CxC.'!$Q$103)","v":""},{"$f":"IF('800111a - Nota. Detalle de CxC.'!$Q$104=\"\",\"\",'800111a - Nota. Detalle de CxC.'!$Q$104)","v":""},{"$f":"IF('800111a - Nota. Detalle de CxC.'!$Q$105=\"\",\"\",'800111a - Nota. Detalle de CxC.'!$Q$105)","v":""},{"$f":"IF('800111a - Nota. Detalle de CxC.'!$Q$106=\"\",\"\",'800111a - Nota. Detalle de CxC.'!$Q$106)","v":""},{"$f":"IF('800111a - Nota. Detalle de CxC.'!$Q$107=\"\",\"\",'800111a - Nota. Detalle de CxC.'!$Q$107)","v":""},{"$f":"IF('800111a - Nota. Detalle de CxC.'!$Q$108=\"\",\"\",'800111a - Nota. Detalle de CxC.'!$Q$108)","v":""},{"$f":"IF('800111a - Nota. Detalle de CxC.'!$Q$109=\"\",\"\",'800111a - Nota. Detalle de CxC.'!$Q$109)","v":""},{"$f":"IF('800111a - Nota. Detalle de CxC.'!$Q$110=\"\",\"\",'800111a - Nota. Detalle de CxC.'!$Q$110)","v":""},{"$f":"IF('800111a - Nota. Detalle de CxC.'!$Q$111=\"\",\"\",'800111a - Nota. Detalle de CxC.'!$Q$111)","v":""},{"$f":"IF('800111a - Nota. Detalle de CxC.'!$Q$112=\"\",\"\",'800111a - Nota. Detalle de CxC.'!$Q$112)","v":""},{"$f":"IF('800111a - Nota. Detalle de CxC.'!$Q$113=\"\",\"\",'800111a - Nota. Detalle de CxC.'!$Q$113)","v":""},{"$f":"IF('800111a - Nota. Detalle de CxC.'!$Q$114=\"\",\"\",'800111a - Nota. Detalle de CxC.'!$Q$114)","v":""},{"$f":"IF('800111a - Nota. Detalle de CxC.'!$Q$115=\"\",\"\",'800111a - Nota. Detalle de CxC.'!$Q$115)","v":""},{"$f":"IF('800111a - Nota. Detalle de CxC.'!$Q$116=\"\",\"\",'800111a - Nota. Detalle de CxC.'!$Q$116)","v":""},{"$f":"IF('800111a - Nota. Detalle de CxC.'!$Q$117=\"\",\"\",'800111a - Nota. Detalle de CxC.'!$Q$117)","v":""},{"$f":"IF('800111a - Nota. Detalle de CxC.'!$Q$118=\"\",\"\",'800111a - Nota. Detalle de CxC.'!$Q$118)","v":""},{"$f":"IF('800111a - Nota. Detalle de CxC.'!$Q$119=\"\",\"\",'800111a - Nota. Detalle de CxC.'!$Q$119)","v":""},{"$f":"IF('800111a - Nota. Detalle de CxC.'!$Q$120=\"\",\"\",'800111a - Nota. Detalle de CxC.'!$Q$120)","v":""},{"$f":"IF('800111a - Nota. Detalle de CxC.'!$Q$121=\"\",\"\",'800111a - Nota. Detalle de CxC.'!$Q$121)","v":0},null,{"$f":"IF('800111a - Nota. Detalle de CxC.'!$Q$123=\"\",\"\",'800111a - Nota. Detalle de CxC.'!$Q$123)","v":""},{"$f":"IF('800111a - Nota. Detalle de CxC.'!$Q$124=\"\",\"\",'800111a - Nota. Detalle de CxC.'!$Q$124)","v":""},{"$f":"IF('800111a - Nota. Detalle de CxC.'!$Q$125=\"\",\"\",'800111a - Nota. Detalle de CxC.'!$Q$125)","v":""},{"$f":"IF('800111a - Nota. Detalle de CxC.'!$Q$126=\"\",\"\",'800111a - Nota. Detalle de CxC.'!$Q$126)","v":""},{"$f":"IF('800111a - Nota. Detalle de CxC.'!$Q$127=\"\",\"\",'800111a - Nota. Detalle de CxC.'!$Q$127)","v":""},{"$f":"IF('800111a - Nota. Detalle de CxC.'!$Q$128=\"\",\"\",'800111a - Nota. Detalle de CxC.'!$Q$128)","v":""},{"$f":"IF('800111a - Nota. Detalle de CxC.'!$Q$129=\"\",\"\",'800111a - Nota. Detalle de CxC.'!$Q$129)","v":""},{"$f":"IF('800111a - Nota. Detalle de CxC.'!$Q$130=\"\",\"\",'800111a - Nota. Detalle de CxC.'!$Q$130)","v":""},{"$f":"IF('800111a - Nota. Detalle de CxC.'!$Q$131=\"\",\"\",'800111a - Nota. Detalle de CxC.'!$Q$131)","v":""},{"$f":"IF('800111a - Nota. Detalle de CxC.'!$Q$132=\"\",\"\",'800111a - Nota. Detalle de CxC.'!$Q$132)","v":""},{"$f":"IF('800111a - Nota. Detalle de CxC.'!$Q$133=\"\",\"\",'800111a - Nota. Detalle de CxC.'!$Q$133)","v":""},{"$f":"IF('800111a - Nota. Detalle de CxC.'!$Q$134=\"\",\"\",'800111a - Nota. Detalle de CxC.'!$Q$134)","v":""},{"$f":"IF('800111a - Nota. Detalle de CxC.'!$Q$135=\"\",\"\",'800111a - Nota. Detalle de CxC.'!$Q$135)","v":""},{"$f":"IF('800111a - Nota. Detalle de CxC.'!$Q$136=\"\",\"\",'800111a - Nota. Detalle de CxC.'!$Q$136)","v":""},{"$f":"IF('800111a - Nota. Detalle de CxC.'!$Q$137=\"\",\"\",'800111a - Nota. Detalle de CxC.'!$Q$137)","v":""},{"$f":"IF('800111a - Nota. Detalle de CxC.'!$Q$138=\"\",\"\",'800111a - Nota. Detalle de CxC.'!$Q$138)","v":""},{"$f":"IF('800111a - Nota. Detalle de CxC.'!$Q$139=\"\",\"\",'800111a - Nota. Detalle de CxC.'!$Q$139)","v":""},{"$f":"IF('800111a - Nota. Detalle de CxC.'!$Q$140=\"\",\"\",'800111a - Nota. Detalle de CxC.'!$Q$140)","v":""},{"$f":"IF('800111a - Nota. Detalle de CxC.'!$Q$141=\"\",\"\",'800111a - Nota. Detalle de CxC.'!$Q$141)","v":""},{"$f":"IF('800111a - Nota. Detalle de CxC.'!$Q$142=\"\",\"\",'800111a - Nota. Detalle de CxC.'!$Q$142)","v":""},{"$f":"IF('800111a - Nota. Detalle de CxC.'!$Q$143=\"\",\"\",'800111a - Nota. Detalle de CxC.'!$Q$143)","v":""},{"$f":"IF('800111a - Nota. Detalle de CxC.'!$Q$144=\"\",\"\",'800111a - Nota. Detalle de CxC.'!$Q$144)","v":""},{"$f":"IF('800111a - Nota. Detalle de CxC.'!$Q$145=\"\",\"\",'800111a - Nota. Detalle de CxC.'!$Q$145)","v":""},{"$f":"IF('800111a - Nota. Detalle de CxC.'!$Q$146=\"\",\"\",'800111a - Nota. Detalle de CxC.'!$Q$146)","v":""},{"$f":"IF('800111a - Nota. Detalle de CxC.'!$Q$147=\"\",\"\",'800111a - Nota. Detalle de CxC.'!$Q$147)","v":""},{"$f":"IF('800111a - Nota. Detalle de CxC.'!$Q$148=\"\",\"\",'800111a - Nota. Detalle de CxC.'!$Q$148)","v":""},{"$f":"IF('800111a - Nota. Detalle de CxC.'!$Q$149=\"\",\"\",'800111a - Nota. Detalle de CxC.'!$Q$149)","v":""},{"$f":"IF('800111a - Nota. Detalle de CxC.'!$Q$150=\"\",\"\",'800111a - Nota. Detalle de CxC.'!$Q$150)","v":""},{"$f":"IF('800111a - Nota. Detalle de CxC.'!$Q$151=\"\",\"\",'800111a - Nota. Detalle de CxC.'!$Q$151)","v":""},{"$f":"IF('800111a - Nota. Detalle de CxC.'!$Q$152=\"\",\"\",'800111a - Nota. Detalle de CxC.'!$Q$152)","v":""},{"$f":"IF('800111a - Nota. Detalle de CxC.'!$Q$153=\"\",\"\",'800111a - Nota. Detalle de CxC.'!$Q$153)","v":""},{"$f":"IF('800111a - Nota. Detalle de CxC.'!$Q$154=\"\",\"\",'800111a - Nota. Detalle de CxC.'!$Q$154)","v":""},{"$f":"IF('800111a - Nota. Detalle de CxC.'!$Q$155=\"\",\"\",'800111a - Nota. Detalle de CxC.'!$Q$155)","v":""},{"$f":"IF('800111a - Nota. Detalle de CxC.'!$Q$156=\"\",\"\",'800111a - Nota. Detalle de CxC.'!$Q$156)","v":""},{"$f":"IF('800111a - Nota. Detalle de CxC.'!$Q$157=\"\",\"\",'800111a - Nota. Detalle de CxC.'!$Q$157)","v":""},{"$f":"IF('800111a - Nota. Detalle de CxC.'!$Q$158=\"\",\"\",'800111a - Nota. Detalle de CxC.'!$Q$158)","v":""},{"$f":"IF('800111a - Nota. Detalle de CxC.'!$Q$159=\"\",\"\",'800111a - Nota. Detalle de CxC.'!$Q$159)","v":""},{"$f":"IF('800111a - Nota. Detalle de CxC.'!$Q$160=\"\",\"\",'800111a - Nota. Detalle de CxC.'!$Q$160)","v":""},{"$f":"IF('800111a - Nota. Detalle de CxC.'!$Q$161=\"\",\"\",'800111a - Nota. Detalle de CxC.'!$Q$161)","v":""},{"$f":"IF('800111a - Nota. Detalle de CxC.'!$Q$162=\"\",\"\",'800111a - Nota. Detalle de CxC.'!$Q$162)","v":""},{"$f":"IF('800111a - Nota. Detalle de CxC.'!$Q$163=\"\",\"\",'800111a - Nota. Detalle de CxC.'!$Q$163)","v":""},{"$f":"IF('800111a - Nota. Detalle de CxC.'!$Q$164=\"\",\"\",'800111a - Nota. Detalle de CxC.'!$Q$164)","v":""},{"$f":"IF('800111a - Nota. Detalle de CxC.'!$Q$165=\"\",\"\",'800111a - Nota. Detalle de CxC.'!$Q$165)","v":""},{"$f":"IF('800111a - Nota. Detalle de CxC.'!$Q$166=\"\",\"\",'800111a - Nota. Detalle de CxC.'!$Q$166)","v":""},{"$f":"IF('800111a - Nota. Detalle de CxC.'!$Q$167=\"\",\"\",'800111a - Nota. Detalle de CxC.'!$Q$167)","v":""},{"$f":"IF('800111a - Nota. Detalle de CxC.'!$Q$168=\"\",\"\",'800111a - Nota. Detalle de CxC.'!$Q$168)","v":""},{"$f":"IF('800111a - Nota. Detalle de CxC.'!$Q$169=\"\",\"\",'800111a - Nota. Detalle de CxC.'!$Q$169)","v":""},{"$f":"IF('800111a - Nota. Detalle de CxC.'!$Q$170=\"\",\"\",'800111a - Nota. Detalle de CxC.'!$Q$170)","v":""},{"$f":"IF('800111a - Nota. Detalle de CxC.'!$Q$171=\"\",\"\",'800111a - Nota. Detalle de CxC.'!$Q$171)","v":""},{"$f":"IF('800111a - Nota. Detalle de CxC.'!$Q$172=\"\",\"\",'800111a - Nota. Detalle de CxC.'!$Q$172)","v":""},{"$f":"IF('800111a - Nota. Detalle de CxC.'!$Q$173=\"\",\"\",'800111a - Nota. Detalle de CxC.'!$Q$173)","v":""},{"$f":"IF('800111a - Nota. Detalle de CxC.'!$Q$174=\"\",\"\",'800111a - Nota. Detalle de CxC.'!$Q$174)","v":0},{"$f":"IF('800111a - Nota. Detalle de CxC.'!$Q$175=\"\",\"\",'800111a - Nota. Detalle de CxC.'!$Q$175)","v":0}]
[]
[]
[]
[]
[]
[]
[]
[]
[]
[]
[]
[]
[]
[]
[]
[]
[]
[]
[]
[]
[]
[]
[]
[]
[]
[]
[]
[]
[]
[]
[]
[]
[]
[]
[]
[]
[]
[]
[]
[]
[]
[]
[]
[]
[]
[]
[]
[]
[]
[]
[]
[]
[]
[]
[]
[]
[]
[]
[]
[]
[]
[]
[]
[]
[]
[]
[]
[]
[]
[]
[]
[]
[]
[]
[]
[]
[]
[]
[]
[]
[]
[]
[]
[]
[]
[]
[]
[]
[]
[]
[]
[]
[]
[]
[]
[]
[]
[]
[]
[]
[]
[]
[]
[]
[]
[]
[]
[]
[]
[]
[]
[]
[]
[]
[]
[]
[]
[]
[]
[]
[]
[]
[]
[]
[]
[]
[]
[]
[]
[]
[]
[]
[]
[]
[]
[]
[]
[]
[]
[]
[]
[]
[]
[]
[]
[]
[]
[]
[]
[]
[]
[]
[]
[]
[]
[]
[]
[null,null,null,null,"co-svsp-core:RelacionCuentasXCobrarMiembro","co-svsp-core:RelacionCuentasXCobrarClientesMiembro","co-svsp-core:DetalleCuentasXCobrarClientes1Miembro","co-svsp-core:DetalleCuentasXCobrarClientes2Miembro","co-svsp-core:DetalleCuentasXCobrarClientes3Miembro","co-svsp-core:DetalleCuentasXCobrarClientes4Miembro","co-svsp-core:DetalleCuentasXCobrarClientes5Miembro","co-svsp-core:DetalleCuentasXCobrarClientes6Miembro","co-svsp-core:DetalleCuentasXCobrarClientes7Miembro","co-svsp-core:DetalleCuentasXCobrarClientes8Miembro","co-svsp-core:DetalleCuentasXCobrarClientes9Miembro","co-svsp-core:DetalleCuentasXCobrarClientes10Miembro","co-svsp-core:DetalleCuentasXCobrarClientes11Miembro","co-svsp-core:DetalleCuentasXCobrarClientes12Miembro","co-svsp-core:DetalleCuentasXCobrarClientes13Miembro","co-svsp-core:DetalleCuentasXCobrarClientes14Miembro","co-svsp-core:DetalleCuentasXCobrarClientes15Miembro","co-svsp-core:DetalleCuentasXCobrarClientes16Miembro","co-svsp-core:DetalleCuentasXCobrarClientes17Miembro","co-svsp-core:DetalleCuentasXCobrarClientes18Miembro","co-svsp-core:DetalleCuentasXCobrarClientes19Miembro","co-svsp-core:DetalleCuentasXCobrarClientes20Miembro","co-svsp-core:DetalleCuentasXCobrarClientes21Miembro","co-svsp-core:DetalleCuentasXCobrarClientes22Miembro","co-svsp-core:DetalleCuentasXCobrarClientes23Miembro","co-svsp-core:DetalleCuentasXCobrarClientes24Miembro","co-svsp-core:DetalleCuentasXCobrarClientes25Miembro","co-svsp-core:DetalleCuentasXCobrarClientes26Miembro","co-svsp-core:DetalleCuentasXCobrarClientes27Miembro","co-svsp-core:DetalleCuentasXCobrarClientes28Miembro","co-svsp-core:DetalleCuentasXCobrarClientes29Miembro","co-svsp-core:DetalleCuentasXCobrarClientes30Miembro","co-svsp-core:DetalleCuentasXCobrarClientes31Miembro","co-svsp-core:DetalleCuentasXCobrarClientes32Miembro","co-svsp-core:DetalleCuentasXCobrarClientes33Miembro","co-svsp-core:DetalleCuentasXCobrarClientes34Miembro","co-svsp-core:DetalleCuentasXCobrarClientes35Miembro","co-svsp-core:DetalleCuentasXCobrarClientes36Miembro","co-svsp-core:DetalleCuentasXCobrarClientes37Miembro","co-svsp-core:DetalleCuentasXCobrarClientes38Miembro","co-svsp-core:DetalleCuentasXCobrarClientes39Miembro","co-svsp-core:DetalleCuentasXCobrarClientes40Miembro","co-svsp-core:DetalleCuentasXCobrarClientes41Miembro","co-svsp-core:DetalleCuentasXCobrarClientes42Miembro","co-svsp-core:DetalleCuentasXCobrarClientes43Miembro","co-svsp-core:DetalleCuentasXCobrarClientes44Miembro","co-svsp-core:DetalleCuentasXCobrarClientes45Miembro","co-svsp-core:DetalleCuentasXCobrarClientes46Miembro","co-svsp-core:DetalleCuentasXCobrarClientes47Miembro","co-svsp-core:DetalleCuentasXCobrarClientes48Miembro","co-svsp-core:DetalleCuentasXCobrarClientes49Miembro","co-svsp-core:DetalleCuentasXCobrarClientes50Miembro","co-svsp-core:DetalleCuentasXCobrarClientes51EnAdelante","co-svsp-core:TotalDetalleCuentasXCobrarClientesMiembro","co-svsp-core:RelacionCuentasXCobrarAccionistasSociosVinculadasMiembro","co-svsp-core:DetalleCuentasXCobrarAccionistasSociosVinculadas1Miembro","co-svsp-core:DetalleCuentasXCobrarAccionistasSociosVinculadas2Miembro","co-svsp-core:DetalleCuentasXCobrarAccionistasSociosVinculadas3Miembro","co-svsp-core:DetalleCuentasXCobrarAccionistasSociosVinculadas4Miembro","co-svsp-core:DetalleCuentasXCobrarAccionistasSociosVinculadas5Miembro","co-svsp-core:DetalleCuentasXCobrarAccionistasSociosVinculadas6Miembro","co-svsp-core:DetalleCuentasXCobrarAccionistasSociosVinculadas7Miembro","co-svsp-core:DetalleCuentasXCobrarAccionistasSociosVinculadas8Miembro","co-svsp-core:DetalleCuentasXCobrarAccionistasSociosVinculadas9Miembro","co-svsp-core:DetalleCuentasXCobrarAccionistasSociosVinculadas10Miembro","co-svsp-core:DetalleCuentasXCobrarAccionistasSociosVinculadas11Miembro","co-svsp-core:DetalleCuentasXCobrarAccionistasSociosVinculadas12Miembro","co-svsp-core:DetalleCuentasXCobrarAccionistasSociosVinculadas13Miembro","co-svsp-core:DetalleCuentasXCobrarAccionistasSociosVinculadas14Miembro","co-svsp-core:DetalleCuentasXCobrarAccionistasSociosVinculadas15Miembro","co-svsp-core:DetalleCuentasXCobrarAccionistasSociosVinculadas16Miembro","co-svsp-core:DetalleCuentasXCobrarAccionistasSociosVinculadas17Miembro","co-svsp-core:DetalleCuentasXCobrarAccionistasSociosVinculadas18Miembro","co-svsp-core:DetalleCuentasXCobrarAccionistasSociosVinculadas19Miembro","co-svsp-core:DetalleCuentasXCobrarAccionistasSociosVinculadas20Miembro","co-svsp-core:DetalleCuentasXCobrarAccionistasSociosVinculadas21Miembro","co-svsp-core:DetalleCuentasXCobrarAccionistasSociosVinculadas22Miembro","co-svsp-core:DetalleCuentasXCobrarAccionistasSociosVinculadas23Miembro","co-svsp-core:DetalleCuentasXCobrarAccionistasSociosVinculadas24Miembro","co-svsp-core:DetalleCuentasXCobrarAccionistasSociosVinculadas25Miembro","co-svsp-core:DetalleCuentasXCobrarAccionistasSociosVinculadas26Miembro","co-svsp-core:DetalleCuentasXCobrarAccionistasSociosVinculadas27Miembro","co-svsp-core:DetalleCuentasXCobrarAccionistasSociosVinculadas28Miembro","co-svsp-core:DetalleCuentasXCobrarAccionistasSociosVinculadas29Miembro","co-svsp-core:DetalleCuentasXCobrarAccionistasSociosVinculadas30Miembro","co-svsp-core:DetalleCuentasXCobrarAccionistasSociosVinculadas31Miembro","co-svsp-core:DetalleCuentasXCobrarAccionistasSociosVinculadas32Miembro","co-svsp-core:DetalleCuentasXCobrarAccionistasSociosVinculadas33Miembro","co-svsp-core:DetalleCuentasXCobrarAccionistasSociosVinculadas34Miembro","co-svsp-core:DetalleCuentasXCobrarAccionistasSociosVinculadas35Miembro","co-svsp-core:DetalleCuentasXCobrarAccionistasSociosVinculadas36Miembro","co-svsp-core:DetalleCuentasXCobrarAccionistasSociosVinculadas37Miembro","co-svsp-core:DetalleCuentasXCobrarAccionistasSociosVinculadas38Miembro","co-svsp-core:DetalleCuentasXCobrarAccionistasSociosVinculadas39Miembro","co-svsp-core:DetalleCuentasXCobrarAccionistasSociosVinculadas40Miembro","co-svsp-core:DetalleCuentasXCobrarAccionistasSociosVinculadas41Miembro","co-svsp-core:DetalleCuentasXCobrarAccionistasSociosVinculadas42Miembro","co-svsp-core:DetalleCuentasXCobrarAccionistasSociosVinculadas43Miembro","co-svsp-core:DetalleCuentasXCobrarAccionistasSociosVinculadas44Miembro","co-svsp-core:DetalleCuentasXCobrarAccionistasSociosVinculadas45Miembro","co-svsp-core:DetalleCuentasXCobrarAccionistasSociosVinculadas46Miembro","co-svsp-core:DetalleCuentasXCobrarAccionistasSociosVinculadas47Miembro","co-svsp-core:DetalleCuentasXCobrarAccionistasSociosVinculadas48Miembro","co-svsp-core:DetalleCuentasXCobrarAccionistasSociosVinculadas49Miembro","co-svsp-core:DetalleCuentasXCobrarAccionistasSociosVinculadas50Miembro","co-svsp-core:DetalleCuentasXCobrarAccionistasSociosVinculadas51EnAdelante","co-svsp-core:TotalDetalleCuentasXCobrarAccionistasSociosVinculadasMiembro","co-svsp-core:RelacionCuentasXCobrarOtrasCuentasXCobrarMiembro","co-svsp-core:DetalleCuentasXCobrarOtrasCuentasXCobrar1Miembro","co-svsp-core:DetalleCuentasXCobrarOtrasCuentasXCobrar2Miembro","co-svsp-core:DetalleCuentasXCobrarOtrasCuentasXCobrar3Miembro","co-svsp-core:DetalleCuentasXCobrarOtrasCuentasXCobrar4Miembro","co-svsp-core:DetalleCuentasXCobrarOtrasCuentasXCobrar5Miembro","co-svsp-core:DetalleCuentasXCobrarOtrasCuentasXCobrar6Miembro","co-svsp-core:DetalleCuentasXCobrarOtrasCuentasXCobrar7Miembro","co-svsp-core:DetalleCuentasXCobrarOtrasCuentasXCobrar8Miembro","co-svsp-core:DetalleCuentasXCobrarOtrasCuentasXCobrar9Miembro","co-svsp-core:DetalleCuentasXCobrarOtrasCuentasXCobrar10Miembro","co-svsp-core:DetalleCuentasXCobrarOtrasCuentasXCobrar11Miembro","co-svsp-core:DetalleCuentasXCobrarOtrasCuentasXCobrar12Miembro","co-svsp-core:DetalleCuentasXCobrarOtrasCuentasXCobrar13Miembro","co-svsp-core:DetalleCuentasXCobrarOtrasCuentasXCobrar14Miembro","co-svsp-core:DetalleCuentasXCobrarOtrasCuentasXCobrar15Miembro","co-svsp-core:DetalleCuentasXCobrarOtrasCuentasXCobrar16Miembro","co-svsp-core:DetalleCuentasXCobrarOtrasCuentasXCobrar17Miembro","co-svsp-core:DetalleCuentasXCobrarOtrasCuentasXCobrar18Miembro","co-svsp-core:DetalleCuentasXCobrarOtrasCuentasXCobrar19Miembro","co-svsp-core:DetalleCuentasXCobrarOtrasCuentasXCobrar20Miembro","co-svsp-core:DetalleCuentasXCobrarOtrasCuentasXCobrar21Miembro","co-svsp-core:DetalleCuentasXCobrarOtrasCuentasXCobrar22Miembro","co-svsp-core:DetalleCuentasXCobrarOtrasCuentasXCobrar23Miembro","co-svsp-core:DetalleCuentasXCobrarOtrasCuentasXCobrar24Miembro","co-svsp-core:DetalleCuentasXCobrarOtrasCuentasXCobrar25Miembro","co-svsp-core:DetalleCuentasXCobrarOtrasCuentasXCobrar26Miembro","co-svsp-core:DetalleCuentasXCobrarOtrasCuentasXCobrar27Miembro","co-svsp-core:DetalleCuentasXCobrarOtrasCuentasXCobrar28Miembro","co-svsp-core:DetalleCuentasXCobrarOtrasCuentasXCobrar29Miembro","co-svsp-core:DetalleCuentasXCobrarOtrasCuentasXCobrar30Miembro","co-svsp-core:DetalleCuentasXCobrarOtrasCuentasXCobrar31Miembro","co-svsp-core:DetalleCuentasXCobrarOtrasCuentasXCobrar32Miembro","co-svsp-core:DetalleCuentasXCobrarOtrasCuentasXCobrar33Miembro","co-svsp-core:DetalleCuentasXCobrarOtrasCuentasXCobrar34Miembro","co-svsp-core:DetalleCuentasXCobrarOtrasCuentasXCobrar35Miembro","co-svsp-core:DetalleCuentasXCobrarOtrasCuentasXCobrar36Miembro","co-svsp-core:DetalleCuentasXCobrarOtrasCuentasXCobrar37Miembro","co-svsp-core:DetalleCuentasXCobrarOtrasCuentasXCobrar38Miembro","co-svsp-core:DetalleCuentasXCobrarOtrasCuentasXCobrar39Miembro","co-svsp-core:DetalleCuentasXCobrarOtrasCuentasXCobrar40Miembro","co-svsp-core:DetalleCuentasXCobrarOtrasCuentasXCobrar41Miembro","co-svsp-core:DetalleCuentasXCobrarOtrasCuentasXCobrar42Miembro","co-svsp-core:DetalleCuentasXCobrarOtrasCuentasXCobrar43Miembro","co-svsp-core:DetalleCuentasXCobrarOtrasCuentasXCobrar44Miembro","co-svsp-core:DetalleCuentasXCobrarOtrasCuentasXCobrar45Miembro","co-svsp-core:DetalleCuentasXCobrarOtrasCuentasXCobrar46Miembro","co-svsp-core:DetalleCuentasXCobrarOtrasCuentasXCobrar47Miembro","co-svsp-core:DetalleCuentasXCobrarOtrasCuentasXCobrar48Miembro","co-svsp-core:DetalleCuentasXCobrarOtrasCuentasXCobrar49Miembro","co-svsp-core:DetalleCuentasXCobrarOtrasCuentasXCobrar50Miembro","co-svsp-core:DetalleCuentasXCobrarOtrasCuentasXCobrar51EnAdelante","co-svsp-core:TotalDetalleCuentasXCobrarOtrasCuentasXCobrarMiembro","co-svsp-core:TotalDetalleCuentasXCobrarMiembro"]
[null,"Periodo",null,"co-svsp-core:DetalleCuentasXCobrar_Eje","Relación de cuentas por cobrar [miembro]","Relación de cuentas por cobrar clientes [miembro]","Detalle de cuentas por cobrar clientes 1 [miembro]","Detalle de cuentas por cobrar clientes 2 [miembro]","Detalle de cuentas por cobrar clientes 3 [miembro]","Detalle de cuentas por cobrar clientes 4 [miembro]","Detalle de cuentas por cobrar clientes 5 [miembro]","Detalle de cuentas por cobrar clientes 6 [miembro]","Detalle de cuentas por cobrar clientes 7 [miembro]","Detalle de cuentas por cobrar clientes 8 [miembro]","Detalle de cuentas por cobrar clientes 9 [miembro]","Detalle de cuentas por cobrar clientes 10 [miembro]","Detalle de cuentas por cobrar clientes 11 [miembro]","Detalle de cuentas por cobrar clientes 12 [miembro]","Detalle de cuentas por cobrar clientes 13 [miembro]","Detalle de cuentas por cobrar clientes 14 [miembro]","Detalle de cuentas por cobrar clientes 15 [miembro]","Detalle de cuentas por cobrar clientes 16 [miembro]","Detalle de cuentas por cobrar clientes 17 [miembro]","Detalle de cuentas por cobrar clientes 18 [miembro]","Detalle de cuentas por cobrar clientes 19 [miembro]","Detalle de cuentas por cobrar clientes 20 [miembro]","Detalle de cuentas por cobrar clientes 21 [miembro]","Detalle de cuentas por cobrar clientes 22 [miembro]","Detalle de cuentas por cobrar clientes 23 [miembro]","Detalle de cuentas por cobrar clientes 24 [miembro]","Detalle de cuentas por cobrar clientes 25 [miembro]","Detalle de cuentas por cobrar clientes 26 [miembro]","Detalle de cuentas por cobrar clientes 27 [miembro]","Detalle de cuentas por cobrar clientes 28 [miembro]","Detalle de cuentas por cobrar clientes 29 [miembro]","Detalle de cuentas por cobrar clientes 30 [miembro]","Detalle de cuentas por cobrar clientes 31 [miembro]","Detalle de cuentas por cobrar clientes 32 [miembro]","Detalle de cuentas por cobrar clientes 33 [miembro]","Detalle de cuentas por cobrar clientes 34 [miembro]","Detalle de cuentas por cobrar clientes 35 [miembro]","Detalle de cuentas por cobrar clientes 36 [miembro]","Detalle de cuentas por cobrar clientes 37 [miembro]","Detalle de cuentas por cobrar clientes 38 [miembro]","Detalle de cuentas por cobrar clientes 39 [miembro]","Detalle de cuentas por cobrar clientes 40 [miembro]","Detalle de cuentas por cobrar clientes 41 [miembro]","Detalle de cuentas por cobrar clientes 42 [miembro]","Detalle de cuentas por cobrar clientes 43 [miembro]","Detalle de cuentas por cobrar clientes 44 [miembro]","Detalle de cuentas por cobrar clientes 45 [miembro]","Detalle de cuentas por cobrar clientes 46 [miembro]","Detalle de cuentas por cobrar clientes 47 [miembro]","Detalle de cuentas por cobrar clientes 48 [miembro]","Detalle de cuentas por cobrar clientes 49 [miembro]","Detalle de cuentas por cobrar clientes 50 [miembro]","Detalle de cuentas por cobrar clientes 51 en adelante [miembro]","Total Detalle de cuentas por cobrar clientes [miembro]","Relación de cuentas por cobrar, compañías accionostas, socios y compañías vinculadas [miembro]","Detalle de cuentas por cobrar a accionistas, socios o vinculadas 1 [miembro]","Detalle de cuentas por cobrar a accionistas, socios o vinculadas 2 [miembro]","Detalle de cuentas por cobrar a accionistas, socios o vinculadas 3 [miembro]","Detalle de cuentas por cobrar a accionistas, socios o vinculadas 4 [miembro]","Detalle de cuentas por cobrar a accionistas, socios o vinculadas 5 [miembro]","Detalle de cuentas por cobrar a accionistas, socios o vinculadas 6 [miembro]","Detalle de cuentas por cobrar a accionistas, socios o vinculadas 7 [miembro]","Detalle de cuentas por cobrar a accionistas, socios o vinculadas 8 [miembro]","Detalle de cuentas por cobrar a accionistas, socios o vinculadas 9 [miembro]","Detalle de cuentas por cobrar a accionistas, socios o vinculadas 10 [miembro]","Detalle de cuentas por cobrar a accionistas, socios o vinculadas 11 [miembro]","Detalle de cuentas por cobrar a accionistas, socios o vinculadas 12 [miembro]","Detalle de cuentas por cobrar a accionistas, socios o vinculadas 13 [miembro]","Detalle de cuentas por cobrar a accionistas, socios o vinculadas 14 [miembro]","Detalle de cuentas por cobrar a accionistas, socios o vinculadas 15 [miembro]","Detalle de cuentas por cobrar a accionistas, socios o vinculadas 16 [miembro]","Detalle de cuentas por cobrar a accionistas, socios o vinculadas 17 [miembro]","Detalle de cuentas por cobrar a accionistas, socios o vinculadas 18 [miembro]","Detalle de cuentas por cobrar a accionistas, socios o vinculadas 19 [miembro]","Detalle de cuentas por cobrar a accionistas, socios o vinculadas 20 [miembro]","Detalle de cuentas por cobrar a accionistas, socios o vinculadas 21 [miembro]","Detalle de cuentas por cobrar a accionistas, socios o vinculadas 22 [miembro]","Detalle de cuentas por cobrar a accionistas, socios o vinculadas 23 [miembro]","Detalle de cuentas por cobrar a accionistas, socios o vinculadas 24 [miembro]","Detalle de cuentas por cobrar a accionistas, socios o vinculadas 25 [miembro]","Detalle de cuentas por cobrar a accionistas, socios o vinculadas 26 [miembro]","Detalle de cuentas por cobrar a accionistas, socios o vinculadas 27 [miembro]","Detalle de cuentas por cobrar a accionistas, socios o vinculadas 28 [miembro]","Detalle de cuentas por cobrar a accionistas, socios o vinculadas 29 [miembro]","Detalle de cuentas por cobrar a accionistas, socios o vinculadas 30 [miembro]","Detalle de cuentas por cobrar a accionistas, socios o vinculadas 31 [miembro]","Detalle de cuentas por cobrar a accionistas, socios o vinculadas 32 [miembro]","Detalle de cuentas por cobrar a accionistas, socios o vinculadas 33 [miembro]","Detalle de cuentas por cobrar a accionistas, socios o vinculadas 34 [miembro]","Detalle de cuentas por cobrar a accionistas, socios o vinculadas 35 [miembro]","Detalle de cuentas por cobrar a accionistas, socios o vinculadas 36 [miembro]","Detalle de cuentas por cobrar a accionistas, socios o vinculadas 37 [miembro]","Detalle de cuentas por cobrar a accionistas, socios o vinculadas 38 [miembro]","Detalle de cuentas por cobrar a accionistas, socios o vinculadas 39 [miembro]","Detalle de cuentas por cobrar a accionistas, socios o vinculadas 40 [miembro]","Detalle de cuentas por cobrar a accionistas, socios o vinculadas 41 [miembro]","Detalle de cuentas por cobrar a accionistas, socios o vinculadas 42 [miembro]","Detalle de cuentas por cobrar a accionistas, socios o vinculadas 43 [miembro]","Detalle de cuentas por cobrar a accionistas, socios o vinculadas 44 [miembro]","Detalle de cuentas por cobrar a accionistas, socios o vinculadas 45 [miembro]","Detalle de cuentas por cobrar a accionistas, socios o vinculadas 46 [miembro]","Detalle de cuentas por cobrar a accionistas, socios o vinculadas 47 [miembro]","Detalle de cuentas por cobrar a accionistas, socios o vinculadas 48 [miembro]","Detalle de cuentas por cobrar a accionistas, socios o vinculadas 49 [miembro]","Detalle de cuentas por cobrar a accionistas, socios o vinculadas 50 [miembro]","Detalle de cuentas por cobrar a accionistas, socios o vinculadas 51 en adelante [miembro]","Total Detalle de cuentas por cobrar a accionistas, socios o vinculadas [miembro]","Relación de otras cuentas por cobrar [miembro]","Detalle de cuentas por cobrar Otras cuentas por cobrar  1 [miembro]","Detalle de cuentas por cobrar Otras cuentas por cobrar  2 [miembro]","Detalle de cuentas por cobrar Otras cuentas por cobrar  3 [miembro]","Detalle de cuentas por cobrar Otras cuentas por cobrar  4 [miembro]","Detalle de cuentas por cobrar Otras cuentas por cobrar  5 [miembro]","Detalle de cuentas por cobrar Otras cuentas por cobrar  6 [miembro]","Detalle de cuentas por cobrar Otras cuentas por cobrar  7 [miembro]","Detalle de cuentas por cobrar Otras cuentas por cobrar  8 [miembro]","Detalle de cuentas por cobrar Otras cuentas por cobrar  9 [miembro]","Detalle de cuentas por cobrar Otras cuentas por cobrar  10 [miembro]","Detalle de cuentas por cobrar Otras cuentas por cobrar  11 [miembro]","Detalle de cuentas por cobrar Otras cuentas por cobrar  12 [miembro]","Detalle de cuentas por cobrar Otras cuentas por cobrar  13 [miembro]","Detalle de cuentas por cobrar Otras cuentas por cobrar  14 [miembro]","Detalle de cuentas por cobrar Otras cuentas por cobrar  15 [miembro]","Detalle de cuentas por cobrar Otras cuentas por cobrar  16 [miembro]","Detalle de cuentas por cobrar Otras cuentas por cobrar  17 [miembro]","Detalle de cuentas por cobrar Otras cuentas por cobrar  18 [miembro]","Detalle de cuentas por cobrar Otras cuentas por cobrar  19 [miembro]","Detalle de cuentas por cobrar Otras cuentas por cobrar  20 [miembro]","Detalle de cuentas por cobrar Otras cuentas por cobrar  21 [miembro]","Detalle de cuentas por cobrar Otras cuentas por cobrar  22 [miembro]","Detalle de cuentas por cobrar Otras cuentas por cobrar  23 [miembro]","Detalle de cuentas por cobrar Otras cuentas por cobrar  24 [miembro]","Detalle de cuentas por cobrar Otras cuentas por cobrar  25 [miembro]","Detalle de cuentas por cobrar Otras cuentas por cobrar  26 [miembro]","Detalle de cuentas por cobrar Otras cuentas por cobrar  27 [miembro]","Detalle de cuentas por cobrar Otras cuentas por cobrar  28 [miembro]","Detalle de cuentas por cobrar Otras cuentas por cobrar  29 [miembro]","Detalle de cuentas por cobrar Otras cuentas por cobrar  30 [miembro]","Detalle de cuentas por cobrar Otras cuentas por cobrar  31 [miembro]","Detalle de cuentas por cobrar Otras cuentas por cobrar  32 [miembro]","Detalle de cuentas por cobrar Otras cuentas por cobrar  33 [miembro]","Detalle de cuentas por cobrar Otras cuentas por cobrar  34 [miembro]","Detalle de cuentas por cobrar Otras cuentas por cobrar  35 [miembro]","Detalle de cuentas por cobrar Otras cuentas por cobrar  36 [miembro]","Detalle de cuentas por cobrar Otras cuentas por cobrar  37 [miembro]","Detalle de cuentas por cobrar Otras cuentas por cobrar  38 [miembro]","Detalle de cuentas por cobrar Otras cuentas por cobrar  39 [miembro]","Detalle de cuentas por cobrar Otras cuentas por cobrar  40 [miembro]","Detalle de cuentas por cobrar Otras cuentas por cobrar  41 [miembro]","Detalle de cuentas por cobrar Otras cuentas por cobrar  42 [miembro]","Detalle de cuentas por cobrar Otras cuentas por cobrar  43 [miembro]","Detalle de cuentas por cobrar Otras cuentas por cobrar  44 [miembro]","Detalle de cuentas por cobrar Otras cuentas por cobrar  45 [miembro]","Detalle de cuentas por cobrar Otras cuentas por cobrar  46 [miembro]","Detalle de cuentas por cobrar Otras cuentas por cobrar  47 [miembro]","Detalle de cuentas por cobrar Otras cuentas por cobrar  48 [miembro]","Detalle de cuentas por cobrar Otras cuentas por cobrar  49 [miembro]","Detalle de cuentas por cobrar Otras cuentas por cobrar  50 [miembro]","Detalle de cuentas por cobrar Otras cuentas por cobrar  51 en adelante [miembro]","Total Detalle de cuentas por cobrar, otras cuentas por cobrar [miembro]","Total Detalle de cuentas por cobrar [miembro]"]
[null,"1;2","co-svsp-core:TipoDeDocumentoDeudorCxC","Tipo de documento del deudor",null,null,{"$f":"IF('800111a - Nota. Detalle de CxC.'!$F$188=\"\",\"\",'800111a - Nota. Detalle de CxC.'!$F$188)","v":""},{"$f":"IF('800111a - Nota. Detalle de CxC.'!$F$189=\"\",\"\",'800111a - Nota. Detalle de CxC.'!$F$189)","v":""},{"$f":"IF('800111a - Nota. Detalle de CxC.'!$F$190=\"\",\"\",'800111a - Nota. Detalle de CxC.'!$F$190)","v":""},{"$f":"IF('800111a - Nota. Detalle de CxC.'!$F$191=\"\",\"\",'800111a - Nota. Detalle de CxC.'!$F$191)","v":""},{"$f":"IF('800111a - Nota. Detalle de CxC.'!$F$192=\"\",\"\",'800111a - Nota. Detalle de CxC.'!$F$192)","v":""},{"$f":"IF('800111a - Nota. Detalle de CxC.'!$F$193=\"\",\"\",'800111a - Nota. Detalle de CxC.'!$F$193)","v":""},{"$f":"IF('800111a - Nota. Detalle de CxC.'!$F$194=\"\",\"\",'800111a - Nota. Detalle de CxC.'!$F$194)","v":""},{"$f":"IF('800111a - Nota. Detalle de CxC.'!$F$195=\"\",\"\",'800111a - Nota. Detalle de CxC.'!$F$195)","v":""},{"$f":"IF('800111a - Nota. Detalle de CxC.'!$F$196=\"\",\"\",'800111a - Nota. Detalle de CxC.'!$F$196)","v":""},{"$f":"IF('800111a - Nota. Detalle de CxC.'!$F$197=\"\",\"\",'800111a - Nota. Detalle de CxC.'!$F$197)","v":""},{"$f":"IF('800111a - Nota. Detalle de CxC.'!$F$198=\"\",\"\",'800111a - Nota. Detalle de CxC.'!$F$198)","v":""},{"$f":"IF('800111a - Nota. Detalle de CxC.'!$F$199=\"\",\"\",'800111a - Nota. Detalle de CxC.'!$F$199)","v":""},{"$f":"IF('800111a - Nota. Detalle de CxC.'!$F$200=\"\",\"\",'800111a - Nota. Detalle de CxC.'!$F$200)","v":""},{"$f":"IF('800111a - Nota. Detalle de CxC.'!$F$201=\"\",\"\",'800111a - Nota. Detalle de CxC.'!$F$201)","v":""},{"$f":"IF('800111a - Nota. Detalle de CxC.'!$F$202=\"\",\"\",'800111a - Nota. Detalle de CxC.'!$F$202)","v":""},{"$f":"IF('800111a - Nota. Detalle de CxC.'!$F$203=\"\",\"\",'800111a - Nota. Detalle de CxC.'!$F$203)","v":""},{"$f":"IF('800111a - Nota. Detalle de CxC.'!$F$204=\"\",\"\",'800111a - Nota. Detalle de CxC.'!$F$204)","v":""},{"$f":"IF('800111a - Nota. Detalle de CxC.'!$F$205=\"\",\"\",'800111a - Nota. Detalle de CxC.'!$F$205)","v":""},{"$f":"IF('800111a - Nota. Detalle de CxC.'!$F$206=\"\",\"\",'800111a - Nota. Detalle de CxC.'!$F$206)","v":""},{"$f":"IF('800111a - Nota. Detalle de CxC.'!$F$207=\"\",\"\",'800111a - Nota. Detalle de CxC.'!$F$207)","v":""},{"$f":"IF('800111a - Nota. Detalle de CxC.'!$F$208=\"\",\"\",'800111a - Nota. Detalle de CxC.'!$F$208)","v":""},{"$f":"IF('800111a - Nota. Detalle de CxC.'!$F$209=\"\",\"\",'800111a - Nota. Detalle de CxC.'!$F$209)","v":""},{"$f":"IF('800111a - Nota. Detalle de CxC.'!$F$210=\"\",\"\",'800111a - Nota. Detalle de CxC.'!$F$210)","v":""},{"$f":"IF('800111a - Nota. Detalle de CxC.'!$F$211=\"\",\"\",'800111a - Nota. Detalle de CxC.'!$F$211)","v":""},{"$f":"IF('800111a - Nota. Detalle de CxC.'!$F$212=\"\",\"\",'800111a - Nota. Detalle de CxC.'!$F$212)","v":""},{"$f":"IF('800111a - Nota. Detalle de CxC.'!$F$213=\"\",\"\",'800111a - Nota. Detalle de CxC.'!$F$213)","v":""},{"$f":"IF('800111a - Nota. Detalle de CxC.'!$F$214=\"\",\"\",'800111a - Nota. Detalle de CxC.'!$F$214)","v":""},{"$f":"IF('800111a - Nota. Detalle de CxC.'!$F$215=\"\",\"\",'800111a - Nota. Detalle de CxC.'!$F$215)","v":""},{"$f":"IF('800111a - Nota. Detalle de CxC.'!$F$216=\"\",\"\",'800111a - Nota. Detalle de CxC.'!$F$216)","v":""},{"$f":"IF('800111a - Nota. Detalle de CxC.'!$F$217=\"\",\"\",'800111a - Nota. Detalle de CxC.'!$F$217)","v":""},{"$f":"IF('800111a - Nota. Detalle de CxC.'!$F$218=\"\",\"\",'800111a - Nota. Detalle de CxC.'!$F$218)","v":""},{"$f":"IF('800111a - Nota. Detalle de CxC.'!$F$219=\"\",\"\",'800111a - Nota. Detalle de CxC.'!$F$219)","v":""},{"$f":"IF('800111a - Nota. Detalle de CxC.'!$F$220=\"\",\"\",'800111a - Nota. Detalle de CxC.'!$F$220)","v":""},{"$f":"IF('800111a - Nota. Detalle de CxC.'!$F$221=\"\",\"\",'800111a - Nota. Detalle de CxC.'!$F$221)","v":""},{"$f":"IF('800111a - Nota. Detalle de CxC.'!$F$222=\"\",\"\",'800111a - Nota. Detalle de CxC.'!$F$222)","v":""},{"$f":"IF('800111a - Nota. Detalle de CxC.'!$F$223=\"\",\"\",'800111a - Nota. Detalle de CxC.'!$F$223)","v":""},{"$f":"IF('800111a - Nota. Detalle de CxC.'!$F$224=\"\",\"\",'800111a - Nota. Detalle de CxC.'!$F$224)","v":""},{"$f":"IF('800111a - Nota. Detalle de CxC.'!$F$225=\"\",\"\",'800111a - Nota. Detalle de CxC.'!$F$225)","v":""},{"$f":"IF('800111a - Nota. Detalle de CxC.'!$F$226=\"\",\"\",'800111a - Nota. Detalle de CxC.'!$F$226)","v":""},{"$f":"IF('800111a - Nota. Detalle de CxC.'!$F$227=\"\",\"\",'800111a - Nota. Detalle de CxC.'!$F$227)","v":""},{"$f":"IF('800111a - Nota. Detalle de CxC.'!$F$228=\"\",\"\",'800111a - Nota. Detalle de CxC.'!$F$228)","v":""},{"$f":"IF('800111a - Nota. Detalle de CxC.'!$F$229=\"\",\"\",'800111a - Nota. Detalle de CxC.'!$F$229)","v":""},{"$f":"IF('800111a - Nota. Detalle de CxC.'!$F$230=\"\",\"\",'800111a - Nota. Detalle de CxC.'!$F$230)","v":""},{"$f":"IF('800111a - Nota. Detalle de CxC.'!$F$231=\"\",\"\",'800111a - Nota. Detalle de CxC.'!$F$231)","v":""},{"$f":"IF('800111a - Nota. Detalle de CxC.'!$F$232=\"\",\"\",'800111a - Nota. Detalle de CxC.'!$F$232)","v":""},{"$f":"IF('800111a - Nota. Detalle de CxC.'!$F$233=\"\",\"\",'800111a - Nota. Detalle de CxC.'!$F$233)","v":""},{"$f":"IF('800111a - Nota. Detalle de CxC.'!$F$234=\"\",\"\",'800111a - Nota. Detalle de CxC.'!$F$234)","v":""},{"$f":"IF('800111a - Nota. Detalle de CxC.'!$F$235=\"\",\"\",'800111a - Nota. Detalle de CxC.'!$F$235)","v":""},{"$f":"IF('800111a - Nota. Detalle de CxC.'!$F$236=\"\",\"\",'800111a - Nota. Detalle de CxC.'!$F$236)","v":""},{"$f":"IF('800111a - Nota. Detalle de CxC.'!$F$237=\"\",\"\",'800111a - Nota. Detalle de CxC.'!$F$237)","v":""},null,null,null,{"$f":"IF('800111a - Nota. Detalle de CxC.'!$F$241=\"\",\"\",'800111a - Nota. Detalle de CxC.'!$F$241)","v":""},{"$f":"IF('800111a - Nota. Detalle de CxC.'!$F$242=\"\",\"\",'800111a - Nota. Detalle de CxC.'!$F$242)","v":""},{"$f":"IF('800111a - Nota. Detalle de CxC.'!$F$243=\"\",\"\",'800111a - Nota. Detalle de CxC.'!$F$243)","v":""},{"$f":"IF('800111a - Nota. Detalle de CxC.'!$F$244=\"\",\"\",'800111a - Nota. Detalle de CxC.'!$F$244)","v":""},{"$f":"IF('800111a - Nota. Detalle de CxC.'!$F$245=\"\",\"\",'800111a - Nota. Detalle de CxC.'!$F$245)","v":""},{"$f":"IF('800111a - Nota. Detalle de CxC.'!$F$246=\"\",\"\",'800111a - Nota. Detalle de CxC.'!$F$246)","v":""},{"$f":"IF('800111a - Nota. Detalle de CxC.'!$F$247=\"\",\"\",'800111a - Nota. Detalle de CxC.'!$F$247)","v":""},{"$f":"IF('800111a - Nota. Detalle de CxC.'!$F$248=\"\",\"\",'800111a - Nota. Detalle de CxC.'!$F$248)","v":""},{"$f":"IF('800111a - Nota. Detalle de CxC.'!$F$249=\"\",\"\",'800111a - Nota. Detalle de CxC.'!$F$249)","v":""},{"$f":"IF('800111a - Nota. Detalle de CxC.'!$F$250=\"\",\"\",'800111a - Nota. Detalle de CxC.'!$F$250)","v":""},{"$f":"IF('800111a - Nota. Detalle de CxC.'!$F$251=\"\",\"\",'800111a - Nota. Detalle de CxC.'!$F$251)","v":""},{"$f":"IF('800111a - Nota. Detalle de CxC.'!$F$252=\"\",\"\",'800111a - Nota. Detalle de CxC.'!$F$252)","v":""},{"$f":"IF('800111a - Nota. Detalle de CxC.'!$F$253=\"\",\"\",'800111a - Nota. Detalle de CxC.'!$F$253)","v":""},{"$f":"IF('800111a - Nota. Detalle de CxC.'!$F$254=\"\",\"\",'800111a - Nota. Detalle de CxC.'!$F$254)","v":""},{"$f":"IF('800111a - Nota. Detalle de CxC.'!$F$255=\"\",\"\",'800111a - Nota. Detalle de CxC.'!$F$255)","v":""},{"$f":"IF('800111a - Nota. Detalle de CxC.'!$F$256=\"\",\"\",'800111a - Nota. Detalle de CxC.'!$F$256)","v":""},{"$f":"IF('800111a - Nota. Detalle de CxC.'!$F$257=\"\",\"\",'800111a - Nota. Detalle de CxC.'!$F$257)","v":""},{"$f":"IF('800111a - Nota. Detalle de CxC.'!$F$258=\"\",\"\",'800111a - Nota. Detalle de CxC.'!$F$258)","v":""},{"$f":"IF('800111a - Nota. Detalle de CxC.'!$F$259=\"\",\"\",'800111a - Nota. Detalle de CxC.'!$F$259)","v":""},{"$f":"IF('800111a - Nota. Detalle de CxC.'!$F$260=\"\",\"\",'800111a - Nota. Detalle de CxC.'!$F$260)","v":""},{"$f":"IF('800111a - Nota. Detalle de CxC.'!$F$261=\"\",\"\",'800111a - Nota. Detalle de CxC.'!$F$261)","v":""},{"$f":"IF('800111a - Nota. Detalle de CxC.'!$F$262=\"\",\"\",'800111a - Nota. Detalle de CxC.'!$F$262)","v":""},{"$f":"IF('800111a - Nota. Detalle de CxC.'!$F$263=\"\",\"\",'800111a - Nota. Detalle de CxC.'!$F$263)","v":""},{"$f":"IF('800111a - Nota. Detalle de CxC.'!$F$264=\"\",\"\",'800111a - Nota. Detalle de CxC.'!$F$264)","v":""},{"$f":"IF('800111a - Nota. Detalle de CxC.'!$F$265=\"\",\"\",'800111a - Nota. Detalle de CxC.'!$F$265)","v":""},{"$f":"IF('800111a - Nota. Detalle de CxC.'!$F$266=\"\",\"\",'800111a - Nota. Detalle de CxC.'!$F$266)","v":""},{"$f":"IF('800111a - Nota. Detalle de CxC.'!$F$267=\"\",\"\",'800111a - Nota. Detalle de CxC.'!$F$267)","v":""},{"$f":"IF('800111a - Nota. Detalle de CxC.'!$F$268=\"\",\"\",'800111a - Nota. Detalle de CxC.'!$F$268)","v":""},{"$f":"IF('800111a - Nota. Detalle de CxC.'!$F$269=\"\",\"\",'800111a - Nota. Detalle de CxC.'!$F$269)","v":""},{"$f":"IF('800111a - Nota. Detalle de CxC.'!$F$270=\"\",\"\",'800111a - Nota. Detalle de CxC.'!$F$270)","v":""},{"$f":"IF('800111a - Nota. Detalle de CxC.'!$F$271=\"\",\"\",'800111a - Nota. Detalle de CxC.'!$F$271)","v":""},{"$f":"IF('800111a - Nota. Detalle de CxC.'!$F$272=\"\",\"\",'800111a - Nota. Detalle de CxC.'!$F$272)","v":""},{"$f":"IF('800111a - Nota. Detalle de CxC.'!$F$273=\"\",\"\",'800111a - Nota. Detalle de CxC.'!$F$273)","v":""},{"$f":"IF('800111a - Nota. Detalle de CxC.'!$F$274=\"\",\"\",'800111a - Nota. Detalle de CxC.'!$F$274)","v":""},{"$f":"IF('800111a - Nota. Detalle de CxC.'!$F$275=\"\",\"\",'800111a - Nota. Detalle de CxC.'!$F$275)","v":""},{"$f":"IF('800111a - Nota. Detalle de CxC.'!$F$276=\"\",\"\",'800111a - Nota. Detalle de CxC.'!$F$276)","v":""},{"$f":"IF('800111a - Nota. Detalle de CxC.'!$F$277=\"\",\"\",'800111a - Nota. Detalle de CxC.'!$F$277)","v":""},{"$f":"IF('800111a - Nota. Detalle de CxC.'!$F$278=\"\",\"\",'800111a - Nota. Detalle de CxC.'!$F$278)","v":""},{"$f":"IF('800111a - Nota. Detalle de CxC.'!$F$279=\"\",\"\",'800111a - Nota. Detalle de CxC.'!$F$279)","v":""},{"$f":"IF('800111a - Nota. Detalle de CxC.'!$F$280=\"\",\"\",'800111a - Nota. Detalle de CxC.'!$F$280)","v":""},{"$f":"IF('800111a - Nota. Detalle de CxC.'!$F$281=\"\",\"\",'800111a - Nota. Detalle de CxC.'!$F$281)","v":""},{"$f":"IF('800111a - Nota. Detalle de CxC.'!$F$282=\"\",\"\",'800111a - Nota. Detalle de CxC.'!$F$282)","v":""},{"$f":"IF('800111a - Nota. Detalle de CxC.'!$F$283=\"\",\"\",'800111a - Nota. Detalle de CxC.'!$F$283)","v":""},{"$f":"IF('800111a - Nota. Detalle de CxC.'!$F$284=\"\",\"\",'800111a - Nota. Detalle de CxC.'!$F$284)","v":""},{"$f":"IF('800111a - Nota. Detalle de CxC.'!$F$285=\"\",\"\",'800111a - Nota. Detalle de CxC.'!$F$285)","v":""},{"$f":"IF('800111a - Nota. Detalle de CxC.'!$F$286=\"\",\"\",'800111a - Nota. Detalle de CxC.'!$F$286)","v":""},{"$f":"IF('800111a - Nota. Detalle de CxC.'!$F$287=\"\",\"\",'800111a - Nota. Detalle de CxC.'!$F$287)","v":""},{"$f":"IF('800111a - Nota. Detalle de CxC.'!$F$288=\"\",\"\",'800111a - Nota. Detalle de CxC.'!$F$288)","v":""},{"$f":"IF('800111a - Nota. Detalle de CxC.'!$F$289=\"\",\"\",'800111a - Nota. Detalle de CxC.'!$F$289)","v":""},{"$f":"IF('800111a - Nota. Detalle de CxC.'!$F$290=\"\",\"\",'800111a - Nota. Detalle de CxC.'!$F$290)","v":""},null,null,null,{"$f":"IF('800111a - Nota. Detalle de CxC.'!$F$294=\"\",\"\",'800111a - Nota. Detalle de CxC.'!$F$294)","v":""},{"$f":"IF('800111a - Nota. Detalle de CxC.'!$F$295=\"\",\"\",'800111a - Nota. Detalle de CxC.'!$F$295)","v":""},{"$f":"IF('800111a - Nota. Detalle de CxC.'!$F$296=\"\",\"\",'800111a - Nota. Detalle de CxC.'!$F$296)","v":""},{"$f":"IF('800111a - Nota. Detalle de CxC.'!$F$297=\"\",\"\",'800111a - Nota. Detalle de CxC.'!$F$297)","v":""},{"$f":"IF('800111a - Nota. Detalle de CxC.'!$F$298=\"\",\"\",'800111a - Nota. Detalle de CxC.'!$F$298)","v":""},{"$f":"IF('800111a - Nota. Detalle de CxC.'!$F$299=\"\",\"\",'800111a - Nota. Detalle de CxC.'!$F$299)","v":""},{"$f":"IF('800111a - Nota. Detalle de CxC.'!$F$300=\"\",\"\",'800111a - Nota. Detalle de CxC.'!$F$300)","v":""},{"$f":"IF('800111a - Nota. Detalle de CxC.'!$F$301=\"\",\"\",'800111a - Nota. Detalle de CxC.'!$F$301)","v":""},{"$f":"IF('800111a - Nota. Detalle de CxC.'!$F$302=\"\",\"\",'800111a - Nota. Detalle de CxC.'!$F$302)","v":""},{"$f":"IF('800111a - Nota. Detalle de CxC.'!$F$303=\"\",\"\",'800111a - Nota. Detalle de CxC.'!$F$303)","v":""},{"$f":"IF('800111a - Nota. Detalle de CxC.'!$F$304=\"\",\"\",'800111a - Nota. Detalle de CxC.'!$F$304)","v":""},{"$f":"IF('800111a - Nota. Detalle de CxC.'!$F$305=\"\",\"\",'800111a - Nota. Detalle de CxC.'!$F$305)","v":""},{"$f":"IF('800111a - Nota. Detalle de CxC.'!$F$306=\"\",\"\",'800111a - Nota. Detalle de CxC.'!$F$306)","v":""},{"$f":"IF('800111a - Nota. Detalle de CxC.'!$F$307=\"\",\"\",'800111a - Nota. Detalle de CxC.'!$F$307)","v":""},{"$f":"IF('800111a - Nota. Detalle de CxC.'!$F$308=\"\",\"\",'800111a - Nota. Detalle de CxC.'!$F$308)","v":""},{"$f":"IF('800111a - Nota. Detalle de CxC.'!$F$309=\"\",\"\",'800111a - Nota. Detalle de CxC.'!$F$309)","v":""},{"$f":"IF('800111a - Nota. Detalle de CxC.'!$F$310=\"\",\"\",'800111a - Nota. Detalle de CxC.'!$F$310)","v":""},{"$f":"IF('800111a - Nota. Detalle de CxC.'!$F$311=\"\",\"\",'800111a - Nota. Detalle de CxC.'!$F$311)","v":""},{"$f":"IF('800111a - Nota. Detalle de CxC.'!$F$312=\"\",\"\",'800111a - Nota. Detalle de CxC.'!$F$312)","v":""},{"$f":"IF('800111a - Nota. Detalle de CxC.'!$F$313=\"\",\"\",'800111a - Nota. Detalle de CxC.'!$F$313)","v":""},{"$f":"IF('800111a - Nota. Detalle de CxC.'!$F$314=\"\",\"\",'800111a - Nota. Detalle de CxC.'!$F$314)","v":""},{"$f":"IF('800111a - Nota. Detalle de CxC.'!$F$315=\"\",\"\",'800111a - Nota. Detalle de CxC.'!$F$315)","v":""},{"$f":"IF('800111a - Nota. Detalle de CxC.'!$F$316=\"\",\"\",'800111a - Nota. Detalle de CxC.'!$F$316)","v":""},{"$f":"IF('800111a - Nota. Detalle de CxC.'!$F$317=\"\",\"\",'800111a - Nota. Detalle de CxC.'!$F$317)","v":""},{"$f":"IF('800111a - Nota. Detalle de CxC.'!$F$318=\"\",\"\",'800111a - Nota. Detalle de CxC.'!$F$318)","v":""},{"$f":"IF('800111a - Nota. Detalle de CxC.'!$F$319=\"\",\"\",'800111a - Nota. Detalle de CxC.'!$F$319)","v":""},{"$f":"IF('800111a - Nota. Detalle de CxC.'!$F$320=\"\",\"\",'800111a - Nota. Detalle de CxC.'!$F$320)","v":""},{"$f":"IF('800111a - Nota. Detalle de CxC.'!$F$321=\"\",\"\",'800111a - Nota. Detalle de CxC.'!$F$321)","v":""},{"$f":"IF('800111a - Nota. Detalle de CxC.'!$F$322=\"\",\"\",'800111a - Nota. Detalle de CxC.'!$F$322)","v":""},{"$f":"IF('800111a - Nota. Detalle de CxC.'!$F$323=\"\",\"\",'800111a - Nota. Detalle de CxC.'!$F$323)","v":""},{"$f":"IF('800111a - Nota. Detalle de CxC.'!$F$324=\"\",\"\",'800111a - Nota. Detalle de CxC.'!$F$324)","v":""},{"$f":"IF('800111a - Nota. Detalle de CxC.'!$F$325=\"\",\"\",'800111a - Nota. Detalle de CxC.'!$F$325)","v":""},{"$f":"IF('800111a - Nota. Detalle de CxC.'!$F$326=\"\",\"\",'800111a - Nota. Detalle de CxC.'!$F$326)","v":""},{"$f":"IF('800111a - Nota. Detalle de CxC.'!$F$327=\"\",\"\",'800111a - Nota. Detalle de CxC.'!$F$327)","v":""},{"$f":"IF('800111a - Nota. Detalle de CxC.'!$F$328=\"\",\"\",'800111a - Nota. Detalle de CxC.'!$F$328)","v":""},{"$f":"IF('800111a - Nota. Detalle de CxC.'!$F$329=\"\",\"\",'800111a - Nota. Detalle de CxC.'!$F$329)","v":""},{"$f":"IF('800111a - Nota. Detalle de CxC.'!$F$330=\"\",\"\",'800111a - Nota. Detalle de CxC.'!$F$330)","v":""},{"$f":"IF('800111a - Nota. Detalle de CxC.'!$F$331=\"\",\"\",'800111a - Nota. Detalle de CxC.'!$F$331)","v":""},{"$f":"IF('800111a - Nota. Detalle de CxC.'!$F$332=\"\",\"\",'800111a - Nota. Detalle de CxC.'!$F$332)","v":""},{"$f":"IF('800111a - Nota. Detalle de CxC.'!$F$333=\"\",\"\",'800111a - Nota. Detalle de CxC.'!$F$333)","v":""},{"$f":"IF('800111a - Nota. Detalle de CxC.'!$F$334=\"\",\"\",'800111a - Nota. Detalle de CxC.'!$F$334)","v":""},{"$f":"IF('800111a - Nota. Detalle de CxC.'!$F$335=\"\",\"\",'800111a - Nota. Detalle de CxC.'!$F$335)","v":""},{"$f":"IF('800111a - Nota. Detalle de CxC.'!$F$336=\"\",\"\",'800111a - Nota. Detalle de CxC.'!$F$336)","v":""},{"$f":"IF('800111a - Nota. Detalle de CxC.'!$F$337=\"\",\"\",'800111a - Nota. Detalle de CxC.'!$F$337)","v":""},{"$f":"IF('800111a - Nota. Detalle de CxC.'!$F$338=\"\",\"\",'800111a - Nota. Detalle de CxC.'!$F$338)","v":""},{"$f":"IF('800111a - Nota. Detalle de CxC.'!$F$339=\"\",\"\",'800111a - Nota. Detalle de CxC.'!$F$339)","v":""},{"$f":"IF('800111a - Nota. Detalle de CxC.'!$F$340=\"\",\"\",'800111a - Nota. Detalle de CxC.'!$F$340)","v":""},{"$f":"IF('800111a - Nota. Detalle de CxC.'!$F$341=\"\",\"\",'800111a - Nota. Detalle de CxC.'!$F$341)","v":""},{"$f":"IF('800111a - Nota. Detalle de CxC.'!$F$342=\"\",\"\",'800111a - Nota. Detalle de CxC.'!$F$342)","v":""},{"$f":"IF('800111a - Nota. Detalle de CxC.'!$F$343=\"\",\"\",'800111a - Nota. Detalle de CxC.'!$F$343)","v":""}]
[null,"1;2","co-svsp-core:NumeroIdentificacionDeudorCxC","Número de identificación del deudor",null,null,{"$f":"IF('800111a - Nota. Detalle de CxC.'!$G$188=\"\",\"\",'800111a - Nota. Detalle de CxC.'!$G$188)","v":""},{"$f":"IF('800111a - Nota. Detalle de CxC.'!$G$189=\"\",\"\",'800111a - Nota. Detalle de CxC.'!$G$189)","v":""},{"$f":"IF('800111a - Nota. Detalle de CxC.'!$G$190=\"\",\"\",'800111a - Nota. Detalle de CxC.'!$G$190)","v":""},{"$f":"IF('800111a - Nota. Detalle de CxC.'!$G$191=\"\",\"\",'800111a - Nota. Detalle de CxC.'!$G$191)","v":""},{"$f":"IF('800111a - Nota. Detalle de CxC.'!$G$192=\"\",\"\",'800111a - Nota. Detalle de CxC.'!$G$192)","v":""},{"$f":"IF('800111a - Nota. Detalle de CxC.'!$G$193=\"\",\"\",'800111a - Nota. Detalle de CxC.'!$G$193)","v":""},{"$f":"IF('800111a - Nota. Detalle de CxC.'!$G$194=\"\",\"\",'800111a - Nota. Detalle de CxC.'!$G$194)","v":""},{"$f":"IF('800111a - Nota. Detalle de CxC.'!$G$195=\"\",\"\",'800111a - Nota. Detalle de CxC.'!$G$195)","v":""},{"$f":"IF('800111a - Nota. Detalle de CxC.'!$G$196=\"\",\"\",'800111a - Nota. Detalle de CxC.'!$G$196)","v":""},{"$f":"IF('800111a - Nota. Detalle de CxC.'!$G$197=\"\",\"\",'800111a - Nota. Detalle de CxC.'!$G$197)","v":""},{"$f":"IF('800111a - Nota. Detalle de CxC.'!$G$198=\"\",\"\",'800111a - Nota. Detalle de CxC.'!$G$198)","v":""},{"$f":"IF('800111a - Nota. Detalle de CxC.'!$G$199=\"\",\"\",'800111a - Nota. Detalle de CxC.'!$G$199)","v":""},{"$f":"IF('800111a - Nota. Detalle de CxC.'!$G$200=\"\",\"\",'800111a - Nota. Detalle de CxC.'!$G$200)","v":""},{"$f":"IF('800111a - Nota. Detalle de CxC.'!$G$201=\"\",\"\",'800111a - Nota. Detalle de CxC.'!$G$201)","v":""},{"$f":"IF('800111a - Nota. Detalle de CxC.'!$G$202=\"\",\"\",'800111a - Nota. Detalle de CxC.'!$G$202)","v":""},{"$f":"IF('800111a - Nota. Detalle de CxC.'!$G$203=\"\",\"\",'800111a - Nota. Detalle de CxC.'!$G$203)","v":""},{"$f":"IF('800111a - Nota. Detalle de CxC.'!$G$204=\"\",\"\",'800111a - Nota. Detalle de CxC.'!$G$204)","v":""},{"$f":"IF('800111a - Nota. Detalle de CxC.'!$G$205=\"\",\"\",'800111a - Nota. Detalle de CxC.'!$G$205)","v":""},{"$f":"IF('800111a - Nota. Detalle de CxC.'!$G$206=\"\",\"\",'800111a - Nota. Detalle de CxC.'!$G$206)","v":""},{"$f":"IF('800111a - Nota. Detalle de CxC.'!$G$207=\"\",\"\",'800111a - Nota. Detalle de CxC.'!$G$207)","v":""},{"$f":"IF('800111a - Nota. Detalle de CxC.'!$G$208=\"\",\"\",'800111a - Nota. Detalle de CxC.'!$G$208)","v":""},{"$f":"IF('800111a - Nota. Detalle de CxC.'!$G$209=\"\",\"\",'800111a - Nota. Detalle de CxC.'!$G$209)","v":""},{"$f":"IF('800111a - Nota. Detalle de CxC.'!$G$210=\"\",\"\",'800111a - Nota. Detalle de CxC.'!$G$210)","v":""},{"$f":"IF('800111a - Nota. Detalle de CxC.'!$G$211=\"\",\"\",'800111a - Nota. Detalle de CxC.'!$G$211)","v":""},{"$f":"IF('800111a - Nota. Detalle de CxC.'!$G$212=\"\",\"\",'800111a - Nota. Detalle de CxC.'!$G$212)","v":""},{"$f":"IF('800111a - Nota. Detalle de CxC.'!$G$213=\"\",\"\",'800111a - Nota. Detalle de CxC.'!$G$213)","v":""},{"$f":"IF('800111a - Nota. Detalle de CxC.'!$G$214=\"\",\"\",'800111a - Nota. Detalle de CxC.'!$G$214)","v":""},{"$f":"IF('800111a - Nota. Detalle de CxC.'!$G$215=\"\",\"\",'800111a - Nota. Detalle de CxC.'!$G$215)","v":""},{"$f":"IF('800111a - Nota. Detalle de CxC.'!$G$216=\"\",\"\",'800111a - Nota. Detalle de CxC.'!$G$216)","v":""},{"$f":"IF('800111a - Nota. Detalle de CxC.'!$G$217=\"\",\"\",'800111a - Nota. Detalle de CxC.'!$G$217)","v":""},{"$f":"IF('800111a - Nota. Detalle de CxC.'!$G$218=\"\",\"\",'800111a - Nota. Detalle de CxC.'!$G$218)","v":""},{"$f":"IF('800111a - Nota. Detalle de CxC.'!$G$219=\"\",\"\",'800111a - Nota. Detalle de CxC.'!$G$219)","v":""},{"$f":"IF('800111a - Nota. Detalle de CxC.'!$G$220=\"\",\"\",'800111a - Nota. Detalle de CxC.'!$G$220)","v":""},{"$f":"IF('800111a - Nota. Detalle de CxC.'!$G$221=\"\",\"\",'800111a - Nota. Detalle de CxC.'!$G$221)","v":""},{"$f":"IF('800111a - Nota. Detalle de CxC.'!$G$222=\"\",\"\",'800111a - Nota. Detalle de CxC.'!$G$222)","v":""},{"$f":"IF('800111a - Nota. Detalle de CxC.'!$G$223=\"\",\"\",'800111a - Nota. Detalle de CxC.'!$G$223)","v":""},{"$f":"IF('800111a - Nota. Detalle de CxC.'!$G$224=\"\",\"\",'800111a - Nota. Detalle de CxC.'!$G$224)","v":""},{"$f":"IF('800111a - Nota. Detalle de CxC.'!$G$225=\"\",\"\",'800111a - Nota. Detalle de CxC.'!$G$225)","v":""},{"$f":"IF('800111a - Nota. Detalle de CxC.'!$G$226=\"\",\"\",'800111a - Nota. Detalle de CxC.'!$G$226)","v":""},{"$f":"IF('800111a - Nota. Detalle de CxC.'!$G$227=\"\",\"\",'800111a - Nota. Detalle de CxC.'!$G$227)","v":""},{"$f":"IF('800111a - Nota. Detalle de CxC.'!$G$228=\"\",\"\",'800111a - Nota. Detalle de CxC.'!$G$228)","v":""},{"$f":"IF('800111a - Nota. Detalle de CxC.'!$G$229=\"\",\"\",'800111a - Nota. Detalle de CxC.'!$G$229)","v":""},{"$f":"IF('800111a - Nota. Detalle de CxC.'!$G$230=\"\",\"\",'800111a - Nota. Detalle de CxC.'!$G$230)","v":""},{"$f":"IF('800111a - Nota. Detalle de CxC.'!$G$231=\"\",\"\",'800111a - Nota. Detalle de CxC.'!$G$231)","v":""},{"$f":"IF('800111a - Nota. Detalle de CxC.'!$G$232=\"\",\"\",'800111a - Nota. Detalle de CxC.'!$G$232)","v":""},{"$f":"IF('800111a - Nota. Detalle de CxC.'!$G$233=\"\",\"\",'800111a - Nota. Detalle de CxC.'!$G$233)","v":""},{"$f":"IF('800111a - Nota. Detalle de CxC.'!$G$234=\"\",\"\",'800111a - Nota. Detalle de CxC.'!$G$234)","v":""},{"$f":"IF('800111a - Nota. Detalle de CxC.'!$G$235=\"\",\"\",'800111a - Nota. Detalle de CxC.'!$G$235)","v":""},{"$f":"IF('800111a - Nota. Detalle de CxC.'!$G$236=\"\",\"\",'800111a - Nota. Detalle de CxC.'!$G$236)","v":""},{"$f":"IF('800111a - Nota. Detalle de CxC.'!$G$237=\"\",\"\",'800111a - Nota. Detalle de CxC.'!$G$237)","v":""},null,null,null,{"$f":"IF('800111a - Nota. Detalle de CxC.'!$G$241=\"\",\"\",'800111a - Nota. Detalle de CxC.'!$G$241)","v":""},{"$f":"IF('800111a - Nota. Detalle de CxC.'!$G$242=\"\",\"\",'800111a - Nota. Detalle de CxC.'!$G$242)","v":""},{"$f":"IF('800111a - Nota. Detalle de CxC.'!$G$243=\"\",\"\",'800111a - Nota. Detalle de CxC.'!$G$243)","v":""},{"$f":"IF('800111a - Nota. Detalle de CxC.'!$G$244=\"\",\"\",'800111a - Nota. Detalle de CxC.'!$G$244)","v":""},{"$f":"IF('800111a - Nota. Detalle de CxC.'!$G$245=\"\",\"\",'800111a - Nota. Detalle de CxC.'!$G$245)","v":""},{"$f":"IF('800111a - Nota. Detalle de CxC.'!$G$246=\"\",\"\",'800111a - Nota. Detalle de CxC.'!$G$246)","v":""},{"$f":"IF('800111a - Nota. Detalle de CxC.'!$G$247=\"\",\"\",'800111a - Nota. Detalle de CxC.'!$G$247)","v":""},{"$f":"IF('800111a - Nota. Detalle de CxC.'!$G$248=\"\",\"\",'800111a - Nota. Detalle de CxC.'!$G$248)","v":""},{"$f":"IF('800111a - Nota. Detalle de CxC.'!$G$249=\"\",\"\",'800111a - Nota. Detalle de CxC.'!$G$249)","v":""},{"$f":"IF('800111a - Nota. Detalle de CxC.'!$G$250=\"\",\"\",'800111a - Nota. Detalle de CxC.'!$G$250)","v":""},{"$f":"IF('800111a - Nota. Detalle de CxC.'!$G$251=\"\",\"\",'800111a - Nota. Detalle de CxC.'!$G$251)","v":""},{"$f":"IF('800111a - Nota. Detalle de CxC.'!$G$252=\"\",\"\",'800111a - Nota. Detalle de CxC.'!$G$252)","v":""},{"$f":"IF('800111a - Nota. Detalle de CxC.'!$G$253=\"\",\"\",'800111a - Nota. Detalle de CxC.'!$G$253)","v":""},{"$f":"IF('800111a - Nota. Detalle de CxC.'!$G$254=\"\",\"\",'800111a - Nota. Detalle de CxC.'!$G$254)","v":""},{"$f":"IF('800111a - Nota. Detalle de CxC.'!$G$255=\"\",\"\",'800111a - Nota. Detalle de CxC.'!$G$255)","v":""},{"$f":"IF('800111a - Nota. Detalle de CxC.'!$G$256=\"\",\"\",'800111a - Nota. Detalle de CxC.'!$G$256)","v":""},{"$f":"IF('800111a - Nota. Detalle de CxC.'!$G$257=\"\",\"\",'800111a - Nota. Detalle de CxC.'!$G$257)","v":""},{"$f":"IF('800111a - Nota. Detalle de CxC.'!$G$258=\"\",\"\",'800111a - Nota. Detalle de CxC.'!$G$258)","v":""},{"$f":"IF('800111a - Nota. Detalle de CxC.'!$G$259=\"\",\"\",'800111a - Nota. Detalle de CxC.'!$G$259)","v":""},{"$f":"IF('800111a - Nota. Detalle de CxC.'!$G$260=\"\",\"\",'800111a - Nota. Detalle de CxC.'!$G$260)","v":""},{"$f":"IF('800111a - Nota. Detalle de CxC.'!$G$261=\"\",\"\",'800111a - Nota. Detalle de CxC.'!$G$261)","v":""},{"$f":"IF('800111a - Nota. Detalle de CxC.'!$G$262=\"\",\"\",'800111a - Nota. Detalle de CxC.'!$G$262)","v":""},{"$f":"IF('800111a - Nota. Detalle de CxC.'!$G$263=\"\",\"\",'800111a - Nota. Detalle de CxC.'!$G$263)","v":""},{"$f":"IF('800111a - Nota. Detalle de CxC.'!$G$264=\"\",\"\",'800111a - Nota. Detalle de CxC.'!$G$264)","v":""},{"$f":"IF('800111a - Nota. Detalle de CxC.'!$G$265=\"\",\"\",'800111a - Nota. Detalle de CxC.'!$G$265)","v":""},{"$f":"IF('800111a - Nota. Detalle de CxC.'!$G$266=\"\",\"\",'800111a - Nota. Detalle de CxC.'!$G$266)","v":""},{"$f":"IF('800111a - Nota. Detalle de CxC.'!$G$267=\"\",\"\",'800111a - Nota. Detalle de CxC.'!$G$267)","v":""},{"$f":"IF('800111a - Nota. Detalle de CxC.'!$G$268=\"\",\"\",'800111a - Nota. Detalle de CxC.'!$G$268)","v":""},{"$f":"IF('800111a - Nota. Detalle de CxC.'!$G$269=\"\",\"\",'800111a - Nota. Detalle de CxC.'!$G$269)","v":""},{"$f":"IF('800111a - Nota. Detalle de CxC.'!$G$270=\"\",\"\",'800111a - Nota. Detalle de CxC.'!$G$270)","v":""},{"$f":"IF('800111a - Nota. Detalle de CxC.'!$G$271=\"\",\"\",'800111a - Nota. Detalle de CxC.'!$G$271)","v":""},{"$f":"IF('800111a - Nota. Detalle de CxC.'!$G$272=\"\",\"\",'800111a - Nota. Detalle de CxC.'!$G$272)","v":""},{"$f":"IF('800111a - Nota. Detalle de CxC.'!$G$273=\"\",\"\",'800111a - Nota. Detalle de CxC.'!$G$273)","v":""},{"$f":"IF('800111a - Nota. Detalle de CxC.'!$G$274=\"\",\"\",'800111a - Nota. Detalle de CxC.'!$G$274)","v":""},{"$f":"IF('800111a - Nota. Detalle de CxC.'!$G$275=\"\",\"\",'800111a - Nota. Detalle de CxC.'!$G$275)","v":""},{"$f":"IF('800111a - Nota. Detalle de CxC.'!$G$276=\"\",\"\",'800111a - Nota. Detalle de CxC.'!$G$276)","v":""},{"$f":"IF('800111a - Nota. Detalle de CxC.'!$G$277=\"\",\"\",'800111a - Nota. Detalle de CxC.'!$G$277)","v":""},{"$f":"IF('800111a - Nota. Detalle de CxC.'!$G$278=\"\",\"\",'800111a - Nota. Detalle de CxC.'!$G$278)","v":""},{"$f":"IF('800111a - Nota. Detalle de CxC.'!$G$279=\"\",\"\",'800111a - Nota. Detalle de CxC.'!$G$279)","v":""},{"$f":"IF('800111a - Nota. Detalle de CxC.'!$G$280=\"\",\"\",'800111a - Nota. Detalle de CxC.'!$G$280)","v":""},{"$f":"IF('800111a - Nota. Detalle de CxC.'!$G$281=\"\",\"\",'800111a - Nota. Detalle de CxC.'!$G$281)","v":""},{"$f":"IF('800111a - Nota. Detalle de CxC.'!$G$282=\"\",\"\",'800111a - Nota. Detalle de CxC.'!$G$282)","v":""},{"$f":"IF('800111a - Nota. Detalle de CxC.'!$G$283=\"\",\"\",'800111a - Nota. Detalle de CxC.'!$G$283)","v":""},{"$f":"IF('800111a - Nota. Detalle de CxC.'!$G$284=\"\",\"\",'800111a - Nota. Detalle de CxC.'!$G$284)","v":""},{"$f":"IF('800111a - Nota. Detalle de CxC.'!$G$285=\"\",\"\",'800111a - Nota. Detalle de CxC.'!$G$285)","v":""},{"$f":"IF('800111a - Nota. Detalle de CxC.'!$G$286=\"\",\"\",'800111a - Nota. Detalle de CxC.'!$G$286)","v":""},{"$f":"IF('800111a - Nota. Detalle de CxC.'!$G$287=\"\",\"\",'800111a - Nota. Detalle de CxC.'!$G$287)","v":""},{"$f":"IF('800111a - Nota. Detalle de CxC.'!$G$288=\"\",\"\",'800111a - Nota. Detalle de CxC.'!$G$288)","v":""},{"$f":"IF('800111a - Nota. Detalle de CxC.'!$G$289=\"\",\"\",'800111a - Nota. Detalle de CxC.'!$G$289)","v":""},{"$f":"IF('800111a - Nota. Detalle de CxC.'!$G$290=\"\",\"\",'800111a - Nota. Detalle de CxC.'!$G$290)","v":""},null,null,null,{"$f":"IF('800111a - Nota. Detalle de CxC.'!$G$294=\"\",\"\",'800111a - Nota. Detalle de CxC.'!$G$294)","v":""},{"$f":"IF('800111a - Nota. Detalle de CxC.'!$G$295=\"\",\"\",'800111a - Nota. Detalle de CxC.'!$G$295)","v":""},{"$f":"IF('800111a - Nota. Detalle de CxC.'!$G$296=\"\",\"\",'800111a - Nota. Detalle de CxC.'!$G$296)","v":""},{"$f":"IF('800111a - Nota. Detalle de CxC.'!$G$297=\"\",\"\",'800111a - Nota. Detalle de CxC.'!$G$297)","v":""},{"$f":"IF('800111a - Nota. Detalle de CxC.'!$G$298=\"\",\"\",'800111a - Nota. Detalle de CxC.'!$G$298)","v":""},{"$f":"IF('800111a - Nota. Detalle de CxC.'!$G$299=\"\",\"\",'800111a - Nota. Detalle de CxC.'!$G$299)","v":""},{"$f":"IF('800111a - Nota. Detalle de CxC.'!$G$300=\"\",\"\",'800111a - Nota. Detalle de CxC.'!$G$300)","v":""},{"$f":"IF('800111a - Nota. Detalle de CxC.'!$G$301=\"\",\"\",'800111a - Nota. Detalle de CxC.'!$G$301)","v":""},{"$f":"IF('800111a - Nota. Detalle de CxC.'!$G$302=\"\",\"\",'800111a - Nota. Detalle de CxC.'!$G$302)","v":""},{"$f":"IF('800111a - Nota. Detalle de CxC.'!$G$303=\"\",\"\",'800111a - Nota. Detalle de CxC.'!$G$303)","v":""},{"$f":"IF('800111a - Nota. Detalle de CxC.'!$G$304=\"\",\"\",'800111a - Nota. Detalle de CxC.'!$G$304)","v":""},{"$f":"IF('800111a - Nota. Detalle de CxC.'!$G$305=\"\",\"\",'800111a - Nota. Detalle de CxC.'!$G$305)","v":""},{"$f":"IF('800111a - Nota. Detalle de CxC.'!$G$306=\"\",\"\",'800111a - Nota. Detalle de CxC.'!$G$306)","v":""},{"$f":"IF('800111a - Nota. Detalle de CxC.'!$G$307=\"\",\"\",'800111a - Nota. Detalle de CxC.'!$G$307)","v":""},{"$f":"IF('800111a - Nota. Detalle de CxC.'!$G$308=\"\",\"\",'800111a - Nota. Detalle de CxC.'!$G$308)","v":""},{"$f":"IF('800111a - Nota. Detalle de CxC.'!$G$309=\"\",\"\",'800111a - Nota. Detalle de CxC.'!$G$309)","v":""},{"$f":"IF('800111a - Nota. Detalle de CxC.'!$G$310=\"\",\"\",'800111a - Nota. Detalle de CxC.'!$G$310)","v":""},{"$f":"IF('800111a - Nota. Detalle de CxC.'!$G$311=\"\",\"\",'800111a - Nota. Detalle de CxC.'!$G$311)","v":""},{"$f":"IF('800111a - Nota. Detalle de CxC.'!$G$312=\"\",\"\",'800111a - Nota. Detalle de CxC.'!$G$312)","v":""},{"$f":"IF('800111a - Nota. Detalle de CxC.'!$G$313=\"\",\"\",'800111a - Nota. Detalle de CxC.'!$G$313)","v":""},{"$f":"IF('800111a - Nota. Detalle de CxC.'!$G$314=\"\",\"\",'800111a - Nota. Detalle de CxC.'!$G$314)","v":""},{"$f":"IF('800111a - Nota. Detalle de CxC.'!$G$315=\"\",\"\",'800111a - Nota. Detalle de CxC.'!$G$315)","v":""},{"$f":"IF('800111a - Nota. Detalle de CxC.'!$G$316=\"\",\"\",'800111a - Nota. Detalle de CxC.'!$G$316)","v":""},{"$f":"IF('800111a - Nota. Detalle de CxC.'!$G$317=\"\",\"\",'800111a - Nota. Detalle de CxC.'!$G$317)","v":""},{"$f":"IF('800111a - Nota. Detalle de CxC.'!$G$318=\"\",\"\",'800111a - Nota. Detalle de CxC.'!$G$318)","v":""},{"$f":"IF('800111a - Nota. Detalle de CxC.'!$G$319=\"\",\"\",'800111a - Nota. Detalle de CxC.'!$G$319)","v":""},{"$f":"IF('800111a - Nota. Detalle de CxC.'!$G$320=\"\",\"\",'800111a - Nota. Detalle de CxC.'!$G$320)","v":""},{"$f":"IF('800111a - Nota. Detalle de CxC.'!$G$321=\"\",\"\",'800111a - Nota. Detalle de CxC.'!$G$321)","v":""},{"$f":"IF('800111a - Nota. Detalle de CxC.'!$G$322=\"\",\"\",'800111a - Nota. Detalle de CxC.'!$G$322)","v":""},{"$f":"IF('800111a - Nota. Detalle de CxC.'!$G$323=\"\",\"\",'800111a - Nota. Detalle de CxC.'!$G$323)","v":""},{"$f":"IF('800111a - Nota. Detalle de CxC.'!$G$324=\"\",\"\",'800111a - Nota. Detalle de CxC.'!$G$324)","v":""},{"$f":"IF('800111a - Nota. Detalle de CxC.'!$G$325=\"\",\"\",'800111a - Nota. Detalle de CxC.'!$G$325)","v":""},{"$f":"IF('800111a - Nota. Detalle de CxC.'!$G$326=\"\",\"\",'800111a - Nota. Detalle de CxC.'!$G$326)","v":""},{"$f":"IF('800111a - Nota. Detalle de CxC.'!$G$327=\"\",\"\",'800111a - Nota. Detalle de CxC.'!$G$327)","v":""},{"$f":"IF('800111a - Nota. Detalle de CxC.'!$G$328=\"\",\"\",'800111a - Nota. Detalle de CxC.'!$G$328)","v":""},{"$f":"IF('800111a - Nota. Detalle de CxC.'!$G$329=\"\",\"\",'800111a - Nota. Detalle de CxC.'!$G$329)","v":""},{"$f":"IF('800111a - Nota. Detalle de CxC.'!$G$330=\"\",\"\",'800111a - Nota. Detalle de CxC.'!$G$330)","v":""},{"$f":"IF('800111a - Nota. Detalle de CxC.'!$G$331=\"\",\"\",'800111a - Nota. Detalle de CxC.'!$G$331)","v":""},{"$f":"IF('800111a - Nota. Detalle de CxC.'!$G$332=\"\",\"\",'800111a - Nota. Detalle de CxC.'!$G$332)","v":""},{"$f":"IF('800111a - Nota. Detalle de CxC.'!$G$333=\"\",\"\",'800111a - Nota. Detalle de CxC.'!$G$333)","v":""},{"$f":"IF('800111a - Nota. Detalle de CxC.'!$G$334=\"\",\"\",'800111a - Nota. Detalle de CxC.'!$G$334)","v":""},{"$f":"IF('800111a - Nota. Detalle de CxC.'!$G$335=\"\",\"\",'800111a - Nota. Detalle de CxC.'!$G$335)","v":""},{"$f":"IF('800111a - Nota. Detalle de CxC.'!$G$336=\"\",\"\",'800111a - Nota. Detalle de CxC.'!$G$336)","v":""},{"$f":"IF('800111a - Nota. Detalle de CxC.'!$G$337=\"\",\"\",'800111a - Nota. Detalle de CxC.'!$G$337)","v":""},{"$f":"IF('800111a - Nota. Detalle de CxC.'!$G$338=\"\",\"\",'800111a - Nota. Detalle de CxC.'!$G$338)","v":""},{"$f":"IF('800111a - Nota. Detalle de CxC.'!$G$339=\"\",\"\",'800111a - Nota. Detalle de CxC.'!$G$339)","v":""},{"$f":"IF('800111a - Nota. Detalle de CxC.'!$G$340=\"\",\"\",'800111a - Nota. Detalle de CxC.'!$G$340)","v":""},{"$f":"IF('800111a - Nota. Detalle de CxC.'!$G$341=\"\",\"\",'800111a - Nota. Detalle de CxC.'!$G$341)","v":""},{"$f":"IF('800111a - Nota. Detalle de CxC.'!$G$342=\"\",\"\",'800111a - Nota. Detalle de CxC.'!$G$342)","v":""},{"$f":"IF('800111a - Nota. Detalle de CxC.'!$G$343=\"\",\"\",'800111a - Nota. Detalle de CxC.'!$G$343)","v":""}]
[null,"1;2","co-svsp-core:PrimerApellidoDeudorCxC","Primer apellido deudor",null,null,{"$f":"IF('800111a - Nota. Detalle de CxC.'!$H$188=\"\",\"\",'800111a - Nota. Detalle de CxC.'!$H$188)","v":""},{"$f":"IF('800111a - Nota. Detalle de CxC.'!$H$189=\"\",\"\",'800111a - Nota. Detalle de CxC.'!$H$189)","v":""},{"$f":"IF('800111a - Nota. Detalle de CxC.'!$H$190=\"\",\"\",'800111a - Nota. Detalle de CxC.'!$H$190)","v":""},{"$f":"IF('800111a - Nota. Detalle de CxC.'!$H$191=\"\",\"\",'800111a - Nota. Detalle de CxC.'!$H$191)","v":""},{"$f":"IF('800111a - Nota. Detalle de CxC.'!$H$192=\"\",\"\",'800111a - Nota. Detalle de CxC.'!$H$192)","v":""},{"$f":"IF('800111a - Nota. Detalle de CxC.'!$H$193=\"\",\"\",'800111a - Nota. Detalle de CxC.'!$H$193)","v":""},{"$f":"IF('800111a - Nota. Detalle de CxC.'!$H$194=\"\",\"\",'800111a - Nota. Detalle de CxC.'!$H$194)","v":""},{"$f":"IF('800111a - Nota. Detalle de CxC.'!$H$195=\"\",\"\",'800111a - Nota. Detalle de CxC.'!$H$195)","v":""},{"$f":"IF('800111a - Nota. Detalle de CxC.'!$H$196=\"\",\"\",'800111a - Nota. Detalle de CxC.'!$H$196)","v":""},{"$f":"IF('800111a - Nota. Detalle de CxC.'!$H$197=\"\",\"\",'800111a - Nota. Detalle de CxC.'!$H$197)","v":""},{"$f":"IF('800111a - Nota. Detalle de CxC.'!$H$198=\"\",\"\",'800111a - Nota. Detalle de CxC.'!$H$198)","v":""},{"$f":"IF('800111a - Nota. Detalle de CxC.'!$H$199=\"\",\"\",'800111a - Nota. Detalle de CxC.'!$H$199)","v":""},{"$f":"IF('800111a - Nota. Detalle de CxC.'!$H$200=\"\",\"\",'800111a - Nota. Detalle de CxC.'!$H$200)","v":""},{"$f":"IF('800111a - Nota. Detalle de CxC.'!$H$201=\"\",\"\",'800111a - Nota. Detalle de CxC.'!$H$201)","v":""},{"$f":"IF('800111a - Nota. Detalle de CxC.'!$H$202=\"\",\"\",'800111a - Nota. Detalle de CxC.'!$H$202)","v":""},{"$f":"IF('800111a - Nota. Detalle de CxC.'!$H$203=\"\",\"\",'800111a - Nota. Detalle de CxC.'!$H$203)","v":""},{"$f":"IF('800111a - Nota. Detalle de CxC.'!$H$204=\"\",\"\",'800111a - Nota. Detalle de CxC.'!$H$204)","v":""},{"$f":"IF('800111a - Nota. Detalle de CxC.'!$H$205=\"\",\"\",'800111a - Nota. Detalle de CxC.'!$H$205)","v":""},{"$f":"IF('800111a - Nota. Detalle de CxC.'!$H$206=\"\",\"\",'800111a - Nota. Detalle de CxC.'!$H$206)","v":""},{"$f":"IF('800111a - Nota. Detalle de CxC.'!$H$207=\"\",\"\",'800111a - Nota. Detalle de CxC.'!$H$207)","v":""},{"$f":"IF('800111a - Nota. Detalle de CxC.'!$H$208=\"\",\"\",'800111a - Nota. Detalle de CxC.'!$H$208)","v":""},{"$f":"IF('800111a - Nota. Detalle de CxC.'!$H$209=\"\",\"\",'800111a - Nota. Detalle de CxC.'!$H$209)","v":""},{"$f":"IF('800111a - Nota. Detalle de CxC.'!$H$210=\"\",\"\",'800111a - Nota. Detalle de CxC.'!$H$210)","v":""},{"$f":"IF('800111a - Nota. Detalle de CxC.'!$H$211=\"\",\"\",'800111a - Nota. Detalle de CxC.'!$H$211)","v":""},{"$f":"IF('800111a - Nota. Detalle de CxC.'!$H$212=\"\",\"\",'800111a - Nota. Detalle de CxC.'!$H$212)","v":""},{"$f":"IF('800111a - Nota. Detalle de CxC.'!$H$213=\"\",\"\",'800111a - Nota. Detalle de CxC.'!$H$213)","v":""},{"$f":"IF('800111a - Nota. Detalle de CxC.'!$H$214=\"\",\"\",'800111a - Nota. Detalle de CxC.'!$H$214)","v":""},{"$f":"IF('800111a - Nota. Detalle de CxC.'!$H$215=\"\",\"\",'800111a - Nota. Detalle de CxC.'!$H$215)","v":""},{"$f":"IF('800111a - Nota. Detalle de CxC.'!$H$216=\"\",\"\",'800111a - Nota. Detalle de CxC.'!$H$216)","v":""},{"$f":"IF('800111a - Nota. Detalle de CxC.'!$H$217=\"\",\"\",'800111a - Nota. Detalle de CxC.'!$H$217)","v":""},{"$f":"IF('800111a - Nota. Detalle de CxC.'!$H$218=\"\",\"\",'800111a - Nota. Detalle de CxC.'!$H$218)","v":""},{"$f":"IF('800111a - Nota. Detalle de CxC.'!$H$219=\"\",\"\",'800111a - Nota. Detalle de CxC.'!$H$219)","v":""},{"$f":"IF('800111a - Nota. Detalle de CxC.'!$H$220=\"\",\"\",'800111a - Nota. Detalle de CxC.'!$H$220)","v":""},{"$f":"IF('800111a - Nota. Detalle de CxC.'!$H$221=\"\",\"\",'800111a - Nota. Detalle de CxC.'!$H$221)","v":""},{"$f":"IF('800111a - Nota. Detalle de CxC.'!$H$222=\"\",\"\",'800111a - Nota. Detalle de CxC.'!$H$222)","v":""},{"$f":"IF('800111a - Nota. Detalle de CxC.'!$H$223=\"\",\"\",'800111a - Nota. Detalle de CxC.'!$H$223)","v":""},{"$f":"IF('800111a - Nota. Detalle de CxC.'!$H$224=\"\",\"\",'800111a - Nota. Detalle de CxC.'!$H$224)","v":""},{"$f":"IF('800111a - Nota. Detalle de CxC.'!$H$225=\"\",\"\",'800111a - Nota. Detalle de CxC.'!$H$225)","v":""},{"$f":"IF('800111a - Nota. Detalle de CxC.'!$H$226=\"\",\"\",'800111a - Nota. Detalle de CxC.'!$H$226)","v":""},{"$f":"IF('800111a - Nota. Detalle de CxC.'!$H$227=\"\",\"\",'800111a - Nota. Detalle de CxC.'!$H$227)","v":""},{"$f":"IF('800111a - Nota. Detalle de CxC.'!$H$228=\"\",\"\",'800111a - Nota. Detalle de CxC.'!$H$228)","v":""},{"$f":"IF('800111a - Nota. Detalle de CxC.'!$H$229=\"\",\"\",'800111a - Nota. Detalle de CxC.'!$H$229)","v":""},{"$f":"IF('800111a - Nota. Detalle de CxC.'!$H$230=\"\",\"\",'800111a - Nota. Detalle de CxC.'!$H$230)","v":""},{"$f":"IF('800111a - Nota. Detalle de CxC.'!$H$231=\"\",\"\",'800111a - Nota. Detalle de CxC.'!$H$231)","v":""},{"$f":"IF('800111a - Nota. Detalle de CxC.'!$H$232=\"\",\"\",'800111a - Nota. Detalle de CxC.'!$H$232)","v":""},{"$f":"IF('800111a - Nota. Detalle de CxC.'!$H$233=\"\",\"\",'800111a - Nota. Detalle de CxC.'!$H$233)","v":""},{"$f":"IF('800111a - Nota. Detalle de CxC.'!$H$234=\"\",\"\",'800111a - Nota. Detalle de CxC.'!$H$234)","v":""},{"$f":"IF('800111a - Nota. Detalle de CxC.'!$H$235=\"\",\"\",'800111a - Nota. Detalle de CxC.'!$H$235)","v":""},{"$f":"IF('800111a - Nota. Detalle de CxC.'!$H$236=\"\",\"\",'800111a - Nota. Detalle de CxC.'!$H$236)","v":""},{"$f":"IF('800111a - Nota. Detalle de CxC.'!$H$237=\"\",\"\",'800111a - Nota. Detalle de CxC.'!$H$237)","v":""},null,null,null,{"$f":"IF('800111a - Nota. Detalle de CxC.'!$H$241=\"\",\"\",'800111a - Nota. Detalle de CxC.'!$H$241)","v":""},{"$f":"IF('800111a - Nota. Detalle de CxC.'!$H$242=\"\",\"\",'800111a - Nota. Detalle de CxC.'!$H$242)","v":""},{"$f":"IF('800111a - Nota. Detalle de CxC.'!$H$243=\"\",\"\",'800111a - Nota. Detalle de CxC.'!$H$243)","v":""},{"$f":"IF('800111a - Nota. Detalle de CxC.'!$H$244=\"\",\"\",'800111a - Nota. Detalle de CxC.'!$H$244)","v":""},{"$f":"IF('800111a - Nota. Detalle de CxC.'!$H$245=\"\",\"\",'800111a - Nota. Detalle de CxC.'!$H$245)","v":""},{"$f":"IF('800111a - Nota. Detalle de CxC.'!$H$246=\"\",\"\",'800111a - Nota. Detalle de CxC.'!$H$246)","v":""},{"$f":"IF('800111a - Nota. Detalle de CxC.'!$H$247=\"\",\"\",'800111a - Nota. Detalle de CxC.'!$H$247)","v":""},{"$f":"IF('800111a - Nota. Detalle de CxC.'!$H$248=\"\",\"\",'800111a - Nota. Detalle de CxC.'!$H$248)","v":""},{"$f":"IF('800111a - Nota. Detalle de CxC.'!$H$249=\"\",\"\",'800111a - Nota. Detalle de CxC.'!$H$249)","v":""},{"$f":"IF('800111a - Nota. Detalle de CxC.'!$H$250=\"\",\"\",'800111a - Nota. Detalle de CxC.'!$H$250)","v":""},{"$f":"IF('800111a - Nota. Detalle de CxC.'!$H$251=\"\",\"\",'800111a - Nota. Detalle de CxC.'!$H$251)","v":""},{"$f":"IF('800111a - Nota. Detalle de CxC.'!$H$252=\"\",\"\",'800111a - Nota. Detalle de CxC.'!$H$252)","v":""},{"$f":"IF('800111a - Nota. Detalle de CxC.'!$H$253=\"\",\"\",'800111a - Nota. Detalle de CxC.'!$H$253)","v":""},{"$f":"IF('800111a - Nota. Detalle de CxC.'!$H$254=\"\",\"\",'800111a - Nota. Detalle de CxC.'!$H$254)","v":""},{"$f":"IF('800111a - Nota. Detalle de CxC.'!$H$255=\"\",\"\",'800111a - Nota. Detalle de CxC.'!$H$255)","v":""},{"$f":"IF('800111a - Nota. Detalle de CxC.'!$H$256=\"\",\"\",'800111a - Nota. Detalle de CxC.'!$H$256)","v":""},{"$f":"IF('800111a - Nota. Detalle de CxC.'!$H$257=\"\",\"\",'800111a - Nota. Detalle de CxC.'!$H$257)","v":""},{"$f":"IF('800111a - Nota. Detalle de CxC.'!$H$258=\"\",\"\",'800111a - Nota. Detalle de CxC.'!$H$258)","v":""},{"$f":"IF('800111a - Nota. Detalle de CxC.'!$H$259=\"\",\"\",'800111a - Nota. Detalle de CxC.'!$H$259)","v":""},{"$f":"IF('800111a - Nota. Detalle de CxC.'!$H$260=\"\",\"\",'800111a - Nota. Detalle de CxC.'!$H$260)","v":""},{"$f":"IF('800111a - Nota. Detalle de CxC.'!$H$261=\"\",\"\",'800111a - Nota. Detalle de CxC.'!$H$261)","v":""},{"$f":"IF('800111a - Nota. Detalle de CxC.'!$H$262=\"\",\"\",'800111a - Nota. Detalle de CxC.'!$H$262)","v":""},{"$f":"IF('800111a - Nota. Detalle de CxC.'!$H$263=\"\",\"\",'800111a - Nota. Detalle de CxC.'!$H$263)","v":""},{"$f":"IF('800111a - Nota. Detalle de CxC.'!$H$264=\"\",\"\",'800111a - Nota. Detalle de CxC.'!$H$264)","v":""},{"$f":"IF('800111a - Nota. Detalle de CxC.'!$H$265=\"\",\"\",'800111a - Nota. Detalle de CxC.'!$H$265)","v":""},{"$f":"IF('800111a - Nota. Detalle de CxC.'!$H$266=\"\",\"\",'800111a - Nota. Detalle de CxC.'!$H$266)","v":""},{"$f":"IF('800111a - Nota. Detalle de CxC.'!$H$267=\"\",\"\",'800111a - Nota. Detalle de CxC.'!$H$267)","v":""},{"$f":"IF('800111a - Nota. Detalle de CxC.'!$H$268=\"\",\"\",'800111a - Nota. Detalle de CxC.'!$H$268)","v":""},{"$f":"IF('800111a - Nota. Detalle de CxC.'!$H$269=\"\",\"\",'800111a - Nota. Detalle de CxC.'!$H$269)","v":""},{"$f":"IF('800111a - Nota. Detalle de CxC.'!$H$270=\"\",\"\",'800111a - Nota. Detalle de CxC.'!$H$270)","v":""},{"$f":"IF('800111a - Nota. Detalle de CxC.'!$H$271=\"\",\"\",'800111a - Nota. Detalle de CxC.'!$H$271)","v":""},{"$f":"IF('800111a - Nota. Detalle de CxC.'!$H$272=\"\",\"\",'800111a - Nota. Detalle de CxC.'!$H$272)","v":""},{"$f":"IF('800111a - Nota. Detalle de CxC.'!$H$273=\"\",\"\",'800111a - Nota. Detalle de CxC.'!$H$273)","v":""},{"$f":"IF('800111a - Nota. Detalle de CxC.'!$H$274=\"\",\"\",'800111a - Nota. Detalle de CxC.'!$H$274)","v":""},{"$f":"IF('800111a - Nota. Detalle de CxC.'!$H$275=\"\",\"\",'800111a - Nota. Detalle de CxC.'!$H$275)","v":""},{"$f":"IF('800111a - Nota. Detalle de CxC.'!$H$276=\"\",\"\",'800111a - Nota. Detalle de CxC.'!$H$276)","v":""},{"$f":"IF('800111a - Nota. Detalle de CxC.'!$H$277=\"\",\"\",'800111a - Nota. Detalle de CxC.'!$H$277)","v":""},{"$f":"IF('800111a - Nota. Detalle de CxC.'!$H$278=\"\",\"\",'800111a - Nota. Detalle de CxC.'!$H$278)","v":""},{"$f":"IF('800111a - Nota. Detalle de CxC.'!$H$279=\"\",\"\",'800111a - Nota. Detalle de CxC.'!$H$279)","v":""},{"$f":"IF('800111a - Nota. Detalle de CxC.'!$H$280=\"\",\"\",'800111a - Nota. Detalle de CxC.'!$H$280)","v":""},{"$f":"IF('800111a - Nota. Detalle de CxC.'!$H$281=\"\",\"\",'800111a - Nota. Detalle de CxC.'!$H$281)","v":""},{"$f":"IF('800111a - Nota. Detalle de CxC.'!$H$282=\"\",\"\",'800111a - Nota. Detalle de CxC.'!$H$282)","v":""},{"$f":"IF('800111a - Nota. Detalle de CxC.'!$H$283=\"\",\"\",'800111a - Nota. Detalle de CxC.'!$H$283)","v":""},{"$f":"IF('800111a - Nota. Detalle de CxC.'!$H$284=\"\",\"\",'800111a - Nota. Detalle de CxC.'!$H$284)","v":""},{"$f":"IF('800111a - Nota. Detalle de CxC.'!$H$285=\"\",\"\",'800111a - Nota. Detalle de CxC.'!$H$285)","v":""},{"$f":"IF('800111a - Nota. Detalle de CxC.'!$H$286=\"\",\"\",'800111a - Nota. Detalle de CxC.'!$H$286)","v":""},{"$f":"IF('800111a - Nota. Detalle de CxC.'!$H$287=\"\",\"\",'800111a - Nota. Detalle de CxC.'!$H$287)","v":""},{"$f":"IF('800111a - Nota. Detalle de CxC.'!$H$288=\"\",\"\",'800111a - Nota. Detalle de CxC.'!$H$288)","v":""},{"$f":"IF('800111a - Nota. Detalle de CxC.'!$H$289=\"\",\"\",'800111a - Nota. Detalle de CxC.'!$H$289)","v":""},{"$f":"IF('800111a - Nota. Detalle de CxC.'!$H$290=\"\",\"\",'800111a - Nota. Detalle de CxC.'!$H$290)","v":""},null,null,null,{"$f":"IF('800111a - Nota. Detalle de CxC.'!$H$294=\"\",\"\",'800111a - Nota. Detalle de CxC.'!$H$294)","v":""},{"$f":"IF('800111a - Nota. Detalle de CxC.'!$H$295=\"\",\"\",'800111a - Nota. Detalle de CxC.'!$H$295)","v":""},{"$f":"IF('800111a - Nota. Detalle de CxC.'!$H$296=\"\",\"\",'800111a - Nota. Detalle de CxC.'!$H$296)","v":""},{"$f":"IF('800111a - Nota. Detalle de CxC.'!$H$297=\"\",\"\",'800111a - Nota. Detalle de CxC.'!$H$297)","v":""},{"$f":"IF('800111a - Nota. Detalle de CxC.'!$H$298=\"\",\"\",'800111a - Nota. Detalle de CxC.'!$H$298)","v":""},{"$f":"IF('800111a - Nota. Detalle de CxC.'!$H$299=\"\",\"\",'800111a - Nota. Detalle de CxC.'!$H$299)","v":""},{"$f":"IF('800111a - Nota. Detalle de CxC.'!$H$300=\"\",\"\",'800111a - Nota. Detalle de CxC.'!$H$300)","v":""},{"$f":"IF('800111a - Nota. Detalle de CxC.'!$H$301=\"\",\"\",'800111a - Nota. Detalle de CxC.'!$H$301)","v":""},{"$f":"IF('800111a - Nota. Detalle de CxC.'!$H$302=\"\",\"\",'800111a - Nota. Detalle de CxC.'!$H$302)","v":""},{"$f":"IF('800111a - Nota. Detalle de CxC.'!$H$303=\"\",\"\",'800111a - Nota. Detalle de CxC.'!$H$303)","v":""},{"$f":"IF('800111a - Nota. Detalle de CxC.'!$H$304=\"\",\"\",'800111a - Nota. Detalle de CxC.'!$H$304)","v":""},{"$f":"IF('800111a - Nota. Detalle de CxC.'!$H$305=\"\",\"\",'800111a - Nota. Detalle de CxC.'!$H$305)","v":""},{"$f":"IF('800111a - Nota. Detalle de CxC.'!$H$306=\"\",\"\",'800111a - Nota. Detalle de CxC.'!$H$306)","v":""},{"$f":"IF('800111a - Nota. Detalle de CxC.'!$H$307=\"\",\"\",'800111a - Nota. Detalle de CxC.'!$H$307)","v":""},{"$f":"IF('800111a - Nota. Detalle de CxC.'!$H$308=\"\",\"\",'800111a - Nota. Detalle de CxC.'!$H$308)","v":""},{"$f":"IF('800111a - Nota. Detalle de CxC.'!$H$309=\"\",\"\",'800111a - Nota. Detalle de CxC.'!$H$309)","v":""},{"$f":"IF('800111a - Nota. Detalle de CxC.'!$H$310=\"\",\"\",'800111a - Nota. Detalle de CxC.'!$H$310)","v":""},{"$f":"IF('800111a - Nota. Detalle de CxC.'!$H$311=\"\",\"\",'800111a - Nota. Detalle de CxC.'!$H$311)","v":""},{"$f":"IF('800111a - Nota. Detalle de CxC.'!$H$312=\"\",\"\",'800111a - Nota. Detalle de CxC.'!$H$312)","v":""},{"$f":"IF('800111a - Nota. Detalle de CxC.'!$H$313=\"\",\"\",'800111a - Nota. Detalle de CxC.'!$H$313)","v":""},{"$f":"IF('800111a - Nota. Detalle de CxC.'!$H$314=\"\",\"\",'800111a - Nota. Detalle de CxC.'!$H$314)","v":""},{"$f":"IF('800111a - Nota. Detalle de CxC.'!$H$315=\"\",\"\",'800111a - Nota. Detalle de CxC.'!$H$315)","v":""},{"$f":"IF('800111a - Nota. Detalle de CxC.'!$H$316=\"\",\"\",'800111a - Nota. Detalle de CxC.'!$H$316)","v":""},{"$f":"IF('800111a - Nota. Detalle de CxC.'!$H$317=\"\",\"\",'800111a - Nota. Detalle de CxC.'!$H$317)","v":""},{"$f":"IF('800111a - Nota. Detalle de CxC.'!$H$318=\"\",\"\",'800111a - Nota. Detalle de CxC.'!$H$318)","v":""},{"$f":"IF('800111a - Nota. Detalle de CxC.'!$H$319=\"\",\"\",'800111a - Nota. Detalle de CxC.'!$H$319)","v":""},{"$f":"IF('800111a - Nota. Detalle de CxC.'!$H$320=\"\",\"\",'800111a - Nota. Detalle de CxC.'!$H$320)","v":""},{"$f":"IF('800111a - Nota. Detalle de CxC.'!$H$321=\"\",\"\",'800111a - Nota. Detalle de CxC.'!$H$321)","v":""},{"$f":"IF('800111a - Nota. Detalle de CxC.'!$H$322=\"\",\"\",'800111a - Nota. Detalle de CxC.'!$H$322)","v":""},{"$f":"IF('800111a - Nota. Detalle de CxC.'!$H$323=\"\",\"\",'800111a - Nota. Detalle de CxC.'!$H$323)","v":""},{"$f":"IF('800111a - Nota. Detalle de CxC.'!$H$324=\"\",\"\",'800111a - Nota. Detalle de CxC.'!$H$324)","v":""},{"$f":"IF('800111a - Nota. Detalle de CxC.'!$H$325=\"\",\"\",'800111a - Nota. Detalle de CxC.'!$H$325)","v":""},{"$f":"IF('800111a - Nota. Detalle de CxC.'!$H$326=\"\",\"\",'800111a - Nota. Detalle de CxC.'!$H$326)","v":""},{"$f":"IF('800111a - Nota. Detalle de CxC.'!$H$327=\"\",\"\",'800111a - Nota. Detalle de CxC.'!$H$327)","v":""},{"$f":"IF('800111a - Nota. Detalle de CxC.'!$H$328=\"\",\"\",'800111a - Nota. Detalle de CxC.'!$H$328)","v":""},{"$f":"IF('800111a - Nota. Detalle de CxC.'!$H$329=\"\",\"\",'800111a - Nota. Detalle de CxC.'!$H$329)","v":""},{"$f":"IF('800111a - Nota. Detalle de CxC.'!$H$330=\"\",\"\",'800111a - Nota. Detalle de CxC.'!$H$330)","v":""},{"$f":"IF('800111a - Nota. Detalle de CxC.'!$H$331=\"\",\"\",'800111a - Nota. Detalle de CxC.'!$H$331)","v":""},{"$f":"IF('800111a - Nota. Detalle de CxC.'!$H$332=\"\",\"\",'800111a - Nota. Detalle de CxC.'!$H$332)","v":""},{"$f":"IF('800111a - Nota. Detalle de CxC.'!$H$333=\"\",\"\",'800111a - Nota. Detalle de CxC.'!$H$333)","v":""},{"$f":"IF('800111a - Nota. Detalle de CxC.'!$H$334=\"\",\"\",'800111a - Nota. Detalle de CxC.'!$H$334)","v":""},{"$f":"IF('800111a - Nota. Detalle de CxC.'!$H$335=\"\",\"\",'800111a - Nota. Detalle de CxC.'!$H$335)","v":""},{"$f":"IF('800111a - Nota. Detalle de CxC.'!$H$336=\"\",\"\",'800111a - Nota. Detalle de CxC.'!$H$336)","v":""},{"$f":"IF('800111a - Nota. Detalle de CxC.'!$H$337=\"\",\"\",'800111a - Nota. Detalle de CxC.'!$H$337)","v":""},{"$f":"IF('800111a - Nota. Detalle de CxC.'!$H$338=\"\",\"\",'800111a - Nota. Detalle de CxC.'!$H$338)","v":""},{"$f":"IF('800111a - Nota. Detalle de CxC.'!$H$339=\"\",\"\",'800111a - Nota. Detalle de CxC.'!$H$339)","v":""},{"$f":"IF('800111a - Nota. Detalle de CxC.'!$H$340=\"\",\"\",'800111a - Nota. Detalle de CxC.'!$H$340)","v":""},{"$f":"IF('800111a - Nota. Detalle de CxC.'!$H$341=\"\",\"\",'800111a - Nota. Detalle de CxC.'!$H$341)","v":""},{"$f":"IF('800111a - Nota. Detalle de CxC.'!$H$342=\"\",\"\",'800111a - Nota. Detalle de CxC.'!$H$342)","v":""},{"$f":"IF('800111a - Nota. Detalle de CxC.'!$H$343=\"\",\"\",'800111a - Nota. Detalle de CxC.'!$H$343)","v":""}]
[null,"1;2","co-svsp-core:SegundoApellidoDeudorCxC","Segundo apellido deudor",null,null,{"$f":"IF('800111a - Nota. Detalle de CxC.'!$I$188=\"\",\"\",'800111a - Nota. Detalle de CxC.'!$I$188)","v":""},{"$f":"IF('800111a - Nota. Detalle de CxC.'!$I$189=\"\",\"\",'800111a - Nota. Detalle de CxC.'!$I$189)","v":""},{"$f":"IF('800111a - Nota. Detalle de CxC.'!$I$190=\"\",\"\",'800111a - Nota. Detalle de CxC.'!$I$190)","v":""},{"$f":"IF('800111a - Nota. Detalle de CxC.'!$I$191=\"\",\"\",'800111a - Nota. Detalle de CxC.'!$I$191)","v":""},{"$f":"IF('800111a - Nota. Detalle de CxC.'!$I$192=\"\",\"\",'800111a - Nota. Detalle de CxC.'!$I$192)","v":""},{"$f":"IF('800111a - Nota. Detalle de CxC.'!$I$193=\"\",\"\",'800111a - Nota. Detalle de CxC.'!$I$193)","v":""},{"$f":"IF('800111a - Nota. Detalle de CxC.'!$I$194=\"\",\"\",'800111a - Nota. Detalle de CxC.'!$I$194)","v":""},{"$f":"IF('800111a - Nota. Detalle de CxC.'!$I$195=\"\",\"\",'800111a - Nota. Detalle de CxC.'!$I$195)","v":""},{"$f":"IF('800111a - Nota. Detalle de CxC.'!$I$196=\"\",\"\",'800111a - Nota. Detalle de CxC.'!$I$196)","v":""},{"$f":"IF('800111a - Nota. Detalle de CxC.'!$I$197=\"\",\"\",'800111a - Nota. Detalle de CxC.'!$I$197)","v":""},{"$f":"IF('800111a - Nota. Detalle de CxC.'!$I$198=\"\",\"\",'800111a - Nota. Detalle de CxC.'!$I$198)","v":""},{"$f":"IF('800111a - Nota. Detalle de CxC.'!$I$199=\"\",\"\",'800111a - Nota. Detalle de CxC.'!$I$199)","v":""},{"$f":"IF('800111a - Nota. Detalle de CxC.'!$I$200=\"\",\"\",'800111a - Nota. Detalle de CxC.'!$I$200)","v":""},{"$f":"IF('800111a - Nota. Detalle de CxC.'!$I$201=\"\",\"\",'800111a - Nota. Detalle de CxC.'!$I$201)","v":""},{"$f":"IF('800111a - Nota. Detalle de CxC.'!$I$202=\"\",\"\",'800111a - Nota. Detalle de CxC.'!$I$202)","v":""},{"$f":"IF('800111a - Nota. Detalle de CxC.'!$I$203=\"\",\"\",'800111a - Nota. Detalle de CxC.'!$I$203)","v":""},{"$f":"IF('800111a - Nota. Detalle de CxC.'!$I$204=\"\",\"\",'800111a - Nota. Detalle de CxC.'!$I$204)","v":""},{"$f":"IF('800111a - Nota. Detalle de CxC.'!$I$205=\"\",\"\",'800111a - Nota. Detalle de CxC.'!$I$205)","v":""},{"$f":"IF('800111a - Nota. Detalle de CxC.'!$I$206=\"\",\"\",'800111a - Nota. Detalle de CxC.'!$I$206)","v":""},{"$f":"IF('800111a - Nota. Detalle de CxC.'!$I$207=\"\",\"\",'800111a - Nota. Detalle de CxC.'!$I$207)","v":""},{"$f":"IF('800111a - Nota. Detalle de CxC.'!$I$208=\"\",\"\",'800111a - Nota. Detalle de CxC.'!$I$208)","v":""},{"$f":"IF('800111a - Nota. Detalle de CxC.'!$I$209=\"\",\"\",'800111a - Nota. Detalle de CxC.'!$I$209)","v":""},{"$f":"IF('800111a - Nota. Detalle de CxC.'!$I$210=\"\",\"\",'800111a - Nota. Detalle de CxC.'!$I$210)","v":""},{"$f":"IF('800111a - Nota. Detalle de CxC.'!$I$211=\"\",\"\",'800111a - Nota. Detalle de CxC.'!$I$211)","v":""},{"$f":"IF('800111a - Nota. Detalle de CxC.'!$I$212=\"\",\"\",'800111a - Nota. Detalle de CxC.'!$I$212)","v":""},{"$f":"IF('800111a - Nota. Detalle de CxC.'!$I$213=\"\",\"\",'800111a - Nota. Detalle de CxC.'!$I$213)","v":""},{"$f":"IF('800111a - Nota. Detalle de CxC.'!$I$214=\"\",\"\",'800111a - Nota. Detalle de CxC.'!$I$214)","v":""},{"$f":"IF('800111a - Nota. Detalle de CxC.'!$I$215=\"\",\"\",'800111a - Nota. Detalle de CxC.'!$I$215)","v":""},{"$f":"IF('800111a - Nota. Detalle de CxC.'!$I$216=\"\",\"\",'800111a - Nota. Detalle de CxC.'!$I$216)","v":""},{"$f":"IF('800111a - Nota. Detalle de CxC.'!$I$217=\"\",\"\",'800111a - Nota. Detalle de CxC.'!$I$217)","v":""},{"$f":"IF('800111a - Nota. Detalle de CxC.'!$I$218=\"\",\"\",'800111a - Nota. Detalle de CxC.'!$I$218)","v":""},{"$f":"IF('800111a - Nota. Detalle de CxC.'!$I$219=\"\",\"\",'800111a - Nota. Detalle de CxC.'!$I$219)","v":""},{"$f":"IF('800111a - Nota. Detalle de CxC.'!$I$220=\"\",\"\",'800111a - Nota. Detalle de CxC.'!$I$220)","v":""},{"$f":"IF('800111a - Nota. Detalle de CxC.'!$I$221=\"\",\"\",'800111a - Nota. Detalle de CxC.'!$I$221)","v":""},{"$f":"IF('800111a - Nota. Detalle de CxC.'!$I$222=\"\",\"\",'800111a - Nota. Detalle de CxC.'!$I$222)","v":""},{"$f":"IF('800111a - Nota. Detalle de CxC.'!$I$223=\"\",\"\",'800111a - Nota. Detalle de CxC.'!$I$223)","v":""},{"$f":"IF('800111a - Nota. Detalle de CxC.'!$I$224=\"\",\"\",'800111a - Nota. Detalle de CxC.'!$I$224)","v":""},{"$f":"IF('800111a - Nota. Detalle de CxC.'!$I$225=\"\",\"\",'800111a - Nota. Detalle de CxC.'!$I$225)","v":""},{"$f":"IF('800111a - Nota. Detalle de CxC.'!$I$226=\"\",\"\",'800111a - Nota. Detalle de CxC.'!$I$226)","v":""},{"$f":"IF('800111a - Nota. Detalle de CxC.'!$I$227=\"\",\"\",'800111a - Nota. Detalle de CxC.'!$I$227)","v":""},{"$f":"IF('800111a - Nota. Detalle de CxC.'!$I$228=\"\",\"\",'800111a - Nota. Detalle de CxC.'!$I$228)","v":""},{"$f":"IF('800111a - Nota. Detalle de CxC.'!$I$229=\"\",\"\",'800111a - Nota. Detalle de CxC.'!$I$229)","v":""},{"$f":"IF('800111a - Nota. Detalle de CxC.'!$I$230=\"\",\"\",'800111a - Nota. Detalle de CxC.'!$I$230)","v":""},{"$f":"IF('800111a - Nota. Detalle de CxC.'!$I$231=\"\",\"\",'800111a - Nota. Detalle de CxC.'!$I$231)","v":""},{"$f":"IF('800111a - Nota. Detalle de CxC.'!$I$232=\"\",\"\",'800111a - Nota. Detalle de CxC.'!$I$232)","v":""},{"$f":"IF('800111a - Nota. Detalle de CxC.'!$I$233=\"\",\"\",'800111a - Nota. Detalle de CxC.'!$I$233)","v":""},{"$f":"IF('800111a - Nota. Detalle de CxC.'!$I$234=\"\",\"\",'800111a - Nota. Detalle de CxC.'!$I$234)","v":""},{"$f":"IF('800111a - Nota. Detalle de CxC.'!$I$235=\"\",\"\",'800111a - Nota. Detalle de CxC.'!$I$235)","v":""},{"$f":"IF('800111a - Nota. Detalle de CxC.'!$I$236=\"\",\"\",'800111a - Nota. Detalle de CxC.'!$I$236)","v":""},{"$f":"IF('800111a - Nota. Detalle de CxC.'!$I$237=\"\",\"\",'800111a - Nota. Detalle de CxC.'!$I$237)","v":""},null,null,null,{"$f":"IF('800111a - Nota. Detalle de CxC.'!$I$241=\"\",\"\",'800111a - Nota. Detalle de CxC.'!$I$241)","v":""},{"$f":"IF('800111a - Nota. Detalle de CxC.'!$I$242=\"\",\"\",'800111a - Nota. Detalle de CxC.'!$I$242)","v":""},{"$f":"IF('800111a - Nota. Detalle de CxC.'!$I$243=\"\",\"\",'800111a - Nota. Detalle de CxC.'!$I$243)","v":""},{"$f":"IF('800111a - Nota. Detalle de CxC.'!$I$244=\"\",\"\",'800111a - Nota. Detalle de CxC.'!$I$244)","v":""},{"$f":"IF('800111a - Nota. Detalle de CxC.'!$I$245=\"\",\"\",'800111a - Nota. Detalle de CxC.'!$I$245)","v":""},{"$f":"IF('800111a - Nota. Detalle de CxC.'!$I$246=\"\",\"\",'800111a - Nota. Detalle de CxC.'!$I$246)","v":""},{"$f":"IF('800111a - Nota. Detalle de CxC.'!$I$247=\"\",\"\",'800111a - Nota. Detalle de CxC.'!$I$247)","v":""},{"$f":"IF('800111a - Nota. Detalle de CxC.'!$I$248=\"\",\"\",'800111a - Nota. Detalle de CxC.'!$I$248)","v":""},{"$f":"IF('800111a - Nota. Detalle de CxC.'!$I$249=\"\",\"\",'800111a - Nota. Detalle de CxC.'!$I$249)","v":""},{"$f":"IF('800111a - Nota. Detalle de CxC.'!$I$250=\"\",\"\",'800111a - Nota. Detalle de CxC.'!$I$250)","v":""},{"$f":"IF('800111a - Nota. Detalle de CxC.'!$I$251=\"\",\"\",'800111a - Nota. Detalle de CxC.'!$I$251)","v":""},{"$f":"IF('800111a - Nota. Detalle de CxC.'!$I$252=\"\",\"\",'800111a - Nota. Detalle de CxC.'!$I$252)","v":""},{"$f":"IF('800111a - Nota. Detalle de CxC.'!$I$253=\"\",\"\",'800111a - Nota. Detalle de CxC.'!$I$253)","v":""},{"$f":"IF('800111a - Nota. Detalle de CxC.'!$I$254=\"\",\"\",'800111a - Nota. Detalle de CxC.'!$I$254)","v":""},{"$f":"IF('800111a - Nota. Detalle de CxC.'!$I$255=\"\",\"\",'800111a - Nota. Detalle de CxC.'!$I$255)","v":""},{"$f":"IF('800111a - Nota. Detalle de CxC.'!$I$256=\"\",\"\",'800111a - Nota. Detalle de CxC.'!$I$256)","v":""},{"$f":"IF('800111a - Nota. Detalle de CxC.'!$I$257=\"\",\"\",'800111a - Nota. Detalle de CxC.'!$I$257)","v":""},{"$f":"IF('800111a - Nota. Detalle de CxC.'!$I$258=\"\",\"\",'800111a - Nota. Detalle de CxC.'!$I$258)","v":""},{"$f":"IF('800111a - Nota. Detalle de CxC.'!$I$259=\"\",\"\",'800111a - Nota. Detalle de CxC.'!$I$259)","v":""},{"$f":"IF('800111a - Nota. Detalle de CxC.'!$I$260=\"\",\"\",'800111a - Nota. Detalle de CxC.'!$I$260)","v":""},{"$f":"IF('800111a - Nota. Detalle de CxC.'!$I$261=\"\",\"\",'800111a - Nota. Detalle de CxC.'!$I$261)","v":""},{"$f":"IF('800111a - Nota. Detalle de CxC.'!$I$262=\"\",\"\",'800111a - Nota. Detalle de CxC.'!$I$262)","v":""},{"$f":"IF('800111a - Nota. Detalle de CxC.'!$I$263=\"\",\"\",'800111a - Nota. Detalle de CxC.'!$I$263)","v":""},{"$f":"IF('800111a - Nota. Detalle de CxC.'!$I$264=\"\",\"\",'800111a - Nota. Detalle de CxC.'!$I$264)","v":""},{"$f":"IF('800111a - Nota. Detalle de CxC.'!$I$265=\"\",\"\",'800111a - Nota. Detalle de CxC.'!$I$265)","v":""},{"$f":"IF('800111a - Nota. Detalle de CxC.'!$I$266=\"\",\"\",'800111a - Nota. Detalle de CxC.'!$I$266)","v":""},{"$f":"IF('800111a - Nota. Detalle de CxC.'!$I$267=\"\",\"\",'800111a - Nota. Detalle de CxC.'!$I$267)","v":""},{"$f":"IF('800111a - Nota. Detalle de CxC.'!$I$268=\"\",\"\",'800111a - Nota. Detalle de CxC.'!$I$268)","v":""},{"$f":"IF('800111a - Nota. Detalle de CxC.'!$I$269=\"\",\"\",'800111a - Nota. Detalle de CxC.'!$I$269)","v":""},{"$f":"IF('800111a - Nota. Detalle de CxC.'!$I$270=\"\",\"\",'800111a - Nota. Detalle de CxC.'!$I$270)","v":""},{"$f":"IF('800111a - Nota. Detalle de CxC.'!$I$271=\"\",\"\",'800111a - Nota. Detalle de CxC.'!$I$271)","v":""},{"$f":"IF('800111a - Nota. Detalle de CxC.'!$I$272=\"\",\"\",'800111a - Nota. Detalle de CxC.'!$I$272)","v":""},{"$f":"IF('800111a - Nota. Detalle de CxC.'!$I$273=\"\",\"\",'800111a - Nota. Detalle de CxC.'!$I$273)","v":""},{"$f":"IF('800111a - Nota. Detalle de CxC.'!$I$274=\"\",\"\",'800111a - Nota. Detalle de CxC.'!$I$274)","v":""},{"$f":"IF('800111a - Nota. Detalle de CxC.'!$I$275=\"\",\"\",'800111a - Nota. Detalle de CxC.'!$I$275)","v":""},{"$f":"IF('800111a - Nota. Detalle de CxC.'!$I$276=\"\",\"\",'800111a - Nota. Detalle de CxC.'!$I$276)","v":""},{"$f":"IF('800111a - Nota. Detalle de CxC.'!$I$277=\"\",\"\",'800111a - Nota. Detalle de CxC.'!$I$277)","v":""},{"$f":"IF('800111a - Nota. Detalle de CxC.'!$I$278=\"\",\"\",'800111a - Nota. Detalle de CxC.'!$I$278)","v":""},{"$f":"IF('800111a - Nota. Detalle de CxC.'!$I$279=\"\",\"\",'800111a - Nota. Detalle de CxC.'!$I$279)","v":""},{"$f":"IF('800111a - Nota. Detalle de CxC.'!$I$280=\"\",\"\",'800111a - Nota. Detalle de CxC.'!$I$280)","v":""},{"$f":"IF('800111a - Nota. Detalle de CxC.'!$I$281=\"\",\"\",'800111a - Nota. Detalle de CxC.'!$I$281)","v":""},{"$f":"IF('800111a - Nota. Detalle de CxC.'!$I$282=\"\",\"\",'800111a - Nota. Detalle de CxC.'!$I$282)","v":""},{"$f":"IF('800111a - Nota. Detalle de CxC.'!$I$283=\"\",\"\",'800111a - Nota. Detalle de CxC.'!$I$283)","v":""},{"$f":"IF('800111a - Nota. Detalle de CxC.'!$I$284=\"\",\"\",'800111a - Nota. Detalle de CxC.'!$I$284)","v":""},{"$f":"IF('800111a - Nota. Detalle de CxC.'!$I$285=\"\",\"\",'800111a - Nota. Detalle de CxC.'!$I$285)","v":""},{"$f":"IF('800111a - Nota. Detalle de CxC.'!$I$286=\"\",\"\",'800111a - Nota. Detalle de CxC.'!$I$286)","v":""},{"$f":"IF('800111a - Nota. Detalle de CxC.'!$I$287=\"\",\"\",'800111a - Nota. Detalle de CxC.'!$I$287)","v":""},{"$f":"IF('800111a - Nota. Detalle de CxC.'!$I$288=\"\",\"\",'800111a - Nota. Detalle de CxC.'!$I$288)","v":""},{"$f":"IF('800111a - Nota. Detalle de CxC.'!$I$289=\"\",\"\",'800111a - Nota. Detalle de CxC.'!$I$289)","v":""},{"$f":"IF('800111a - Nota. Detalle de CxC.'!$I$290=\"\",\"\",'800111a - Nota. Detalle de CxC.'!$I$290)","v":""},null,null,null,{"$f":"IF('800111a - Nota. Detalle de CxC.'!$I$294=\"\",\"\",'800111a - Nota. Detalle de CxC.'!$I$294)","v":""},{"$f":"IF('800111a - Nota. Detalle de CxC.'!$I$295=\"\",\"\",'800111a - Nota. Detalle de CxC.'!$I$295)","v":""},{"$f":"IF('800111a - Nota. Detalle de CxC.'!$I$296=\"\",\"\",'800111a - Nota. Detalle de CxC.'!$I$296)","v":""},{"$f":"IF('800111a - Nota. Detalle de CxC.'!$I$297=\"\",\"\",'800111a - Nota. Detalle de CxC.'!$I$297)","v":""},{"$f":"IF('800111a - Nota. Detalle de CxC.'!$I$298=\"\",\"\",'800111a - Nota. Detalle de CxC.'!$I$298)","v":""},{"$f":"IF('800111a - Nota. Detalle de CxC.'!$I$299=\"\",\"\",'800111a - Nota. Detalle de CxC.'!$I$299)","v":""},{"$f":"IF('800111a - Nota. Detalle de CxC.'!$I$300=\"\",\"\",'800111a - Nota. Detalle de CxC.'!$I$300)","v":""},{"$f":"IF('800111a - Nota. Detalle de CxC.'!$I$301=\"\",\"\",'800111a - Nota. Detalle de CxC.'!$I$301)","v":""},{"$f":"IF('800111a - Nota. Detalle de CxC.'!$I$302=\"\",\"\",'800111a - Nota. Detalle de CxC.'!$I$302)","v":""},{"$f":"IF('800111a - Nota. Detalle de CxC.'!$I$303=\"\",\"\",'800111a - Nota. Detalle de CxC.'!$I$303)","v":""},{"$f":"IF('800111a - Nota. Detalle de CxC.'!$I$304=\"\",\"\",'800111a - Nota. Detalle de CxC.'!$I$304)","v":""},{"$f":"IF('800111a - Nota. Detalle de CxC.'!$I$305=\"\",\"\",'800111a - Nota. Detalle de CxC.'!$I$305)","v":""},{"$f":"IF('800111a - Nota. Detalle de CxC.'!$I$306=\"\",\"\",'800111a - Nota. Detalle de CxC.'!$I$306)","v":""},{"$f":"IF('800111a - Nota. Detalle de CxC.'!$I$307=\"\",\"\",'800111a - Nota. Detalle de CxC.'!$I$307)","v":""},{"$f":"IF('800111a - Nota. Detalle de CxC.'!$I$308=\"\",\"\",'800111a - Nota. Detalle de CxC.'!$I$308)","v":""},{"$f":"IF('800111a - Nota. Detalle de CxC.'!$I$309=\"\",\"\",'800111a - Nota. Detalle de CxC.'!$I$309)","v":""},{"$f":"IF('800111a - Nota. Detalle de CxC.'!$I$310=\"\",\"\",'800111a - Nota. Detalle de CxC.'!$I$310)","v":""},{"$f":"IF('800111a - Nota. Detalle de CxC.'!$I$311=\"\",\"\",'800111a - Nota. Detalle de CxC.'!$I$311)","v":""},{"$f":"IF('800111a - Nota. Detalle de CxC.'!$I$312=\"\",\"\",'800111a - Nota. Detalle de CxC.'!$I$312)","v":""},{"$f":"IF('800111a - Nota. Detalle de CxC.'!$I$313=\"\",\"\",'800111a - Nota. Detalle de CxC.'!$I$313)","v":""},{"$f":"IF('800111a - Nota. Detalle de CxC.'!$I$314=\"\",\"\",'800111a - Nota. Detalle de CxC.'!$I$314)","v":""},{"$f":"IF('800111a - Nota. Detalle de CxC.'!$I$315=\"\",\"\",'800111a - Nota. Detalle de CxC.'!$I$315)","v":""},{"$f":"IF('800111a - Nota. Detalle de CxC.'!$I$316=\"\",\"\",'800111a - Nota. Detalle de CxC.'!$I$316)","v":""},{"$f":"IF('800111a - Nota. Detalle de CxC.'!$I$317=\"\",\"\",'800111a - Nota. Detalle de CxC.'!$I$317)","v":""},{"$f":"IF('800111a - Nota. Detalle de CxC.'!$I$318=\"\",\"\",'800111a - Nota. Detalle de CxC.'!$I$318)","v":""},{"$f":"IF('800111a - Nota. Detalle de CxC.'!$I$319=\"\",\"\",'800111a - Nota. Detalle de CxC.'!$I$319)","v":""},{"$f":"IF('800111a - Nota. Detalle de CxC.'!$I$320=\"\",\"\",'800111a - Nota. Detalle de CxC.'!$I$320)","v":""},{"$f":"IF('800111a - Nota. Detalle de CxC.'!$I$321=\"\",\"\",'800111a - Nota. Detalle de CxC.'!$I$321)","v":""},{"$f":"IF('800111a - Nota. Detalle de CxC.'!$I$322=\"\",\"\",'800111a - Nota. Detalle de CxC.'!$I$322)","v":""},{"$f":"IF('800111a - Nota. Detalle de CxC.'!$I$323=\"\",\"\",'800111a - Nota. Detalle de CxC.'!$I$323)","v":""},{"$f":"IF('800111a - Nota. Detalle de CxC.'!$I$324=\"\",\"\",'800111a - Nota. Detalle de CxC.'!$I$324)","v":""},{"$f":"IF('800111a - Nota. Detalle de CxC.'!$I$325=\"\",\"\",'800111a - Nota. Detalle de CxC.'!$I$325)","v":""},{"$f":"IF('800111a - Nota. Detalle de CxC.'!$I$326=\"\",\"\",'800111a - Nota. Detalle de CxC.'!$I$326)","v":""},{"$f":"IF('800111a - Nota. Detalle de CxC.'!$I$327=\"\",\"\",'800111a - Nota. Detalle de CxC.'!$I$327)","v":""},{"$f":"IF('800111a - Nota. Detalle de CxC.'!$I$328=\"\",\"\",'800111a - Nota. Detalle de CxC.'!$I$328)","v":""},{"$f":"IF('800111a - Nota. Detalle de CxC.'!$I$329=\"\",\"\",'800111a - Nota. Detalle de CxC.'!$I$329)","v":""},{"$f":"IF('800111a - Nota. Detalle de CxC.'!$I$330=\"\",\"\",'800111a - Nota. Detalle de CxC.'!$I$330)","v":""},{"$f":"IF('800111a - Nota. Detalle de CxC.'!$I$331=\"\",\"\",'800111a - Nota. Detalle de CxC.'!$I$331)","v":""},{"$f":"IF('800111a - Nota. Detalle de CxC.'!$I$332=\"\",\"\",'800111a - Nota. Detalle de CxC.'!$I$332)","v":""},{"$f":"IF('800111a - Nota. Detalle de CxC.'!$I$333=\"\",\"\",'800111a - Nota. Detalle de CxC.'!$I$333)","v":""},{"$f":"IF('800111a - Nota. Detalle de CxC.'!$I$334=\"\",\"\",'800111a - Nota. Detalle de CxC.'!$I$334)","v":""},{"$f":"IF('800111a - Nota. Detalle de CxC.'!$I$335=\"\",\"\",'800111a - Nota. Detalle de CxC.'!$I$335)","v":""},{"$f":"IF('800111a - Nota. Detalle de CxC.'!$I$336=\"\",\"\",'800111a - Nota. Detalle de CxC.'!$I$336)","v":""},{"$f":"IF('800111a - Nota. Detalle de CxC.'!$I$337=\"\",\"\",'800111a - Nota. Detalle de CxC.'!$I$337)","v":""},{"$f":"IF('800111a - Nota. Detalle de CxC.'!$I$338=\"\",\"\",'800111a - Nota. Detalle de CxC.'!$I$338)","v":""},{"$f":"IF('800111a - Nota. Detalle de CxC.'!$I$339=\"\",\"\",'800111a - Nota. Detalle de CxC.'!$I$339)","v":""},{"$f":"IF('800111a - Nota. Detalle de CxC.'!$I$340=\"\",\"\",'800111a - Nota. Detalle de CxC.'!$I$340)","v":""},{"$f":"IF('800111a - Nota. Detalle de CxC.'!$I$341=\"\",\"\",'800111a - Nota. Detalle de CxC.'!$I$341)","v":""},{"$f":"IF('800111a - Nota. Detalle de CxC.'!$I$342=\"\",\"\",'800111a - Nota. Detalle de CxC.'!$I$342)","v":""},{"$f":"IF('800111a - Nota. Detalle de CxC.'!$I$343=\"\",\"\",'800111a - Nota. Detalle de CxC.'!$I$343)","v":""}]
[null,"1;2","co-svsp-core:PrimerNombreDeudorCxC","Primer nombre deudor",null,null,{"$f":"IF('800111a - Nota. Detalle de CxC.'!$J$188=\"\",\"\",'800111a - Nota. Detalle de CxC.'!$J$188)","v":""},{"$f":"IF('800111a - Nota. Detalle de CxC.'!$J$189=\"\",\"\",'800111a - Nota. Detalle de CxC.'!$J$189)","v":""},{"$f":"IF('800111a - Nota. Detalle de CxC.'!$J$190=\"\",\"\",'800111a - Nota. Detalle de CxC.'!$J$190)","v":""},{"$f":"IF('800111a - Nota. Detalle de CxC.'!$J$191=\"\",\"\",'800111a - Nota. Detalle de CxC.'!$J$191)","v":""},{"$f":"IF('800111a - Nota. Detalle de CxC.'!$J$192=\"\",\"\",'800111a - Nota. Detalle de CxC.'!$J$192)","v":""},{"$f":"IF('800111a - Nota. Detalle de CxC.'!$J$193=\"\",\"\",'800111a - Nota. Detalle de CxC.'!$J$193)","v":""},{"$f":"IF('800111a - Nota. Detalle de CxC.'!$J$194=\"\",\"\",'800111a - Nota. Detalle de CxC.'!$J$194)","v":""},{"$f":"IF('800111a - Nota. Detalle de CxC.'!$J$195=\"\",\"\",'800111a - Nota. Detalle de CxC.'!$J$195)","v":""},{"$f":"IF('800111a - Nota. Detalle de CxC.'!$J$196=\"\",\"\",'800111a - Nota. Detalle de CxC.'!$J$196)","v":""},{"$f":"IF('800111a - Nota. Detalle de CxC.'!$J$197=\"\",\"\",'800111a - Nota. Detalle de CxC.'!$J$197)","v":""},{"$f":"IF('800111a - Nota. Detalle de CxC.'!$J$198=\"\",\"\",'800111a - Nota. Detalle de CxC.'!$J$198)","v":""},{"$f":"IF('800111a - Nota. Detalle de CxC.'!$J$199=\"\",\"\",'800111a - Nota. Detalle de CxC.'!$J$199)","v":""},{"$f":"IF('800111a - Nota. Detalle de CxC.'!$J$200=\"\",\"\",'800111a - Nota. Detalle de CxC.'!$J$200)","v":""},{"$f":"IF('800111a - Nota. Detalle de CxC.'!$J$201=\"\",\"\",'800111a - Nota. Detalle de CxC.'!$J$201)","v":""},{"$f":"IF('800111a - Nota. Detalle de CxC.'!$J$202=\"\",\"\",'800111a - Nota. Detalle de CxC.'!$J$202)","v":""},{"$f":"IF('800111a - Nota. Detalle de CxC.'!$J$203=\"\",\"\",'800111a - Nota. Detalle de CxC.'!$J$203)","v":""},{"$f":"IF('800111a - Nota. Detalle de CxC.'!$J$204=\"\",\"\",'800111a - Nota. Detalle de CxC.'!$J$204)","v":""},{"$f":"IF('800111a - Nota. Detalle de CxC.'!$J$205=\"\",\"\",'800111a - Nota. Detalle de CxC.'!$J$205)","v":""},{"$f":"IF('800111a - Nota. Detalle de CxC.'!$J$206=\"\",\"\",'800111a - Nota. Detalle de CxC.'!$J$206)","v":""},{"$f":"IF('800111a - Nota. Detalle de CxC.'!$J$207=\"\",\"\",'800111a - Nota. Detalle de CxC.'!$J$207)","v":""},{"$f":"IF('800111a - Nota. Detalle de CxC.'!$J$208=\"\",\"\",'800111a - Nota. Detalle de CxC.'!$J$208)","v":""},{"$f":"IF('800111a - Nota. Detalle de CxC.'!$J$209=\"\",\"\",'800111a - Nota. Detalle de CxC.'!$J$209)","v":""},{"$f":"IF('800111a - Nota. Detalle de CxC.'!$J$210=\"\",\"\",'800111a - Nota. Detalle de CxC.'!$J$210)","v":""},{"$f":"IF('800111a - Nota. Detalle de CxC.'!$J$211=\"\",\"\",'800111a - Nota. Detalle de CxC.'!$J$211)","v":""},{"$f":"IF('800111a - Nota. Detalle de CxC.'!$J$212=\"\",\"\",'800111a - Nota. Detalle de CxC.'!$J$212)","v":""},{"$f":"IF('800111a - Nota. Detalle de CxC.'!$J$213=\"\",\"\",'800111a - Nota. Detalle de CxC.'!$J$213)","v":""},{"$f":"IF('800111a - Nota. Detalle de CxC.'!$J$214=\"\",\"\",'800111a - Nota. Detalle de CxC.'!$J$214)","v":""},{"$f":"IF('800111a - Nota. Detalle de CxC.'!$J$215=\"\",\"\",'800111a - Nota. Detalle de CxC.'!$J$215)","v":""},{"$f":"IF('800111a - Nota. Detalle de CxC.'!$J$216=\"\",\"\",'800111a - Nota. Detalle de CxC.'!$J$216)","v":""},{"$f":"IF('800111a - Nota. Detalle de CxC.'!$J$217=\"\",\"\",'800111a - Nota. Detalle de CxC.'!$J$217)","v":""},{"$f":"IF('800111a - Nota. Detalle de CxC.'!$J$218=\"\",\"\",'800111a - Nota. Detalle de CxC.'!$J$218)","v":""},{"$f":"IF('800111a - Nota. Detalle de CxC.'!$J$219=\"\",\"\",'800111a - Nota. Detalle de CxC.'!$J$219)","v":""},{"$f":"IF('800111a - Nota. Detalle de CxC.'!$J$220=\"\",\"\",'800111a - Nota. Detalle de CxC.'!$J$220)","v":""},{"$f":"IF('800111a - Nota. Detalle de CxC.'!$J$221=\"\",\"\",'800111a - Nota. Detalle de CxC.'!$J$221)","v":""},{"$f":"IF('800111a - Nota. Detalle de CxC.'!$J$222=\"\",\"\",'800111a - Nota. Detalle de CxC.'!$J$222)","v":""},{"$f":"IF('800111a - Nota. Detalle de CxC.'!$J$223=\"\",\"\",'800111a - Nota. Detalle de CxC.'!$J$223)","v":""},{"$f":"IF('800111a - Nota. Detalle de CxC.'!$J$224=\"\",\"\",'800111a - Nota. Detalle de CxC.'!$J$224)","v":""},{"$f":"IF('800111a - Nota. Detalle de CxC.'!$J$225=\"\",\"\",'800111a - Nota. Detalle de CxC.'!$J$225)","v":""},{"$f":"IF('800111a - Nota. Detalle de CxC.'!$J$226=\"\",\"\",'800111a - Nota. Detalle de CxC.'!$J$226)","v":""},{"$f":"IF('800111a - Nota. Detalle de CxC.'!$J$227=\"\",\"\",'800111a - Nota. Detalle de CxC.'!$J$227)","v":""},{"$f":"IF('800111a - Nota. Detalle de CxC.'!$J$228=\"\",\"\",'800111a - Nota. Detalle de CxC.'!$J$228)","v":""},{"$f":"IF('800111a - Nota. Detalle de CxC.'!$J$229=\"\",\"\",'800111a - Nota. Detalle de CxC.'!$J$229)","v":""},{"$f":"IF('800111a - Nota. Detalle de CxC.'!$J$230=\"\",\"\",'800111a - Nota. Detalle de CxC.'!$J$230)","v":""},{"$f":"IF('800111a - Nota. Detalle de CxC.'!$J$231=\"\",\"\",'800111a - Nota. Detalle de CxC.'!$J$231)","v":""},{"$f":"IF('800111a - Nota. Detalle de CxC.'!$J$232=\"\",\"\",'800111a - Nota. Detalle de CxC.'!$J$232)","v":""},{"$f":"IF('800111a - Nota. Detalle de CxC.'!$J$233=\"\",\"\",'800111a - Nota. Detalle de CxC.'!$J$233)","v":""},{"$f":"IF('800111a - Nota. Detalle de CxC.'!$J$234=\"\",\"\",'800111a - Nota. Detalle de CxC.'!$J$234)","v":""},{"$f":"IF('800111a - Nota. Detalle de CxC.'!$J$235=\"\",\"\",'800111a - Nota. Detalle de CxC.'!$J$235)","v":""},{"$f":"IF('800111a - Nota. Detalle de CxC.'!$J$236=\"\",\"\",'800111a - Nota. Detalle de CxC.'!$J$236)","v":""},{"$f":"IF('800111a - Nota. Detalle de CxC.'!$J$237=\"\",\"\",'800111a - Nota. Detalle de CxC.'!$J$237)","v":""},null,null,null,{"$f":"IF('800111a - Nota. Detalle de CxC.'!$J$241=\"\",\"\",'800111a - Nota. Detalle de CxC.'!$J$241)","v":""},{"$f":"IF('800111a - Nota. Detalle de CxC.'!$J$242=\"\",\"\",'800111a - Nota. Detalle de CxC.'!$J$242)","v":""},{"$f":"IF('800111a - Nota. Detalle de CxC.'!$J$243=\"\",\"\",'800111a - Nota. Detalle de CxC.'!$J$243)","v":""},{"$f":"IF('800111a - Nota. Detalle de CxC.'!$J$244=\"\",\"\",'800111a - Nota. Detalle de CxC.'!$J$244)","v":""},{"$f":"IF('800111a - Nota. Detalle de CxC.'!$J$245=\"\",\"\",'800111a - Nota. Detalle de CxC.'!$J$245)","v":""},{"$f":"IF('800111a - Nota. Detalle de CxC.'!$J$246=\"\",\"\",'800111a - Nota. Detalle de CxC.'!$J$246)","v":""},{"$f":"IF('800111a - Nota. Detalle de CxC.'!$J$247=\"\",\"\",'800111a - Nota. Detalle de CxC.'!$J$247)","v":""},{"$f":"IF('800111a - Nota. Detalle de CxC.'!$J$248=\"\",\"\",'800111a - Nota. Detalle de CxC.'!$J$248)","v":""},{"$f":"IF('800111a - Nota. Detalle de CxC.'!$J$249=\"\",\"\",'800111a - Nota. Detalle de CxC.'!$J$249)","v":""},{"$f":"IF('800111a - Nota. Detalle de CxC.'!$J$250=\"\",\"\",'800111a - Nota. Detalle de CxC.'!$J$250)","v":""},{"$f":"IF('800111a - Nota. Detalle de CxC.'!$J$251=\"\",\"\",'800111a - Nota. Detalle de CxC.'!$J$251)","v":""},{"$f":"IF('800111a - Nota. Detalle de CxC.'!$J$252=\"\",\"\",'800111a - Nota. Detalle de CxC.'!$J$252)","v":""},{"$f":"IF('800111a - Nota. Detalle de CxC.'!$J$253=\"\",\"\",'800111a - Nota. Detalle de CxC.'!$J$253)","v":""},{"$f":"IF('800111a - Nota. Detalle de CxC.'!$J$254=\"\",\"\",'800111a - Nota. Detalle de CxC.'!$J$254)","v":""},{"$f":"IF('800111a - Nota. Detalle de CxC.'!$J$255=\"\",\"\",'800111a - Nota. Detalle de CxC.'!$J$255)","v":""},{"$f":"IF('800111a - Nota. Detalle de CxC.'!$J$256=\"\",\"\",'800111a - Nota. Detalle de CxC.'!$J$256)","v":""},{"$f":"IF('800111a - Nota. Detalle de CxC.'!$J$257=\"\",\"\",'800111a - Nota. Detalle de CxC.'!$J$257)","v":""},{"$f":"IF('800111a - Nota. Detalle de CxC.'!$J$258=\"\",\"\",'800111a - Nota. Detalle de CxC.'!$J$258)","v":""},{"$f":"IF('800111a - Nota. Detalle de CxC.'!$J$259=\"\",\"\",'800111a - Nota. Detalle de CxC.'!$J$259)","v":""},{"$f":"IF('800111a - Nota. Detalle de CxC.'!$J$260=\"\",\"\",'800111a - Nota. Detalle de CxC.'!$J$260)","v":""},{"$f":"IF('800111a - Nota. Detalle de CxC.'!$J$261=\"\",\"\",'800111a - Nota. Detalle de CxC.'!$J$261)","v":""},{"$f":"IF('800111a - Nota. Detalle de CxC.'!$J$262=\"\",\"\",'800111a - Nota. Detalle de CxC.'!$J$262)","v":""},{"$f":"IF('800111a - Nota. Detalle de CxC.'!$J$263=\"\",\"\",'800111a - Nota. Detalle de CxC.'!$J$263)","v":""},{"$f":"IF('800111a - Nota. Detalle de CxC.'!$J$264=\"\",\"\",'800111a - Nota. Detalle de CxC.'!$J$264)","v":""},{"$f":"IF('800111a - Nota. Detalle de CxC.'!$J$265=\"\",\"\",'800111a - Nota. Detalle de CxC.'!$J$265)","v":""},{"$f":"IF('800111a - Nota. Detalle de CxC.'!$J$266=\"\",\"\",'800111a - Nota. Detalle de CxC.'!$J$266)","v":""},{"$f":"IF('800111a - Nota. Detalle de CxC.'!$J$267=\"\",\"\",'800111a - Nota. Detalle de CxC.'!$J$267)","v":""},{"$f":"IF('800111a - Nota. Detalle de CxC.'!$J$268=\"\",\"\",'800111a - Nota. Detalle de CxC.'!$J$268)","v":""},{"$f":"IF('800111a - Nota. Detalle de CxC.'!$J$269=\"\",\"\",'800111a - Nota. Detalle de CxC.'!$J$269)","v":""},{"$f":"IF('800111a - Nota. Detalle de CxC.'!$J$270=\"\",\"\",'800111a - Nota. Detalle de CxC.'!$J$270)","v":""},{"$f":"IF('800111a - Nota. Detalle de CxC.'!$J$271=\"\",\"\",'800111a - Nota. Detalle de CxC.'!$J$271)","v":""},{"$f":"IF('800111a - Nota. Detalle de CxC.'!$J$272=\"\",\"\",'800111a - Nota. Detalle de CxC.'!$J$272)","v":""},{"$f":"IF('800111a - Nota. Detalle de CxC.'!$J$273=\"\",\"\",'800111a - Nota. Detalle de CxC.'!$J$273)","v":""},{"$f":"IF('800111a - Nota. Detalle de CxC.'!$J$274=\"\",\"\",'800111a - Nota. Detalle de CxC.'!$J$274)","v":""},{"$f":"IF('800111a - Nota. Detalle de CxC.'!$J$275=\"\",\"\",'800111a - Nota. Detalle de CxC.'!$J$275)","v":""},{"$f":"IF('800111a - Nota. Detalle de CxC.'!$J$276=\"\",\"\",'800111a - Nota. Detalle de CxC.'!$J$276)","v":""},{"$f":"IF('800111a - Nota. Detalle de CxC.'!$J$277=\"\",\"\",'800111a - Nota. Detalle de CxC.'!$J$277)","v":""},{"$f":"IF('800111a - Nota. Detalle de CxC.'!$J$278=\"\",\"\",'800111a - Nota. Detalle de CxC.'!$J$278)","v":""},{"$f":"IF('800111a - Nota. Detalle de CxC.'!$J$279=\"\",\"\",'800111a - Nota. Detalle de CxC.'!$J$279)","v":""},{"$f":"IF('800111a - Nota. Detalle de CxC.'!$J$280=\"\",\"\",'800111a - Nota. Detalle de CxC.'!$J$280)","v":""},{"$f":"IF('800111a - Nota. Detalle de CxC.'!$J$281=\"\",\"\",'800111a - Nota. Detalle de CxC.'!$J$281)","v":""},{"$f":"IF('800111a - Nota. Detalle de CxC.'!$J$282=\"\",\"\",'800111a - Nota. Detalle de CxC.'!$J$282)","v":""},{"$f":"IF('800111a - Nota. Detalle de CxC.'!$J$283=\"\",\"\",'800111a - Nota. Detalle de CxC.'!$J$283)","v":""},{"$f":"IF('800111a - Nota. Detalle de CxC.'!$J$284=\"\",\"\",'800111a - Nota. Detalle de CxC.'!$J$284)","v":""},{"$f":"IF('800111a - Nota. Detalle de CxC.'!$J$285=\"\",\"\",'800111a - Nota. Detalle de CxC.'!$J$285)","v":""},{"$f":"IF('800111a - Nota. Detalle de CxC.'!$J$286=\"\",\"\",'800111a - Nota. Detalle de CxC.'!$J$286)","v":""},{"$f":"IF('800111a - Nota. Detalle de CxC.'!$J$287=\"\",\"\",'800111a - Nota. Detalle de CxC.'!$J$287)","v":""},{"$f":"IF('800111a - Nota. Detalle de CxC.'!$J$288=\"\",\"\",'800111a - Nota. Detalle de CxC.'!$J$288)","v":""},{"$f":"IF('800111a - Nota. Detalle de CxC.'!$J$289=\"\",\"\",'800111a - Nota. Detalle de CxC.'!$J$289)","v":""},{"$f":"IF('800111a - Nota. Detalle de CxC.'!$J$290=\"\",\"\",'800111a - Nota. Detalle de CxC.'!$J$290)","v":""},null,null,null,{"$f":"IF('800111a - Nota. Detalle de CxC.'!$J$294=\"\",\"\",'800111a - Nota. Detalle de CxC.'!$J$294)","v":""},{"$f":"IF('800111a - Nota. Detalle de CxC.'!$J$295=\"\",\"\",'800111a - Nota. Detalle de CxC.'!$J$295)","v":""},{"$f":"IF('800111a - Nota. Detalle de CxC.'!$J$296=\"\",\"\",'800111a - Nota. Detalle de CxC.'!$J$296)","v":""},{"$f":"IF('800111a - Nota. Detalle de CxC.'!$J$297=\"\",\"\",'800111a - Nota. Detalle de CxC.'!$J$297)","v":""},{"$f":"IF('800111a - Nota. Detalle de CxC.'!$J$298=\"\",\"\",'800111a - Nota. Detalle de CxC.'!$J$298)","v":""},{"$f":"IF('800111a - Nota. Detalle de CxC.'!$J$299=\"\",\"\",'800111a - Nota. Detalle de CxC.'!$J$299)","v":""},{"$f":"IF('800111a - Nota. Detalle de CxC.'!$J$300=\"\",\"\",'800111a - Nota. Detalle de CxC.'!$J$300)","v":""},{"$f":"IF('800111a - Nota. Detalle de CxC.'!$J$301=\"\",\"\",'800111a - Nota. Detalle de CxC.'!$J$301)","v":""},{"$f":"IF('800111a - Nota. Detalle de CxC.'!$J$302=\"\",\"\",'800111a - Nota. Detalle de CxC.'!$J$302)","v":""},{"$f":"IF('800111a - Nota. Detalle de CxC.'!$J$303=\"\",\"\",'800111a - Nota. Detalle de CxC.'!$J$303)","v":""},{"$f":"IF('800111a - Nota. Detalle de CxC.'!$J$304=\"\",\"\",'800111a - Nota. Detalle de CxC.'!$J$304)","v":""},{"$f":"IF('800111a - Nota. Detalle de CxC.'!$J$305=\"\",\"\",'800111a - Nota. Detalle de CxC.'!$J$305)","v":""},{"$f":"IF('800111a - Nota. Detalle de CxC.'!$J$306=\"\",\"\",'800111a - Nota. Detalle de CxC.'!$J$306)","v":""},{"$f":"IF('800111a - Nota. Detalle de CxC.'!$J$307=\"\",\"\",'800111a - Nota. Detalle de CxC.'!$J$307)","v":""},{"$f":"IF('800111a - Nota. Detalle de CxC.'!$J$308=\"\",\"\",'800111a - Nota. Detalle de CxC.'!$J$308)","v":""},{"$f":"IF('800111a - Nota. Detalle de CxC.'!$J$309=\"\",\"\",'800111a - Nota. Detalle de CxC.'!$J$309)","v":""},{"$f":"IF('800111a - Nota. Detalle de CxC.'!$J$310=\"\",\"\",'800111a - Nota. Detalle de CxC.'!$J$310)","v":""},{"$f":"IF('800111a - Nota. Detalle de CxC.'!$J$311=\"\",\"\",'800111a - Nota. Detalle de CxC.'!$J$311)","v":""},{"$f":"IF('800111a - Nota. Detalle de CxC.'!$J$312=\"\",\"\",'800111a - Nota. Detalle de CxC.'!$J$312)","v":""},{"$f":"IF('800111a - Nota. Detalle de CxC.'!$J$313=\"\",\"\",'800111a - Nota. Detalle de CxC.'!$J$313)","v":""},{"$f":"IF('800111a - Nota. Detalle de CxC.'!$J$314=\"\",\"\",'800111a - Nota. Detalle de CxC.'!$J$314)","v":""},{"$f":"IF('800111a - Nota. Detalle de CxC.'!$J$315=\"\",\"\",'800111a - Nota. Detalle de CxC.'!$J$315)","v":""},{"$f":"IF('800111a - Nota. Detalle de CxC.'!$J$316=\"\",\"\",'800111a - Nota. Detalle de CxC.'!$J$316)","v":""},{"$f":"IF('800111a - Nota. Detalle de CxC.'!$J$317=\"\",\"\",'800111a - Nota. Detalle de CxC.'!$J$317)","v":""},{"$f":"IF('800111a - Nota. Detalle de CxC.'!$J$318=\"\",\"\",'800111a - Nota. Detalle de CxC.'!$J$318)","v":""},{"$f":"IF('800111a - Nota. Detalle de CxC.'!$J$319=\"\",\"\",'800111a - Nota. Detalle de CxC.'!$J$319)","v":""},{"$f":"IF('800111a - Nota. Detalle de CxC.'!$J$320=\"\",\"\",'800111a - Nota. Detalle de CxC.'!$J$320)","v":""},{"$f":"IF('800111a - Nota. Detalle de CxC.'!$J$321=\"\",\"\",'800111a - Nota. Detalle de CxC.'!$J$321)","v":""},{"$f":"IF('800111a - Nota. Detalle de CxC.'!$J$322=\"\",\"\",'800111a - Nota. Detalle de CxC.'!$J$322)","v":""},{"$f":"IF('800111a - Nota. Detalle de CxC.'!$J$323=\"\",\"\",'800111a - Nota. Detalle de CxC.'!$J$323)","v":""},{"$f":"IF('800111a - Nota. Detalle de CxC.'!$J$324=\"\",\"\",'800111a - Nota. Detalle de CxC.'!$J$324)","v":""},{"$f":"IF('800111a - Nota. Detalle de CxC.'!$J$325=\"\",\"\",'800111a - Nota. Detalle de CxC.'!$J$325)","v":""},{"$f":"IF('800111a - Nota. Detalle de CxC.'!$J$326=\"\",\"\",'800111a - Nota. Detalle de CxC.'!$J$326)","v":""},{"$f":"IF('800111a - Nota. Detalle de CxC.'!$J$327=\"\",\"\",'800111a - Nota. Detalle de CxC.'!$J$327)","v":""},{"$f":"IF('800111a - Nota. Detalle de CxC.'!$J$328=\"\",\"\",'800111a - Nota. Detalle de CxC.'!$J$328)","v":""},{"$f":"IF('800111a - Nota. Detalle de CxC.'!$J$329=\"\",\"\",'800111a - Nota. Detalle de CxC.'!$J$329)","v":""},{"$f":"IF('800111a - Nota. Detalle de CxC.'!$J$330=\"\",\"\",'800111a - Nota. Detalle de CxC.'!$J$330)","v":""},{"$f":"IF('800111a - Nota. Detalle de CxC.'!$J$331=\"\",\"\",'800111a - Nota. Detalle de CxC.'!$J$331)","v":""},{"$f":"IF('800111a - Nota. Detalle de CxC.'!$J$332=\"\",\"\",'800111a - Nota. Detalle de CxC.'!$J$332)","v":""},{"$f":"IF('800111a - Nota. Detalle de CxC.'!$J$333=\"\",\"\",'800111a - Nota. Detalle de CxC.'!$J$333)","v":""},{"$f":"IF('800111a - Nota. Detalle de CxC.'!$J$334=\"\",\"\",'800111a - Nota. Detalle de CxC.'!$J$334)","v":""},{"$f":"IF('800111a - Nota. Detalle de CxC.'!$J$335=\"\",\"\",'800111a - Nota. Detalle de CxC.'!$J$335)","v":""},{"$f":"IF('800111a - Nota. Detalle de CxC.'!$J$336=\"\",\"\",'800111a - Nota. Detalle de CxC.'!$J$336)","v":""},{"$f":"IF('800111a - Nota. Detalle de CxC.'!$J$337=\"\",\"\",'800111a - Nota. Detalle de CxC.'!$J$337)","v":""},{"$f":"IF('800111a - Nota. Detalle de CxC.'!$J$338=\"\",\"\",'800111a - Nota. Detalle de CxC.'!$J$338)","v":""},{"$f":"IF('800111a - Nota. Detalle de CxC.'!$J$339=\"\",\"\",'800111a - Nota. Detalle de CxC.'!$J$339)","v":""},{"$f":"IF('800111a - Nota. Detalle de CxC.'!$J$340=\"\",\"\",'800111a - Nota. Detalle de CxC.'!$J$340)","v":""},{"$f":"IF('800111a - Nota. Detalle de CxC.'!$J$341=\"\",\"\",'800111a - Nota. Detalle de CxC.'!$J$341)","v":""},{"$f":"IF('800111a - Nota. Detalle de CxC.'!$J$342=\"\",\"\",'800111a - Nota. Detalle de CxC.'!$J$342)","v":""},{"$f":"IF('800111a - Nota. Detalle de CxC.'!$J$343=\"\",\"\",'800111a - Nota. Detalle de CxC.'!$J$343)","v":""}]
[null,"1;2","co-svsp-core:OtrosNombresDeudorCxC","Otros nombres deudor",null,null,{"$f":"IF('800111a - Nota. Detalle de CxC.'!$K$188=\"\",\"\",'800111a - Nota. Detalle de CxC.'!$K$188)","v":""},{"$f":"IF('800111a - Nota. Detalle de CxC.'!$K$189=\"\",\"\",'800111a - Nota. Detalle de CxC.'!$K$189)","v":""},{"$f":"IF('800111a - Nota. Detalle de CxC.'!$K$190=\"\",\"\",'800111a - Nota. Detalle de CxC.'!$K$190)","v":""},{"$f":"IF('800111a - Nota. Detalle de CxC.'!$K$191=\"\",\"\",'800111a - Nota. Detalle de CxC.'!$K$191)","v":""},{"$f":"IF('800111a - Nota. Detalle de CxC.'!$K$192=\"\",\"\",'800111a - Nota. Detalle de CxC.'!$K$192)","v":""},{"$f":"IF('800111a - Nota. Detalle de CxC.'!$K$193=\"\",\"\",'800111a - Nota. Detalle de CxC.'!$K$193)","v":""},{"$f":"IF('800111a - Nota. Detalle de CxC.'!$K$194=\"\",\"\",'800111a - Nota. Detalle de CxC.'!$K$194)","v":""},{"$f":"IF('800111a - Nota. Detalle de CxC.'!$K$195=\"\",\"\",'800111a - Nota. Detalle de CxC.'!$K$195)","v":""},{"$f":"IF('800111a - Nota. Detalle de CxC.'!$K$196=\"\",\"\",'800111a - Nota. Detalle de CxC.'!$K$196)","v":""},{"$f":"IF('800111a - Nota. Detalle de CxC.'!$K$197=\"\",\"\",'800111a - Nota. Detalle de CxC.'!$K$197)","v":""},{"$f":"IF('800111a - Nota. Detalle de CxC.'!$K$198=\"\",\"\",'800111a - Nota. Detalle de CxC.'!$K$198)","v":""},{"$f":"IF('800111a - Nota. Detalle de CxC.'!$K$199=\"\",\"\",'800111a - Nota. Detalle de CxC.'!$K$199)","v":""},{"$f":"IF('800111a - Nota. Detalle de CxC.'!$K$200=\"\",\"\",'800111a - Nota. Detalle de CxC.'!$K$200)","v":""},{"$f":"IF('800111a - Nota. Detalle de CxC.'!$K$201=\"\",\"\",'800111a - Nota. Detalle de CxC.'!$K$201)","v":""},{"$f":"IF('800111a - Nota. Detalle de CxC.'!$K$202=\"\",\"\",'800111a - Nota. Detalle de CxC.'!$K$202)","v":""},{"$f":"IF('800111a - Nota. Detalle de CxC.'!$K$203=\"\",\"\",'800111a - Nota. Detalle de CxC.'!$K$203)","v":""},{"$f":"IF('800111a - Nota. Detalle de CxC.'!$K$204=\"\",\"\",'800111a - Nota. Detalle de CxC.'!$K$204)","v":""},{"$f":"IF('800111a - Nota. Detalle de CxC.'!$K$205=\"\",\"\",'800111a - Nota. Detalle de CxC.'!$K$205)","v":""},{"$f":"IF('800111a - Nota. Detalle de CxC.'!$K$206=\"\",\"\",'800111a - Nota. Detalle de CxC.'!$K$206)","v":""},{"$f":"IF('800111a - Nota. Detalle de CxC.'!$K$207=\"\",\"\",'800111a - Nota. Detalle de CxC.'!$K$207)","v":""},{"$f":"IF('800111a - Nota. Detalle de CxC.'!$K$208=\"\",\"\",'800111a - Nota. Detalle de CxC.'!$K$208)","v":""},{"$f":"IF('800111a - Nota. Detalle de CxC.'!$K$209=\"\",\"\",'800111a - Nota. Detalle de CxC.'!$K$209)","v":""},{"$f":"IF('800111a - Nota. Detalle de CxC.'!$K$210=\"\",\"\",'800111a - Nota. Detalle de CxC.'!$K$210)","v":""},{"$f":"IF('800111a - Nota. Detalle de CxC.'!$K$211=\"\",\"\",'800111a - Nota. Detalle de CxC.'!$K$211)","v":""},{"$f":"IF('800111a - Nota. Detalle de CxC.'!$K$212=\"\",\"\",'800111a - Nota. Detalle de CxC.'!$K$212)","v":""},{"$f":"IF('800111a - Nota. Detalle de CxC.'!$K$213=\"\",\"\",'800111a - Nota. Detalle de CxC.'!$K$213)","v":""},{"$f":"IF('800111a - Nota. Detalle de CxC.'!$K$214=\"\",\"\",'800111a - Nota. Detalle de CxC.'!$K$214)","v":""},{"$f":"IF('800111a - Nota. Detalle de CxC.'!$K$215=\"\",\"\",'800111a - Nota. Detalle de CxC.'!$K$215)","v":""},{"$f":"IF('800111a - Nota. Detalle de CxC.'!$K$216=\"\",\"\",'800111a - Nota. Detalle de CxC.'!$K$216)","v":""},{"$f":"IF('800111a - Nota. Detalle de CxC.'!$K$217=\"\",\"\",'800111a - Nota. Detalle de CxC.'!$K$217)","v":""},{"$f":"IF('800111a - Nota. Detalle de CxC.'!$K$218=\"\",\"\",'800111a - Nota. Detalle de CxC.'!$K$218)","v":""},{"$f":"IF('800111a - Nota. Detalle de CxC.'!$K$219=\"\",\"\",'800111a - Nota. Detalle de CxC.'!$K$219)","v":""},{"$f":"IF('800111a - Nota. Detalle de CxC.'!$K$220=\"\",\"\",'800111a - Nota. Detalle de CxC.'!$K$220)","v":""},{"$f":"IF('800111a - Nota. Detalle de CxC.'!$K$221=\"\",\"\",'800111a - Nota. Detalle de CxC.'!$K$221)","v":""},{"$f":"IF('800111a - Nota. Detalle de CxC.'!$K$222=\"\",\"\",'800111a - Nota. Detalle de CxC.'!$K$222)","v":""},{"$f":"IF('800111a - Nota. Detalle de CxC.'!$K$223=\"\",\"\",'800111a - Nota. Detalle de CxC.'!$K$223)","v":""},{"$f":"IF('800111a - Nota. Detalle de CxC.'!$K$224=\"\",\"\",'800111a - Nota. Detalle de CxC.'!$K$224)","v":""},{"$f":"IF('800111a - Nota. Detalle de CxC.'!$K$225=\"\",\"\",'800111a - Nota. Detalle de CxC.'!$K$225)","v":""},{"$f":"IF('800111a - Nota. Detalle de CxC.'!$K$226=\"\",\"\",'800111a - Nota. Detalle de CxC.'!$K$226)","v":""},{"$f":"IF('800111a - Nota. Detalle de CxC.'!$K$227=\"\",\"\",'800111a - Nota. Detalle de CxC.'!$K$227)","v":""},{"$f":"IF('800111a - Nota. Detalle de CxC.'!$K$228=\"\",\"\",'800111a - Nota. Detalle de CxC.'!$K$228)","v":""},{"$f":"IF('800111a - Nota. Detalle de CxC.'!$K$229=\"\",\"\",'800111a - Nota. Detalle de CxC.'!$K$229)","v":""},{"$f":"IF('800111a - Nota. Detalle de CxC.'!$K$230=\"\",\"\",'800111a - Nota. Detalle de CxC.'!$K$230)","v":""},{"$f":"IF('800111a - Nota. Detalle de CxC.'!$K$231=\"\",\"\",'800111a - Nota. Detalle de CxC.'!$K$231)","v":""},{"$f":"IF('800111a - Nota. Detalle de CxC.'!$K$232=\"\",\"\",'800111a - Nota. Detalle de CxC.'!$K$232)","v":""},{"$f":"IF('800111a - Nota. Detalle de CxC.'!$K$233=\"\",\"\",'800111a - Nota. Detalle de CxC.'!$K$233)","v":""},{"$f":"IF('800111a - Nota. Detalle de CxC.'!$K$234=\"\",\"\",'800111a - Nota. Detalle de CxC.'!$K$234)","v":""},{"$f":"IF('800111a - Nota. Detalle de CxC.'!$K$235=\"\",\"\",'800111a - Nota. Detalle de CxC.'!$K$235)","v":""},{"$f":"IF('800111a - Nota. Detalle de CxC.'!$K$236=\"\",\"\",'800111a - Nota. Detalle de CxC.'!$K$236)","v":""},{"$f":"IF('800111a - Nota. Detalle de CxC.'!$K$237=\"\",\"\",'800111a - Nota. Detalle de CxC.'!$K$237)","v":""},null,null,null,{"$f":"IF('800111a - Nota. Detalle de CxC.'!$K$241=\"\",\"\",'800111a - Nota. Detalle de CxC.'!$K$241)","v":""},{"$f":"IF('800111a - Nota. Detalle de CxC.'!$K$242=\"\",\"\",'800111a - Nota. Detalle de CxC.'!$K$242)","v":""},{"$f":"IF('800111a - Nota. Detalle de CxC.'!$K$243=\"\",\"\",'800111a - Nota. Detalle de CxC.'!$K$243)","v":""},{"$f":"IF('800111a - Nota. Detalle de CxC.'!$K$244=\"\",\"\",'800111a - Nota. Detalle de CxC.'!$K$244)","v":""},{"$f":"IF('800111a - Nota. Detalle de CxC.'!$K$245=\"\",\"\",'800111a - Nota. Detalle de CxC.'!$K$245)","v":""},{"$f":"IF('800111a - Nota. Detalle de CxC.'!$K$246=\"\",\"\",'800111a - Nota. Detalle de CxC.'!$K$246)","v":""},{"$f":"IF('800111a - Nota. Detalle de CxC.'!$K$247=\"\",\"\",'800111a - Nota. Detalle de CxC.'!$K$247)","v":""},{"$f":"IF('800111a - Nota. Detalle de CxC.'!$K$248=\"\",\"\",'800111a - Nota. Detalle de CxC.'!$K$248)","v":""},{"$f":"IF('800111a - Nota. Detalle de CxC.'!$K$249=\"\",\"\",'800111a - Nota. Detalle de CxC.'!$K$249)","v":""},{"$f":"IF('800111a - Nota. Detalle de CxC.'!$K$250=\"\",\"\",'800111a - Nota. Detalle de CxC.'!$K$250)","v":""},{"$f":"IF('800111a - Nota. Detalle de CxC.'!$K$251=\"\",\"\",'800111a - Nota. Detalle de CxC.'!$K$251)","v":""},{"$f":"IF('800111a - Nota. Detalle de CxC.'!$K$252=\"\",\"\",'800111a - Nota. Detalle de CxC.'!$K$252)","v":""},{"$f":"IF('800111a - Nota. Detalle de CxC.'!$K$253=\"\",\"\",'800111a - Nota. Detalle de CxC.'!$K$253)","v":""},{"$f":"IF('800111a - Nota. Detalle de CxC.'!$K$254=\"\",\"\",'800111a - Nota. Detalle de CxC.'!$K$254)","v":""},{"$f":"IF('800111a - Nota. Detalle de CxC.'!$K$255=\"\",\"\",'800111a - Nota. Detalle de CxC.'!$K$255)","v":""},{"$f":"IF('800111a - Nota. Detalle de CxC.'!$K$256=\"\",\"\",'800111a - Nota. Detalle de CxC.'!$K$256)","v":""},{"$f":"IF('800111a - Nota. Detalle de CxC.'!$K$257=\"\",\"\",'800111a - Nota. Detalle de CxC.'!$K$257)","v":""},{"$f":"IF('800111a - Nota. Detalle de CxC.'!$K$258=\"\",\"\",'800111a - Nota. Detalle de CxC.'!$K$258)","v":""},{"$f":"IF('800111a - Nota. Detalle de CxC.'!$K$259=\"\",\"\",'800111a - Nota. Detalle de CxC.'!$K$259)","v":""},{"$f":"IF('800111a - Nota. Detalle de CxC.'!$K$260=\"\",\"\",'800111a - Nota. Detalle de CxC.'!$K$260)","v":""},{"$f":"IF('800111a - Nota. Detalle de CxC.'!$K$261=\"\",\"\",'800111a - Nota. Detalle de CxC.'!$K$261)","v":""},{"$f":"IF('800111a - Nota. Detalle de CxC.'!$K$262=\"\",\"\",'800111a - Nota. Detalle de CxC.'!$K$262)","v":""},{"$f":"IF('800111a - Nota. Detalle de CxC.'!$K$263=\"\",\"\",'800111a - Nota. Detalle de CxC.'!$K$263)","v":""},{"$f":"IF('800111a - Nota. Detalle de CxC.'!$K$264=\"\",\"\",'800111a - Nota. Detalle de CxC.'!$K$264)","v":""},{"$f":"IF('800111a - Nota. Detalle de CxC.'!$K$265=\"\",\"\",'800111a - Nota. Detalle de CxC.'!$K$265)","v":""},{"$f":"IF('800111a - Nota. Detalle de CxC.'!$K$266=\"\",\"\",'800111a - Nota. Detalle de CxC.'!$K$266)","v":""},{"$f":"IF('800111a - Nota. Detalle de CxC.'!$K$267=\"\",\"\",'800111a - Nota. Detalle de CxC.'!$K$267)","v":""},{"$f":"IF('800111a - Nota. Detalle de CxC.'!$K$268=\"\",\"\",'800111a - Nota. Detalle de CxC.'!$K$268)","v":""},{"$f":"IF('800111a - Nota. Detalle de CxC.'!$K$269=\"\",\"\",'800111a - Nota. Detalle de CxC.'!$K$269)","v":""},{"$f":"IF('800111a - Nota. Detalle de CxC.'!$K$270=\"\",\"\",'800111a - Nota. Detalle de CxC.'!$K$270)","v":""},{"$f":"IF('800111a - Nota. Detalle de CxC.'!$K$271=\"\",\"\",'800111a - Nota. Detalle de CxC.'!$K$271)","v":""},{"$f":"IF('800111a - Nota. Detalle de CxC.'!$K$272=\"\",\"\",'800111a - Nota. Detalle de CxC.'!$K$272)","v":""},{"$f":"IF('800111a - Nota. Detalle de CxC.'!$K$273=\"\",\"\",'800111a - Nota. Detalle de CxC.'!$K$273)","v":""},{"$f":"IF('800111a - Nota. Detalle de CxC.'!$K$274=\"\",\"\",'800111a - Nota. Detalle de CxC.'!$K$274)","v":""},{"$f":"IF('800111a - Nota. Detalle de CxC.'!$K$275=\"\",\"\",'800111a - Nota. Detalle de CxC.'!$K$275)","v":""},{"$f":"IF('800111a - Nota. Detalle de CxC.'!$K$276=\"\",\"\",'800111a - Nota. Detalle de CxC.'!$K$276)","v":""},{"$f":"IF('800111a - Nota. Detalle de CxC.'!$K$277=\"\",\"\",'800111a - Nota. Detalle de CxC.'!$K$277)","v":""},{"$f":"IF('800111a - Nota. Detalle de CxC.'!$K$278=\"\",\"\",'800111a - Nota. Detalle de CxC.'!$K$278)","v":""},{"$f":"IF('800111a - Nota. Detalle de CxC.'!$K$279=\"\",\"\",'800111a - Nota. Detalle de CxC.'!$K$279)","v":""},{"$f":"IF('800111a - Nota. Detalle de CxC.'!$K$280=\"\",\"\",'800111a - Nota. Detalle de CxC.'!$K$280)","v":""},{"$f":"IF('800111a - Nota. Detalle de CxC.'!$K$281=\"\",\"\",'800111a - Nota. Detalle de CxC.'!$K$281)","v":""},{"$f":"IF('800111a - Nota. Detalle de CxC.'!$K$282=\"\",\"\",'800111a - Nota. Detalle de CxC.'!$K$282)","v":""},{"$f":"IF('800111a - Nota. Detalle de CxC.'!$K$283=\"\",\"\",'800111a - Nota. Detalle de CxC.'!$K$283)","v":""},{"$f":"IF('800111a - Nota. Detalle de CxC.'!$K$284=\"\",\"\",'800111a - Nota. Detalle de CxC.'!$K$284)","v":""},{"$f":"IF('800111a - Nota. Detalle de CxC.'!$K$285=\"\",\"\",'800111a - Nota. Detalle de CxC.'!$K$285)","v":""},{"$f":"IF('800111a - Nota. Detalle de CxC.'!$K$286=\"\",\"\",'800111a - Nota. Detalle de CxC.'!$K$286)","v":""},{"$f":"IF('800111a - Nota. Detalle de CxC.'!$K$287=\"\",\"\",'800111a - Nota. Detalle de CxC.'!$K$287)","v":""},{"$f":"IF('800111a - Nota. Detalle de CxC.'!$K$288=\"\",\"\",'800111a - Nota. Detalle de CxC.'!$K$288)","v":""},{"$f":"IF('800111a - Nota. Detalle de CxC.'!$K$289=\"\",\"\",'800111a - Nota. Detalle de CxC.'!$K$289)","v":""},{"$f":"IF('800111a - Nota. Detalle de CxC.'!$K$290=\"\",\"\",'800111a - Nota. Detalle de CxC.'!$K$290)","v":""},null,null,null,{"$f":"IF('800111a - Nota. Detalle de CxC.'!$K$294=\"\",\"\",'800111a - Nota. Detalle de CxC.'!$K$294)","v":""},{"$f":"IF('800111a - Nota. Detalle de CxC.'!$K$295=\"\",\"\",'800111a - Nota. Detalle de CxC.'!$K$295)","v":""},{"$f":"IF('800111a - Nota. Detalle de CxC.'!$K$296=\"\",\"\",'800111a - Nota. Detalle de CxC.'!$K$296)","v":""},{"$f":"IF('800111a - Nota. Detalle de CxC.'!$K$297=\"\",\"\",'800111a - Nota. Detalle de CxC.'!$K$297)","v":""},{"$f":"IF('800111a - Nota. Detalle de CxC.'!$K$298=\"\",\"\",'800111a - Nota. Detalle de CxC.'!$K$298)","v":""},{"$f":"IF('800111a - Nota. Detalle de CxC.'!$K$299=\"\",\"\",'800111a - Nota. Detalle de CxC.'!$K$299)","v":""},{"$f":"IF('800111a - Nota. Detalle de CxC.'!$K$300=\"\",\"\",'800111a - Nota. Detalle de CxC.'!$K$300)","v":""},{"$f":"IF('800111a - Nota. Detalle de CxC.'!$K$301=\"\",\"\",'800111a - Nota. Detalle de CxC.'!$K$301)","v":""},{"$f":"IF('800111a - Nota. Detalle de CxC.'!$K$302=\"\",\"\",'800111a - Nota. Detalle de CxC.'!$K$302)","v":""},{"$f":"IF('800111a - Nota. Detalle de CxC.'!$K$303=\"\",\"\",'800111a - Nota. Detalle de CxC.'!$K$303)","v":""},{"$f":"IF('800111a - Nota. Detalle de CxC.'!$K$304=\"\",\"\",'800111a - Nota. Detalle de CxC.'!$K$304)","v":""},{"$f":"IF('800111a - Nota. Detalle de CxC.'!$K$305=\"\",\"\",'800111a - Nota. Detalle de CxC.'!$K$305)","v":""},{"$f":"IF('800111a - Nota. Detalle de CxC.'!$K$306=\"\",\"\",'800111a - Nota. Detalle de CxC.'!$K$306)","v":""},{"$f":"IF('800111a - Nota. Detalle de CxC.'!$K$307=\"\",\"\",'800111a - Nota. Detalle de CxC.'!$K$307)","v":""},{"$f":"IF('800111a - Nota. Detalle de CxC.'!$K$308=\"\",\"\",'800111a - Nota. Detalle de CxC.'!$K$308)","v":""},{"$f":"IF('800111a - Nota. Detalle de CxC.'!$K$309=\"\",\"\",'800111a - Nota. Detalle de CxC.'!$K$309)","v":""},{"$f":"IF('800111a - Nota. Detalle de CxC.'!$K$310=\"\",\"\",'800111a - Nota. Detalle de CxC.'!$K$310)","v":""},{"$f":"IF('800111a - Nota. Detalle de CxC.'!$K$311=\"\",\"\",'800111a - Nota. Detalle de CxC.'!$K$311)","v":""},{"$f":"IF('800111a - Nota. Detalle de CxC.'!$K$312=\"\",\"\",'800111a - Nota. Detalle de CxC.'!$K$312)","v":""},{"$f":"IF('800111a - Nota. Detalle de CxC.'!$K$313=\"\",\"\",'800111a - Nota. Detalle de CxC.'!$K$313)","v":""},{"$f":"IF('800111a - Nota. Detalle de CxC.'!$K$314=\"\",\"\",'800111a - Nota. Detalle de CxC.'!$K$314)","v":""},{"$f":"IF('800111a - Nota. Detalle de CxC.'!$K$315=\"\",\"\",'800111a - Nota. Detalle de CxC.'!$K$315)","v":""},{"$f":"IF('800111a - Nota. Detalle de CxC.'!$K$316=\"\",\"\",'800111a - Nota. Detalle de CxC.'!$K$316)","v":""},{"$f":"IF('800111a - Nota. Detalle de CxC.'!$K$317=\"\",\"\",'800111a - Nota. Detalle de CxC.'!$K$317)","v":""},{"$f":"IF('800111a - Nota. Detalle de CxC.'!$K$318=\"\",\"\",'800111a - Nota. Detalle de CxC.'!$K$318)","v":""},{"$f":"IF('800111a - Nota. Detalle de CxC.'!$K$319=\"\",\"\",'800111a - Nota. Detalle de CxC.'!$K$319)","v":""},{"$f":"IF('800111a - Nota. Detalle de CxC.'!$K$320=\"\",\"\",'800111a - Nota. Detalle de CxC.'!$K$320)","v":""},{"$f":"IF('800111a - Nota. Detalle de CxC.'!$K$321=\"\",\"\",'800111a - Nota. Detalle de CxC.'!$K$321)","v":""},{"$f":"IF('800111a - Nota. Detalle de CxC.'!$K$322=\"\",\"\",'800111a - Nota. Detalle de CxC.'!$K$322)","v":""},{"$f":"IF('800111a - Nota. Detalle de CxC.'!$K$323=\"\",\"\",'800111a - Nota. Detalle de CxC.'!$K$323)","v":""},{"$f":"IF('800111a - Nota. Detalle de CxC.'!$K$324=\"\",\"\",'800111a - Nota. Detalle de CxC.'!$K$324)","v":""},{"$f":"IF('800111a - Nota. Detalle de CxC.'!$K$325=\"\",\"\",'800111a - Nota. Detalle de CxC.'!$K$325)","v":""},{"$f":"IF('800111a - Nota. Detalle de CxC.'!$K$326=\"\",\"\",'800111a - Nota. Detalle de CxC.'!$K$326)","v":""},{"$f":"IF('800111a - Nota. Detalle de CxC.'!$K$327=\"\",\"\",'800111a - Nota. Detalle de CxC.'!$K$327)","v":""},{"$f":"IF('800111a - Nota. Detalle de CxC.'!$K$328=\"\",\"\",'800111a - Nota. Detalle de CxC.'!$K$328)","v":""},{"$f":"IF('800111a - Nota. Detalle de CxC.'!$K$329=\"\",\"\",'800111a - Nota. Detalle de CxC.'!$K$329)","v":""},{"$f":"IF('800111a - Nota. Detalle de CxC.'!$K$330=\"\",\"\",'800111a - Nota. Detalle de CxC.'!$K$330)","v":""},{"$f":"IF('800111a - Nota. Detalle de CxC.'!$K$331=\"\",\"\",'800111a - Nota. Detalle de CxC.'!$K$331)","v":""},{"$f":"IF('800111a - Nota. Detalle de CxC.'!$K$332=\"\",\"\",'800111a - Nota. Detalle de CxC.'!$K$332)","v":""},{"$f":"IF('800111a - Nota. Detalle de CxC.'!$K$333=\"\",\"\",'800111a - Nota. Detalle de CxC.'!$K$333)","v":""},{"$f":"IF('800111a - Nota. Detalle de CxC.'!$K$334=\"\",\"\",'800111a - Nota. Detalle de CxC.'!$K$334)","v":""},{"$f":"IF('800111a - Nota. Detalle de CxC.'!$K$335=\"\",\"\",'800111a - Nota. Detalle de CxC.'!$K$335)","v":""},{"$f":"IF('800111a - Nota. Detalle de CxC.'!$K$336=\"\",\"\",'800111a - Nota. Detalle de CxC.'!$K$336)","v":""},{"$f":"IF('800111a - Nota. Detalle de CxC.'!$K$337=\"\",\"\",'800111a - Nota. Detalle de CxC.'!$K$337)","v":""},{"$f":"IF('800111a - Nota. Detalle de CxC.'!$K$338=\"\",\"\",'800111a - Nota. Detalle de CxC.'!$K$338)","v":""},{"$f":"IF('800111a - Nota. Detalle de CxC.'!$K$339=\"\",\"\",'800111a - Nota. Detalle de CxC.'!$K$339)","v":""},{"$f":"IF('800111a - Nota. Detalle de CxC.'!$K$340=\"\",\"\",'800111a - Nota. Detalle de CxC.'!$K$340)","v":""},{"$f":"IF('800111a - Nota. Detalle de CxC.'!$K$341=\"\",\"\",'800111a - Nota. Detalle de CxC.'!$K$341)","v":""},{"$f":"IF('800111a - Nota. Detalle de CxC.'!$K$342=\"\",\"\",'800111a - Nota. Detalle de CxC.'!$K$342)","v":""},{"$f":"IF('800111a - Nota. Detalle de CxC.'!$K$343=\"\",\"\",'800111a - Nota. Detalle de CxC.'!$K$343)","v":""}]
[null,"1;2","co-svsp-core:RazonSocialDeudorCxC","Razón Social deudor",null,null,{"$f":"IF('800111a - Nota. Detalle de CxC.'!$L$188=\"\",\"\",'800111a - Nota. Detalle de CxC.'!$L$188)","v":""},{"$f":"IF('800111a - Nota. Detalle de CxC.'!$L$189=\"\",\"\",'800111a - Nota. Detalle de CxC.'!$L$189)","v":""},{"$f":"IF('800111a - Nota. Detalle de CxC.'!$L$190=\"\",\"\",'800111a - Nota. Detalle de CxC.'!$L$190)","v":""},{"$f":"IF('800111a - Nota. Detalle de CxC.'!$L$191=\"\",\"\",'800111a - Nota. Detalle de CxC.'!$L$191)","v":""},{"$f":"IF('800111a - Nota. Detalle de CxC.'!$L$192=\"\",\"\",'800111a - Nota. Detalle de CxC.'!$L$192)","v":""},{"$f":"IF('800111a - Nota. Detalle de CxC.'!$L$193=\"\",\"\",'800111a - Nota. Detalle de CxC.'!$L$193)","v":""},{"$f":"IF('800111a - Nota. Detalle de CxC.'!$L$194=\"\",\"\",'800111a - Nota. Detalle de CxC.'!$L$194)","v":""},{"$f":"IF('800111a - Nota. Detalle de CxC.'!$L$195=\"\",\"\",'800111a - Nota. Detalle de CxC.'!$L$195)","v":""},{"$f":"IF('800111a - Nota. Detalle de CxC.'!$L$196=\"\",\"\",'800111a - Nota. Detalle de CxC.'!$L$196)","v":""},{"$f":"IF('800111a - Nota. Detalle de CxC.'!$L$197=\"\",\"\",'800111a - Nota. Detalle de CxC.'!$L$197)","v":""},{"$f":"IF('800111a - Nota. Detalle de CxC.'!$L$198=\"\",\"\",'800111a - Nota. Detalle de CxC.'!$L$198)","v":""},{"$f":"IF('800111a - Nota. Detalle de CxC.'!$L$199=\"\",\"\",'800111a - Nota. Detalle de CxC.'!$L$199)","v":""},{"$f":"IF('800111a - Nota. Detalle de CxC.'!$L$200=\"\",\"\",'800111a - Nota. Detalle de CxC.'!$L$200)","v":""},{"$f":"IF('800111a - Nota. Detalle de CxC.'!$L$201=\"\",\"\",'800111a - Nota. Detalle de CxC.'!$L$201)","v":""},{"$f":"IF('800111a - Nota. Detalle de CxC.'!$L$202=\"\",\"\",'800111a - Nota. Detalle de CxC.'!$L$202)","v":""},{"$f":"IF('800111a - Nota. Detalle de CxC.'!$L$203=\"\",\"\",'800111a - Nota. Detalle de CxC.'!$L$203)","v":""},{"$f":"IF('800111a - Nota. Detalle de CxC.'!$L$204=\"\",\"\",'800111a - Nota. Detalle de CxC.'!$L$204)","v":""},{"$f":"IF('800111a - Nota. Detalle de CxC.'!$L$205=\"\",\"\",'800111a - Nota. Detalle de CxC.'!$L$205)","v":""},{"$f":"IF('800111a - Nota. Detalle de CxC.'!$L$206=\"\",\"\",'800111a - Nota. Detalle de CxC.'!$L$206)","v":""},{"$f":"IF('800111a - Nota. Detalle de CxC.'!$L$207=\"\",\"\",'800111a - Nota. Detalle de CxC.'!$L$207)","v":""},{"$f":"IF('800111a - Nota. Detalle de CxC.'!$L$208=\"\",\"\",'800111a - Nota. Detalle de CxC.'!$L$208)","v":""},{"$f":"IF('800111a - Nota. Detalle de CxC.'!$L$209=\"\",\"\",'800111a - Nota. Detalle de CxC.'!$L$209)","v":""},{"$f":"IF('800111a - Nota. Detalle de CxC.'!$L$210=\"\",\"\",'800111a - Nota. Detalle de CxC.'!$L$210)","v":""},{"$f":"IF('800111a - Nota. Detalle de CxC.'!$L$211=\"\",\"\",'800111a - Nota. Detalle de CxC.'!$L$211)","v":""},{"$f":"IF('800111a - Nota. Detalle de CxC.'!$L$212=\"\",\"\",'800111a - Nota. Detalle de CxC.'!$L$212)","v":""},{"$f":"IF('800111a - Nota. Detalle de CxC.'!$L$213=\"\",\"\",'800111a - Nota. Detalle de CxC.'!$L$213)","v":""},{"$f":"IF('800111a - Nota. Detalle de CxC.'!$L$214=\"\",\"\",'800111a - Nota. Detalle de CxC.'!$L$214)","v":""},{"$f":"IF('800111a - Nota. Detalle de CxC.'!$L$215=\"\",\"\",'800111a - Nota. Detalle de CxC.'!$L$215)","v":""},{"$f":"IF('800111a - Nota. Detalle de CxC.'!$L$216=\"\",\"\",'800111a - Nota. Detalle de CxC.'!$L$216)","v":""},{"$f":"IF('800111a - Nota. Detalle de CxC.'!$L$217=\"\",\"\",'800111a - Nota. Detalle de CxC.'!$L$217)","v":""},{"$f":"IF('800111a - Nota. Detalle de CxC.'!$L$218=\"\",\"\",'800111a - Nota. Detalle de CxC.'!$L$218)","v":""},{"$f":"IF('800111a - Nota. Detalle de CxC.'!$L$219=\"\",\"\",'800111a - Nota. Detalle de CxC.'!$L$219)","v":""},{"$f":"IF('800111a - Nota. Detalle de CxC.'!$L$220=\"\",\"\",'800111a - Nota. Detalle de CxC.'!$L$220)","v":""},{"$f":"IF('800111a - Nota. Detalle de CxC.'!$L$221=\"\",\"\",'800111a - Nota. Detalle de CxC.'!$L$221)","v":""},{"$f":"IF('800111a - Nota. Detalle de CxC.'!$L$222=\"\",\"\",'800111a - Nota. Detalle de CxC.'!$L$222)","v":""},{"$f":"IF('800111a - Nota. Detalle de CxC.'!$L$223=\"\",\"\",'800111a - Nota. Detalle de CxC.'!$L$223)","v":""},{"$f":"IF('800111a - Nota. Detalle de CxC.'!$L$224=\"\",\"\",'800111a - Nota. Detalle de CxC.'!$L$224)","v":""},{"$f":"IF('800111a - Nota. Detalle de CxC.'!$L$225=\"\",\"\",'800111a - Nota. Detalle de CxC.'!$L$225)","v":""},{"$f":"IF('800111a - Nota. Detalle de CxC.'!$L$226=\"\",\"\",'800111a - Nota. Detalle de CxC.'!$L$226)","v":""},{"$f":"IF('800111a - Nota. Detalle de CxC.'!$L$227=\"\",\"\",'800111a - Nota. Detalle de CxC.'!$L$227)","v":""},{"$f":"IF('800111a - Nota. Detalle de CxC.'!$L$228=\"\",\"\",'800111a - Nota. Detalle de CxC.'!$L$228)","v":""},{"$f":"IF('800111a - Nota. Detalle de CxC.'!$L$229=\"\",\"\",'800111a - Nota. Detalle de CxC.'!$L$229)","v":""},{"$f":"IF('800111a - Nota. Detalle de CxC.'!$L$230=\"\",\"\",'800111a - Nota. Detalle de CxC.'!$L$230)","v":""},{"$f":"IF('800111a - Nota. Detalle de CxC.'!$L$231=\"\",\"\",'800111a - Nota. Detalle de CxC.'!$L$231)","v":""},{"$f":"IF('800111a - Nota. Detalle de CxC.'!$L$232=\"\",\"\",'800111a - Nota. Detalle de CxC.'!$L$232)","v":""},{"$f":"IF('800111a - Nota. Detalle de CxC.'!$L$233=\"\",\"\",'800111a - Nota. Detalle de CxC.'!$L$233)","v":""},{"$f":"IF('800111a - Nota. Detalle de CxC.'!$L$234=\"\",\"\",'800111a - Nota. Detalle de CxC.'!$L$234)","v":""},{"$f":"IF('800111a - Nota. Detalle de CxC.'!$L$235=\"\",\"\",'800111a - Nota. Detalle de CxC.'!$L$235)","v":""},{"$f":"IF('800111a - Nota. Detalle de CxC.'!$L$236=\"\",\"\",'800111a - Nota. Detalle de CxC.'!$L$236)","v":""},{"$f":"IF('800111a - Nota. Detalle de CxC.'!$L$237=\"\",\"\",'800111a - Nota. Detalle de CxC.'!$L$237)","v":""},null,null,null,{"$f":"IF('800111a - Nota. Detalle de CxC.'!$L$241=\"\",\"\",'800111a - Nota. Detalle de CxC.'!$L$241)","v":""},{"$f":"IF('800111a - Nota. Detalle de CxC.'!$L$242=\"\",\"\",'800111a - Nota. Detalle de CxC.'!$L$242)","v":""},{"$f":"IF('800111a - Nota. Detalle de CxC.'!$L$243=\"\",\"\",'800111a - Nota. Detalle de CxC.'!$L$243)","v":""},{"$f":"IF('800111a - Nota. Detalle de CxC.'!$L$244=\"\",\"\",'800111a - Nota. Detalle de CxC.'!$L$244)","v":""},{"$f":"IF('800111a - Nota. Detalle de CxC.'!$L$245=\"\",\"\",'800111a - Nota. Detalle de CxC.'!$L$245)","v":""},{"$f":"IF('800111a - Nota. Detalle de CxC.'!$L$246=\"\",\"\",'800111a - Nota. Detalle de CxC.'!$L$246)","v":""},{"$f":"IF('800111a - Nota. Detalle de CxC.'!$L$247=\"\",\"\",'800111a - Nota. Detalle de CxC.'!$L$247)","v":""},{"$f":"IF('800111a - Nota. Detalle de CxC.'!$L$248=\"\",\"\",'800111a - Nota. Detalle de CxC.'!$L$248)","v":""},{"$f":"IF('800111a - Nota. Detalle de CxC.'!$L$249=\"\",\"\",'800111a - Nota. Detalle de CxC.'!$L$249)","v":""},{"$f":"IF('800111a - Nota. Detalle de CxC.'!$L$250=\"\",\"\",'800111a - Nota. Detalle de CxC.'!$L$250)","v":""},{"$f":"IF('800111a - Nota. Detalle de CxC.'!$L$251=\"\",\"\",'800111a - Nota. Detalle de CxC.'!$L$251)","v":""},{"$f":"IF('800111a - Nota. Detalle de CxC.'!$L$252=\"\",\"\",'800111a - Nota. Detalle de CxC.'!$L$252)","v":""},{"$f":"IF('800111a - Nota. Detalle de CxC.'!$L$253=\"\",\"\",'800111a - Nota. Detalle de CxC.'!$L$253)","v":""},{"$f":"IF('800111a - Nota. Detalle de CxC.'!$L$254=\"\",\"\",'800111a - Nota. Detalle de CxC.'!$L$254)","v":""},{"$f":"IF('800111a - Nota. Detalle de CxC.'!$L$255=\"\",\"\",'800111a - Nota. Detalle de CxC.'!$L$255)","v":""},{"$f":"IF('800111a - Nota. Detalle de CxC.'!$L$256=\"\",\"\",'800111a - Nota. Detalle de CxC.'!$L$256)","v":""},{"$f":"IF('800111a - Nota. Detalle de CxC.'!$L$257=\"\",\"\",'800111a - Nota. Detalle de CxC.'!$L$257)","v":""},{"$f":"IF('800111a - Nota. Detalle de CxC.'!$L$258=\"\",\"\",'800111a - Nota. Detalle de CxC.'!$L$258)","v":""},{"$f":"IF('800111a - Nota. Detalle de CxC.'!$L$259=\"\",\"\",'800111a - Nota. Detalle de CxC.'!$L$259)","v":""},{"$f":"IF('800111a - Nota. Detalle de CxC.'!$L$260=\"\",\"\",'800111a - Nota. Detalle de CxC.'!$L$260)","v":""},{"$f":"IF('800111a - Nota. Detalle de CxC.'!$L$261=\"\",\"\",'800111a - Nota. Detalle de CxC.'!$L$261)","v":""},{"$f":"IF('800111a - Nota. Detalle de CxC.'!$L$262=\"\",\"\",'800111a - Nota. Detalle de CxC.'!$L$262)","v":""},{"$f":"IF('800111a - Nota. Detalle de CxC.'!$L$263=\"\",\"\",'800111a - Nota. Detalle de CxC.'!$L$263)","v":""},{"$f":"IF('800111a - Nota. Detalle de CxC.'!$L$264=\"\",\"\",'800111a - Nota. Detalle de CxC.'!$L$264)","v":""},{"$f":"IF('800111a - Nota. Detalle de CxC.'!$L$265=\"\",\"\",'800111a - Nota. Detalle de CxC.'!$L$265)","v":""},{"$f":"IF('800111a - Nota. Detalle de CxC.'!$L$266=\"\",\"\",'800111a - Nota. Detalle de CxC.'!$L$266)","v":""},{"$f":"IF('800111a - Nota. Detalle de CxC.'!$L$267=\"\",\"\",'800111a - Nota. Detalle de CxC.'!$L$267)","v":""},{"$f":"IF('800111a - Nota. Detalle de CxC.'!$L$268=\"\",\"\",'800111a - Nota. Detalle de CxC.'!$L$268)","v":""},{"$f":"IF('800111a - Nota. Detalle de CxC.'!$L$269=\"\",\"\",'800111a - Nota. Detalle de CxC.'!$L$269)","v":""},{"$f":"IF('800111a - Nota. Detalle de CxC.'!$L$270=\"\",\"\",'800111a - Nota. Detalle de CxC.'!$L$270)","v":""},{"$f":"IF('800111a - Nota. Detalle de CxC.'!$L$271=\"\",\"\",'800111a - Nota. Detalle de CxC.'!$L$271)","v":""},{"$f":"IF('800111a - Nota. Detalle de CxC.'!$L$272=\"\",\"\",'800111a - Nota. Detalle de CxC.'!$L$272)","v":""},{"$f":"IF('800111a - Nota. Detalle de CxC.'!$L$273=\"\",\"\",'800111a - Nota. Detalle de CxC.'!$L$273)","v":""},{"$f":"IF('800111a - Nota. Detalle de CxC.'!$L$274=\"\",\"\",'800111a - Nota. Detalle de CxC.'!$L$274)","v":""},{"$f":"IF('800111a - Nota. Detalle de CxC.'!$L$275=\"\",\"\",'800111a - Nota. Detalle de CxC.'!$L$275)","v":""},{"$f":"IF('800111a - Nota. Detalle de CxC.'!$L$276=\"\",\"\",'800111a - Nota. Detalle de CxC.'!$L$276)","v":""},{"$f":"IF('800111a - Nota. Detalle de CxC.'!$L$277=\"\",\"\",'800111a - Nota. Detalle de CxC.'!$L$277)","v":""},{"$f":"IF('800111a - Nota. Detalle de CxC.'!$L$278=\"\",\"\",'800111a - Nota. Detalle de CxC.'!$L$278)","v":""},{"$f":"IF('800111a - Nota. Detalle de CxC.'!$L$279=\"\",\"\",'800111a - Nota. Detalle de CxC.'!$L$279)","v":""},{"$f":"IF('800111a - Nota. Detalle de CxC.'!$L$280=\"\",\"\",'800111a - Nota. Detalle de CxC.'!$L$280)","v":""},{"$f":"IF('800111a - Nota. Detalle de CxC.'!$L$281=\"\",\"\",'800111a - Nota. Detalle de CxC.'!$L$281)","v":""},{"$f":"IF('800111a - Nota. Detalle de CxC.'!$L$282=\"\",\"\",'800111a - Nota. Detalle de CxC.'!$L$282)","v":""},{"$f":"IF('800111a - Nota. Detalle de CxC.'!$L$283=\"\",\"\",'800111a - Nota. Detalle de CxC.'!$L$283)","v":""},{"$f":"IF('800111a - Nota. Detalle de CxC.'!$L$284=\"\",\"\",'800111a - Nota. Detalle de CxC.'!$L$284)","v":""},{"$f":"IF('800111a - Nota. Detalle de CxC.'!$L$285=\"\",\"\",'800111a - Nota. Detalle de CxC.'!$L$285)","v":""},{"$f":"IF('800111a - Nota. Detalle de CxC.'!$L$286=\"\",\"\",'800111a - Nota. Detalle de CxC.'!$L$286)","v":""},{"$f":"IF('800111a - Nota. Detalle de CxC.'!$L$287=\"\",\"\",'800111a - Nota. Detalle de CxC.'!$L$287)","v":""},{"$f":"IF('800111a - Nota. Detalle de CxC.'!$L$288=\"\",\"\",'800111a - Nota. Detalle de CxC.'!$L$288)","v":""},{"$f":"IF('800111a - Nota. Detalle de CxC.'!$L$289=\"\",\"\",'800111a - Nota. Detalle de CxC.'!$L$289)","v":""},{"$f":"IF('800111a - Nota. Detalle de CxC.'!$L$290=\"\",\"\",'800111a - Nota. Detalle de CxC.'!$L$290)","v":""},null,null,null,{"$f":"IF('800111a - Nota. Detalle de CxC.'!$L$294=\"\",\"\",'800111a - Nota. Detalle de CxC.'!$L$294)","v":""},{"$f":"IF('800111a - Nota. Detalle de CxC.'!$L$295=\"\",\"\",'800111a - Nota. Detalle de CxC.'!$L$295)","v":""},{"$f":"IF('800111a - Nota. Detalle de CxC.'!$L$296=\"\",\"\",'800111a - Nota. Detalle de CxC.'!$L$296)","v":""},{"$f":"IF('800111a - Nota. Detalle de CxC.'!$L$297=\"\",\"\",'800111a - Nota. Detalle de CxC.'!$L$297)","v":""},{"$f":"IF('800111a - Nota. Detalle de CxC.'!$L$298=\"\",\"\",'800111a - Nota. Detalle de CxC.'!$L$298)","v":""},{"$f":"IF('800111a - Nota. Detalle de CxC.'!$L$299=\"\",\"\",'800111a - Nota. Detalle de CxC.'!$L$299)","v":""},{"$f":"IF('800111a - Nota. Detalle de CxC.'!$L$300=\"\",\"\",'800111a - Nota. Detalle de CxC.'!$L$300)","v":""},{"$f":"IF('800111a - Nota. Detalle de CxC.'!$L$301=\"\",\"\",'800111a - Nota. Detalle de CxC.'!$L$301)","v":""},{"$f":"IF('800111a - Nota. Detalle de CxC.'!$L$302=\"\",\"\",'800111a - Nota. Detalle de CxC.'!$L$302)","v":""},{"$f":"IF('800111a - Nota. Detalle de CxC.'!$L$303=\"\",\"\",'800111a - Nota. Detalle de CxC.'!$L$303)","v":""},{"$f":"IF('800111a - Nota. Detalle de CxC.'!$L$304=\"\",\"\",'800111a - Nota. Detalle de CxC.'!$L$304)","v":""},{"$f":"IF('800111a - Nota. Detalle de CxC.'!$L$305=\"\",\"\",'800111a - Nota. Detalle de CxC.'!$L$305)","v":""},{"$f":"IF('800111a - Nota. Detalle de CxC.'!$L$306=\"\",\"\",'800111a - Nota. Detalle de CxC.'!$L$306)","v":""},{"$f":"IF('800111a - Nota. Detalle de CxC.'!$L$307=\"\",\"\",'800111a - Nota. Detalle de CxC.'!$L$307)","v":""},{"$f":"IF('800111a - Nota. Detalle de CxC.'!$L$308=\"\",\"\",'800111a - Nota. Detalle de CxC.'!$L$308)","v":""},{"$f":"IF('800111a - Nota. Detalle de CxC.'!$L$309=\"\",\"\",'800111a - Nota. Detalle de CxC.'!$L$309)","v":""},{"$f":"IF('800111a - Nota. Detalle de CxC.'!$L$310=\"\",\"\",'800111a - Nota. Detalle de CxC.'!$L$310)","v":""},{"$f":"IF('800111a - Nota. Detalle de CxC.'!$L$311=\"\",\"\",'800111a - Nota. Detalle de CxC.'!$L$311)","v":""},{"$f":"IF('800111a - Nota. Detalle de CxC.'!$L$312=\"\",\"\",'800111a - Nota. Detalle de CxC.'!$L$312)","v":""},{"$f":"IF('800111a - Nota. Detalle de CxC.'!$L$313=\"\",\"\",'800111a - Nota. Detalle de CxC.'!$L$313)","v":""},{"$f":"IF('800111a - Nota. Detalle de CxC.'!$L$314=\"\",\"\",'800111a - Nota. Detalle de CxC.'!$L$314)","v":""},{"$f":"IF('800111a - Nota. Detalle de CxC.'!$L$315=\"\",\"\",'800111a - Nota. Detalle de CxC.'!$L$315)","v":""},{"$f":"IF('800111a - Nota. Detalle de CxC.'!$L$316=\"\",\"\",'800111a - Nota. Detalle de CxC.'!$L$316)","v":""},{"$f":"IF('800111a - Nota. Detalle de CxC.'!$L$317=\"\",\"\",'800111a - Nota. Detalle de CxC.'!$L$317)","v":""},{"$f":"IF('800111a - Nota. Detalle de CxC.'!$L$318=\"\",\"\",'800111a - Nota. Detalle de CxC.'!$L$318)","v":""},{"$f":"IF('800111a - Nota. Detalle de CxC.'!$L$319=\"\",\"\",'800111a - Nota. Detalle de CxC.'!$L$319)","v":""},{"$f":"IF('800111a - Nota. Detalle de CxC.'!$L$320=\"\",\"\",'800111a - Nota. Detalle de CxC.'!$L$320)","v":""},{"$f":"IF('800111a - Nota. Detalle de CxC.'!$L$321=\"\",\"\",'800111a - Nota. Detalle de CxC.'!$L$321)","v":""},{"$f":"IF('800111a - Nota. Detalle de CxC.'!$L$322=\"\",\"\",'800111a - Nota. Detalle de CxC.'!$L$322)","v":""},{"$f":"IF('800111a - Nota. Detalle de CxC.'!$L$323=\"\",\"\",'800111a - Nota. Detalle de CxC.'!$L$323)","v":""},{"$f":"IF('800111a - Nota. Detalle de CxC.'!$L$324=\"\",\"\",'800111a - Nota. Detalle de CxC.'!$L$324)","v":""},{"$f":"IF('800111a - Nota. Detalle de CxC.'!$L$325=\"\",\"\",'800111a - Nota. Detalle de CxC.'!$L$325)","v":""},{"$f":"IF('800111a - Nota. Detalle de CxC.'!$L$326=\"\",\"\",'800111a - Nota. Detalle de CxC.'!$L$326)","v":""},{"$f":"IF('800111a - Nota. Detalle de CxC.'!$L$327=\"\",\"\",'800111a - Nota. Detalle de CxC.'!$L$327)","v":""},{"$f":"IF('800111a - Nota. Detalle de CxC.'!$L$328=\"\",\"\",'800111a - Nota. Detalle de CxC.'!$L$328)","v":""},{"$f":"IF('800111a - Nota. Detalle de CxC.'!$L$329=\"\",\"\",'800111a - Nota. Detalle de CxC.'!$L$329)","v":""},{"$f":"IF('800111a - Nota. Detalle de CxC.'!$L$330=\"\",\"\",'800111a - Nota. Detalle de CxC.'!$L$330)","v":""},{"$f":"IF('800111a - Nota. Detalle de CxC.'!$L$331=\"\",\"\",'800111a - Nota. Detalle de CxC.'!$L$331)","v":""},{"$f":"IF('800111a - Nota. Detalle de CxC.'!$L$332=\"\",\"\",'800111a - Nota. Detalle de CxC.'!$L$332)","v":""},{"$f":"IF('800111a - Nota. Detalle de CxC.'!$L$333=\"\",\"\",'800111a - Nota. Detalle de CxC.'!$L$333)","v":""},{"$f":"IF('800111a - Nota. Detalle de CxC.'!$L$334=\"\",\"\",'800111a - Nota. Detalle de CxC.'!$L$334)","v":""},{"$f":"IF('800111a - Nota. Detalle de CxC.'!$L$335=\"\",\"\",'800111a - Nota. Detalle de CxC.'!$L$335)","v":""},{"$f":"IF('800111a - Nota. Detalle de CxC.'!$L$336=\"\",\"\",'800111a - Nota. Detalle de CxC.'!$L$336)","v":""},{"$f":"IF('800111a - Nota. Detalle de CxC.'!$L$337=\"\",\"\",'800111a - Nota. Detalle de CxC.'!$L$337)","v":""},{"$f":"IF('800111a - Nota. Detalle de CxC.'!$L$338=\"\",\"\",'800111a - Nota. Detalle de CxC.'!$L$338)","v":""},{"$f":"IF('800111a - Nota. Detalle de CxC.'!$L$339=\"\",\"\",'800111a - Nota. Detalle de CxC.'!$L$339)","v":""},{"$f":"IF('800111a - Nota. Detalle de CxC.'!$L$340=\"\",\"\",'800111a - Nota. Detalle de CxC.'!$L$340)","v":""},{"$f":"IF('800111a - Nota. Detalle de CxC.'!$L$341=\"\",\"\",'800111a - Nota. Detalle de CxC.'!$L$341)","v":""},{"$f":"IF('800111a - Nota. Detalle de CxC.'!$L$342=\"\",\"\",'800111a - Nota. Detalle de CxC.'!$L$342)","v":""},{"$f":"IF('800111a - Nota. Detalle de CxC.'!$L$343=\"\",\"\",'800111a - Nota. Detalle de CxC.'!$L$343)","v":""}]
[null,"1;2","co-svsp-core:DireccionDeudorCxC","Dirección deudor",null,null,{"$f":"IF('800111a - Nota. Detalle de CxC.'!$M$188=\"\",\"\",'800111a - Nota. Detalle de CxC.'!$M$188)","v":""},{"$f":"IF('800111a - Nota. Detalle de CxC.'!$M$189=\"\",\"\",'800111a - Nota. Detalle de CxC.'!$M$189)","v":""},{"$f":"IF('800111a - Nota. Detalle de CxC.'!$M$190=\"\",\"\",'800111a - Nota. Detalle de CxC.'!$M$190)","v":""},{"$f":"IF('800111a - Nota. Detalle de CxC.'!$M$191=\"\",\"\",'800111a - Nota. Detalle de CxC.'!$M$191)","v":""},{"$f":"IF('800111a - Nota. Detalle de CxC.'!$M$192=\"\",\"\",'800111a - Nota. Detalle de CxC.'!$M$192)","v":""},{"$f":"IF('800111a - Nota. Detalle de CxC.'!$M$193=\"\",\"\",'800111a - Nota. Detalle de CxC.'!$M$193)","v":""},{"$f":"IF('800111a - Nota. Detalle de CxC.'!$M$194=\"\",\"\",'800111a - Nota. Detalle de CxC.'!$M$194)","v":""},{"$f":"IF('800111a - Nota. Detalle de CxC.'!$M$195=\"\",\"\",'800111a - Nota. Detalle de CxC.'!$M$195)","v":""},{"$f":"IF('800111a - Nota. Detalle de CxC.'!$M$196=\"\",\"\",'800111a - Nota. Detalle de CxC.'!$M$196)","v":""},{"$f":"IF('800111a - Nota. Detalle de CxC.'!$M$197=\"\",\"\",'800111a - Nota. Detalle de CxC.'!$M$197)","v":""},{"$f":"IF('800111a - Nota. Detalle de CxC.'!$M$198=\"\",\"\",'800111a - Nota. Detalle de CxC.'!$M$198)","v":""},{"$f":"IF('800111a - Nota. Detalle de CxC.'!$M$199=\"\",\"\",'800111a - Nota. Detalle de CxC.'!$M$199)","v":""},{"$f":"IF('800111a - Nota. Detalle de CxC.'!$M$200=\"\",\"\",'800111a - Nota. Detalle de CxC.'!$M$200)","v":""},{"$f":"IF('800111a - Nota. Detalle de CxC.'!$M$201=\"\",\"\",'800111a - Nota. Detalle de CxC.'!$M$201)","v":""},{"$f":"IF('800111a - Nota. Detalle de CxC.'!$M$202=\"\",\"\",'800111a - Nota. Detalle de CxC.'!$M$202)","v":""},{"$f":"IF('800111a - Nota. Detalle de CxC.'!$M$203=\"\",\"\",'800111a - Nota. Detalle de CxC.'!$M$203)","v":""},{"$f":"IF('800111a - Nota. Detalle de CxC.'!$M$204=\"\",\"\",'800111a - Nota. Detalle de CxC.'!$M$204)","v":""},{"$f":"IF('800111a - Nota. Detalle de CxC.'!$M$205=\"\",\"\",'800111a - Nota. Detalle de CxC.'!$M$205)","v":""},{"$f":"IF('800111a - Nota. Detalle de CxC.'!$M$206=\"\",\"\",'800111a - Nota. Detalle de CxC.'!$M$206)","v":""},{"$f":"IF('800111a - Nota. Detalle de CxC.'!$M$207=\"\",\"\",'800111a - Nota. Detalle de CxC.'!$M$207)","v":""},{"$f":"IF('800111a - Nota. Detalle de CxC.'!$M$208=\"\",\"\",'800111a - Nota. Detalle de CxC.'!$M$208)","v":""},{"$f":"IF('800111a - Nota. Detalle de CxC.'!$M$209=\"\",\"\",'800111a - Nota. Detalle de CxC.'!$M$209)","v":""},{"$f":"IF('800111a - Nota. Detalle de CxC.'!$M$210=\"\",\"\",'800111a - Nota. Detalle de CxC.'!$M$210)","v":""},{"$f":"IF('800111a - Nota. Detalle de CxC.'!$M$211=\"\",\"\",'800111a - Nota. Detalle de CxC.'!$M$211)","v":""},{"$f":"IF('800111a - Nota. Detalle de CxC.'!$M$212=\"\",\"\",'800111a - Nota. Detalle de CxC.'!$M$212)","v":""},{"$f":"IF('800111a - Nota. Detalle de CxC.'!$M$213=\"\",\"\",'800111a - Nota. Detalle de CxC.'!$M$213)","v":""},{"$f":"IF('800111a - Nota. Detalle de CxC.'!$M$214=\"\",\"\",'800111a - Nota. Detalle de CxC.'!$M$214)","v":""},{"$f":"IF('800111a - Nota. Detalle de CxC.'!$M$215=\"\",\"\",'800111a - Nota. Detalle de CxC.'!$M$215)","v":""},{"$f":"IF('800111a - Nota. Detalle de CxC.'!$M$216=\"\",\"\",'800111a - Nota. Detalle de CxC.'!$M$216)","v":""},{"$f":"IF('800111a - Nota. Detalle de CxC.'!$M$217=\"\",\"\",'800111a - Nota. Detalle de CxC.'!$M$217)","v":""},{"$f":"IF('800111a - Nota. Detalle de CxC.'!$M$218=\"\",\"\",'800111a - Nota. Detalle de CxC.'!$M$218)","v":""},{"$f":"IF('800111a - Nota. Detalle de CxC.'!$M$219=\"\",\"\",'800111a - Nota. Detalle de CxC.'!$M$219)","v":""},{"$f":"IF('800111a - Nota. Detalle de CxC.'!$M$220=\"\",\"\",'800111a - Nota. Detalle de CxC.'!$M$220)","v":""},{"$f":"IF('800111a - Nota. Detalle de CxC.'!$M$221=\"\",\"\",'800111a - Nota. Detalle de CxC.'!$M$221)","v":""},{"$f":"IF('800111a - Nota. Detalle de CxC.'!$M$222=\"\",\"\",'800111a - Nota. Detalle de CxC.'!$M$222)","v":""},{"$f":"IF('800111a - Nota. Detalle de CxC.'!$M$223=\"\",\"\",'800111a - Nota. Detalle de CxC.'!$M$223)","v":""},{"$f":"IF('800111a - Nota. Detalle de CxC.'!$M$224=\"\",\"\",'800111a - Nota. Detalle de CxC.'!$M$224)","v":""},{"$f":"IF('800111a - Nota. Detalle de CxC.'!$M$225=\"\",\"\",'800111a - Nota. Detalle de CxC.'!$M$225)","v":""},{"$f":"IF('800111a - Nota. Detalle de CxC.'!$M$226=\"\",\"\",'800111a - Nota. Detalle de CxC.'!$M$226)","v":""},{"$f":"IF('800111a - Nota. Detalle de CxC.'!$M$227=\"\",\"\",'800111a - Nota. Detalle de CxC.'!$M$227)","v":""},{"$f":"IF('800111a - Nota. Detalle de CxC.'!$M$228=\"\",\"\",'800111a - Nota. Detalle de CxC.'!$M$228)","v":""},{"$f":"IF('800111a - Nota. Detalle de CxC.'!$M$229=\"\",\"\",'800111a - Nota. Detalle de CxC.'!$M$229)","v":""},{"$f":"IF('800111a - Nota. Detalle de CxC.'!$M$230=\"\",\"\",'800111a - Nota. Detalle de CxC.'!$M$230)","v":""},{"$f":"IF('800111a - Nota. Detalle de CxC.'!$M$231=\"\",\"\",'800111a - Nota. Detalle de CxC.'!$M$231)","v":""},{"$f":"IF('800111a - Nota. Detalle de CxC.'!$M$232=\"\",\"\",'800111a - Nota. Detalle de CxC.'!$M$232)","v":""},{"$f":"IF('800111a - Nota. Detalle de CxC.'!$M$233=\"\",\"\",'800111a - Nota. Detalle de CxC.'!$M$233)","v":""},{"$f":"IF('800111a - Nota. Detalle de CxC.'!$M$234=\"\",\"\",'800111a - Nota. Detalle de CxC.'!$M$234)","v":""},{"$f":"IF('800111a - Nota. Detalle de CxC.'!$M$235=\"\",\"\",'800111a - Nota. Detalle de CxC.'!$M$235)","v":""},{"$f":"IF('800111a - Nota. Detalle de CxC.'!$M$236=\"\",\"\",'800111a - Nota. Detalle de CxC.'!$M$236)","v":""},{"$f":"IF('800111a - Nota. Detalle de CxC.'!$M$237=\"\",\"\",'800111a - Nota. Detalle de CxC.'!$M$237)","v":""},null,null,null,{"$f":"IF('800111a - Nota. Detalle de CxC.'!$M$241=\"\",\"\",'800111a - Nota. Detalle de CxC.'!$M$241)","v":""},{"$f":"IF('800111a - Nota. Detalle de CxC.'!$M$242=\"\",\"\",'800111a - Nota. Detalle de CxC.'!$M$242)","v":""},{"$f":"IF('800111a - Nota. Detalle de CxC.'!$M$243=\"\",\"\",'800111a - Nota. Detalle de CxC.'!$M$243)","v":""},{"$f":"IF('800111a - Nota. Detalle de CxC.'!$M$244=\"\",\"\",'800111a - Nota. Detalle de CxC.'!$M$244)","v":""},{"$f":"IF('800111a - Nota. Detalle de CxC.'!$M$245=\"\",\"\",'800111a - Nota. Detalle de CxC.'!$M$245)","v":""},{"$f":"IF('800111a - Nota. Detalle de CxC.'!$M$246=\"\",\"\",'800111a - Nota. Detalle de CxC.'!$M$246)","v":""},{"$f":"IF('800111a - Nota. Detalle de CxC.'!$M$247=\"\",\"\",'800111a - Nota. Detalle de CxC.'!$M$247)","v":""},{"$f":"IF('800111a - Nota. Detalle de CxC.'!$M$248=\"\",\"\",'800111a - Nota. Detalle de CxC.'!$M$248)","v":""},{"$f":"IF('800111a - Nota. Detalle de CxC.'!$M$249=\"\",\"\",'800111a - Nota. Detalle de CxC.'!$M$249)","v":""},{"$f":"IF('800111a - Nota. Detalle de CxC.'!$M$250=\"\",\"\",'800111a - Nota. Detalle de CxC.'!$M$250)","v":""},{"$f":"IF('800111a - Nota. Detalle de CxC.'!$M$251=\"\",\"\",'800111a - Nota. Detalle de CxC.'!$M$251)","v":""},{"$f":"IF('800111a - Nota. Detalle de CxC.'!$M$252=\"\",\"\",'800111a - Nota. Detalle de CxC.'!$M$252)","v":""},{"$f":"IF('800111a - Nota. Detalle de CxC.'!$M$253=\"\",\"\",'800111a - Nota. Detalle de CxC.'!$M$253)","v":""},{"$f":"IF('800111a - Nota. Detalle de CxC.'!$M$254=\"\",\"\",'800111a - Nota. Detalle de CxC.'!$M$254)","v":""},{"$f":"IF('800111a - Nota. Detalle de CxC.'!$M$255=\"\",\"\",'800111a - Nota. Detalle de CxC.'!$M$255)","v":""},{"$f":"IF('800111a - Nota. Detalle de CxC.'!$M$256=\"\",\"\",'800111a - Nota. Detalle de CxC.'!$M$256)","v":""},{"$f":"IF('800111a - Nota. Detalle de CxC.'!$M$257=\"\",\"\",'800111a - Nota. Detalle de CxC.'!$M$257)","v":""},{"$f":"IF('800111a - Nota. Detalle de CxC.'!$M$258=\"\",\"\",'800111a - Nota. Detalle de CxC.'!$M$258)","v":""},{"$f":"IF('800111a - Nota. Detalle de CxC.'!$M$259=\"\",\"\",'800111a - Nota. Detalle de CxC.'!$M$259)","v":""},{"$f":"IF('800111a - Nota. Detalle de CxC.'!$M$260=\"\",\"\",'800111a - Nota. Detalle de CxC.'!$M$260)","v":""},{"$f":"IF('800111a - Nota. Detalle de CxC.'!$M$261=\"\",\"\",'800111a - Nota. Detalle de CxC.'!$M$261)","v":""},{"$f":"IF('800111a - Nota. Detalle de CxC.'!$M$262=\"\",\"\",'800111a - Nota. Detalle de CxC.'!$M$262)","v":""},{"$f":"IF('800111a - Nota. Detalle de CxC.'!$M$263=\"\",\"\",'800111a - Nota. Detalle de CxC.'!$M$263)","v":""},{"$f":"IF('800111a - Nota. Detalle de CxC.'!$M$264=\"\",\"\",'800111a - Nota. Detalle de CxC.'!$M$264)","v":""},{"$f":"IF('800111a - Nota. Detalle de CxC.'!$M$265=\"\",\"\",'800111a - Nota. Detalle de CxC.'!$M$265)","v":""},{"$f":"IF('800111a - Nota. Detalle de CxC.'!$M$266=\"\",\"\",'800111a - Nota. Detalle de CxC.'!$M$266)","v":""},{"$f":"IF('800111a - Nota. Detalle de CxC.'!$M$267=\"\",\"\",'800111a - Nota. Detalle de CxC.'!$M$267)","v":""},{"$f":"IF('800111a - Nota. Detalle de CxC.'!$M$268=\"\",\"\",'800111a - Nota. Detalle de CxC.'!$M$268)","v":""},{"$f":"IF('800111a - Nota. Detalle de CxC.'!$M$269=\"\",\"\",'800111a - Nota. Detalle de CxC.'!$M$269)","v":""},{"$f":"IF('800111a - Nota. Detalle de CxC.'!$M$270=\"\",\"\",'800111a - Nota. Detalle de CxC.'!$M$270)","v":""},{"$f":"IF('800111a - Nota. Detalle de CxC.'!$M$271=\"\",\"\",'800111a - Nota. Detalle de CxC.'!$M$271)","v":""},{"$f":"IF('800111a - Nota. Detalle de CxC.'!$M$272=\"\",\"\",'800111a - Nota. Detalle de CxC.'!$M$272)","v":""},{"$f":"IF('800111a - Nota. Detalle de CxC.'!$M$273=\"\",\"\",'800111a - Nota. Detalle de CxC.'!$M$273)","v":""},{"$f":"IF('800111a - Nota. Detalle de CxC.'!$M$274=\"\",\"\",'800111a - Nota. Detalle de CxC.'!$M$274)","v":""},{"$f":"IF('800111a - Nota. Detalle de CxC.'!$M$275=\"\",\"\",'800111a - Nota. Detalle de CxC.'!$M$275)","v":""},{"$f":"IF('800111a - Nota. Detalle de CxC.'!$M$276=\"\",\"\",'800111a - Nota. Detalle de CxC.'!$M$276)","v":""},{"$f":"IF('800111a - Nota. Detalle de CxC.'!$M$277=\"\",\"\",'800111a - Nota. Detalle de CxC.'!$M$277)","v":""},{"$f":"IF('800111a - Nota. Detalle de CxC.'!$M$278=\"\",\"\",'800111a - Nota. Detalle de CxC.'!$M$278)","v":""},{"$f":"IF('800111a - Nota. Detalle de CxC.'!$M$279=\"\",\"\",'800111a - Nota. Detalle de CxC.'!$M$279)","v":""},{"$f":"IF('800111a - Nota. Detalle de CxC.'!$M$280=\"\",\"\",'800111a - Nota. Detalle de CxC.'!$M$280)","v":""},{"$f":"IF('800111a - Nota. Detalle de CxC.'!$M$281=\"\",\"\",'800111a - Nota. Detalle de CxC.'!$M$281)","v":""},{"$f":"IF('800111a - Nota. Detalle de CxC.'!$M$282=\"\",\"\",'800111a - Nota. Detalle de CxC.'!$M$282)","v":""},{"$f":"IF('800111a - Nota. Detalle de CxC.'!$M$283=\"\",\"\",'800111a - Nota. Detalle de CxC.'!$M$283)","v":""},{"$f":"IF('800111a - Nota. Detalle de CxC.'!$M$284=\"\",\"\",'800111a - Nota. Detalle de CxC.'!$M$284)","v":""},{"$f":"IF('800111a - Nota. Detalle de CxC.'!$M$285=\"\",\"\",'800111a - Nota. Detalle de CxC.'!$M$285)","v":""},{"$f":"IF('800111a - Nota. Detalle de CxC.'!$M$286=\"\",\"\",'800111a - Nota. Detalle de CxC.'!$M$286)","v":""},{"$f":"IF('800111a - Nota. Detalle de CxC.'!$M$287=\"\",\"\",'800111a - Nota. Detalle de CxC.'!$M$287)","v":""},{"$f":"IF('800111a - Nota. Detalle de CxC.'!$M$288=\"\",\"\",'800111a - Nota. Detalle de CxC.'!$M$288)","v":""},{"$f":"IF('800111a - Nota. Detalle de CxC.'!$M$289=\"\",\"\",'800111a - Nota. Detalle de CxC.'!$M$289)","v":""},{"$f":"IF('800111a - Nota. Detalle de CxC.'!$M$290=\"\",\"\",'800111a - Nota. Detalle de CxC.'!$M$290)","v":""},null,null,null,{"$f":"IF('800111a - Nota. Detalle de CxC.'!$M$294=\"\",\"\",'800111a - Nota. Detalle de CxC.'!$M$294)","v":""},{"$f":"IF('800111a - Nota. Detalle de CxC.'!$M$295=\"\",\"\",'800111a - Nota. Detalle de CxC.'!$M$295)","v":""},{"$f":"IF('800111a - Nota. Detalle de CxC.'!$M$296=\"\",\"\",'800111a - Nota. Detalle de CxC.'!$M$296)","v":""},{"$f":"IF('800111a - Nota. Detalle de CxC.'!$M$297=\"\",\"\",'800111a - Nota. Detalle de CxC.'!$M$297)","v":""},{"$f":"IF('800111a - Nota. Detalle de CxC.'!$M$298=\"\",\"\",'800111a - Nota. Detalle de CxC.'!$M$298)","v":""},{"$f":"IF('800111a - Nota. Detalle de CxC.'!$M$299=\"\",\"\",'800111a - Nota. Detalle de CxC.'!$M$299)","v":""},{"$f":"IF('800111a - Nota. Detalle de CxC.'!$M$300=\"\",\"\",'800111a - Nota. Detalle de CxC.'!$M$300)","v":""},{"$f":"IF('800111a - Nota. Detalle de CxC.'!$M$301=\"\",\"\",'800111a - Nota. Detalle de CxC.'!$M$301)","v":""},{"$f":"IF('800111a - Nota. Detalle de CxC.'!$M$302=\"\",\"\",'800111a - Nota. Detalle de CxC.'!$M$302)","v":""},{"$f":"IF('800111a - Nota. Detalle de CxC.'!$M$303=\"\",\"\",'800111a - Nota. Detalle de CxC.'!$M$303)","v":""},{"$f":"IF('800111a - Nota. Detalle de CxC.'!$M$304=\"\",\"\",'800111a - Nota. Detalle de CxC.'!$M$304)","v":""},{"$f":"IF('800111a - Nota. Detalle de CxC.'!$M$305=\"\",\"\",'800111a - Nota. Detalle de CxC.'!$M$305)","v":""},{"$f":"IF('800111a - Nota. Detalle de CxC.'!$M$306=\"\",\"\",'800111a - Nota. Detalle de CxC.'!$M$306)","v":""},{"$f":"IF('800111a - Nota. Detalle de CxC.'!$M$307=\"\",\"\",'800111a - Nota. Detalle de CxC.'!$M$307)","v":""},{"$f":"IF('800111a - Nota. Detalle de CxC.'!$M$308=\"\",\"\",'800111a - Nota. Detalle de CxC.'!$M$308)","v":""},{"$f":"IF('800111a - Nota. Detalle de CxC.'!$M$309=\"\",\"\",'800111a - Nota. Detalle de CxC.'!$M$309)","v":""},{"$f":"IF('800111a - Nota. Detalle de CxC.'!$M$310=\"\",\"\",'800111a - Nota. Detalle de CxC.'!$M$310)","v":""},{"$f":"IF('800111a - Nota. Detalle de CxC.'!$M$311=\"\",\"\",'800111a - Nota. Detalle de CxC.'!$M$311)","v":""},{"$f":"IF('800111a - Nota. Detalle de CxC.'!$M$312=\"\",\"\",'800111a - Nota. Detalle de CxC.'!$M$312)","v":""},{"$f":"IF('800111a - Nota. Detalle de CxC.'!$M$313=\"\",\"\",'800111a - Nota. Detalle de CxC.'!$M$313)","v":""},{"$f":"IF('800111a - Nota. Detalle de CxC.'!$M$314=\"\",\"\",'800111a - Nota. Detalle de CxC.'!$M$314)","v":""},{"$f":"IF('800111a - Nota. Detalle de CxC.'!$M$315=\"\",\"\",'800111a - Nota. Detalle de CxC.'!$M$315)","v":""},{"$f":"IF('800111a - Nota. Detalle de CxC.'!$M$316=\"\",\"\",'800111a - Nota. Detalle de CxC.'!$M$316)","v":""},{"$f":"IF('800111a - Nota. Detalle de CxC.'!$M$317=\"\",\"\",'800111a - Nota. Detalle de CxC.'!$M$317)","v":""},{"$f":"IF('800111a - Nota. Detalle de CxC.'!$M$318=\"\",\"\",'800111a - Nota. Detalle de CxC.'!$M$318)","v":""},{"$f":"IF('800111a - Nota. Detalle de CxC.'!$M$319=\"\",\"\",'800111a - Nota. Detalle de CxC.'!$M$319)","v":""},{"$f":"IF('800111a - Nota. Detalle de CxC.'!$M$320=\"\",\"\",'800111a - Nota. Detalle de CxC.'!$M$320)","v":""},{"$f":"IF('800111a - Nota. Detalle de CxC.'!$M$321=\"\",\"\",'800111a - Nota. Detalle de CxC.'!$M$321)","v":""},{"$f":"IF('800111a - Nota. Detalle de CxC.'!$M$322=\"\",\"\",'800111a - Nota. Detalle de CxC.'!$M$322)","v":""},{"$f":"IF('800111a - Nota. Detalle de CxC.'!$M$323=\"\",\"\",'800111a - Nota. Detalle de CxC.'!$M$323)","v":""},{"$f":"IF('800111a - Nota. Detalle de CxC.'!$M$324=\"\",\"\",'800111a - Nota. Detalle de CxC.'!$M$324)","v":""},{"$f":"IF('800111a - Nota. Detalle de CxC.'!$M$325=\"\",\"\",'800111a - Nota. Detalle de CxC.'!$M$325)","v":""},{"$f":"IF('800111a - Nota. Detalle de CxC.'!$M$326=\"\",\"\",'800111a - Nota. Detalle de CxC.'!$M$326)","v":""},{"$f":"IF('800111a - Nota. Detalle de CxC.'!$M$327=\"\",\"\",'800111a - Nota. Detalle de CxC.'!$M$327)","v":""},{"$f":"IF('800111a - Nota. Detalle de CxC.'!$M$328=\"\",\"\",'800111a - Nota. Detalle de CxC.'!$M$328)","v":""},{"$f":"IF('800111a - Nota. Detalle de CxC.'!$M$329=\"\",\"\",'800111a - Nota. Detalle de CxC.'!$M$329)","v":""},{"$f":"IF('800111a - Nota. Detalle de CxC.'!$M$330=\"\",\"\",'800111a - Nota. Detalle de CxC.'!$M$330)","v":""},{"$f":"IF('800111a - Nota. Detalle de CxC.'!$M$331=\"\",\"\",'800111a - Nota. Detalle de CxC.'!$M$331)","v":""},{"$f":"IF('800111a - Nota. Detalle de CxC.'!$M$332=\"\",\"\",'800111a - Nota. Detalle de CxC.'!$M$332)","v":""},{"$f":"IF('800111a - Nota. Detalle de CxC.'!$M$333=\"\",\"\",'800111a - Nota. Detalle de CxC.'!$M$333)","v":""},{"$f":"IF('800111a - Nota. Detalle de CxC.'!$M$334=\"\",\"\",'800111a - Nota. Detalle de CxC.'!$M$334)","v":""},{"$f":"IF('800111a - Nota. Detalle de CxC.'!$M$335=\"\",\"\",'800111a - Nota. Detalle de CxC.'!$M$335)","v":""},{"$f":"IF('800111a - Nota. Detalle de CxC.'!$M$336=\"\",\"\",'800111a - Nota. Detalle de CxC.'!$M$336)","v":""},{"$f":"IF('800111a - Nota. Detalle de CxC.'!$M$337=\"\",\"\",'800111a - Nota. Detalle de CxC.'!$M$337)","v":""},{"$f":"IF('800111a - Nota. Detalle de CxC.'!$M$338=\"\",\"\",'800111a - Nota. Detalle de CxC.'!$M$338)","v":""},{"$f":"IF('800111a - Nota. Detalle de CxC.'!$M$339=\"\",\"\",'800111a - Nota. Detalle de CxC.'!$M$339)","v":""},{"$f":"IF('800111a - Nota. Detalle de CxC.'!$M$340=\"\",\"\",'800111a - Nota. Detalle de CxC.'!$M$340)","v":""},{"$f":"IF('800111a - Nota. Detalle de CxC.'!$M$341=\"\",\"\",'800111a - Nota. Detalle de CxC.'!$M$341)","v":""},{"$f":"IF('800111a - Nota. Detalle de CxC.'!$M$342=\"\",\"\",'800111a - Nota. Detalle de CxC.'!$M$342)","v":""},{"$f":"IF('800111a - Nota. Detalle de CxC.'!$M$343=\"\",\"\",'800111a - Nota. Detalle de CxC.'!$M$343)","v":""}]
[null,"1;2","co-svsp-core:DepartamentoDeudorCxC","Departamento deudor",null,null,{"$f":"IF('800111a - Nota. Detalle de CxC.'!$N$188=\"\",\"\",'800111a - Nota. Detalle de CxC.'!$N$188)","v":""},{"$f":"IF('800111a - Nota. Detalle de CxC.'!$N$189=\"\",\"\",'800111a - Nota. Detalle de CxC.'!$N$189)","v":""},{"$f":"IF('800111a - Nota. Detalle de CxC.'!$N$190=\"\",\"\",'800111a - Nota. Detalle de CxC.'!$N$190)","v":""},{"$f":"IF('800111a - Nota. Detalle de CxC.'!$N$191=\"\",\"\",'800111a - Nota. Detalle de CxC.'!$N$191)","v":""},{"$f":"IF('800111a - Nota. Detalle de CxC.'!$N$192=\"\",\"\",'800111a - Nota. Detalle de CxC.'!$N$192)","v":""},{"$f":"IF('800111a - Nota. Detalle de CxC.'!$N$193=\"\",\"\",'800111a - Nota. Detalle de CxC.'!$N$193)","v":""},{"$f":"IF('800111a - Nota. Detalle de CxC.'!$N$194=\"\",\"\",'800111a - Nota. Detalle de CxC.'!$N$194)","v":""},{"$f":"IF('800111a - Nota. Detalle de CxC.'!$N$195=\"\",\"\",'800111a - Nota. Detalle de CxC.'!$N$195)","v":""},{"$f":"IF('800111a - Nota. Detalle de CxC.'!$N$196=\"\",\"\",'800111a - Nota. Detalle de CxC.'!$N$196)","v":""},{"$f":"IF('800111a - Nota. Detalle de CxC.'!$N$197=\"\",\"\",'800111a - Nota. Detalle de CxC.'!$N$197)","v":""},{"$f":"IF('800111a - Nota. Detalle de CxC.'!$N$198=\"\",\"\",'800111a - Nota. Detalle de CxC.'!$N$198)","v":""},{"$f":"IF('800111a - Nota. Detalle de CxC.'!$N$199=\"\",\"\",'800111a - Nota. Detalle de CxC.'!$N$199)","v":""},{"$f":"IF('800111a - Nota. Detalle de CxC.'!$N$200=\"\",\"\",'800111a - Nota. Detalle de CxC.'!$N$200)","v":""},{"$f":"IF('800111a - Nota. Detalle de CxC.'!$N$201=\"\",\"\",'800111a - Nota. Detalle de CxC.'!$N$201)","v":""},{"$f":"IF('800111a - Nota. Detalle de CxC.'!$N$202=\"\",\"\",'800111a - Nota. Detalle de CxC.'!$N$202)","v":""},{"$f":"IF('800111a - Nota. Detalle de CxC.'!$N$203=\"\",\"\",'800111a - Nota. Detalle de CxC.'!$N$203)","v":""},{"$f":"IF('800111a - Nota. Detalle de CxC.'!$N$204=\"\",\"\",'800111a - Nota. Detalle de CxC.'!$N$204)","v":""},{"$f":"IF('800111a - Nota. Detalle de CxC.'!$N$205=\"\",\"\",'800111a - Nota. Detalle de CxC.'!$N$205)","v":""},{"$f":"IF('800111a - Nota. Detalle de CxC.'!$N$206=\"\",\"\",'800111a - Nota. Detalle de CxC.'!$N$206)","v":""},{"$f":"IF('800111a - Nota. Detalle de CxC.'!$N$207=\"\",\"\",'800111a - Nota. Detalle de CxC.'!$N$207)","v":""},{"$f":"IF('800111a - Nota. Detalle de CxC.'!$N$208=\"\",\"\",'800111a - Nota. Detalle de CxC.'!$N$208)","v":""},{"$f":"IF('800111a - Nota. Detalle de CxC.'!$N$209=\"\",\"\",'800111a - Nota. Detalle de CxC.'!$N$209)","v":""},{"$f":"IF('800111a - Nota. Detalle de CxC.'!$N$210=\"\",\"\",'800111a - Nota. Detalle de CxC.'!$N$210)","v":""},{"$f":"IF('800111a - Nota. Detalle de CxC.'!$N$211=\"\",\"\",'800111a - Nota. Detalle de CxC.'!$N$211)","v":""},{"$f":"IF('800111a - Nota. Detalle de CxC.'!$N$212=\"\",\"\",'800111a - Nota. Detalle de CxC.'!$N$212)","v":""},{"$f":"IF('800111a - Nota. Detalle de CxC.'!$N$213=\"\",\"\",'800111a - Nota. Detalle de CxC.'!$N$213)","v":""},{"$f":"IF('800111a - Nota. Detalle de CxC.'!$N$214=\"\",\"\",'800111a - Nota. Detalle de CxC.'!$N$214)","v":""},{"$f":"IF('800111a - Nota. Detalle de CxC.'!$N$215=\"\",\"\",'800111a - Nota. Detalle de CxC.'!$N$215)","v":""},{"$f":"IF('800111a - Nota. Detalle de CxC.'!$N$216=\"\",\"\",'800111a - Nota. Detalle de CxC.'!$N$216)","v":""},{"$f":"IF('800111a - Nota. Detalle de CxC.'!$N$217=\"\",\"\",'800111a - Nota. Detalle de CxC.'!$N$217)","v":""},{"$f":"IF('800111a - Nota. Detalle de CxC.'!$N$218=\"\",\"\",'800111a - Nota. Detalle de CxC.'!$N$218)","v":""},{"$f":"IF('800111a - Nota. Detalle de CxC.'!$N$219=\"\",\"\",'800111a - Nota. Detalle de CxC.'!$N$219)","v":""},{"$f":"IF('800111a - Nota. Detalle de CxC.'!$N$220=\"\",\"\",'800111a - Nota. Detalle de CxC.'!$N$220)","v":""},{"$f":"IF('800111a - Nota. Detalle de CxC.'!$N$221=\"\",\"\",'800111a - Nota. Detalle de CxC.'!$N$221)","v":""},{"$f":"IF('800111a - Nota. Detalle de CxC.'!$N$222=\"\",\"\",'800111a - Nota. Detalle de CxC.'!$N$222)","v":""},{"$f":"IF('800111a - Nota. Detalle de CxC.'!$N$223=\"\",\"\",'800111a - Nota. Detalle de CxC.'!$N$223)","v":""},{"$f":"IF('800111a - Nota. Detalle de CxC.'!$N$224=\"\",\"\",'800111a - Nota. Detalle de CxC.'!$N$224)","v":""},{"$f":"IF('800111a - Nota. Detalle de CxC.'!$N$225=\"\",\"\",'800111a - Nota. Detalle de CxC.'!$N$225)","v":""},{"$f":"IF('800111a - Nota. Detalle de CxC.'!$N$226=\"\",\"\",'800111a - Nota. Detalle de CxC.'!$N$226)","v":""},{"$f":"IF('800111a - Nota. Detalle de CxC.'!$N$227=\"\",\"\",'800111a - Nota. Detalle de CxC.'!$N$227)","v":""},{"$f":"IF('800111a - Nota. Detalle de CxC.'!$N$228=\"\",\"\",'800111a - Nota. Detalle de CxC.'!$N$228)","v":""},{"$f":"IF('800111a - Nota. Detalle de CxC.'!$N$229=\"\",\"\",'800111a - Nota. Detalle de CxC.'!$N$229)","v":""},{"$f":"IF('800111a - Nota. Detalle de CxC.'!$N$230=\"\",\"\",'800111a - Nota. Detalle de CxC.'!$N$230)","v":""},{"$f":"IF('800111a - Nota. Detalle de CxC.'!$N$231=\"\",\"\",'800111a - Nota. Detalle de CxC.'!$N$231)","v":""},{"$f":"IF('800111a - Nota. Detalle de CxC.'!$N$232=\"\",\"\",'800111a - Nota. Detalle de CxC.'!$N$232)","v":""},{"$f":"IF('800111a - Nota. Detalle de CxC.'!$N$233=\"\",\"\",'800111a - Nota. Detalle de CxC.'!$N$233)","v":""},{"$f":"IF('800111a - Nota. Detalle de CxC.'!$N$234=\"\",\"\",'800111a - Nota. Detalle de CxC.'!$N$234)","v":""},{"$f":"IF('800111a - Nota. Detalle de CxC.'!$N$235=\"\",\"\",'800111a - Nota. Detalle de CxC.'!$N$235)","v":""},{"$f":"IF('800111a - Nota. Detalle de CxC.'!$N$236=\"\",\"\",'800111a - Nota. Detalle de CxC.'!$N$236)","v":""},{"$f":"IF('800111a - Nota. Detalle de CxC.'!$N$237=\"\",\"\",'800111a - Nota. Detalle de CxC.'!$N$237)","v":""},null,null,null,{"$f":"IF('800111a - Nota. Detalle de CxC.'!$N$241=\"\",\"\",'800111a - Nota. Detalle de CxC.'!$N$241)","v":""},{"$f":"IF('800111a - Nota. Detalle de CxC.'!$N$242=\"\",\"\",'800111a - Nota. Detalle de CxC.'!$N$242)","v":""},{"$f":"IF('800111a - Nota. Detalle de CxC.'!$N$243=\"\",\"\",'800111a - Nota. Detalle de CxC.'!$N$243)","v":""},{"$f":"IF('800111a - Nota. Detalle de CxC.'!$N$244=\"\",\"\",'800111a - Nota. Detalle de CxC.'!$N$244)","v":""},{"$f":"IF('800111a - Nota. Detalle de CxC.'!$N$245=\"\",\"\",'800111a - Nota. Detalle de CxC.'!$N$245)","v":""},{"$f":"IF('800111a - Nota. Detalle de CxC.'!$N$246=\"\",\"\",'800111a - Nota. Detalle de CxC.'!$N$246)","v":""},{"$f":"IF('800111a - Nota. Detalle de CxC.'!$N$247=\"\",\"\",'800111a - Nota. Detalle de CxC.'!$N$247)","v":""},{"$f":"IF('800111a - Nota. Detalle de CxC.'!$N$248=\"\",\"\",'800111a - Nota. Detalle de CxC.'!$N$248)","v":""},{"$f":"IF('800111a - Nota. Detalle de CxC.'!$N$249=\"\",\"\",'800111a - Nota. Detalle de CxC.'!$N$249)","v":""},{"$f":"IF('800111a - Nota. Detalle de CxC.'!$N$250=\"\",\"\",'800111a - Nota. Detalle de CxC.'!$N$250)","v":""},{"$f":"IF('800111a - Nota. Detalle de CxC.'!$N$251=\"\",\"\",'800111a - Nota. Detalle de CxC.'!$N$251)","v":""},{"$f":"IF('800111a - Nota. Detalle de CxC.'!$N$252=\"\",\"\",'800111a - Nota. Detalle de CxC.'!$N$252)","v":""},{"$f":"IF('800111a - Nota. Detalle de CxC.'!$N$253=\"\",\"\",'800111a - Nota. Detalle de CxC.'!$N$253)","v":""},{"$f":"IF('800111a - Nota. Detalle de CxC.'!$N$254=\"\",\"\",'800111a - Nota. Detalle de CxC.'!$N$254)","v":""},{"$f":"IF('800111a - Nota. Detalle de CxC.'!$N$255=\"\",\"\",'800111a - Nota. Detalle de CxC.'!$N$255)","v":""},{"$f":"IF('800111a - Nota. Detalle de CxC.'!$N$256=\"\",\"\",'800111a - Nota. Detalle de CxC.'!$N$256)","v":""},{"$f":"IF('800111a - Nota. Detalle de CxC.'!$N$257=\"\",\"\",'800111a - Nota. Detalle de CxC.'!$N$257)","v":""},{"$f":"IF('800111a - Nota. Detalle de CxC.'!$N$258=\"\",\"\",'800111a - Nota. Detalle de CxC.'!$N$258)","v":""},{"$f":"IF('800111a - Nota. Detalle de CxC.'!$N$259=\"\",\"\",'800111a - Nota. Detalle de CxC.'!$N$259)","v":""},{"$f":"IF('800111a - Nota. Detalle de CxC.'!$N$260=\"\",\"\",'800111a - Nota. Detalle de CxC.'!$N$260)","v":""},{"$f":"IF('800111a - Nota. Detalle de CxC.'!$N$261=\"\",\"\",'800111a - Nota. Detalle de CxC.'!$N$261)","v":""},{"$f":"IF('800111a - Nota. Detalle de CxC.'!$N$262=\"\",\"\",'800111a - Nota. Detalle de CxC.'!$N$262)","v":""},{"$f":"IF('800111a - Nota. Detalle de CxC.'!$N$263=\"\",\"\",'800111a - Nota. Detalle de CxC.'!$N$263)","v":""},{"$f":"IF('800111a - Nota. Detalle de CxC.'!$N$264=\"\",\"\",'800111a - Nota. Detalle de CxC.'!$N$264)","v":""},{"$f":"IF('800111a - Nota. Detalle de CxC.'!$N$265=\"\",\"\",'800111a - Nota. Detalle de CxC.'!$N$265)","v":""},{"$f":"IF('800111a - Nota. Detalle de CxC.'!$N$266=\"\",\"\",'800111a - Nota. Detalle de CxC.'!$N$266)","v":""},{"$f":"IF('800111a - Nota. Detalle de CxC.'!$N$267=\"\",\"\",'800111a - Nota. Detalle de CxC.'!$N$267)","v":""},{"$f":"IF('800111a - Nota. Detalle de CxC.'!$N$268=\"\",\"\",'800111a - Nota. Detalle de CxC.'!$N$268)","v":""},{"$f":"IF('800111a - Nota. Detalle de CxC.'!$N$269=\"\",\"\",'800111a - Nota. Detalle de CxC.'!$N$269)","v":""},{"$f":"IF('800111a - Nota. Detalle de CxC.'!$N$270=\"\",\"\",'800111a - Nota. Detalle de CxC.'!$N$270)","v":""},{"$f":"IF('800111a - Nota. Detalle de CxC.'!$N$271=\"\",\"\",'800111a - Nota. Detalle de CxC.'!$N$271)","v":""},{"$f":"IF('800111a - Nota. Detalle de CxC.'!$N$272=\"\",\"\",'800111a - Nota. Detalle de CxC.'!$N$272)","v":""},{"$f":"IF('800111a - Nota. Detalle de CxC.'!$N$273=\"\",\"\",'800111a - Nota. Detalle de CxC.'!$N$273)","v":""},{"$f":"IF('800111a - Nota. Detalle de CxC.'!$N$274=\"\",\"\",'800111a - Nota. Detalle de CxC.'!$N$274)","v":""},{"$f":"IF('800111a - Nota. Detalle de CxC.'!$N$275=\"\",\"\",'800111a - Nota. Detalle de CxC.'!$N$275)","v":""},{"$f":"IF('800111a - Nota. Detalle de CxC.'!$N$276=\"\",\"\",'800111a - Nota. Detalle de CxC.'!$N$276)","v":""},{"$f":"IF('800111a - Nota. Detalle de CxC.'!$N$277=\"\",\"\",'800111a - Nota. Detalle de CxC.'!$N$277)","v":""},{"$f":"IF('800111a - Nota. Detalle de CxC.'!$N$278=\"\",\"\",'800111a - Nota. Detalle de CxC.'!$N$278)","v":""},{"$f":"IF('800111a - Nota. Detalle de CxC.'!$N$279=\"\",\"\",'800111a - Nota. Detalle de CxC.'!$N$279)","v":""},{"$f":"IF('800111a - Nota. Detalle de CxC.'!$N$280=\"\",\"\",'800111a - Nota. Detalle de CxC.'!$N$280)","v":""},{"$f":"IF('800111a - Nota. Detalle de CxC.'!$N$281=\"\",\"\",'800111a - Nota. Detalle de CxC.'!$N$281)","v":""},{"$f":"IF('800111a - Nota. Detalle de CxC.'!$N$282=\"\",\"\",'800111a - Nota. Detalle de CxC.'!$N$282)","v":""},{"$f":"IF('800111a - Nota. Detalle de CxC.'!$N$283=\"\",\"\",'800111a - Nota. Detalle de CxC.'!$N$283)","v":""},{"$f":"IF('800111a - Nota. Detalle de CxC.'!$N$284=\"\",\"\",'800111a - Nota. Detalle de CxC.'!$N$284)","v":""},{"$f":"IF('800111a - Nota. Detalle de CxC.'!$N$285=\"\",\"\",'800111a - Nota. Detalle de CxC.'!$N$285)","v":""},{"$f":"IF('800111a - Nota. Detalle de CxC.'!$N$286=\"\",\"\",'800111a - Nota. Detalle de CxC.'!$N$286)","v":""},{"$f":"IF('800111a - Nota. Detalle de CxC.'!$N$287=\"\",\"\",'800111a - Nota. Detalle de CxC.'!$N$287)","v":""},{"$f":"IF('800111a - Nota. Detalle de CxC.'!$N$288=\"\",\"\",'800111a - Nota. Detalle de CxC.'!$N$288)","v":""},{"$f":"IF('800111a - Nota. Detalle de CxC.'!$N$289=\"\",\"\",'800111a - Nota. Detalle de CxC.'!$N$289)","v":""},{"$f":"IF('800111a - Nota. Detalle de CxC.'!$N$290=\"\",\"\",'800111a - Nota. Detalle de CxC.'!$N$290)","v":""},null,null,null,{"$f":"IF('800111a - Nota. Detalle de CxC.'!$N$294=\"\",\"\",'800111a - Nota. Detalle de CxC.'!$N$294)","v":""},{"$f":"IF('800111a - Nota. Detalle de CxC.'!$N$295=\"\",\"\",'800111a - Nota. Detalle de CxC.'!$N$295)","v":""},{"$f":"IF('800111a - Nota. Detalle de CxC.'!$N$296=\"\",\"\",'800111a - Nota. Detalle de CxC.'!$N$296)","v":""},{"$f":"IF('800111a - Nota. Detalle de CxC.'!$N$297=\"\",\"\",'800111a - Nota. Detalle de CxC.'!$N$297)","v":""},{"$f":"IF('800111a - Nota. Detalle de CxC.'!$N$298=\"\",\"\",'800111a - Nota. Detalle de CxC.'!$N$298)","v":""},{"$f":"IF('800111a - Nota. Detalle de CxC.'!$N$299=\"\",\"\",'800111a - Nota. Detalle de CxC.'!$N$299)","v":""},{"$f":"IF('800111a - Nota. Detalle de CxC.'!$N$300=\"\",\"\",'800111a - Nota. Detalle de CxC.'!$N$300)","v":""},{"$f":"IF('800111a - Nota. Detalle de CxC.'!$N$301=\"\",\"\",'800111a - Nota. Detalle de CxC.'!$N$301)","v":""},{"$f":"IF('800111a - Nota. Detalle de CxC.'!$N$302=\"\",\"\",'800111a - Nota. Detalle de CxC.'!$N$302)","v":""},{"$f":"IF('800111a - Nota. Detalle de CxC.'!$N$303=\"\",\"\",'800111a - Nota. Detalle de CxC.'!$N$303)","v":""},{"$f":"IF('800111a - Nota. Detalle de CxC.'!$N$304=\"\",\"\",'800111a - Nota. Detalle de CxC.'!$N$304)","v":""},{"$f":"IF('800111a - Nota. Detalle de CxC.'!$N$305=\"\",\"\",'800111a - Nota. Detalle de CxC.'!$N$305)","v":""},{"$f":"IF('800111a - Nota. Detalle de CxC.'!$N$306=\"\",\"\",'800111a - Nota. Detalle de CxC.'!$N$306)","v":""},{"$f":"IF('800111a - Nota. Detalle de CxC.'!$N$307=\"\",\"\",'800111a - Nota. Detalle de CxC.'!$N$307)","v":""},{"$f":"IF('800111a - Nota. Detalle de CxC.'!$N$308=\"\",\"\",'800111a - Nota. Detalle de CxC.'!$N$308)","v":""},{"$f":"IF('800111a - Nota. Detalle de CxC.'!$N$309=\"\",\"\",'800111a - Nota. Detalle de CxC.'!$N$309)","v":""},{"$f":"IF('800111a - Nota. Detalle de CxC.'!$N$310=\"\",\"\",'800111a - Nota. Detalle de CxC.'!$N$310)","v":""},{"$f":"IF('800111a - Nota. Detalle de CxC.'!$N$311=\"\",\"\",'800111a - Nota. Detalle de CxC.'!$N$311)","v":""},{"$f":"IF('800111a - Nota. Detalle de CxC.'!$N$312=\"\",\"\",'800111a - Nota. Detalle de CxC.'!$N$312)","v":""},{"$f":"IF('800111a - Nota. Detalle de CxC.'!$N$313=\"\",\"\",'800111a - Nota. Detalle de CxC.'!$N$313)","v":""},{"$f":"IF('800111a - Nota. Detalle de CxC.'!$N$314=\"\",\"\",'800111a - Nota. Detalle de CxC.'!$N$314)","v":""},{"$f":"IF('800111a - Nota. Detalle de CxC.'!$N$315=\"\",\"\",'800111a - Nota. Detalle de CxC.'!$N$315)","v":""},{"$f":"IF('800111a - Nota. Detalle de CxC.'!$N$316=\"\",\"\",'800111a - Nota. Detalle de CxC.'!$N$316)","v":""},{"$f":"IF('800111a - Nota. Detalle de CxC.'!$N$317=\"\",\"\",'800111a - Nota. Detalle de CxC.'!$N$317)","v":""},{"$f":"IF('800111a - Nota. Detalle de CxC.'!$N$318=\"\",\"\",'800111a - Nota. Detalle de CxC.'!$N$318)","v":""},{"$f":"IF('800111a - Nota. Detalle de CxC.'!$N$319=\"\",\"\",'800111a - Nota. Detalle de CxC.'!$N$319)","v":""},{"$f":"IF('800111a - Nota. Detalle de CxC.'!$N$320=\"\",\"\",'800111a - Nota. Detalle de CxC.'!$N$320)","v":""},{"$f":"IF('800111a - Nota. Detalle de CxC.'!$N$321=\"\",\"\",'800111a - Nota. Detalle de CxC.'!$N$321)","v":""},{"$f":"IF('800111a - Nota. Detalle de CxC.'!$N$322=\"\",\"\",'800111a - Nota. Detalle de CxC.'!$N$322)","v":""},{"$f":"IF('800111a - Nota. Detalle de CxC.'!$N$323=\"\",\"\",'800111a - Nota. Detalle de CxC.'!$N$323)","v":""},{"$f":"IF('800111a - Nota. Detalle de CxC.'!$N$324=\"\",\"\",'800111a - Nota. Detalle de CxC.'!$N$324)","v":""},{"$f":"IF('800111a - Nota. Detalle de CxC.'!$N$325=\"\",\"\",'800111a - Nota. Detalle de CxC.'!$N$325)","v":""},{"$f":"IF('800111a - Nota. Detalle de CxC.'!$N$326=\"\",\"\",'800111a - Nota. Detalle de CxC.'!$N$326)","v":""},{"$f":"IF('800111a - Nota. Detalle de CxC.'!$N$327=\"\",\"\",'800111a - Nota. Detalle de CxC.'!$N$327)","v":""},{"$f":"IF('800111a - Nota. Detalle de CxC.'!$N$328=\"\",\"\",'800111a - Nota. Detalle de CxC.'!$N$328)","v":""},{"$f":"IF('800111a - Nota. Detalle de CxC.'!$N$329=\"\",\"\",'800111a - Nota. Detalle de CxC.'!$N$329)","v":""},{"$f":"IF('800111a - Nota. Detalle de CxC.'!$N$330=\"\",\"\",'800111a - Nota. Detalle de CxC.'!$N$330)","v":""},{"$f":"IF('800111a - Nota. Detalle de CxC.'!$N$331=\"\",\"\",'800111a - Nota. Detalle de CxC.'!$N$331)","v":""},{"$f":"IF('800111a - Nota. Detalle de CxC.'!$N$332=\"\",\"\",'800111a - Nota. Detalle de CxC.'!$N$332)","v":""},{"$f":"IF('800111a - Nota. Detalle de CxC.'!$N$333=\"\",\"\",'800111a - Nota. Detalle de CxC.'!$N$333)","v":""},{"$f":"IF('800111a - Nota. Detalle de CxC.'!$N$334=\"\",\"\",'800111a - Nota. Detalle de CxC.'!$N$334)","v":""},{"$f":"IF('800111a - Nota. Detalle de CxC.'!$N$335=\"\",\"\",'800111a - Nota. Detalle de CxC.'!$N$335)","v":""},{"$f":"IF('800111a - Nota. Detalle de CxC.'!$N$336=\"\",\"\",'800111a - Nota. Detalle de CxC.'!$N$336)","v":""},{"$f":"IF('800111a - Nota. Detalle de CxC.'!$N$337=\"\",\"\",'800111a - Nota. Detalle de CxC.'!$N$337)","v":""},{"$f":"IF('800111a - Nota. Detalle de CxC.'!$N$338=\"\",\"\",'800111a - Nota. Detalle de CxC.'!$N$338)","v":""},{"$f":"IF('800111a - Nota. Detalle de CxC.'!$N$339=\"\",\"\",'800111a - Nota. Detalle de CxC.'!$N$339)","v":""},{"$f":"IF('800111a - Nota. Detalle de CxC.'!$N$340=\"\",\"\",'800111a - Nota. Detalle de CxC.'!$N$340)","v":""},{"$f":"IF('800111a - Nota. Detalle de CxC.'!$N$341=\"\",\"\",'800111a - Nota. Detalle de CxC.'!$N$341)","v":""},{"$f":"IF('800111a - Nota. Detalle de CxC.'!$N$342=\"\",\"\",'800111a - Nota. Detalle de CxC.'!$N$342)","v":""},{"$f":"IF('800111a - Nota. Detalle de CxC.'!$N$343=\"\",\"\",'800111a - Nota. Detalle de CxC.'!$N$343)","v":""}]
[null,"1;2","co-svsp-core:MunicipioDeudorCxC","Municipio deudor",null,null,{"$f":"IF('800111a - Nota. Detalle de CxC.'!$O$188=\"\",\"\",'800111a - Nota. Detalle de CxC.'!$O$188)","v":""},{"$f":"IF('800111a - Nota. Detalle de CxC.'!$O$189=\"\",\"\",'800111a - Nota. Detalle de CxC.'!$O$189)","v":""},{"$f":"IF('800111a - Nota. Detalle de CxC.'!$O$190=\"\",\"\",'800111a - Nota. Detalle de CxC.'!$O$190)","v":""},{"$f":"IF('800111a - Nota. Detalle de CxC.'!$O$191=\"\",\"\",'800111a - Nota. Detalle de CxC.'!$O$191)","v":""},{"$f":"IF('800111a - Nota. Detalle de CxC.'!$O$192=\"\",\"\",'800111a - Nota. Detalle de CxC.'!$O$192)","v":""},{"$f":"IF('800111a - Nota. Detalle de CxC.'!$O$193=\"\",\"\",'800111a - Nota. Detalle de CxC.'!$O$193)","v":""},{"$f":"IF('800111a - Nota. Detalle de CxC.'!$O$194=\"\",\"\",'800111a - Nota. Detalle de CxC.'!$O$194)","v":""},{"$f":"IF('800111a - Nota. Detalle de CxC.'!$O$195=\"\",\"\",'800111a - Nota. Detalle de CxC.'!$O$195)","v":""},{"$f":"IF('800111a - Nota. Detalle de CxC.'!$O$196=\"\",\"\",'800111a - Nota. Detalle de CxC.'!$O$196)","v":""},{"$f":"IF('800111a - Nota. Detalle de CxC.'!$O$197=\"\",\"\",'800111a - Nota. Detalle de CxC.'!$O$197)","v":""},{"$f":"IF('800111a - Nota. Detalle de CxC.'!$O$198=\"\",\"\",'800111a - Nota. Detalle de CxC.'!$O$198)","v":""},{"$f":"IF('800111a - Nota. Detalle de CxC.'!$O$199=\"\",\"\",'800111a - Nota. Detalle de CxC.'!$O$199)","v":""},{"$f":"IF('800111a - Nota. Detalle de CxC.'!$O$200=\"\",\"\",'800111a - Nota. Detalle de CxC.'!$O$200)","v":""},{"$f":"IF('800111a - Nota. Detalle de CxC.'!$O$201=\"\",\"\",'800111a - Nota. Detalle de CxC.'!$O$201)","v":""},{"$f":"IF('800111a - Nota. Detalle de CxC.'!$O$202=\"\",\"\",'800111a - Nota. Detalle de CxC.'!$O$202)","v":""},{"$f":"IF('800111a - Nota. Detalle de CxC.'!$O$203=\"\",\"\",'800111a - Nota. Detalle de CxC.'!$O$203)","v":""},{"$f":"IF('800111a - Nota. Detalle de CxC.'!$O$204=\"\",\"\",'800111a - Nota. Detalle de CxC.'!$O$204)","v":""},{"$f":"IF('800111a - Nota. Detalle de CxC.'!$O$205=\"\",\"\",'800111a - Nota. Detalle de CxC.'!$O$205)","v":""},{"$f":"IF('800111a - Nota. Detalle de CxC.'!$O$206=\"\",\"\",'800111a - Nota. Detalle de CxC.'!$O$206)","v":""},{"$f":"IF('800111a - Nota. Detalle de CxC.'!$O$207=\"\",\"\",'800111a - Nota. Detalle de CxC.'!$O$207)","v":""},{"$f":"IF('800111a - Nota. Detalle de CxC.'!$O$208=\"\",\"\",'800111a - Nota. Detalle de CxC.'!$O$208)","v":""},{"$f":"IF('800111a - Nota. Detalle de CxC.'!$O$209=\"\",\"\",'800111a - Nota. Detalle de CxC.'!$O$209)","v":""},{"$f":"IF('800111a - Nota. Detalle de CxC.'!$O$210=\"\",\"\",'800111a - Nota. Detalle de CxC.'!$O$210)","v":""},{"$f":"IF('800111a - Nota. Detalle de CxC.'!$O$211=\"\",\"\",'800111a - Nota. Detalle de CxC.'!$O$211)","v":""},{"$f":"IF('800111a - Nota. Detalle de CxC.'!$O$212=\"\",\"\",'800111a - Nota. Detalle de CxC.'!$O$212)","v":""},{"$f":"IF('800111a - Nota. Detalle de CxC.'!$O$213=\"\",\"\",'800111a - Nota. Detalle de CxC.'!$O$213)","v":""},{"$f":"IF('800111a - Nota. Detalle de CxC.'!$O$214=\"\",\"\",'800111a - Nota. Detalle de CxC.'!$O$214)","v":""},{"$f":"IF('800111a - Nota. Detalle de CxC.'!$O$215=\"\",\"\",'800111a - Nota. Detalle de CxC.'!$O$215)","v":""},{"$f":"IF('800111a - Nota. Detalle de CxC.'!$O$216=\"\",\"\",'800111a - Nota. Detalle de CxC.'!$O$216)","v":""},{"$f":"IF('800111a - Nota. Detalle de CxC.'!$O$217=\"\",\"\",'800111a - Nota. Detalle de CxC.'!$O$217)","v":""},{"$f":"IF('800111a - Nota. Detalle de CxC.'!$O$218=\"\",\"\",'800111a - Nota. Detalle de CxC.'!$O$218)","v":""},{"$f":"IF('800111a - Nota. Detalle de CxC.'!$O$219=\"\",\"\",'800111a - Nota. Detalle de CxC.'!$O$219)","v":""},{"$f":"IF('800111a - Nota. Detalle de CxC.'!$O$220=\"\",\"\",'800111a - Nota. Detalle de CxC.'!$O$220)","v":""},{"$f":"IF('800111a - Nota. Detalle de CxC.'!$O$221=\"\",\"\",'800111a - Nota. Detalle de CxC.'!$O$221)","v":""},{"$f":"IF('800111a - Nota. Detalle de CxC.'!$O$222=\"\",\"\",'800111a - Nota. Detalle de CxC.'!$O$222)","v":""},{"$f":"IF('800111a - Nota. Detalle de CxC.'!$O$223=\"\",\"\",'800111a - Nota. Detalle de CxC.'!$O$223)","v":""},{"$f":"IF('800111a - Nota. Detalle de CxC.'!$O$224=\"\",\"\",'800111a - Nota. Detalle de CxC.'!$O$224)","v":""},{"$f":"IF('800111a - Nota. Detalle de CxC.'!$O$225=\"\",\"\",'800111a - Nota. Detalle de CxC.'!$O$225)","v":""},{"$f":"IF('800111a - Nota. Detalle de CxC.'!$O$226=\"\",\"\",'800111a - Nota. Detalle de CxC.'!$O$226)","v":""},{"$f":"IF('800111a - Nota. Detalle de CxC.'!$O$227=\"\",\"\",'800111a - Nota. Detalle de CxC.'!$O$227)","v":""},{"$f":"IF('800111a - Nota. Detalle de CxC.'!$O$228=\"\",\"\",'800111a - Nota. Detalle de CxC.'!$O$228)","v":""},{"$f":"IF('800111a - Nota. Detalle de CxC.'!$O$229=\"\",\"\",'800111a - Nota. Detalle de CxC.'!$O$229)","v":""},{"$f":"IF('800111a - Nota. Detalle de CxC.'!$O$230=\"\",\"\",'800111a - Nota. Detalle de CxC.'!$O$230)","v":""},{"$f":"IF('800111a - Nota. Detalle de CxC.'!$O$231=\"\",\"\",'800111a - Nota. Detalle de CxC.'!$O$231)","v":""},{"$f":"IF('800111a - Nota. Detalle de CxC.'!$O$232=\"\",\"\",'800111a - Nota. Detalle de CxC.'!$O$232)","v":""},{"$f":"IF('800111a - Nota. Detalle de CxC.'!$O$233=\"\",\"\",'800111a - Nota. Detalle de CxC.'!$O$233)","v":""},{"$f":"IF('800111a - Nota. Detalle de CxC.'!$O$234=\"\",\"\",'800111a - Nota. Detalle de CxC.'!$O$234)","v":""},{"$f":"IF('800111a - Nota. Detalle de CxC.'!$O$235=\"\",\"\",'800111a - Nota. Detalle de CxC.'!$O$235)","v":""},{"$f":"IF('800111a - Nota. Detalle de CxC.'!$O$236=\"\",\"\",'800111a - Nota. Detalle de CxC.'!$O$236)","v":""},{"$f":"IF('800111a - Nota. Detalle de CxC.'!$O$237=\"\",\"\",'800111a - Nota. Detalle de CxC.'!$O$237)","v":""},null,null,null,{"$f":"IF('800111a - Nota. Detalle de CxC.'!$O$241=\"\",\"\",'800111a - Nota. Detalle de CxC.'!$O$241)","v":""},{"$f":"IF('800111a - Nota. Detalle de CxC.'!$O$242=\"\",\"\",'800111a - Nota. Detalle de CxC.'!$O$242)","v":""},{"$f":"IF('800111a - Nota. Detalle de CxC.'!$O$243=\"\",\"\",'800111a - Nota. Detalle de CxC.'!$O$243)","v":""},{"$f":"IF('800111a - Nota. Detalle de CxC.'!$O$244=\"\",\"\",'800111a - Nota. Detalle de CxC.'!$O$244)","v":""},{"$f":"IF('800111a - Nota. Detalle de CxC.'!$O$245=\"\",\"\",'800111a - Nota. Detalle de CxC.'!$O$245)","v":""},{"$f":"IF('800111a - Nota. Detalle de CxC.'!$O$246=\"\",\"\",'800111a - Nota. Detalle de CxC.'!$O$246)","v":""},{"$f":"IF('800111a - Nota. Detalle de CxC.'!$O$247=\"\",\"\",'800111a - Nota. Detalle de CxC.'!$O$247)","v":""},{"$f":"IF('800111a - Nota. Detalle de CxC.'!$O$248=\"\",\"\",'800111a - Nota. Detalle de CxC.'!$O$248)","v":""},{"$f":"IF('800111a - Nota. Detalle de CxC.'!$O$249=\"\",\"\",'800111a - Nota. Detalle de CxC.'!$O$249)","v":""},{"$f":"IF('800111a - Nota. Detalle de CxC.'!$O$250=\"\",\"\",'800111a - Nota. Detalle de CxC.'!$O$250)","v":""},{"$f":"IF('800111a - Nota. Detalle de CxC.'!$O$251=\"\",\"\",'800111a - Nota. Detalle de CxC.'!$O$251)","v":""},{"$f":"IF('800111a - Nota. Detalle de CxC.'!$O$252=\"\",\"\",'800111a - Nota. Detalle de CxC.'!$O$252)","v":""},{"$f":"IF('800111a - Nota. Detalle de CxC.'!$O$253=\"\",\"\",'800111a - Nota. Detalle de CxC.'!$O$253)","v":""},{"$f":"IF('800111a - Nota. Detalle de CxC.'!$O$254=\"\",\"\",'800111a - Nota. Detalle de CxC.'!$O$254)","v":""},{"$f":"IF('800111a - Nota. Detalle de CxC.'!$O$255=\"\",\"\",'800111a - Nota. Detalle de CxC.'!$O$255)","v":""},{"$f":"IF('800111a - Nota. Detalle de CxC.'!$O$256=\"\",\"\",'800111a - Nota. Detalle de CxC.'!$O$256)","v":""},{"$f":"IF('800111a - Nota. Detalle de CxC.'!$O$257=\"\",\"\",'800111a - Nota. Detalle de CxC.'!$O$257)","v":""},{"$f":"IF('800111a - Nota. Detalle de CxC.'!$O$258=\"\",\"\",'800111a - Nota. Detalle de CxC.'!$O$258)","v":""},{"$f":"IF('800111a - Nota. Detalle de CxC.'!$O$259=\"\",\"\",'800111a - Nota. Detalle de CxC.'!$O$259)","v":""},{"$f":"IF('800111a - Nota. Detalle de CxC.'!$O$260=\"\",\"\",'800111a - Nota. Detalle de CxC.'!$O$260)","v":""},{"$f":"IF('800111a - Nota. Detalle de CxC.'!$O$261=\"\",\"\",'800111a - Nota. Detalle de CxC.'!$O$261)","v":""},{"$f":"IF('800111a - Nota. Detalle de CxC.'!$O$262=\"\",\"\",'800111a - Nota. Detalle de CxC.'!$O$262)","v":""},{"$f":"IF('800111a - Nota. Detalle de CxC.'!$O$263=\"\",\"\",'800111a - Nota. Detalle de CxC.'!$O$263)","v":""},{"$f":"IF('800111a - Nota. Detalle de CxC.'!$O$264=\"\",\"\",'800111a - Nota. Detalle de CxC.'!$O$264)","v":""},{"$f":"IF('800111a - Nota. Detalle de CxC.'!$O$265=\"\",\"\",'800111a - Nota. Detalle de CxC.'!$O$265)","v":""},{"$f":"IF('800111a - Nota. Detalle de CxC.'!$O$266=\"\",\"\",'800111a - Nota. Detalle de CxC.'!$O$266)","v":""},{"$f":"IF('800111a - Nota. Detalle de CxC.'!$O$267=\"\",\"\",'800111a - Nota. Detalle de CxC.'!$O$267)","v":""},{"$f":"IF('800111a - Nota. Detalle de CxC.'!$O$268=\"\",\"\",'800111a - Nota. Detalle de CxC.'!$O$268)","v":""},{"$f":"IF('800111a - Nota. Detalle de CxC.'!$O$269=\"\",\"\",'800111a - Nota. Detalle de CxC.'!$O$269)","v":""},{"$f":"IF('800111a - Nota. Detalle de CxC.'!$O$270=\"\",\"\",'800111a - Nota. Detalle de CxC.'!$O$270)","v":""},{"$f":"IF('800111a - Nota. Detalle de CxC.'!$O$271=\"\",\"\",'800111a - Nota. Detalle de CxC.'!$O$271)","v":""},{"$f":"IF('800111a - Nota. Detalle de CxC.'!$O$272=\"\",\"\",'800111a - Nota. Detalle de CxC.'!$O$272)","v":""},{"$f":"IF('800111a - Nota. Detalle de CxC.'!$O$273=\"\",\"\",'800111a - Nota. Detalle de CxC.'!$O$273)","v":""},{"$f":"IF('800111a - Nota. Detalle de CxC.'!$O$274=\"\",\"\",'800111a - Nota. Detalle de CxC.'!$O$274)","v":""},{"$f":"IF('800111a - Nota. Detalle de CxC.'!$O$275=\"\",\"\",'800111a - Nota. Detalle de CxC.'!$O$275)","v":""},{"$f":"IF('800111a - Nota. Detalle de CxC.'!$O$276=\"\",\"\",'800111a - Nota. Detalle de CxC.'!$O$276)","v":""},{"$f":"IF('800111a - Nota. Detalle de CxC.'!$O$277=\"\",\"\",'800111a - Nota. Detalle de CxC.'!$O$277)","v":""},{"$f":"IF('800111a - Nota. Detalle de CxC.'!$O$278=\"\",\"\",'800111a - Nota. Detalle de CxC.'!$O$278)","v":""},{"$f":"IF('800111a - Nota. Detalle de CxC.'!$O$279=\"\",\"\",'800111a - Nota. Detalle de CxC.'!$O$279)","v":""},{"$f":"IF('800111a - Nota. Detalle de CxC.'!$O$280=\"\",\"\",'800111a - Nota. Detalle de CxC.'!$O$280)","v":""},{"$f":"IF('800111a - Nota. Detalle de CxC.'!$O$281=\"\",\"\",'800111a - Nota. Detalle de CxC.'!$O$281)","v":""},{"$f":"IF('800111a - Nota. Detalle de CxC.'!$O$282=\"\",\"\",'800111a - Nota. Detalle de CxC.'!$O$282)","v":""},{"$f":"IF('800111a - Nota. Detalle de CxC.'!$O$283=\"\",\"\",'800111a - Nota. Detalle de CxC.'!$O$283)","v":""},{"$f":"IF('800111a - Nota. Detalle de CxC.'!$O$284=\"\",\"\",'800111a - Nota. Detalle de CxC.'!$O$284)","v":""},{"$f":"IF('800111a - Nota. Detalle de CxC.'!$O$285=\"\",\"\",'800111a - Nota. Detalle de CxC.'!$O$285)","v":""},{"$f":"IF('800111a - Nota. Detalle de CxC.'!$O$286=\"\",\"\",'800111a - Nota. Detalle de CxC.'!$O$286)","v":""},{"$f":"IF('800111a - Nota. Detalle de CxC.'!$O$287=\"\",\"\",'800111a - Nota. Detalle de CxC.'!$O$287)","v":""},{"$f":"IF('800111a - Nota. Detalle de CxC.'!$O$288=\"\",\"\",'800111a - Nota. Detalle de CxC.'!$O$288)","v":""},{"$f":"IF('800111a - Nota. Detalle de CxC.'!$O$289=\"\",\"\",'800111a - Nota. Detalle de CxC.'!$O$289)","v":""},{"$f":"IF('800111a - Nota. Detalle de CxC.'!$O$290=\"\",\"\",'800111a - Nota. Detalle de CxC.'!$O$290)","v":""},null,null,null,{"$f":"IF('800111a - Nota. Detalle de CxC.'!$O$294=\"\",\"\",'800111a - Nota. Detalle de CxC.'!$O$294)","v":""},{"$f":"IF('800111a - Nota. Detalle de CxC.'!$O$295=\"\",\"\",'800111a - Nota. Detalle de CxC.'!$O$295)","v":""},{"$f":"IF('800111a - Nota. Detalle de CxC.'!$O$296=\"\",\"\",'800111a - Nota. Detalle de CxC.'!$O$296)","v":""},{"$f":"IF('800111a - Nota. Detalle de CxC.'!$O$297=\"\",\"\",'800111a - Nota. Detalle de CxC.'!$O$297)","v":""},{"$f":"IF('800111a - Nota. Detalle de CxC.'!$O$298=\"\",\"\",'800111a - Nota. Detalle de CxC.'!$O$298)","v":""},{"$f":"IF('800111a - Nota. Detalle de CxC.'!$O$299=\"\",\"\",'800111a - Nota. Detalle de CxC.'!$O$299)","v":""},{"$f":"IF('800111a - Nota. Detalle de CxC.'!$O$300=\"\",\"\",'800111a - Nota. Detalle de CxC.'!$O$300)","v":""},{"$f":"IF('800111a - Nota. Detalle de CxC.'!$O$301=\"\",\"\",'800111a - Nota. Detalle de CxC.'!$O$301)","v":""},{"$f":"IF('800111a - Nota. Detalle de CxC.'!$O$302=\"\",\"\",'800111a - Nota. Detalle de CxC.'!$O$302)","v":""},{"$f":"IF('800111a - Nota. Detalle de CxC.'!$O$303=\"\",\"\",'800111a - Nota. Detalle de CxC.'!$O$303)","v":""},{"$f":"IF('800111a - Nota. Detalle de CxC.'!$O$304=\"\",\"\",'800111a - Nota. Detalle de CxC.'!$O$304)","v":""},{"$f":"IF('800111a - Nota. Detalle de CxC.'!$O$305=\"\",\"\",'800111a - Nota. Detalle de CxC.'!$O$305)","v":""},{"$f":"IF('800111a - Nota. Detalle de CxC.'!$O$306=\"\",\"\",'800111a - Nota. Detalle de CxC.'!$O$306)","v":""},{"$f":"IF('800111a - Nota. Detalle de CxC.'!$O$307=\"\",\"\",'800111a - Nota. Detalle de CxC.'!$O$307)","v":""},{"$f":"IF('800111a - Nota. Detalle de CxC.'!$O$308=\"\",\"\",'800111a - Nota. Detalle de CxC.'!$O$308)","v":""},{"$f":"IF('800111a - Nota. Detalle de CxC.'!$O$309=\"\",\"\",'800111a - Nota. Detalle de CxC.'!$O$309)","v":""},{"$f":"IF('800111a - Nota. Detalle de CxC.'!$O$310=\"\",\"\",'800111a - Nota. Detalle de CxC.'!$O$310)","v":""},{"$f":"IF('800111a - Nota. Detalle de CxC.'!$O$311=\"\",\"\",'800111a - Nota. Detalle de CxC.'!$O$311)","v":""},{"$f":"IF('800111a - Nota. Detalle de CxC.'!$O$312=\"\",\"\",'800111a - Nota. Detalle de CxC.'!$O$312)","v":""},{"$f":"IF('800111a - Nota. Detalle de CxC.'!$O$313=\"\",\"\",'800111a - Nota. Detalle de CxC.'!$O$313)","v":""},{"$f":"IF('800111a - Nota. Detalle de CxC.'!$O$314=\"\",\"\",'800111a - Nota. Detalle de CxC.'!$O$314)","v":""},{"$f":"IF('800111a - Nota. Detalle de CxC.'!$O$315=\"\",\"\",'800111a - Nota. Detalle de CxC.'!$O$315)","v":""},{"$f":"IF('800111a - Nota. Detalle de CxC.'!$O$316=\"\",\"\",'800111a - Nota. Detalle de CxC.'!$O$316)","v":""},{"$f":"IF('800111a - Nota. Detalle de CxC.'!$O$317=\"\",\"\",'800111a - Nota. Detalle de CxC.'!$O$317)","v":""},{"$f":"IF('800111a - Nota. Detalle de CxC.'!$O$318=\"\",\"\",'800111a - Nota. Detalle de CxC.'!$O$318)","v":""},{"$f":"IF('800111a - Nota. Detalle de CxC.'!$O$319=\"\",\"\",'800111a - Nota. Detalle de CxC.'!$O$319)","v":""},{"$f":"IF('800111a - Nota. Detalle de CxC.'!$O$320=\"\",\"\",'800111a - Nota. Detalle de CxC.'!$O$320)","v":""},{"$f":"IF('800111a - Nota. Detalle de CxC.'!$O$321=\"\",\"\",'800111a - Nota. Detalle de CxC.'!$O$321)","v":""},{"$f":"IF('800111a - Nota. Detalle de CxC.'!$O$322=\"\",\"\",'800111a - Nota. Detalle de CxC.'!$O$322)","v":""},{"$f":"IF('800111a - Nota. Detalle de CxC.'!$O$323=\"\",\"\",'800111a - Nota. Detalle de CxC.'!$O$323)","v":""},{"$f":"IF('800111a - Nota. Detalle de CxC.'!$O$324=\"\",\"\",'800111a - Nota. Detalle de CxC.'!$O$324)","v":""},{"$f":"IF('800111a - Nota. Detalle de CxC.'!$O$325=\"\",\"\",'800111a - Nota. Detalle de CxC.'!$O$325)","v":""},{"$f":"IF('800111a - Nota. Detalle de CxC.'!$O$326=\"\",\"\",'800111a - Nota. Detalle de CxC.'!$O$326)","v":""},{"$f":"IF('800111a - Nota. Detalle de CxC.'!$O$327=\"\",\"\",'800111a - Nota. Detalle de CxC.'!$O$327)","v":""},{"$f":"IF('800111a - Nota. Detalle de CxC.'!$O$328=\"\",\"\",'800111a - Nota. Detalle de CxC.'!$O$328)","v":""},{"$f":"IF('800111a - Nota. Detalle de CxC.'!$O$329=\"\",\"\",'800111a - Nota. Detalle de CxC.'!$O$329)","v":""},{"$f":"IF('800111a - Nota. Detalle de CxC.'!$O$330=\"\",\"\",'800111a - Nota. Detalle de CxC.'!$O$330)","v":""},{"$f":"IF('800111a - Nota. Detalle de CxC.'!$O$331=\"\",\"\",'800111a - Nota. Detalle de CxC.'!$O$331)","v":""},{"$f":"IF('800111a - Nota. Detalle de CxC.'!$O$332=\"\",\"\",'800111a - Nota. Detalle de CxC.'!$O$332)","v":""},{"$f":"IF('800111a - Nota. Detalle de CxC.'!$O$333=\"\",\"\",'800111a - Nota. Detalle de CxC.'!$O$333)","v":""},{"$f":"IF('800111a - Nota. Detalle de CxC.'!$O$334=\"\",\"\",'800111a - Nota. Detalle de CxC.'!$O$334)","v":""},{"$f":"IF('800111a - Nota. Detalle de CxC.'!$O$335=\"\",\"\",'800111a - Nota. Detalle de CxC.'!$O$335)","v":""},{"$f":"IF('800111a - Nota. Detalle de CxC.'!$O$336=\"\",\"\",'800111a - Nota. Detalle de CxC.'!$O$336)","v":""},{"$f":"IF('800111a - Nota. Detalle de CxC.'!$O$337=\"\",\"\",'800111a - Nota. Detalle de CxC.'!$O$337)","v":""},{"$f":"IF('800111a - Nota. Detalle de CxC.'!$O$338=\"\",\"\",'800111a - Nota. Detalle de CxC.'!$O$338)","v":""},{"$f":"IF('800111a - Nota. Detalle de CxC.'!$O$339=\"\",\"\",'800111a - Nota. Detalle de CxC.'!$O$339)","v":""},{"$f":"IF('800111a - Nota. Detalle de CxC.'!$O$340=\"\",\"\",'800111a - Nota. Detalle de CxC.'!$O$340)","v":""},{"$f":"IF('800111a - Nota. Detalle de CxC.'!$O$341=\"\",\"\",'800111a - Nota. Detalle de CxC.'!$O$341)","v":""},{"$f":"IF('800111a - Nota. Detalle de CxC.'!$O$342=\"\",\"\",'800111a - Nota. Detalle de CxC.'!$O$342)","v":""},{"$f":"IF('800111a - Nota. Detalle de CxC.'!$O$343=\"\",\"\",'800111a - Nota. Detalle de CxC.'!$O$343)","v":""}]
[null,"1;2","co-svsp-core:PaisDeudorCxC","País deudor",null,null,{"$f":"IF('800111a - Nota. Detalle de CxC.'!$P$188=\"\",\"\",'800111a - Nota. Detalle de CxC.'!$P$188)","v":""},{"$f":"IF('800111a - Nota. Detalle de CxC.'!$P$189=\"\",\"\",'800111a - Nota. Detalle de CxC.'!$P$189)","v":""},{"$f":"IF('800111a - Nota. Detalle de CxC.'!$P$190=\"\",\"\",'800111a - Nota. Detalle de CxC.'!$P$190)","v":""},{"$f":"IF('800111a - Nota. Detalle de CxC.'!$P$191=\"\",\"\",'800111a - Nota. Detalle de CxC.'!$P$191)","v":""},{"$f":"IF('800111a - Nota. Detalle de CxC.'!$P$192=\"\",\"\",'800111a - Nota. Detalle de CxC.'!$P$192)","v":""},{"$f":"IF('800111a - Nota. Detalle de CxC.'!$P$193=\"\",\"\",'800111a - Nota. Detalle de CxC.'!$P$193)","v":""},{"$f":"IF('800111a - Nota. Detalle de CxC.'!$P$194=\"\",\"\",'800111a - Nota. Detalle de CxC.'!$P$194)","v":""},{"$f":"IF('800111a - Nota. Detalle de CxC.'!$P$195=\"\",\"\",'800111a - Nota. Detalle de CxC.'!$P$195)","v":""},{"$f":"IF('800111a - Nota. Detalle de CxC.'!$P$196=\"\",\"\",'800111a - Nota. Detalle de CxC.'!$P$196)","v":""},{"$f":"IF('800111a - Nota. Detalle de CxC.'!$P$197=\"\",\"\",'800111a - Nota. Detalle de CxC.'!$P$197)","v":""},{"$f":"IF('800111a - Nota. Detalle de CxC.'!$P$198=\"\",\"\",'800111a - Nota. Detalle de CxC.'!$P$198)","v":""},{"$f":"IF('800111a - Nota. Detalle de CxC.'!$P$199=\"\",\"\",'800111a - Nota. Detalle de CxC.'!$P$199)","v":""},{"$f":"IF('800111a - Nota. Detalle de CxC.'!$P$200=\"\",\"\",'800111a - Nota. Detalle de CxC.'!$P$200)","v":""},{"$f":"IF('800111a - Nota. Detalle de CxC.'!$P$201=\"\",\"\",'800111a - Nota. Detalle de CxC.'!$P$201)","v":""},{"$f":"IF('800111a - Nota. Detalle de CxC.'!$P$202=\"\",\"\",'800111a - Nota. Detalle de CxC.'!$P$202)","v":""},{"$f":"IF('800111a - Nota. Detalle de CxC.'!$P$203=\"\",\"\",'800111a - Nota. Detalle de CxC.'!$P$203)","v":""},{"$f":"IF('800111a - Nota. Detalle de CxC.'!$P$204=\"\",\"\",'800111a - Nota. Detalle de CxC.'!$P$204)","v":""},{"$f":"IF('800111a - Nota. Detalle de CxC.'!$P$205=\"\",\"\",'800111a - Nota. Detalle de CxC.'!$P$205)","v":""},{"$f":"IF('800111a - Nota. Detalle de CxC.'!$P$206=\"\",\"\",'800111a - Nota. Detalle de CxC.'!$P$206)","v":""},{"$f":"IF('800111a - Nota. Detalle de CxC.'!$P$207=\"\",\"\",'800111a - Nota. Detalle de CxC.'!$P$207)","v":""},{"$f":"IF('800111a - Nota. Detalle de CxC.'!$P$208=\"\",\"\",'800111a - Nota. Detalle de CxC.'!$P$208)","v":""},{"$f":"IF('800111a - Nota. Detalle de CxC.'!$P$209=\"\",\"\",'800111a - Nota. Detalle de CxC.'!$P$209)","v":""},{"$f":"IF('800111a - Nota. Detalle de CxC.'!$P$210=\"\",\"\",'800111a - Nota. Detalle de CxC.'!$P$210)","v":""},{"$f":"IF('800111a - Nota. Detalle de CxC.'!$P$211=\"\",\"\",'800111a - Nota. Detalle de CxC.'!$P$211)","v":""},{"$f":"IF('800111a - Nota. Detalle de CxC.'!$P$212=\"\",\"\",'800111a - Nota. Detalle de CxC.'!$P$212)","v":""},{"$f":"IF('800111a - Nota. Detalle de CxC.'!$P$213=\"\",\"\",'800111a - Nota. Detalle de CxC.'!$P$213)","v":""},{"$f":"IF('800111a - Nota. Detalle de CxC.'!$P$214=\"\",\"\",'800111a - Nota. Detalle de CxC.'!$P$214)","v":""},{"$f":"IF('800111a - Nota. Detalle de CxC.'!$P$215=\"\",\"\",'800111a - Nota. Detalle de CxC.'!$P$215)","v":""},{"$f":"IF('800111a - Nota. Detalle de CxC.'!$P$216=\"\",\"\",'800111a - Nota. Detalle de CxC.'!$P$216)","v":""},{"$f":"IF('800111a - Nota. Detalle de CxC.'!$P$217=\"\",\"\",'800111a - Nota. Detalle de CxC.'!$P$217)","v":""},{"$f":"IF('800111a - Nota. Detalle de CxC.'!$P$218=\"\",\"\",'800111a - Nota. Detalle de CxC.'!$P$218)","v":""},{"$f":"IF('800111a - Nota. Detalle de CxC.'!$P$219=\"\",\"\",'800111a - Nota. Detalle de CxC.'!$P$219)","v":""},{"$f":"IF('800111a - Nota. Detalle de CxC.'!$P$220=\"\",\"\",'800111a - Nota. Detalle de CxC.'!$P$220)","v":""},{"$f":"IF('800111a - Nota. Detalle de CxC.'!$P$221=\"\",\"\",'800111a - Nota. Detalle de CxC.'!$P$221)","v":""},{"$f":"IF('800111a - Nota. Detalle de CxC.'!$P$222=\"\",\"\",'800111a - Nota. Detalle de CxC.'!$P$222)","v":""},{"$f":"IF('800111a - Nota. Detalle de CxC.'!$P$223=\"\",\"\",'800111a - Nota. Detalle de CxC.'!$P$223)","v":""},{"$f":"IF('800111a - Nota. Detalle de CxC.'!$P$224=\"\",\"\",'800111a - Nota. Detalle de CxC.'!$P$224)","v":""},{"$f":"IF('800111a - Nota. Detalle de CxC.'!$P$225=\"\",\"\",'800111a - Nota. Detalle de CxC.'!$P$225)","v":""},{"$f":"IF('800111a - Nota. Detalle de CxC.'!$P$226=\"\",\"\",'800111a - Nota. Detalle de CxC.'!$P$226)","v":""},{"$f":"IF('800111a - Nota. Detalle de CxC.'!$P$227=\"\",\"\",'800111a - Nota. Detalle de CxC.'!$P$227)","v":""},{"$f":"IF('800111a - Nota. Detalle de CxC.'!$P$228=\"\",\"\",'800111a - Nota. Detalle de CxC.'!$P$228)","v":""},{"$f":"IF('800111a - Nota. Detalle de CxC.'!$P$229=\"\",\"\",'800111a - Nota. Detalle de CxC.'!$P$229)","v":""},{"$f":"IF('800111a - Nota. Detalle de CxC.'!$P$230=\"\",\"\",'800111a - Nota. Detalle de CxC.'!$P$230)","v":""},{"$f":"IF('800111a - Nota. Detalle de CxC.'!$P$231=\"\",\"\",'800111a - Nota. Detalle de CxC.'!$P$231)","v":""},{"$f":"IF('800111a - Nota. Detalle de CxC.'!$P$232=\"\",\"\",'800111a - Nota. Detalle de CxC.'!$P$232)","v":""},{"$f":"IF('800111a - Nota. Detalle de CxC.'!$P$233=\"\",\"\",'800111a - Nota. Detalle de CxC.'!$P$233)","v":""},{"$f":"IF('800111a - Nota. Detalle de CxC.'!$P$234=\"\",\"\",'800111a - Nota. Detalle de CxC.'!$P$234)","v":""},{"$f":"IF('800111a - Nota. Detalle de CxC.'!$P$235=\"\",\"\",'800111a - Nota. Detalle de CxC.'!$P$235)","v":""},{"$f":"IF('800111a - Nota. Detalle de CxC.'!$P$236=\"\",\"\",'800111a - Nota. Detalle de CxC.'!$P$236)","v":""},{"$f":"IF('800111a - Nota. Detalle de CxC.'!$P$237=\"\",\"\",'800111a - Nota. Detalle de CxC.'!$P$237)","v":""},null,null,null,{"$f":"IF('800111a - Nota. Detalle de CxC.'!$P$241=\"\",\"\",'800111a - Nota. Detalle de CxC.'!$P$241)","v":""},{"$f":"IF('800111a - Nota. Detalle de CxC.'!$P$242=\"\",\"\",'800111a - Nota. Detalle de CxC.'!$P$242)","v":""},{"$f":"IF('800111a - Nota. Detalle de CxC.'!$P$243=\"\",\"\",'800111a - Nota. Detalle de CxC.'!$P$243)","v":""},{"$f":"IF('800111a - Nota. Detalle de CxC.'!$P$244=\"\",\"\",'800111a - Nota. Detalle de CxC.'!$P$244)","v":""},{"$f":"IF('800111a - Nota. Detalle de CxC.'!$P$245=\"\",\"\",'800111a - Nota. Detalle de CxC.'!$P$245)","v":""},{"$f":"IF('800111a - Nota. Detalle de CxC.'!$P$246=\"\",\"\",'800111a - Nota. Detalle de CxC.'!$P$246)","v":""},{"$f":"IF('800111a - Nota. Detalle de CxC.'!$P$247=\"\",\"\",'800111a - Nota. Detalle de CxC.'!$P$247)","v":""},{"$f":"IF('800111a - Nota. Detalle de CxC.'!$P$248=\"\",\"\",'800111a - Nota. Detalle de CxC.'!$P$248)","v":""},{"$f":"IF('800111a - Nota. Detalle de CxC.'!$P$249=\"\",\"\",'800111a - Nota. Detalle de CxC.'!$P$249)","v":""},{"$f":"IF('800111a - Nota. Detalle de CxC.'!$P$250=\"\",\"\",'800111a - Nota. Detalle de CxC.'!$P$250)","v":""},{"$f":"IF('800111a - Nota. Detalle de CxC.'!$P$251=\"\",\"\",'800111a - Nota. Detalle de CxC.'!$P$251)","v":""},{"$f":"IF('800111a - Nota. Detalle de CxC.'!$P$252=\"\",\"\",'800111a - Nota. Detalle de CxC.'!$P$252)","v":""},{"$f":"IF('800111a - Nota. Detalle de CxC.'!$P$253=\"\",\"\",'800111a - Nota. Detalle de CxC.'!$P$253)","v":""},{"$f":"IF('800111a - Nota. Detalle de CxC.'!$P$254=\"\",\"\",'800111a - Nota. Detalle de CxC.'!$P$254)","v":""},{"$f":"IF('800111a - Nota. Detalle de CxC.'!$P$255=\"\",\"\",'800111a - Nota. Detalle de CxC.'!$P$255)","v":""},{"$f":"IF('800111a - Nota. Detalle de CxC.'!$P$256=\"\",\"\",'800111a - Nota. Detalle de CxC.'!$P$256)","v":""},{"$f":"IF('800111a - Nota. Detalle de CxC.'!$P$257=\"\",\"\",'800111a - Nota. Detalle de CxC.'!$P$257)","v":""},{"$f":"IF('800111a - Nota. Detalle de CxC.'!$P$258=\"\",\"\",'800111a - Nota. Detalle de CxC.'!$P$258)","v":""},{"$f":"IF('800111a - Nota. Detalle de CxC.'!$P$259=\"\",\"\",'800111a - Nota. Detalle de CxC.'!$P$259)","v":""},{"$f":"IF('800111a - Nota. Detalle de CxC.'!$P$260=\"\",\"\",'800111a - Nota. Detalle de CxC.'!$P$260)","v":""},{"$f":"IF('800111a - Nota. Detalle de CxC.'!$P$261=\"\",\"\",'800111a - Nota. Detalle de CxC.'!$P$261)","v":""},{"$f":"IF('800111a - Nota. Detalle de CxC.'!$P$262=\"\",\"\",'800111a - Nota. Detalle de CxC.'!$P$262)","v":""},{"$f":"IF('800111a - Nota. Detalle de CxC.'!$P$263=\"\",\"\",'800111a - Nota. Detalle de CxC.'!$P$263)","v":""},{"$f":"IF('800111a - Nota. Detalle de CxC.'!$P$264=\"\",\"\",'800111a - Nota. Detalle de CxC.'!$P$264)","v":""},{"$f":"IF('800111a - Nota. Detalle de CxC.'!$P$265=\"\",\"\",'800111a - Nota. Detalle de CxC.'!$P$265)","v":""},{"$f":"IF('800111a - Nota. Detalle de CxC.'!$P$266=\"\",\"\",'800111a - Nota. Detalle de CxC.'!$P$266)","v":""},{"$f":"IF('800111a - Nota. Detalle de CxC.'!$P$267=\"\",\"\",'800111a - Nota. Detalle de CxC.'!$P$267)","v":""},{"$f":"IF('800111a - Nota. Detalle de CxC.'!$P$268=\"\",\"\",'800111a - Nota. Detalle de CxC.'!$P$268)","v":""},{"$f":"IF('800111a - Nota. Detalle de CxC.'!$P$269=\"\",\"\",'800111a - Nota. Detalle de CxC.'!$P$269)","v":""},{"$f":"IF('800111a - Nota. Detalle de CxC.'!$P$270=\"\",\"\",'800111a - Nota. Detalle de CxC.'!$P$270)","v":""},{"$f":"IF('800111a - Nota. Detalle de CxC.'!$P$271=\"\",\"\",'800111a - Nota. Detalle de CxC.'!$P$271)","v":""},{"$f":"IF('800111a - Nota. Detalle de CxC.'!$P$272=\"\",\"\",'800111a - Nota. Detalle de CxC.'!$P$272)","v":""},{"$f":"IF('800111a - Nota. Detalle de CxC.'!$P$273=\"\",\"\",'800111a - Nota. Detalle de CxC.'!$P$273)","v":""},{"$f":"IF('800111a - Nota. Detalle de CxC.'!$P$274=\"\",\"\",'800111a - Nota. Detalle de CxC.'!$P$274)","v":""},{"$f":"IF('800111a - Nota. Detalle de CxC.'!$P$275=\"\",\"\",'800111a - Nota. Detalle de CxC.'!$P$275)","v":""},{"$f":"IF('800111a - Nota. Detalle de CxC.'!$P$276=\"\",\"\",'800111a - Nota. Detalle de CxC.'!$P$276)","v":""},{"$f":"IF('800111a - Nota. Detalle de CxC.'!$P$277=\"\",\"\",'800111a - Nota. Detalle de CxC.'!$P$277)","v":""},{"$f":"IF('800111a - Nota. Detalle de CxC.'!$P$278=\"\",\"\",'800111a - Nota. Detalle de CxC.'!$P$278)","v":""},{"$f":"IF('800111a - Nota. Detalle de CxC.'!$P$279=\"\",\"\",'800111a - Nota. Detalle de CxC.'!$P$279)","v":""},{"$f":"IF('800111a - Nota. Detalle de CxC.'!$P$280=\"\",\"\",'800111a - Nota. Detalle de CxC.'!$P$280)","v":""},{"$f":"IF('800111a - Nota. Detalle de CxC.'!$P$281=\"\",\"\",'800111a - Nota. Detalle de CxC.'!$P$281)","v":""},{"$f":"IF('800111a - Nota. Detalle de CxC.'!$P$282=\"\",\"\",'800111a - Nota. Detalle de CxC.'!$P$282)","v":""},{"$f":"IF('800111a - Nota. Detalle de CxC.'!$P$283=\"\",\"\",'800111a - Nota. Detalle de CxC.'!$P$283)","v":""},{"$f":"IF('800111a - Nota. Detalle de CxC.'!$P$284=\"\",\"\",'800111a - Nota. Detalle de CxC.'!$P$284)","v":""},{"$f":"IF('800111a - Nota. Detalle de CxC.'!$P$285=\"\",\"\",'800111a - Nota. Detalle de CxC.'!$P$285)","v":""},{"$f":"IF('800111a - Nota. Detalle de CxC.'!$P$286=\"\",\"\",'800111a - Nota. Detalle de CxC.'!$P$286)","v":""},{"$f":"IF('800111a - Nota. Detalle de CxC.'!$P$287=\"\",\"\",'800111a - Nota. Detalle de CxC.'!$P$287)","v":""},{"$f":"IF('800111a - Nota. Detalle de CxC.'!$P$288=\"\",\"\",'800111a - Nota. Detalle de CxC.'!$P$288)","v":""},{"$f":"IF('800111a - Nota. Detalle de CxC.'!$P$289=\"\",\"\",'800111a - Nota. Detalle de CxC.'!$P$289)","v":""},{"$f":"IF('800111a - Nota. Detalle de CxC.'!$P$290=\"\",\"\",'800111a - Nota. Detalle de CxC.'!$P$290)","v":""},null,null,null,{"$f":"IF('800111a - Nota. Detalle de CxC.'!$P$294=\"\",\"\",'800111a - Nota. Detalle de CxC.'!$P$294)","v":""},{"$f":"IF('800111a - Nota. Detalle de CxC.'!$P$295=\"\",\"\",'800111a - Nota. Detalle de CxC.'!$P$295)","v":""},{"$f":"IF('800111a - Nota. Detalle de CxC.'!$P$296=\"\",\"\",'800111a - Nota. Detalle de CxC.'!$P$296)","v":""},{"$f":"IF('800111a - Nota. Detalle de CxC.'!$P$297=\"\",\"\",'800111a - Nota. Detalle de CxC.'!$P$297)","v":""},{"$f":"IF('800111a - Nota. Detalle de CxC.'!$P$298=\"\",\"\",'800111a - Nota. Detalle de CxC.'!$P$298)","v":""},{"$f":"IF('800111a - Nota. Detalle de CxC.'!$P$299=\"\",\"\",'800111a - Nota. Detalle de CxC.'!$P$299)","v":""},{"$f":"IF('800111a - Nota. Detalle de CxC.'!$P$300=\"\",\"\",'800111a - Nota. Detalle de CxC.'!$P$300)","v":""},{"$f":"IF('800111a - Nota. Detalle de CxC.'!$P$301=\"\",\"\",'800111a - Nota. Detalle de CxC.'!$P$301)","v":""},{"$f":"IF('800111a - Nota. Detalle de CxC.'!$P$302=\"\",\"\",'800111a - Nota. Detalle de CxC.'!$P$302)","v":""},{"$f":"IF('800111a - Nota. Detalle de CxC.'!$P$303=\"\",\"\",'800111a - Nota. Detalle de CxC.'!$P$303)","v":""},{"$f":"IF('800111a - Nota. Detalle de CxC.'!$P$304=\"\",\"\",'800111a - Nota. Detalle de CxC.'!$P$304)","v":""},{"$f":"IF('800111a - Nota. Detalle de CxC.'!$P$305=\"\",\"\",'800111a - Nota. Detalle de CxC.'!$P$305)","v":""},{"$f":"IF('800111a - Nota. Detalle de CxC.'!$P$306=\"\",\"\",'800111a - Nota. Detalle de CxC.'!$P$306)","v":""},{"$f":"IF('800111a - Nota. Detalle de CxC.'!$P$307=\"\",\"\",'800111a - Nota. Detalle de CxC.'!$P$307)","v":""},{"$f":"IF('800111a - Nota. Detalle de CxC.'!$P$308=\"\",\"\",'800111a - Nota. Detalle de CxC.'!$P$308)","v":""},{"$f":"IF('800111a - Nota. Detalle de CxC.'!$P$309=\"\",\"\",'800111a - Nota. Detalle de CxC.'!$P$309)","v":""},{"$f":"IF('800111a - Nota. Detalle de CxC.'!$P$310=\"\",\"\",'800111a - Nota. Detalle de CxC.'!$P$310)","v":""},{"$f":"IF('800111a - Nota. Detalle de CxC.'!$P$311=\"\",\"\",'800111a - Nota. Detalle de CxC.'!$P$311)","v":""},{"$f":"IF('800111a - Nota. Detalle de CxC.'!$P$312=\"\",\"\",'800111a - Nota. Detalle de CxC.'!$P$312)","v":""},{"$f":"IF('800111a - Nota. Detalle de CxC.'!$P$313=\"\",\"\",'800111a - Nota. Detalle de CxC.'!$P$313)","v":""},{"$f":"IF('800111a - Nota. Detalle de CxC.'!$P$314=\"\",\"\",'800111a - Nota. Detalle de CxC.'!$P$314)","v":""},{"$f":"IF('800111a - Nota. Detalle de CxC.'!$P$315=\"\",\"\",'800111a - Nota. Detalle de CxC.'!$P$315)","v":""},{"$f":"IF('800111a - Nota. Detalle de CxC.'!$P$316=\"\",\"\",'800111a - Nota. Detalle de CxC.'!$P$316)","v":""},{"$f":"IF('800111a - Nota. Detalle de CxC.'!$P$317=\"\",\"\",'800111a - Nota. Detalle de CxC.'!$P$317)","v":""},{"$f":"IF('800111a - Nota. Detalle de CxC.'!$P$318=\"\",\"\",'800111a - Nota. Detalle de CxC.'!$P$318)","v":""},{"$f":"IF('800111a - Nota. Detalle de CxC.'!$P$319=\"\",\"\",'800111a - Nota. Detalle de CxC.'!$P$319)","v":""},{"$f":"IF('800111a - Nota. Detalle de CxC.'!$P$320=\"\",\"\",'800111a - Nota. Detalle de CxC.'!$P$320)","v":""},{"$f":"IF('800111a - Nota. Detalle de CxC.'!$P$321=\"\",\"\",'800111a - Nota. Detalle de CxC.'!$P$321)","v":""},{"$f":"IF('800111a - Nota. Detalle de CxC.'!$P$322=\"\",\"\",'800111a - Nota. Detalle de CxC.'!$P$322)","v":""},{"$f":"IF('800111a - Nota. Detalle de CxC.'!$P$323=\"\",\"\",'800111a - Nota. Detalle de CxC.'!$P$323)","v":""},{"$f":"IF('800111a - Nota. Detalle de CxC.'!$P$324=\"\",\"\",'800111a - Nota. Detalle de CxC.'!$P$324)","v":""},{"$f":"IF('800111a - Nota. Detalle de CxC.'!$P$325=\"\",\"\",'800111a - Nota. Detalle de CxC.'!$P$325)","v":""},{"$f":"IF('800111a - Nota. Detalle de CxC.'!$P$326=\"\",\"\",'800111a - Nota. Detalle de CxC.'!$P$326)","v":""},{"$f":"IF('800111a - Nota. Detalle de CxC.'!$P$327=\"\",\"\",'800111a - Nota. Detalle de CxC.'!$P$327)","v":""},{"$f":"IF('800111a - Nota. Detalle de CxC.'!$P$328=\"\",\"\",'800111a - Nota. Detalle de CxC.'!$P$328)","v":""},{"$f":"IF('800111a - Nota. Detalle de CxC.'!$P$329=\"\",\"\",'800111a - Nota. Detalle de CxC.'!$P$329)","v":""},{"$f":"IF('800111a - Nota. Detalle de CxC.'!$P$330=\"\",\"\",'800111a - Nota. Detalle de CxC.'!$P$330)","v":""},{"$f":"IF('800111a - Nota. Detalle de CxC.'!$P$331=\"\",\"\",'800111a - Nota. Detalle de CxC.'!$P$331)","v":""},{"$f":"IF('800111a - Nota. Detalle de CxC.'!$P$332=\"\",\"\",'800111a - Nota. Detalle de CxC.'!$P$332)","v":""},{"$f":"IF('800111a - Nota. Detalle de CxC.'!$P$333=\"\",\"\",'800111a - Nota. Detalle de CxC.'!$P$333)","v":""},{"$f":"IF('800111a - Nota. Detalle de CxC.'!$P$334=\"\",\"\",'800111a - Nota. Detalle de CxC.'!$P$334)","v":""},{"$f":"IF('800111a - Nota. Detalle de CxC.'!$P$335=\"\",\"\",'800111a - Nota. Detalle de CxC.'!$P$335)","v":""},{"$f":"IF('800111a - Nota. Detalle de CxC.'!$P$336=\"\",\"\",'800111a - Nota. Detalle de CxC.'!$P$336)","v":""},{"$f":"IF('800111a - Nota. Detalle de CxC.'!$P$337=\"\",\"\",'800111a - Nota. Detalle de CxC.'!$P$337)","v":""},{"$f":"IF('800111a - Nota. Detalle de CxC.'!$P$338=\"\",\"\",'800111a - Nota. Detalle de CxC.'!$P$338)","v":""},{"$f":"IF('800111a - Nota. Detalle de CxC.'!$P$339=\"\",\"\",'800111a - Nota. Detalle de CxC.'!$P$339)","v":""},{"$f":"IF('800111a - Nota. Detalle de CxC.'!$P$340=\"\",\"\",'800111a - Nota. Detalle de CxC.'!$P$340)","v":""},{"$f":"IF('800111a - Nota. Detalle de CxC.'!$P$341=\"\",\"\",'800111a - Nota. Detalle de CxC.'!$P$341)","v":""},{"$f":"IF('800111a - Nota. Detalle de CxC.'!$P$342=\"\",\"\",'800111a - Nota. Detalle de CxC.'!$P$342)","v":""},{"$f":"IF('800111a - Nota. Detalle de CxC.'!$P$343=\"\",\"\",'800111a - Nota. Detalle de CxC.'!$P$343)","v":""}]
[null,"1;2","co-svsp-core:SaldoCuentasPorCobrarCxC","Saldo cuentas por cobrar",null,null,{"$f":"IF('800111a - Nota. Detalle de CxC.'!$Q$188=\"\",\"\",'800111a - Nota. Detalle de CxC.'!$Q$188)","v":""},{"$f":"IF('800111a - Nota. Detalle de CxC.'!$Q$189=\"\",\"\",'800111a - Nota. Detalle de CxC.'!$Q$189)","v":""},{"$f":"IF('800111a - Nota. Detalle de CxC.'!$Q$190=\"\",\"\",'800111a - Nota. Detalle de CxC.'!$Q$190)","v":""},{"$f":"IF('800111a - Nota. Detalle de CxC.'!$Q$191=\"\",\"\",'800111a - Nota. Detalle de CxC.'!$Q$191)","v":""},{"$f":"IF('800111a - Nota. Detalle de CxC.'!$Q$192=\"\",\"\",'800111a - Nota. Detalle de CxC.'!$Q$192)","v":""},{"$f":"IF('800111a - Nota. Detalle de CxC.'!$Q$193=\"\",\"\",'800111a - Nota. Detalle de CxC.'!$Q$193)","v":""},{"$f":"IF('800111a - Nota. Detalle de CxC.'!$Q$194=\"\",\"\",'800111a - Nota. Detalle de CxC.'!$Q$194)","v":""},{"$f":"IF('800111a - Nota. Detalle de CxC.'!$Q$195=\"\",\"\",'800111a - Nota. Detalle de CxC.'!$Q$195)","v":""},{"$f":"IF('800111a - Nota. Detalle de CxC.'!$Q$196=\"\",\"\",'800111a - Nota. Detalle de CxC.'!$Q$196)","v":""},{"$f":"IF('800111a - Nota. Detalle de CxC.'!$Q$197=\"\",\"\",'800111a - Nota. Detalle de CxC.'!$Q$197)","v":""},{"$f":"IF('800111a - Nota. Detalle de CxC.'!$Q$198=\"\",\"\",'800111a - Nota. Detalle de CxC.'!$Q$198)","v":""},{"$f":"IF('800111a - Nota. Detalle de CxC.'!$Q$199=\"\",\"\",'800111a - Nota. Detalle de CxC.'!$Q$199)","v":""},{"$f":"IF('800111a - Nota. Detalle de CxC.'!$Q$200=\"\",\"\",'800111a - Nota. Detalle de CxC.'!$Q$200)","v":""},{"$f":"IF('800111a - Nota. Detalle de CxC.'!$Q$201=\"\",\"\",'800111a - Nota. Detalle de CxC.'!$Q$201)","v":""},{"$f":"IF('800111a - Nota. Detalle de CxC.'!$Q$202=\"\",\"\",'800111a - Nota. Detalle de CxC.'!$Q$202)","v":""},{"$f":"IF('800111a - Nota. Detalle de CxC.'!$Q$203=\"\",\"\",'800111a - Nota. Detalle de CxC.'!$Q$203)","v":""},{"$f":"IF('800111a - Nota. Detalle de CxC.'!$Q$204=\"\",\"\",'800111a - Nota. Detalle de CxC.'!$Q$204)","v":""},{"$f":"IF('800111a - Nota. Detalle de CxC.'!$Q$205=\"\",\"\",'800111a - Nota. Detalle de CxC.'!$Q$205)","v":""},{"$f":"IF('800111a - Nota. Detalle de CxC.'!$Q$206=\"\",\"\",'800111a - Nota. Detalle de CxC.'!$Q$206)","v":""},{"$f":"IF('800111a - Nota. Detalle de CxC.'!$Q$207=\"\",\"\",'800111a - Nota. Detalle de CxC.'!$Q$207)","v":""},{"$f":"IF('800111a - Nota. Detalle de CxC.'!$Q$208=\"\",\"\",'800111a - Nota. Detalle de CxC.'!$Q$208)","v":""},{"$f":"IF('800111a - Nota. Detalle de CxC.'!$Q$209=\"\",\"\",'800111a - Nota. Detalle de CxC.'!$Q$209)","v":""},{"$f":"IF('800111a - Nota. Detalle de CxC.'!$Q$210=\"\",\"\",'800111a - Nota. Detalle de CxC.'!$Q$210)","v":""},{"$f":"IF('800111a - Nota. Detalle de CxC.'!$Q$211=\"\",\"\",'800111a - Nota. Detalle de CxC.'!$Q$211)","v":""},{"$f":"IF('800111a - Nota. Detalle de CxC.'!$Q$212=\"\",\"\",'800111a - Nota. Detalle de CxC.'!$Q$212)","v":""},{"$f":"IF('800111a - Nota. Detalle de CxC.'!$Q$213=\"\",\"\",'800111a - Nota. Detalle de CxC.'!$Q$213)","v":""},{"$f":"IF('800111a - Nota. Detalle de CxC.'!$Q$214=\"\",\"\",'800111a - Nota. Detalle de CxC.'!$Q$214)","v":""},{"$f":"IF('800111a - Nota. Detalle de CxC.'!$Q$215=\"\",\"\",'800111a - Nota. Detalle de CxC.'!$Q$215)","v":""},{"$f":"IF('800111a - Nota. Detalle de CxC.'!$Q$216=\"\",\"\",'800111a - Nota. Detalle de CxC.'!$Q$216)","v":""},{"$f":"IF('800111a - Nota. Detalle de CxC.'!$Q$217=\"\",\"\",'800111a - Nota. Detalle de CxC.'!$Q$217)","v":""},{"$f":"IF('800111a - Nota. Detalle de CxC.'!$Q$218=\"\",\"\",'800111a - Nota. Detalle de CxC.'!$Q$218)","v":""},{"$f":"IF('800111a - Nota. Detalle de CxC.'!$Q$219=\"\",\"\",'800111a - Nota. Detalle de CxC.'!$Q$219)","v":""},{"$f":"IF('800111a - Nota. Detalle de CxC.'!$Q$220=\"\",\"\",'800111a - Nota. Detalle de CxC.'!$Q$220)","v":""},{"$f":"IF('800111a - Nota. Detalle de CxC.'!$Q$221=\"\",\"\",'800111a - Nota. Detalle de CxC.'!$Q$221)","v":""},{"$f":"IF('800111a - Nota. Detalle de CxC.'!$Q$222=\"\",\"\",'800111a - Nota. Detalle de CxC.'!$Q$222)","v":""},{"$f":"IF('800111a - Nota. Detalle de CxC.'!$Q$223=\"\",\"\",'800111a - Nota. Detalle de CxC.'!$Q$223)","v":""},{"$f":"IF('800111a - Nota. Detalle de CxC.'!$Q$224=\"\",\"\",'800111a - Nota. Detalle de CxC.'!$Q$224)","v":""},{"$f":"IF('800111a - Nota. Detalle de CxC.'!$Q$225=\"\",\"\",'800111a - Nota. Detalle de CxC.'!$Q$225)","v":""},{"$f":"IF('800111a - Nota. Detalle de CxC.'!$Q$226=\"\",\"\",'800111a - Nota. Detalle de CxC.'!$Q$226)","v":""},{"$f":"IF('800111a - Nota. Detalle de CxC.'!$Q$227=\"\",\"\",'800111a - Nota. Detalle de CxC.'!$Q$227)","v":""},{"$f":"IF('800111a - Nota. Detalle de CxC.'!$Q$228=\"\",\"\",'800111a - Nota. Detalle de CxC.'!$Q$228)","v":""},{"$f":"IF('800111a - Nota. Detalle de CxC.'!$Q$229=\"\",\"\",'800111a - Nota. Detalle de CxC.'!$Q$229)","v":""},{"$f":"IF('800111a - Nota. Detalle de CxC.'!$Q$230=\"\",\"\",'800111a - Nota. Detalle de CxC.'!$Q$230)","v":""},{"$f":"IF('800111a - Nota. Detalle de CxC.'!$Q$231=\"\",\"\",'800111a - Nota. Detalle de CxC.'!$Q$231)","v":""},{"$f":"IF('800111a - Nota. Detalle de CxC.'!$Q$232=\"\",\"\",'800111a - Nota. Detalle de CxC.'!$Q$232)","v":""},{"$f":"IF('800111a - Nota. Detalle de CxC.'!$Q$233=\"\",\"\",'800111a - Nota. Detalle de CxC.'!$Q$233)","v":""},{"$f":"IF('800111a - Nota. Detalle de CxC.'!$Q$234=\"\",\"\",'800111a - Nota. Detalle de CxC.'!$Q$234)","v":""},{"$f":"IF('800111a - Nota. Detalle de CxC.'!$Q$235=\"\",\"\",'800111a - Nota. Detalle de CxC.'!$Q$235)","v":""},{"$f":"IF('800111a - Nota. Detalle de CxC.'!$Q$236=\"\",\"\",'800111a - Nota. Detalle de CxC.'!$Q$236)","v":""},{"$f":"IF('800111a - Nota. Detalle de CxC.'!$Q$237=\"\",\"\",'800111a - Nota. Detalle de CxC.'!$Q$237)","v":""},{"$f":"IF('800111a - Nota. Detalle de CxC.'!$Q$238=\"\",\"\",'800111a - Nota. Detalle de CxC.'!$Q$238)","v":""},{"$f":"IF('800111a - Nota. Detalle de CxC.'!$Q$239=\"\",\"\",'800111a - Nota. Detalle de CxC.'!$Q$239)","v":0},null,{"$f":"IF('800111a - Nota. Detalle de CxC.'!$Q$241=\"\",\"\",'800111a - Nota. Detalle de CxC.'!$Q$241)","v":""},{"$f":"IF('800111a - Nota. Detalle de CxC.'!$Q$242=\"\",\"\",'800111a - Nota. Detalle de CxC.'!$Q$242)","v":""},{"$f":"IF('800111a - Nota. Detalle de CxC.'!$Q$243=\"\",\"\",'800111a - Nota. Detalle de CxC.'!$Q$243)","v":""},{"$f":"IF('800111a - Nota. Detalle de CxC.'!$Q$244=\"\",\"\",'800111a - Nota. Detalle de CxC.'!$Q$244)","v":""},{"$f":"IF('800111a - Nota. Detalle de CxC.'!$Q$245=\"\",\"\",'800111a - Nota. Detalle de CxC.'!$Q$245)","v":""},{"$f":"IF('800111a - Nota. Detalle de CxC.'!$Q$246=\"\",\"\",'800111a - Nota. Detalle de CxC.'!$Q$246)","v":""},{"$f":"IF('800111a - Nota. Detalle de CxC.'!$Q$247=\"\",\"\",'800111a - Nota. Detalle de CxC.'!$Q$247)","v":""},{"$f":"IF('800111a - Nota. Detalle de CxC.'!$Q$248=\"\",\"\",'800111a - Nota. Detalle de CxC.'!$Q$248)","v":""},{"$f":"IF('800111a - Nota. Detalle de CxC.'!$Q$249=\"\",\"\",'800111a - Nota. Detalle de CxC.'!$Q$249)","v":""},{"$f":"IF('800111a - Nota. Detalle de CxC.'!$Q$250=\"\",\"\",'800111a - Nota. Detalle de CxC.'!$Q$250)","v":""},{"$f":"IF('800111a - Nota. Detalle de CxC.'!$Q$251=\"\",\"\",'800111a - Nota. Detalle de CxC.'!$Q$251)","v":""},{"$f":"IF('800111a - Nota. Detalle de CxC.'!$Q$252=\"\",\"\",'800111a - Nota. Detalle de CxC.'!$Q$252)","v":""},{"$f":"IF('800111a - Nota. Detalle de CxC.'!$Q$253=\"\",\"\",'800111a - Nota. Detalle de CxC.'!$Q$253)","v":""},{"$f":"IF('800111a - Nota. Detalle de CxC.'!$Q$254=\"\",\"\",'800111a - Nota. Detalle de CxC.'!$Q$254)","v":""},{"$f":"IF('800111a - Nota. Detalle de CxC.'!$Q$255=\"\",\"\",'800111a - Nota. Detalle de CxC.'!$Q$255)","v":""},{"$f":"IF('800111a - Nota. Detalle de CxC.'!$Q$256=\"\",\"\",'800111a - Nota. Detalle de CxC.'!$Q$256)","v":""},{"$f":"IF('800111a - Nota. Detalle de CxC.'!$Q$257=\"\",\"\",'800111a - Nota. Detalle de CxC.'!$Q$257)","v":""},{"$f":"IF('800111a - Nota. Detalle de CxC.'!$Q$258=\"\",\"\",'800111a - Nota. Detalle de CxC.'!$Q$258)","v":""},{"$f":"IF('800111a - Nota. Detalle de CxC.'!$Q$259=\"\",\"\",'800111a - Nota. Detalle de CxC.'!$Q$259)","v":""},{"$f":"IF('800111a - Nota. Detalle de CxC.'!$Q$260=\"\",\"\",'800111a - Nota. Detalle de CxC.'!$Q$260)","v":""},{"$f":"IF('800111a - Nota. Detalle de CxC.'!$Q$261=\"\",\"\",'800111a - Nota. Detalle de CxC.'!$Q$261)","v":""},{"$f":"IF('800111a - Nota. Detalle de CxC.'!$Q$262=\"\",\"\",'800111a - Nota. Detalle de CxC.'!$Q$262)","v":""},{"$f":"IF('800111a - Nota. Detalle de CxC.'!$Q$263=\"\",\"\",'800111a - Nota. Detalle de CxC.'!$Q$263)","v":""},{"$f":"IF('800111a - Nota. Detalle de CxC.'!$Q$264=\"\",\"\",'800111a - Nota. Detalle de CxC.'!$Q$264)","v":""},{"$f":"IF('800111a - Nota. Detalle de CxC.'!$Q$265=\"\",\"\",'800111a - Nota. Detalle de CxC.'!$Q$265)","v":""},{"$f":"IF('800111a - Nota. Detalle de CxC.'!$Q$266=\"\",\"\",'800111a - Nota. Detalle de CxC.'!$Q$266)","v":""},{"$f":"IF('800111a - Nota. Detalle de CxC.'!$Q$267=\"\",\"\",'800111a - Nota. Detalle de CxC.'!$Q$267)","v":""},{"$f":"IF('800111a - Nota. Detalle de CxC.'!$Q$268=\"\",\"\",'800111a - Nota. Detalle de CxC.'!$Q$268)","v":""},{"$f":"IF('800111a - Nota. Detalle de CxC.'!$Q$269=\"\",\"\",'800111a - Nota. Detalle de CxC.'!$Q$269)","v":""},{"$f":"IF('800111a - Nota. Detalle de CxC.'!$Q$270=\"\",\"\",'800111a - Nota. Detalle de CxC.'!$Q$270)","v":""},{"$f":"IF('800111a - Nota. Detalle de CxC.'!$Q$271=\"\",\"\",'800111a - Nota. Detalle de CxC.'!$Q$271)","v":""},{"$f":"IF('800111a - Nota. Detalle de CxC.'!$Q$272=\"\",\"\",'800111a - Nota. Detalle de CxC.'!$Q$272)","v":""},{"$f":"IF('800111a - Nota. Detalle de CxC.'!$Q$273=\"\",\"\",'800111a - Nota. Detalle de CxC.'!$Q$273)","v":""},{"$f":"IF('800111a - Nota. Detalle de CxC.'!$Q$274=\"\",\"\",'800111a - Nota. Detalle de CxC.'!$Q$274)","v":""},{"$f":"IF('800111a - Nota. Detalle de CxC.'!$Q$275=\"\",\"\",'800111a - Nota. Detalle de CxC.'!$Q$275)","v":""},{"$f":"IF('800111a - Nota. Detalle de CxC.'!$Q$276=\"\",\"\",'800111a - Nota. Detalle de CxC.'!$Q$276)","v":""},{"$f":"IF('800111a - Nota. Detalle de CxC.'!$Q$277=\"\",\"\",'800111a - Nota. Detalle de CxC.'!$Q$277)","v":""},{"$f":"IF('800111a - Nota. Detalle de CxC.'!$Q$278=\"\",\"\",'800111a - Nota. Detalle de CxC.'!$Q$278)","v":""},{"$f":"IF('800111a - Nota. Detalle de CxC.'!$Q$279=\"\",\"\",'800111a - Nota. Detalle de CxC.'!$Q$279)","v":""},{"$f":"IF('800111a - Nota. Detalle de CxC.'!$Q$280=\"\",\"\",'800111a - Nota. Detalle de CxC.'!$Q$280)","v":""},{"$f":"IF('800111a - Nota. Detalle de CxC.'!$Q$281=\"\",\"\",'800111a - Nota. Detalle de CxC.'!$Q$281)","v":""},{"$f":"IF('800111a - Nota. Detalle de CxC.'!$Q$282=\"\",\"\",'800111a - Nota. Detalle de CxC.'!$Q$282)","v":""},{"$f":"IF('800111a - Nota. Detalle de CxC.'!$Q$283=\"\",\"\",'800111a - Nota. Detalle de CxC.'!$Q$283)","v":""},{"$f":"IF('800111a - Nota. Detalle de CxC.'!$Q$284=\"\",\"\",'800111a - Nota. Detalle de CxC.'!$Q$284)","v":""},{"$f":"IF('800111a - Nota. Detalle de CxC.'!$Q$285=\"\",\"\",'800111a - Nota. Detalle de CxC.'!$Q$285)","v":""},{"$f":"IF('800111a - Nota. Detalle de CxC.'!$Q$286=\"\",\"\",'800111a - Nota. Detalle de CxC.'!$Q$286)","v":""},{"$f":"IF('800111a - Nota. Detalle de CxC.'!$Q$287=\"\",\"\",'800111a - Nota. Detalle de CxC.'!$Q$287)","v":""},{"$f":"IF('800111a - Nota. Detalle de CxC.'!$Q$288=\"\",\"\",'800111a - Nota. Detalle de CxC.'!$Q$288)","v":""},{"$f":"IF('800111a - Nota. Detalle de CxC.'!$Q$289=\"\",\"\",'800111a - Nota. Detalle de CxC.'!$Q$289)","v":""},{"$f":"IF('800111a - Nota. Detalle de CxC.'!$Q$290=\"\",\"\",'800111a - Nota. Detalle de CxC.'!$Q$290)","v":""},{"$f":"IF('800111a - Nota. Detalle de CxC.'!$Q$291=\"\",\"\",'800111a - Nota. Detalle de CxC.'!$Q$291)","v":""},{"$f":"IF('800111a - Nota. Detalle de CxC.'!$Q$292=\"\",\"\",'800111a - Nota. Detalle de CxC.'!$Q$292)","v":0},null,{"$f":"IF('800111a - Nota. Detalle de CxC.'!$Q$294=\"\",\"\",'800111a - Nota. Detalle de CxC.'!$Q$294)","v":""},{"$f":"IF('800111a - Nota. Detalle de CxC.'!$Q$295=\"\",\"\",'800111a - Nota. Detalle de CxC.'!$Q$295)","v":""},{"$f":"IF('800111a - Nota. Detalle de CxC.'!$Q$296=\"\",\"\",'800111a - Nota. Detalle de CxC.'!$Q$296)","v":""},{"$f":"IF('800111a - Nota. Detalle de CxC.'!$Q$297=\"\",\"\",'800111a - Nota. Detalle de CxC.'!$Q$297)","v":""},{"$f":"IF('800111a - Nota. Detalle de CxC.'!$Q$298=\"\",\"\",'800111a - Nota. Detalle de CxC.'!$Q$298)","v":""},{"$f":"IF('800111a - Nota. Detalle de CxC.'!$Q$299=\"\",\"\",'800111a - Nota. Detalle de CxC.'!$Q$299)","v":""},{"$f":"IF('800111a - Nota. Detalle de CxC.'!$Q$300=\"\",\"\",'800111a - Nota. Detalle de CxC.'!$Q$300)","v":""},{"$f":"IF('800111a - Nota. Detalle de CxC.'!$Q$301=\"\",\"\",'800111a - Nota. Detalle de CxC.'!$Q$301)","v":""},{"$f":"IF('800111a - Nota. Detalle de CxC.'!$Q$302=\"\",\"\",'800111a - Nota. Detalle de CxC.'!$Q$302)","v":""},{"$f":"IF('800111a - Nota. Detalle de CxC.'!$Q$303=\"\",\"\",'800111a - Nota. Detalle de CxC.'!$Q$303)","v":""},{"$f":"IF('800111a - Nota. Detalle de CxC.'!$Q$304=\"\",\"\",'800111a - Nota. Detalle de CxC.'!$Q$304)","v":""},{"$f":"IF('800111a - Nota. Detalle de CxC.'!$Q$305=\"\",\"\",'800111a - Nota. Detalle de CxC.'!$Q$305)","v":""},{"$f":"IF('800111a - Nota. Detalle de CxC.'!$Q$306=\"\",\"\",'800111a - Nota. Detalle de CxC.'!$Q$306)","v":""},{"$f":"IF('800111a - Nota. Detalle de CxC.'!$Q$307=\"\",\"\",'800111a - Nota. Detalle de CxC.'!$Q$307)","v":""},{"$f":"IF('800111a - Nota. Detalle de CxC.'!$Q$308=\"\",\"\",'800111a - Nota. Detalle de CxC.'!$Q$308)","v":""},{"$f":"IF('800111a - Nota. Detalle de CxC.'!$Q$309=\"\",\"\",'800111a - Nota. Detalle de CxC.'!$Q$309)","v":""},{"$f":"IF('800111a - Nota. Detalle de CxC.'!$Q$310=\"\",\"\",'800111a - Nota. Detalle de CxC.'!$Q$310)","v":""},{"$f":"IF('800111a - Nota. Detalle de CxC.'!$Q$311=\"\",\"\",'800111a - Nota. Detalle de CxC.'!$Q$311)","v":""},{"$f":"IF('800111a - Nota. Detalle de CxC.'!$Q$312=\"\",\"\",'800111a - Nota. Detalle de CxC.'!$Q$312)","v":""},{"$f":"IF('800111a - Nota. Detalle de CxC.'!$Q$313=\"\",\"\",'800111a - Nota. Detalle de CxC.'!$Q$313)","v":""},{"$f":"IF('800111a - Nota. Detalle de CxC.'!$Q$314=\"\",\"\",'800111a - Nota. Detalle de CxC.'!$Q$314)","v":""},{"$f":"IF('800111a - Nota. Detalle de CxC.'!$Q$315=\"\",\"\",'800111a - Nota. Detalle de CxC.'!$Q$315)","v":""},{"$f":"IF('800111a - Nota. Detalle de CxC.'!$Q$316=\"\",\"\",'800111a - Nota. Detalle de CxC.'!$Q$316)","v":""},{"$f":"IF('800111a - Nota. Detalle de CxC.'!$Q$317=\"\",\"\",'800111a - Nota. Detalle de CxC.'!$Q$317)","v":""},{"$f":"IF('800111a - Nota. Detalle de CxC.'!$Q$318=\"\",\"\",'800111a - Nota. Detalle de CxC.'!$Q$318)","v":""},{"$f":"IF('800111a - Nota. Detalle de CxC.'!$Q$319=\"\",\"\",'800111a - Nota. Detalle de CxC.'!$Q$319)","v":""},{"$f":"IF('800111a - Nota. Detalle de CxC.'!$Q$320=\"\",\"\",'800111a - Nota. Detalle de CxC.'!$Q$320)","v":""},{"$f":"IF('800111a - Nota. Detalle de CxC.'!$Q$321=\"\",\"\",'800111a - Nota. Detalle de CxC.'!$Q$321)","v":""},{"$f":"IF('800111a - Nota. Detalle de CxC.'!$Q$322=\"\",\"\",'800111a - Nota. Detalle de CxC.'!$Q$322)","v":""},{"$f":"IF('800111a - Nota. Detalle de CxC.'!$Q$323=\"\",\"\",'800111a - Nota. Detalle de CxC.'!$Q$323)","v":""},{"$f":"IF('800111a - Nota. Detalle de CxC.'!$Q$324=\"\",\"\",'800111a - Nota. Detalle de CxC.'!$Q$324)","v":""},{"$f":"IF('800111a - Nota. Detalle de CxC.'!$Q$325=\"\",\"\",'800111a - Nota. Detalle de CxC.'!$Q$325)","v":""},{"$f":"IF('800111a - Nota. Detalle de CxC.'!$Q$326=\"\",\"\",'800111a - Nota. Detalle de CxC.'!$Q$326)","v":""},{"$f":"IF('800111a - Nota. Detalle de CxC.'!$Q$327=\"\",\"\",'800111a - Nota. Detalle de CxC.'!$Q$327)","v":""},{"$f":"IF('800111a - Nota. Detalle de CxC.'!$Q$328=\"\",\"\",'800111a - Nota. Detalle de CxC.'!$Q$328)","v":""},{"$f":"IF('800111a - Nota. Detalle de CxC.'!$Q$329=\"\",\"\",'800111a - Nota. Detalle de CxC.'!$Q$329)","v":""},{"$f":"IF('800111a - Nota. Detalle de CxC.'!$Q$330=\"\",\"\",'800111a - Nota. Detalle de CxC.'!$Q$330)","v":""},{"$f":"IF('800111a - Nota. Detalle de CxC.'!$Q$331=\"\",\"\",'800111a - Nota. Detalle de CxC.'!$Q$331)","v":""},{"$f":"IF('800111a - Nota. Detalle de CxC.'!$Q$332=\"\",\"\",'800111a - Nota. Detalle de CxC.'!$Q$332)","v":""},{"$f":"IF('800111a - Nota. Detalle de CxC.'!$Q$333=\"\",\"\",'800111a - Nota. Detalle de CxC.'!$Q$333)","v":""},{"$f":"IF('800111a - Nota. Detalle de CxC.'!$Q$334=\"\",\"\",'800111a - Nota. Detalle de CxC.'!$Q$334)","v":""},{"$f":"IF('800111a - Nota. Detalle de CxC.'!$Q$335=\"\",\"\",'800111a - Nota. Detalle de CxC.'!$Q$335)","v":""},{"$f":"IF('800111a - Nota. Detalle de CxC.'!$Q$336=\"\",\"\",'800111a - Nota. Detalle de CxC.'!$Q$336)","v":""},{"$f":"IF('800111a - Nota. Detalle de CxC.'!$Q$337=\"\",\"\",'800111a - Nota. Detalle de CxC.'!$Q$337)","v":""},{"$f":"IF('800111a - Nota. Detalle de CxC.'!$Q$338=\"\",\"\",'800111a - Nota. Detalle de CxC.'!$Q$338)","v":""},{"$f":"IF('800111a - Nota. Detalle de CxC.'!$Q$339=\"\",\"\",'800111a - Nota. Detalle de CxC.'!$Q$339)","v":""},{"$f":"IF('800111a - Nota. Detalle de CxC.'!$Q$340=\"\",\"\",'800111a - Nota. Detalle de CxC.'!$Q$340)","v":""},{"$f":"IF('800111a - Nota. Detalle de CxC.'!$Q$341=\"\",\"\",'800111a - Nota. Detalle de CxC.'!$Q$341)","v":""},{"$f":"IF('800111a - Nota. Detalle de CxC.'!$Q$342=\"\",\"\",'800111a - Nota. Detalle de CxC.'!$Q$342)","v":""},{"$f":"IF('800111a - Nota. Detalle de CxC.'!$Q$343=\"\",\"\",'800111a - Nota. Detalle de CxC.'!$Q$343)","v":""},{"$f":"IF('800111a - Nota. Detalle de CxC.'!$Q$344=\"\",\"\",'800111a - Nota. Detalle de CxC.'!$Q$344)","v":""},{"$f":"IF('800111a - Nota. Detalle de CxC.'!$Q$345=\"\",\"\",'800111a - Nota. Detalle de CxC.'!$Q$345)","v":0},{"$f":"IF('800111a - Nota. Detalle de CxC.'!$Q$346=\"\",\"\",'800111a - Nota. Detalle de CxC.'!$Q$346)","v":0}]

{"sheet":"800500 - Lista de Notas","index":11,"n_rows":54,"n_cols":11,"rows_kept":54,"cut":false,"hidden":false,"merged":[[6,4,8,7]]}
[]
[]
[]
[]
[]
[]
[null,null,null,null,"800500 - LISTA DE NOTAS"]
[]
[]
[]
[]
[null,null,null,null,null,1]
[null,null,null,null,null,"2019-12-31",null,{"$f":"IF(K13=0,\"Formulario 'Lista de notas' Válido\",\"Formulario 'Lista de notas' con \"&K13&\" inconsistencias\")","v":"Formulario 'Lista de notas' con 41 inconsistencias"},null,null,{"$f":"SUM(K14:L54)","v":41}]
[null,null,0,"co-svsp-core:InformacionARevelarSobreNotasYOtraInformacionExplicativaBloqueDeTexto","Información a revelar sobre notas y otra información explicativa [bloque de texto]",null,null,{"$f":"IF(F14<>\"\",\"CORRECTO\",\"Debe registrar información para '\"&E14&\"'\")","v":"Debe registrar información para 'Información a revelar sobre notas y otra información explicativa [bloque de texto]'"},null,null,{"$f":"IF(H14=\"CORRECTO\",0,1)","v":1}]
[null,null,0,"co-svsp-core:InformacionARevelarSobreLaAutorizacionDeLosEstadosFinancierosBloqueDeTexto","Información a revelar sobre la autorización de los estados financieros [bloque de texto]",null,null,{"$f":"IF(F15<>\"\",\"CORRECTO\",\"Debe registrar información para '\"&E15&\"'\")","v":"Debe registrar información para 'Información a revelar sobre la autorización de los estados financieros [bloque de texto]'"},null,null,{"$f":"IF(H15=\"CORRECTO\",0,1)","v":1}]
[null,null,0,"co-svsp-core:InformacionARevelarSobreJuiciosYEstimacionesContablesBloqueDeTexto","Información a revelar sobre juicios y estimaciones contables [bloque de texto]",null,null,"Debe registrar información para 'Información a revelar sobre juicios y estimaciones contables [bloque de texto]'",null,null,1]
[null,null,0,"co-svsp-core:InformacionARevelarSobreElEstadoDeFlujosDeEfectivoBloqueDeTexto","Información a revelar sobre el estado de flujos de efectivo [bloque de texto]",null,null,"Debe registrar información para 'Información a revelar sobre el estado de flujos de efectivo [bloque de texto]'",null,null,1]
[null,null,0,"co-svsp-core:InformacionARevelarSobreCriteriosDeConsolidacionBloqueDeTexto","Información a revelar sobre criterios de consolidación [bloque de texto]",null,null,"Debe registrar información para 'Información a revelar sobre criterios de consolidación [bloque de texto]'",null,null,1]
[null,null,0,"co-svsp-core:InformacionARevelarSobreCambiosEnPoliticasContablesEstimacionesContablesYErroresBloqueDeTexto","Información a revelar sobre cambios en políticas contables, estimaciones contables y errores [bloque de texto]",null,null,"Debe registrar información para 'Información a revelar sobre cambios en políticas contables, estimaciones contables y errores [bloque de texto]'",null,null,1]
[null,null,0,"co-svsp-core:InformacionARevelarSobreEfectivoYEquivalentesAlEfectivoBloqueDeTexto","Información a revelar sobre efectivo y equivalentes al efectivo [bloque de texto]",null,null,"Debe registrar información para 'Información a revelar sobre efectivo y equivalentes al efectivo [bloque de texto]'",null,null,1]
[null,null,0,"co-svsp-core:InformacionARevelarSobreEfectivoYEquivalentesAlEfectivoRestringidosBloqueDeTexto","Información a revelar sobre efectivo y equivalentes al efectivo restringidos [bloque de texto]",null,null,"Debe registrar información para 'Información a revelar sobre efectivo y equivalentes al efectivo restringidos [bloque de texto]'",null,null,1]
[null,null,0,"co-svsp-core:InformacionARevelarSobreActivosFinancierosBloqueDeTexto","Información a revelar sobre activos financieros [bloque de texto]",null,null,"Debe registrar información para 'Información a revelar sobre activos financieros [bloque de texto]'",null,null,1]
[null,null,0,"co-svsp-core:InformacionARevelarSobrePasivosFinancierosBloqueDeTexto","Información a revelar sobre pasivos financieros [bloque de texto]",null,null,"Debe registrar información para 'Información a revelar sobre pasivos financieros [bloque de texto]'",null,null,1]
[null,null,0,"co-svsp-core:InformacionARevelarSobreCoberturasBloqueDeTexto","Información a revelar sobre coberturas [bloque de texto]",null,null,"Debe registrar información para 'Información a revelar sobre coberturas [bloque de texto]'",null,null,1]
[null,null,0,"co-svsp-core:InformacionARevelarSobreInstrumentosFinancierosDerivadosBloqueDeTexto","Información a revelar sobre instrumentos financieros derivados [bloque de texto]",null,null,"Debe registrar información para 'Información a revelar sobre instrumentos financieros derivados [bloque de texto]'",null,null,1]
[null,null,0,"co-svsp-core:InformacionARevelarSobreInversionesContabilizadasUtilizandoElMetodoDeLaParticipacionBloqueDeTexto","Información a revelar sobre inversiones contabilizadas utilizando el método de la participación [bloque de texto]",null,null,"Debe registrar información para 'Información a revelar sobre inversiones contabilizadas utilizando el método de la participación [bloque de texto]'",null,null,1]
[null,null,0,"co-svsp-core:InformacionARevelarSobreInversionesDistintasDeLasContabilizadasUtilizandoElMetodoDeLaParticipacionBloqueDeTexto","Información a revelar sobre inversiones distintas de las contabilizadas utilizando el método de la participación [bloque de texto]",null,null,"Debe registrar información para 'Información a revelar sobre inversiones distintas de las contabilizadas utilizando el método de la participación [bloque de texto]'",null,null,1]
[null,null,0,"co-svsp-core:InformacionARevelarSobreDeudoresComercialesYOtrasCuentasPorCobrarBloqueDeTexto","Información a revelar sobre deudores comerciales y otras cuentas por cobrar [bloque de texto]",null,null,"Debe registrar información para 'Información a revelar sobre deudores comerciales y otras cuentas por cobrar [bloque de texto]'",null,null,1]
[null,null,0,"co-svsp-core:InformacionARevelarSobreInventariosBloqueDeTexto","Información a revelar sobre inventarios [bloque de texto]",null,null,"Debe registrar información para 'Información a revelar sobre inventarios [bloque de texto]'",null,null,1]
[null,null,0,"co-svsp-core:InformacionARevelarSobrePropiedadesDeInversionBloqueDeTexto","Información a revelar sobre propiedades de inversión [bloque de texto]",null,null,"Debe registrar información para 'Información a revelar sobre propiedades de inversión [bloque de texto]'",null,null,1]
[null,null,0,"co-svsp-core:InformacionARevelarSobrePropiedadesPlantaYEquipoBloqueDeTexto","Información a revelar sobre propiedades, planta y equipo [bloque de texto]",null,null,"Debe registrar información para 'Información a revelar sobre propiedades, planta y equipo [bloque de texto]'",null,null,1]
[null,null,0,"co-svsp-core:InformacionARevelarSobreActivosIntangiblesBloqueDeTexto","Información a revelar sobre activos intangibles [bloque de texto]",null,null,"Debe registrar información para 'Información a revelar sobre activos intangibles [bloque de texto]'",null,null,1]
[null,null,0,"co-svsp-core:InformacionARevelarSobreProvisionesBloqueDeTexto","Información a revelar sobre provisiones [bloque de texto]",null,null,"Debe registrar información para 'Información a revelar sobre provisiones [bloque de texto]'",null,null,1]
[null,null,0,"co-svsp-core:InformacionARevelarSobrePasivosContingentesBloqueDeTexto","Información a revelar sobre pasivos contingentes [bloque de texto]",null,null,"Debe registrar información para 'Información a revelar sobre pasivos contingentes [bloque de texto]'",null,null,1]
[null,null,0,"co-svsp-core:InformacionARevelarSobreActivosContingentesBloqueDeTexto","Información a revelar sobre activos contingentes [bloque de texto]",null,null,"Debe registrar información para 'Información a revelar sobre activos contingentes [bloque de texto]'",null,null,1]
[null,null,0,"co-svsp-core:InformacionARevelarSobreIngresosDeActividadesOrdinariasBloqueDeTexto","Información a revelar sobre ingresos de actividades ordinarias [bloque de texto]",null,null,"Debe registrar información para 'Información a revelar sobre ingresos de actividades ordinarias [bloque de texto]'",null,null,1]
[null,null,0,"co-svsp-core:InformacionARevelarSobreSubvencionesDelGobiernoBloqueDeTexto","Información a revelar sobre subvenciones del gobierno [bloque de texto]",null,null,"Debe registrar información para 'Información a revelar sobre subvenciones del gobierno [bloque de texto]'",null,null,1]
[null,null,0,"co-svsp-core:InformacionARevelarSobreAcuerdosDeConcesionDeServiciosBloqueDeTexto","Información a revelar sobre acuerdos de concesión de servicios [bloque de texto]",null,null,"Debe registrar información para 'Información a revelar sobre acuerdos de concesión de servicios [bloque de texto]'",null,null,1]
[null,null,0,"co-svsp-core:InformacionARevelarSobreDeterioroDelValorDeLosActivosBloqueDeTexto","Información a revelar sobre deterioro del valor de los activos [bloque de texto]",null,null,"Debe registrar información para 'Información a revelar sobre deterioro del valor de los activos [bloque de texto]'",null,null,1]
[null,null,0,"co-svsp-core:InformacionARevelarSobreBeneficiosALosEmpleadosBloqueDeTexto","Información a revelar sobre beneficios a los empleados [bloque de texto]",null,null,"Debe registrar información para 'Información a revelar sobre beneficios a los empleados [bloque de texto]'",null,null,1]
[null,null,0,"co-svsp-core:InformacionARevelarSobreBeneficiosALosEmpleadosACortoPlazoBloqueDeTexto","Información a revelar sobre beneficios a los empleados a corto plazo [bloque de texto]",null,null,"Debe registrar información para 'Información a revelar sobre beneficios a los empleados a corto plazo [bloque de texto]'",null,null,1]
[null,null,0,"co-svsp-core:InformacionARevelarSobreBeneficiosPost-EmpleoBloqueDeTexto","Información a revelar sobre beneficios post-empleo [bloque de texto]",null,null,"Debe registrar información para 'Información a revelar sobre beneficios post-empleo [bloque de texto]'",null,null,1]
[null,null,0,"co-svsp-core:InformacionARevelarSobreBeneficiosPorTerminacionBloqueDeTexto","Información a revelar sobre beneficios por terminación [bloque de texto]",null,null,"Debe registrar información para 'Información a revelar sobre beneficios por terminación [bloque de texto]'",null,null,1]
[null,null,0,"co-svsp-core:InformacionARevelarSobreImpuestosALasGananciasBloqueDeTexto","Información a revelar sobre impuestos a las ganancias [bloque de texto]",null,null,"Debe registrar información para 'Información a revelar sobre impuestos a las ganancias [bloque de texto]'",null,null,1]
[null,null,0,"co-svsp-core:InformacionARevelarSobreElEfectoDeLasVariacionesEnLasTasasDeCambioDeLaMonedaExtranjeraBloqueDeTexto","Información a revelar sobre el efecto de las variaciones en las tasas de cambio de la moneda extranjera [bloque de texto]",null,null,"Debe registrar información para 'Información a revelar sobre el efecto de las variaciones en las tasas de cambio de la moneda extranjera [bloque de texto]'",null,null,1]
[null,null,0,"co-svsp-core:InformacionARevelarSobreHechosOcurridosDespuesDelPeriodoSobreElQueSeInformaBloqueDeTexto","Información a revelar sobre hechos ocurridos después del periodo sobre el que se informa [bloque de texto]",null,null,"Debe registrar información para 'Información a revelar sobre hechos ocurridos después del periodo sobre el que se informa [bloque de texto]'",null,null,1]
[null,null,0,"co-svsp-core:InformacionARevelarSobrePartesRelacionadasBloqueDeTexto","Información a revelar sobre partes relacionadas [bloque de texto]",null,null,"Debe registrar información para 'Información a revelar sobre partes relacionadas [bloque de texto]'",null,null,1]
[null,null,0,"co-svsp-core:InformacionARevelarSobreGastosBloqueDeTexto","Información a revelar sobre gastos [bloque de texto]",null,null,"Debe registrar información para 'Información a revelar sobre gastos [bloque de texto]'",null,null,1]
[null,null,0,"co-svsp-core:InformacionARevelarSobreGastosPorNaturalezaBloqueDeTexto","Información a revelar sobre gastos por naturaleza [bloque de texto]",null,null,"Debe registrar información para 'Información a revelar sobre gastos por naturaleza [bloque de texto]'",null,null,1]
[null,null,0,"co-svsp-core:InformacionARevelarSobreGastosPorDepreciacionYAmortizacionBloqueDeTexto","Información a revelar sobre gastos por depreciación y amortización [bloque de texto]",null,null,"Debe registrar información para 'Información a revelar sobre gastos por depreciación y amortización [bloque de texto]'",null,null,1]
[null,null,0,"co-svsp-core:InformacionARevelarSobreOperacionesDiscontinuadasBloqueDeTexto","Información a revelar sobre operaciones discontinuadas [bloque de texto]",null,null,"Debe registrar información para 'Información a revelar sobre operaciones discontinuadas [bloque de texto]'",null,null,1]
[null,null,0,"co-svsp-core:InformacionARevelarSobreMedicionDelValorRazonableBloqueDeTexto","Información a revelar sobre medición del valor razonable [bloque de texto]",null,null,"Debe registrar información para 'Información a revelar sobre medición del valor razonable [bloque de texto]'",null,null,1]
[null,null,0,"co-svsp-core:InformacionARevelarSobreLaAdopcionPorPrimeraVezDeLasNiifBloqueDeTexto","Información a revelar sobre la adopción por primera vez de las NIIF [bloque de texto]",null,null,"Debe registrar información para 'Información a revelar sobre la adopción por primera vez de las NIIF [bloque de texto]'",null,null,1]
[null,null,0,"co-svsp-core:InformacionARevelarSobreArrendamientosBloqueDeTexto","Información a revelar sobre arrendamientos [bloque de texto]",null,null,"Debe registrar información para 'Información a revelar sobre arrendamientos [bloque de texto]'",null,null,1]

{"sheet":"800600 - Lista de Politicas","index":12,"n_rows":77,"n_cols":11,"rows_kept":77,"cut":false,"hidden":false,"merged":[[6,4,8,7]]}
[]
[]
[]
[]
[]
[]
[null,null,null,null,"800600 - LISTA DE POLÍTICAS CONTABLES"]
[]
[]
[]
[]
[null,null,null,null,null,1]
[null,null,null,null,null,"2019-12-31",null,{"$f":"IF(K13=0,\"Formulario 'Lista de políticas contables' Válido\",\"Formulario 'Lista de políticas contables' con \"&K13&\" inconsistencias\")","v":"Formulario 'Lista de políticas contables' con 41 inconsistencias"},null,null,{"$f":"SUM(K14:L54)","v":41}]
[null,null,0,"co-svsp-core:InformacionARevelarSobreUnResumenDeLasPoliticasContablesSignificativasBloqueDeTexto","Información a revelar sobre un resumen de las políticas contables significativas [bloque de texto]",null,null,{"$f":"IF(F14<>\"\",\"CORRECTO\",\"Debe registrar información para '\"&E14&\"'\")","v":"Debe registrar información para 'Información a revelar sobre un resumen de las políticas contables significativas [bloque de texto]'"},null,null,{"$f":"IF(H14=\"CORRECTO\",0,1)","v":1}]
[null,null,0,"co-svsp-core:DescripcionDeLaPoliticaContableParaCostosDePrestamosBloqueDeTexto","Descripción de la política contable para costos de préstamos [bloque de texto]",null,null,{"$f":"IF(F15<>\"\",\"CORRECTO\",\"Debe registrar información para '\"&E15&\"'\")","v":"Debe registrar información para 'Descripción de la política contable para costos de préstamos [bloque de texto]'"},null,null,{"$f":"IF(H15=\"CORRECTO\",0,1)","v":1}]
[null,null,0,"co-svsp-core:DescripcionDeLaPoliticaContableParaPrestamosBloqueDeTexto","Descripción de la política contable para préstamos [bloque de texto]",null,null,"Debe registrar información para 'Descripción de la política contable para préstamos [bloque de texto]'",null,null,1]
[null,null,0,"co-svsp-core:DescripcionDeLaPoliticaContableParaCombinacionesDeNegociosYPlusvaliaBloqueDeTexto","Descripción de la política contable para combinaciones de negocios y plusvalía [bloque de texto]",null,null,"Debe registrar información para 'Descripción de la política contable para combinaciones de negocios y plusvalía [bloque de texto]'",null,null,1]
[null,null,0,"co-svsp-core:DescripcionDeLaPoliticaContableParaFlujosDeEfectivoBloqueDeTexto","Descripción de la política contable para flujos de efectivo [bloque de texto]",null,null,"Debe registrar información para 'Descripción de la política contable para flujos de efectivo [bloque de texto]'",null,null,1]
[null,null,0,"co-svsp-core:DescripcionDeLaPoliticaContableParaConstruccionesEnProcesoBloqueDeTexto","Descripción de la política contable para construcciones en proceso [bloque de texto]",null,null,"Debe registrar información para 'Descripción de la política contable para construcciones en proceso [bloque de texto]'",null,null,1]
[null,null,0,"co-svsp-core:DescripcionDeLaPoliticaContableParaPasivosContingentesYActivosContingentesBloqueDeTexto","Descripción de la política contable para pasivos contingentes y activos contingentes [bloque de texto]",null,null,"Debe registrar información para 'Descripción de la política contable para pasivos contingentes y activos contingentes [bloque de texto]'",null,null,1]
[null,null,0,"co-svsp-core:DescripcionDeLaPoliticaContableParaProvisionesParaRetiroDelServicioRestauracionYRehabilitacionBloqueDeTexto","Descripción de la política contable para provisiones para retiro del servicio, restauración y rehabilitación [bloque de texto]",null,null,"Debe registrar información para 'Descripción de la política contable para provisiones para retiro del servicio, restauración y rehabilitación [bloque de texto]'",null,null,1]
[null,null,0,"co-svsp-core:DescripcionDeLaPoliticaContableParaImpuestoALasGananciasDiferidoBloqueDeTexto","Descripción de la política contable para impuesto a las ganancias diferido [bloque de texto]",null,null,"Debe registrar información para 'Descripción de la política contable para impuesto a las ganancias diferido [bloque de texto]'",null,null,1]
[null,null,0,"co-svsp-core:DescripcionDeLaPoliticaContableParaGastosPorDepreciacionBloqueDeTexto","Descripción de la política contable para gastos por depreciación [bloque de texto]",null,null,"Debe registrar información para 'Descripción de la política contable para gastos por depreciación [bloque de texto]'",null,null,1]
[null,null,0,"co-svsp-core:DescripcionDeLaPoliticaContableParaBajaEnCuentasDeInstrumentosFinancierosBloqueDeTexto","Descripción de la política contable para baja en cuentas de instrumentos financieros [bloque de texto]",null,null,"Debe registrar información para 'Descripción de la política contable para baja en cuentas de instrumentos financieros [bloque de texto]'",null,null,1]
[null,null,0,"co-svsp-core:DescripcionDeLaPoliticaContableParaInstrumentosFinancierosDerivadosYCoberturasBloqueDeTexto","Descripción de la política contable para instrumentos financieros derivados y coberturas [bloque de texto]",null,null,"Debe registrar información para 'Descripción de la política contable para instrumentos financieros derivados y coberturas [bloque de texto]'",null,null,1]
[null,null,0,"co-svsp-core:DescripcionDeLaPoliticaContableParaLaDeterminacionDeLosComponentesDelEfectivoYEquivalentesAlEfectivoBloqueDeTexto","Descripción de la política contable para la determinación de los componentes del efectivo y equivalentes al efectivo [bloque de texto]",null,null,"Debe registrar información para 'Descripción de la política contable para la determinación de los componentes del efectivo y equivalentes al efectivo [bloque de texto]'",null,null,1]
[null,null,0,"co-svsp-core:DescripcionDeLaPoliticaContableParaOperacionesDiscontinuadasBloqueDeTexto","Descripción de la política contable para operaciones discontinuadas [bloque de texto]",null,null,"Debe registrar información para 'Descripción de la política contable para operaciones discontinuadas [bloque de texto]'",null,null,1]
[null,null,0,"co-svsp-core:DescripcionDeLaPoliticaContableParaDividendosBloqueDeTexto","Descripción de la política contable para dividendos [bloque de texto]",null,null,"Debe registrar información para 'Descripción de la política contable para dividendos [bloque de texto]'",null,null,1]
[null,null,0,"co-svsp-core:DescripcionDeLaPoliticaContableParaLasGananciasPorAccionBloqueDeTexto","Descripción de la política contable para las ganancias por acción [bloque de texto]",null,null,"Debe registrar información para 'Descripción de la política contable para las ganancias por acción [bloque de texto]'",null,null,1]
[null,null,0,"co-svsp-core:DescripcionDeLaPoliticaContableParaBeneficiosALosEmpleadosBloqueDeTexto","Descripción de la política contable para beneficios a los empleados [bloque de texto]",null,null,"Debe registrar información para 'Descripción de la política contable para beneficios a los empleados [bloque de texto]'",null,null,1]
[null,null,0,"co-svsp-core:DescripcionDeLaPoliticaContableParaGastosBloqueDeTexto","Descripción de la política contable para gastos [bloque de texto]",null,null,"Debe registrar información para 'Descripción de la política contable para gastos [bloque de texto]'",null,null,1]
[null,null,0,"co-svsp-core:DescripcionDeLaPoliticaContableParaMedicionesAlValorRazonableBloqueDeTexto","Descripción de la política contable para mediciones al valor razonable [bloque de texto]",null,null,"Debe registrar información para 'Descripción de la política contable para mediciones al valor razonable [bloque de texto]'",null,null,1]
[null,null,0,"co-svsp-core:DescripcionDeLaPoliticaContableParaCostosFinancierosBloqueDeTexto","Descripción de la política contable para costos financieros [bloque de texto]",null,null,"Debe registrar información para 'Descripción de la política contable para costos financieros [bloque de texto]'",null,null,1]
[null,null,0,"co-svsp-core:DescripcionDeLaPoliticaContableParaIngresosYCostosFinancierosBloqueDeTexto","Descripción de la política contable para ingresos y costos financieros [bloque de texto]",null,null,"Debe registrar información para 'Descripción de la política contable para ingresos y costos financieros [bloque de texto]'",null,null,1]
[null,null,0,"co-svsp-core:DescripcionDeLaPoliticaContableParaActivosFinancierosBloqueDeTexto","Descripción de la política contable para activos financieros [bloque de texto]",null,null,"Debe registrar información para 'Descripción de la política contable para activos financieros [bloque de texto]'",null,null,1]
[null,null,0,"co-svsp-core:DescripcionDeLaPoliticaContableParaInstrumentosFinancierosBloqueDeTexto","Descripción de la política contable para instrumentos financieros [bloque de texto]",null,null,"Debe registrar información para 'Descripción de la política contable para instrumentos financieros [bloque de texto]'",null,null,1]
[null,null,0,"co-svsp-core:DescripcionDeLaPoliticaContableParaPasivosFinancierosBloqueDeTexto","Descripción de la política contable para pasivos financieros [bloque de texto]",null,null,"Debe registrar información para 'Descripción de la política contable para pasivos financieros [bloque de texto]'",null,null,1]
[null,null,0,"co-svsp-core:DescripcionDeLaPoliticaContableParaConversionDeMonedaExtranjeraBloqueDeTexto","Descripción de la política contable para conversión de moneda extranjera [bloque de texto]",null,null,"Debe registrar información para 'Descripción de la política contable para conversión de moneda extranjera [bloque de texto]'",null,null,1]
[null,null,0,"co-svsp-core:DescripcionDeLaPoliticaContableParaLaMonedaFuncionalBloqueDeTexto","Descripción de la política contable para la moneda funcional [bloque de texto]",null,null,"Debe registrar información para 'Descripción de la política contable para la moneda funcional [bloque de texto]'",null,null,1]
[null,null,0,"co-svsp-core:DescripcionDeLaPoliticaContableParaLaPlusvaliaBloqueDeTexto","Descripción de la política contable para la plusvalía [bloque de texto]",null,null,"Debe registrar información para 'Descripción de la política contable para la plusvalía [bloque de texto]'",null,null,1]
[null,null,0,"co-svsp-core:DescripcionDeLasPoliticasContablesParaSubvencionesGubernamentalesBloqueDeTexto","Descripción de las políticas contables para subvenciones gubernamentales [bloque de texto]",null,null,"Debe registrar información para 'Descripción de las políticas contables para subvenciones gubernamentales [bloque de texto]'",null,null,1]
[null,null,0,"co-svsp-core:DescripcionDeLaPoliticaContableParaCoberturasBloqueDeTexto","Descripción de la política contable para coberturas [bloque de texto]",null,null,"Debe registrar información para 'Descripción de la política contable para coberturas [bloque de texto]'",null,null,1]
[null,null,0,"co-svsp-core:DescripcionDeLaPoliticaContableParaDeterioroDelValorDeActivosBloqueDeTexto","Descripción de la política contable para deterioro del valor de activos [bloque de texto]",null,null,"Debe registrar información para 'Descripción de la política contable para deterioro del valor de activos [bloque de texto]'",null,null,1]
[null,null,0,"co-svsp-core:DescripcionDeLaPoliticaContableParaDeterioroDelValorDeActivosFinancierosBloqueDeTexto","Descripción de la política contable para deterioro del valor de activos financieros [bloque de texto]",null,null,"Debe registrar información para 'Descripción de la política contable para deterioro del valor de activos financieros [bloque de texto]'",null,null,1]
[null,null,0,"co-svsp-core:DescripcionDeLaPoliticaContableParaDeterioroDelValorDeActivosNoFinancierosBloqueDeTexto","Descripción de la política contable para deterioro del valor de activos no financieros [bloque de texto]",null,null,"Debe registrar información para 'Descripción de la política contable para deterioro del valor de activos no financieros [bloque de texto]'",null,null,1]
[null,null,0,"co-svsp-core:DescripcionDeLaPoliticaContableParaImpuestosALasGananciasBloqueDeTexto","Descripción de la política contable para impuestos a las ganancias [bloque de texto]",null,null,"Debe registrar información para 'Descripción de la política contable para impuestos a las ganancias [bloque de texto]'",null,null,1]
[null,null,0,"co-svsp-core:DescripcionDeLaPoliticaContableParaActivosIntangiblesYPlusvaliaBloqueDeTexto","Descripción de la política contable para activos intangibles y plusvalía [bloque de texto]",null,null,"Debe registrar información para 'Descripción de la política contable para activos intangibles y plusvalía [bloque de texto]'",null,null,1]
[null,null,0,"co-svsp-core:DescripcionDeLaPoliticaContableParaActivosIntangiblesDistintosALaPlusvaliaBloqueDeTexto","Descripción de la política contable para activos intangibles distintos a la plusvalía [bloque de texto]",null,null,"Debe registrar información para 'Descripción de la política contable para activos intangibles distintos a la plusvalía [bloque de texto]'",null,null,1]
[null,null,0,"co-svsp-core:DescripcionDeLaPoliticaContableParaIngresosYGastosPorInteresesBloqueDeTexto","Descripción de la política contable para ingresos y gastos por intereses [bloque de texto]",null,null,"Debe registrar información para 'Descripción de la política contable para ingresos y gastos por intereses [bloque de texto]'",null,null,1]
[null,null,0,"co-svsp-core:DescripcionDeLasPoliticasContablesParaInversionesEnAsociadasBloqueDeTexto","Descripción de las políticas contables para inversiones en asociadas [bloque de texto]",null,null,"Debe registrar información para 'Descripción de las políticas contables para inversiones en asociadas [bloque de texto]'",null,null,1]
[null,null,0,"co-svsp-core:DescripcionDeLasPoliticasContablesParaInversionesEnNegociosConjuntosBloqueDeTexto","Descripción de las políticas contables para inversiones en negocios conjuntos [bloque de texto]",null,null,"Debe registrar información para 'Descripción de las políticas contables para inversiones en negocios conjuntos [bloque de texto]'",null,null,1]
[null,null,0,"co-svsp-core:DescripcionDeLaPoliticaContableParaPropiedadesDeInversionBloqueDeTexto","Descripción de la política contable para propiedades de inversión [bloque de texto]",null,null,"Debe registrar información para 'Descripción de la política contable para propiedades de inversión [bloque de texto]'",null,null,1]
[null,null,0,"co-svsp-core:DescripcionDeLaPoliticaContableParaInversionesDistintasDeLasInversionesContabilizadasUtilizandoElMetodoDeLaParticipacionBloqueDeTexto","Descripción de la política contable para inversiones distintas de las inversiones contabilizadas utilizando el método de la participación [bloque de texto]",null,null,"Debe registrar información para 'Descripción de la política contable para inversiones distintas de las inversiones contabilizadas utilizando el método de la participación [bloque de texto]'",null,null,1]
[null,null,0,"co-svsp-core:DescripcionDeLaPoliticaContableParaElCapitalEmitidoBloqueDeTexto","Descripción de la política contable para el capital emitido [bloque de texto]",null,null,"Debe registrar información para 'Descripción de la política contable para el capital emitido [bloque de texto]'",null,null,1]
[null,null,0,"co-svsp-core:DescripcionDeLaPoliticaContableParaArrendamientosBloqueDeTexto","Descripción de la política contable para arrendamientos [bloque de texto]",null,null,{"$f":"IF(F55<>\"\",\"CORRECTO\",\"Debe registrar información para '\"&E55&\"'\")","v":"Debe registrar información para 'Descripción de la política contable para arrendamientos [bloque de texto]'"},null,null,{"$f":"IF(H55=\"CORRECTO\",0,1)","v":1}]
[null,null,0,"co-svsp-core:DescripcionDeLaPoliticaContableParaPrestamosYCuentasPorCobrarBloqueDeTexto","Descripción de la política contable para préstamos y cuentas por cobrar [bloque de texto]",null,null,"Debe registrar información para 'Descripción de la política contable para préstamos y cuentas por cobrar [bloque de texto]'",null,null,1]
[null,null,0,"co-svsp-core:DescripcionDeLasPoliticasContablesParaLaMedicionDeInventariosBloqueDeTexto","Descripción de las políticas contables para la medición de inventarios [bloque de texto]",null,null,"Debe registrar información para 'Descripción de las políticas contables para la medición de inventarios [bloque de texto]'",null,null,1]
[null,null,0,"co-svsp-core:DescripcionDeLaPoliticaContableParaActivosNoCorrientesOGruposDeActivosParaSuDisposicionClasificadosComoMantenidosParaLaVentaBloqueDeTexto","Descripción de la política contable para activos no corrientes o grupos de activos para su disposición clasificados como mantenidos para la venta [bloque de texto]",null,null,"Debe registrar información para 'Descripción de la política contable para activos no corrientes o grupos de activos para su disposición clasificados como mantenidos para la venta [bloque de texto]'",null,null,1]
[null,null,0,"co-svsp-core:DescripcionDeLaPoliticaContableParaPropiedadesPlantaYEquipoBloqueDeTexto","Descripción de la política contable para propiedades, planta y equipo [bloque de texto]",null,null,"Debe registrar información para 'Descripción de la política contable para propiedades, planta y equipo [bloque de texto]'",null,null,1]
[null,null,0,"co-svsp-core:DescripcionDeLaPoliticaContableParaProvisionesBloqueDeTexto","Descripción de la política contable para provisiones [bloque de texto]",null,null,"Debe registrar información para 'Descripción de la política contable para provisiones [bloque de texto]'",null,null,1]
[null,null,0,"co-svsp-core:DescripcionDeLaPoliticaContableParaLaReclasificacionDeInstrumentosFinancierosBloqueDeTexto","Descripción de la política contable para la reclasificación de instrumentos financieros [bloque de texto]",null,null,"Debe registrar información para 'Descripción de la política contable para la reclasificación de instrumentos financieros [bloque de texto]'",null,null,1]
[null,null,0,"co-svsp-core:DescripcionDeLaPoliticaContableParaElReconocimientoEnElResultadoDelPeriodoDeLaDiferenciaEntreElValorRazonableEnElReconocimientoInicialYElPrecioDeTransaccionBloqueDeTexto","Descripción de la política contable para el reconocimiento en el resultado del periodo de la diferencia entre el valor razonable en el reconocimiento inicial y el precio de transacción [bloque de texto]",null,null,"Debe registrar información para 'Descripción de la política contable para el reconocimiento en el resultado del periodo de la diferencia entre el valor razonable en el reconocimiento inicial y el precio de transacción [bloque de texto]'",null,null,1]
[null,null,0,"co-svsp-core:DescripcionDeLasPoliticasContablesParaElReconocimientoDeIngresosDeActividadesOrdinariasBloqueDeTexto","Descripción de las políticas contables para el reconocimiento de ingresos de actividades ordinarias [bloque de texto]",null,null,"Debe registrar información para 'Descripción de las políticas contables para el reconocimiento de ingresos de actividades ordinarias [bloque de texto]'",null,null,1]
[null,null,0,"co-svsp-core:DescripcionDeLaPoliticaContableParaReparacionesYMantenimientoBloqueDeTexto","Descripción de la política contable para reparaciones y mantenimiento [bloque de texto]",null,null,"Debe registrar información para 'Descripción de la política contable para reparaciones y mantenimiento [bloque de texto]'",null,null,1]
[null,null,0,"co-svsp-core:DescripcionDeLaPoliticaContableParaGastosDeInvestigacionYDesarrolloBloqueDeTexto","Descripción de la política contable para gastos de investigación y desarrollo [bloque de texto]",null,null,"Debe registrar información para 'Descripción de la política contable para gastos de investigación y desarrollo [bloque de texto]'",null,null,1]
[null,null,0,"co-svsp-core:DescripcionDeLaPoliticaContableParaElEfectivoYEquivalentesAlEfectivoRestringidoBloqueDeTexto","Descripción de la política contable para el efectivo y equivalentes al efectivo restringido [bloque de texto]",null,null,"Debe registrar información para 'Descripción de la política contable para el efectivo y equivalentes al efectivo restringido [bloque de texto]'",null,null,1]
[null,null,0,"co-svsp-core:DescripcionDeLaPoliticaContableParaAcuerdosDeConcesionDeServiciosBloqueDeTexto","Descripción de la política contable para acuerdos de concesión de servicios [bloque de texto]",null,null,"Debe registrar información para 'Descripción de la política contable para acuerdos de concesión de servicios [bloque de texto]'",null,null,1]
[null,null,0,"co-svsp-core:DescripcionDeLaPoliticaContableParaLasTransaccionesConPagosBasadosEnAccionesBloqueDeTexto","Descripción de la política contable para las transacciones con pagos basados en acciones [bloque de texto]",null,null,"Debe registrar información para 'Descripción de la política contable para las transacciones con pagos basados en acciones [bloque de texto]'",null,null,1]
[null,null,0,"co-svsp-core:DescripcionDeLaPoliticaContableParaCostosDeDesmonteBloqueDeTexto","Descripción de la política contable para costos de desmonte [bloque de texto]",null,null,"Debe registrar información para 'Descripción de la política contable para costos de desmonte [bloque de texto]'",null,null,1]
[null,null,0,"co-svsp-core:DescripcionDeLaPoliticaContableParaSubsidiariasBloqueDeTexto","Descripción de la política contable para subsidiarias [bloque de texto]",null,null,"Debe registrar información para 'Descripción de la política contable para subsidiarias [bloque de texto]'",null,null,1]
[null,null,0,"co-svsp-core:DescripcionDeLaPoliticaContableParaLosBeneficiosPorTerminacionBloqueDeTexto","Descripción de la política contable para los beneficios por terminación [bloque de texto]",null,null,"Debe registrar información para 'Descripción de la política contable para los beneficios por terminación [bloque de texto]'",null,null,1]
[null,null,0,"co-svsp-core:DescripcionDeLaPoliticaContableParaAcreedoresComercialesYOtrasCuentasPorPagarBloqueDeTexto","Descripción de la política contable para acreedores comerciales y otras cuentas por pagar [bloque de texto]",null,null,"Debe registrar información para 'Descripción de la política contable para acreedores comerciales y otras cuentas por pagar [bloque de texto]'",null,null,1]
[null,null,0,"co-svsp-core:DescripcionDeLaPoliticaContableParaDeudoresComercialesYOtrasCuentasPorCobrarBloqueDeTexto","Descripción de la política contable para deudores comerciales y otras cuentas por cobrar [bloque de texto]",null,null,"Debe registrar información para 'Descripción de la política contable para deudores comerciales y otras cuentas por cobrar [bloque de texto]'",null,null,1]
[null,null,0,"co-svsp-core:DescripcionDeLaPoliticaContableParaIngresosYGastosComercialesBloqueDeTexto","Descripción de la política contable para ingresos y gastos comerciales [bloque de texto]",null,null,"Debe registrar información para 'Descripción de la política contable para ingresos y gastos comerciales [bloque de texto]'",null,null,1]
[null,null,0,"co-svsp-core:DescripcionDeLaPoliticaContableParaTransaccionesConParticipacionesNoControladorasBloqueDeTexto","Descripción de la política contable para transacciones con participaciones no controladoras [bloque de texto]",null,null,"Debe registrar información para 'Descripción de la política contable para transacciones con participaciones no controladoras [bloque de texto]'",null,null,1]
[null,null,0,"co-svsp-core:DescripcionDeLaPoliticaContableParaTransaccionesConPartesRelacionadasBloqueDeTexto","Descripción de la política contable para transacciones con partes relacionadas [bloque de texto]",null,null,"Debe registrar información para 'Descripción de la política contable para transacciones con partes relacionadas [bloque de texto]'",null,null,1]
[null,null,0,"co-svsp-core:DescripcionDeOtrasPoliticasContablesRelevantesParaComprenderLosEstadosFinancierosBloqueDeTexto","Descripción de otras políticas contables relevantes para comprender los estados financieros [bloque de texto]",null,null,"Debe registrar información para 'Descripción de otras políticas contables relevantes para comprender los estados financieros [bloque de texto]'",null,null,1]

{"sheet":"811000 - Cambios en Polític...","index":13,"n_rows":40,"n_cols":17,"rows_kept":40,"cut":false,"hidden":false,"merged":[[10,5,10,10],[11,5,11,10],[6,4,8,10]]}
[]
[]
[]
[]
[]
[]
[null,null,null,null,"811000 Notas - Cambios por políticas contables, estimaciones contables o corrección de errores"]
[]
[]
[]
[null,null,null,null,null,"Periodo Actual 31/12/2019"]
[null,null,null,null,null,"Propiedades, planta y equipo",null,null,null,null,null,null,{"$f":"IF(Q12=0,\"Formulario 'Nota de Cambios en políticas...' Válido\",\"Formulario 'Nota de Cambios en políticas...' con \"&Q12&\" inconsistencias\")","v":"Formulario 'Nota de Cambios en políticas...' Válido"},null,null,null,{"$f":"SUM(Q16:Q40)","v":0}]
[null,null,null,null,null,"co-svsp-core:TipoDeCambioPorPoliticaEstimacionOError","co-svsp-core:DescripcionDelCambioEnPoliticaEstimacionOError","co-svsp-core:ImpactoEnElActivoPorCambioPorPoliticaEstimacionOError","co-svsp-core:ImpactoEnElPasivoPorCambioPorPoliticaEstimacionOError","co-svsp-core:ImpactoEnElPatrimonioPorCambioPorPoliticaEstimacionOError","co-svsp-core:ImpactoEnElResultadoPorCambioPorPoliticaEstimacionOError"]
[null,null,null,null,"co-svsp-core:InformacionarevelarSobreCambiosEnPoliticasContablesEstimacionesOErroresEje","Tipo de Cambio por politica, estimación o error","Descripción del cambio en política, estimación o error","Valor en pesos del impacto en el activo por cambio por política, estimación o error","Valor en pesos del impacto en el pasivo por cambio por política, estimación o error","Valor en pesos del impacto en el patrimonio por cambio por política, estimación o error","Valor en pesos del impacto en el resultado por cambio por política, estimación o error"]
[null,null,"1;1","co-svsp-core:CambioPorPoliticaEstimacionOErrorMiembro","Cambio por política, estimación o error [miembro]"]
[null,null,"1;1","co-svsp-core:CambioPorPoliticaEstimacionOError1Miembro","Cambio por política, estimación o error 1 [miembro]",null,null,null,null,null,null,null,{"$f":"IF(Q16=0,\"CORRECTO\",\"Debe registrar información completa para la fila '\"&E16&\"'\")","v":"CORRECTO"},null,null,null,{"$f":"IF(OR(AND(F16<>\"\",G16<>\"\",(H16+I16+J16+K16)<>0),(AND(F16=\"\",G16=\"\",H16=\"\",I16=\"\",J16=\"\",K16=\"\"))),0,1)","v":0}]
[null,null,"1;1","co-svsp-core:CambioPorPoliticaEstimacionOError2Miembro","Cambio por política, estimación o error 2 [miembro]",null,null,null,null,null,null,null,{"$f":"IF(Q17=0,\"CORRECTO\",\"Debe registrar información completa para la fila '\"&E17&\"'\")","v":"CORRECTO"},null,null,null,{"$f":"IF(OR(AND(F17<>\"\",G17<>\"\",(H17+I17+J17+K17)<>0),(AND(F17=\"\",G17=\"\",H17=\"\",I17=\"\",J17=\"\",K17=\"\"))),0,1)","v":0}]
[null,null,"1;1","co-svsp-core:CambioPorPoliticaEstimacionOError3Miembro","Cambio por política, estimación o error 3 [miembro]",null,null,null,null,null,null,null,"CORRECTO",null,null,null,0]
[null,null,"1;1","co-svsp-core:CambioPorPoliticaEstimacionOError4Miembro","Cambio por política, estimación o error 4 [miembro]",null,null,null,null,null,null,null,"CORRECTO",null,null,null,0]
[null,null,"1;1","co-svsp-core:CambioPorPoliticaEstimacionOError5Miembro","Cambio por política, estimación o error 5 [miembro]",null,null,null,null,null,null,null,"CORRECTO",null,null,null,0]
[null,null,"1;1","co-svsp-core:CambioPorPoliticaEstimacionOError6Miembro","Cambio por política, estimación o error 6 [miembro]",null,null,null,null,null,null,null,"CORRECTO",null,null,null,0]
[null,null,"1;1","co-svsp-core:CambioPorPoliticaEstimacionOError7Miembro","Cambio por política, estimación o error 7 [miembro]",null,null,null,null,null,null,null,"CORRECTO",null,null,null,0]
[null,null,"1;1","co-svsp-core:CambioPorPoliticaEstimacionOError8Miembro","Cambio por política, estimación o error 8 [miembro]",null,null,null,null,null,null,null,"CORRECTO",null,null,null,0]
[null,null,"1;1","co-svsp-core:CambioPorPoliticaEstimacionOError9Miembro","Cambio por política, estimación o error 9 [miembro]",null,null,null,null,null,null,null,"CORRECTO",null,null,null,0]
[null,null,"1;1","co-svsp-core:CambioPorPoliticaEstimacionOError10Miembro","Cambio por política, estimación o error 10 [miembro]",null,null,null,null,null,null,null,"CORRECTO",null,null,null,0]
[null,null,"1;1","co-svsp-core:CambioPorPoliticaEstimacionOError11Miembro","Cambio por política, estimación o error 11 [miembro]",null,null,null,null,null,null,null,"CORRECTO",null,null,null,0]
[null,null,"1;1","co-svsp-core:CambioPorPoliticaEstimacionOError12Miembro","Cambio por política, estimación o error 12 [miembro]",null,null,null,null,null,null,null,"CORRECTO",null,null,null,0]
[null,null,"1;1","co-svsp-core:CambioPorPoliticaEstimacionOError13Miembro","Cambio por política, estimación o error 13 [miembro]",null,null,null,null,null,null,null,"CORRECTO",null,null,null,0]
[null,null,"1;1","co-svsp-core:CambioPorPoliticaEstimacionOError14Miembro","Cambio por política, estimación o error 14 [miembro]",null,null,null,null,null,null,null,"CORRECTO",null,null,null,0]
[null,null,"1;1","co-svsp-core:CambioPorPoliticaEstimacionOError15Miembro","Cambio por política, estimación o error 15 [miembro]",null,null,null,null,null,null,null,"CORRECTO",null,null,null,0]
[null,null,"1;1","co-svsp-core:CambioPorPoliticaEstimacionOError16Miembro","Cambio por política, estimación o error 16 [miembro]",null,null,null,null,null,null,null,"CORRECTO",null,null,null,0]
[null,null,"1;1","co-svsp-core:CambioPorPoliticaEstimacionOError17Miembro","Cambio por política, estimación o error 17 [miembro]",null,null,null,null,null,null,null,"CORRECTO",null,null,null,0]
[null,null,"1;1","co-svsp-core:CambioPorPoliticaEstimacionOError18Miembro","Cambio por política, estimación o error 18 [miembro]",null,null,null,null,null,null,null,"CORRECTO",null,null,null,0]
[null,null,"1;1","co-svsp-core:CambioPorPoliticaEstimacionOError19Miembro","Cambio por política, estimación o error 19 [miembro]",null,null,null,null,null,null,null,"CORRECTO",null,null,null,0]
[null,null,"1;1","co-svsp-core:CambioPorPoliticaEstimacionOError20Miembro","Cambio por política, estimación o error 20 [miembro]",null,null,null,null,null,null,null,"CORRECTO",null,null,null,0]
[null,null,"1;1","co-svsp-core:CambioPorPoliticaEstimacionOError21Miembro","Cambio por política, estimación o error 21 [miembro]",null,null,null,null,null,null,null,"CORRECTO",null,null,null,0]
[null,null,"1;1","co-svsp-core:CambioPorPoliticaEstimacionOError22Miembro","Cambio por política, estimación o error 22 [miembro]",null,null,null,null,null,null,null,"CORRECTO",null,null,null,0]
[null,null,"1;1","co-svsp-core:CambioPorPoliticaEstimacionOError23Miembro","Cambio por política, estimación o error 23 [miembro]",null,null,null,null,null,null,null,"CORRECTO",null,null,null,0]
[null,null,"1;1","co-svsp-core:CambioPorPoliticaEstimacionOError24Miembro","Cambio por política, estimación o error 24 [miembro]",null,null,null,null,null,null,null,"CORRECTO",null,null,null,0]
[null,null,"1;1","co-svsp-core:CambioPorPoliticaEstimacionOError25Miembro","Cambio por política, estimación o error 25 [miembro]",null,null,null,null,null,null,null,"CORRECTO",null,null,null,0]

{"sheet":"811000 GeneraXBRL","index":14,"n_rows":16,"n_cols":30,"rows_kept":16,"cut":false,"hidden":true,"merged":[[3,3,5,9],[7,3,7,6]]}
[]
[]
[]
[null,null,null,"110010 - Información a revelar sobre administradores"]
[]
[]
[]
[]
[null,null,null,null,"co-svsp-core:CambioPorPoliticaEstimacionOErrorMiembro","co-svsp-core:CambioPorPoliticaEstimacionOError1Miembro","co-svsp-core:CambioPorPoliticaEstimacionOError2Miembro","co-svsp-core:CambioPorPoliticaEstimacionOError3Miembro","co-svsp-core:CambioPorPoliticaEstimacionOError4Miembro","co-svsp-core:CambioPorPoliticaEstimacionOError5Miembro","co-svsp-core:CambioPorPoliticaEstimacionOError6Miembro","co-svsp-core:CambioPorPoliticaEstimacionOError7Miembro","co-svsp-core:CambioPorPoliticaEstimacionOError8Miembro","co-svsp-core:CambioPorPoliticaEstimacionOError9Miembro","co-svsp-core:CambioPorPoliticaEstimacionOError10Miembro","co-svsp-core:CambioPorPoliticaEstimacionOError11Miembro","co-svsp-core:CambioPorPoliticaEstimacionOError12Miembro","co-svsp-core:CambioPorPoliticaEstimacionOError13Miembro","co-svsp-core:CambioPorPoliticaEstimacionOError14Miembro","co-svsp-core:CambioPorPoliticaEstimacionOError15Miembro","co-svsp-core:CambioPorPoliticaEstimacionOError16Miembro","co-svsp-core:CambioPorPoliticaEstimacionOError17Miembro","co-svsp-core:CambioPorPoliticaEstimacionOError18Miembro","co-svsp-core:CambioPorPoliticaEstimacionOError19Miembro","co-svsp-core:CambioPorPoliticaEstimacionOError20Miembro","co-svsp-core:CambioPorPoliticaEstimacionOError21Miembro","co-svsp-core:CambioPorPoliticaEstimacionOError22Miembro","co-svsp-core:CambioPorPoliticaEstimacionOError23Miembro","co-svsp-core:CambioPorPoliticaEstimacionOError24Miembro","co-svsp-core:CambioPorPoliticaEstimacionOError25Miembro"]
[null,"Periodo",null,"co-svsp-core:InformacionarevelarSobreCambiosEnPoliticasContablesEstimacionesOErroresEje","Cambio por política, estimación o error [miembro]","Cambio por política, estimación o error 1 [miembro]","Cambio por política, estimación o error 2 [miembro]","Cambio por política, estimación o error 3 [miembro]","Cambio por política, estimación o error 4 [miembro]","Cambio por política, estimación o error 5 [miembro]","Cambio por política, estimación o error 6 [miembro]","Cambio por política, estimación o error 7 [miembro]","Cambio por política, estimación o error 8 [miembro]","Cambio por política, estimación o error 9 [miembro]","Cambio por política, estimación o error 10 [miembro]","Cambio por política, estimación o error 11 [miembro]","Cambio por política, estimación o error 12 [miembro]","Cambio por política, estimación o error 13 [miembro]","Cambio por política, estimación o error 14 [miembro]","Cambio por política, estimación o error 15 [miembro]","Cambio por política, estimación o error 16 [miembro]","Cambio por política, estimación o error 17 [miembro]","Cambio por política, estimación o error 18 [miembro]","Cambio por política, estimación o error 19 [miembro]","Cambio por política, estimación o error 20 [miembro]","Cambio por política, estimación o error 21 [miembro]","Cambio por política, estimación o error 22 [miembro]","Cambio por política, estimación o error 23 [miembro]","Cambio por política, estimación o error 24 [miembro]","Cambio por política, estimación o error 25 [miembro]"]
[null,"0;1","co-svsp-core:TipoDeCambioPorPoliticaEstimacionOError","Tipo de Cambio por politica, estimación o error",null,{"$f":"IF('811000 - Cambios en Polític...'!$F$16=\"\",\"\",'811000 - Cambios en Polític...'!$F$16)","v":""},{"$f":"IF('811000 - Cambios en Polític...'!$F$17=\"\",\"\",'811000 - Cambios en Polític...'!$F$17)","v":""},{"$f":"IF('811000 - Cambios en Polític...'!$F$18=\"\",\"\",'811000 - Cambios en Polític...'!$F$18)","v":""},{"$f":"IF('811000 - Cambios en Polític...'!$F$19=\"\",\"\",'811000 - Cambios en Polític...'!$F$19)","v":""},{"$f":"IF('811000 - Cambios en Polític...'!$F$20=\"\",\"\",'811000 - Cambios en Polític...'!$F$20)","v":""},{"$f":"IF('811000 - Cambios en Polític...'!$F$21=\"\",\"\",'811000 - Cambios en Polític...'!$F$21)","v":""},{"$f":"IF('811000 - Cambios en Polític...'!$F$22=\"\",\"\",'811000 - Cambios en Polític...'!$F$22)","v":""},{"$f":"IF('811000 - Cambios en Polític...'!$F$23=\"\",\"\",'811000 - Cambios en Polític...'!$F$23)","v":""},{"$f":"IF('811000 - Cambios en Polític...'!$F$24=\"\",\"\",'811000 - Cambios en Polític...'!$F$24)","v":""},{"$f":"IF('811000 - Cambios en Polític...'!$F$25=\"\",\"\",'811000 - Cambios en Polític...'!$F$25)","v":""},{"$f":"IF('811000 - Cambios en Polític...'!$F$26=\"\",\"\",'811000 - Cambios en Polític...'!$F$26)","v":""},{"$f":"IF('811000 - Cambios en Polític...'!$F$27=\"\",\"\",'811000 - Cambios en Polític...'!$F$27)","v":""},{"$f":"IF('811000 - Cambios en Polític...'!$F$28=\"\",\"\",'811000 - Cambios en Polític...'!$F$28)","v":""},{"$f":"IF('811000 - Cambios en Polític...'!$F$29=\"\",\"\",'811000 - Cambios en Polític...'!$F$29)","v":""},{"$f":"IF('811000 - Cambios en Polític...'!$F$30=\"\",\"\",'811000 - Cambios en Polític...'!$F$30)","v":""},{"$f":"IF('811000 - Cambios en Polític...'!$F$31=\"\",\"\",'811000 - Cambios en Polític...'!$F$31)","v":""},{"$f":"IF('811000 - Cambios en Polític...'!$F$32=\"\",\"\",'811000 - Cambios en Polític...'!$F$32)","v":""},{"$f":"IF('811000 - Cambios en Polític...'!$F$33=\"\",\"\",'811000 - Cambios en Polític...'!$F$33)","v":""},{"$f":"IF('811000 - Cambios en Polític...'!$F$34=\"\",\"\",'811000 - Cambios en Polític...'!$F$34)","v":""},{"$f":"IF('811000 - Cambios en Polític...'!$F$35=\"\",\"\",'811000 - Cambios en Polític...'!$F$35)","v":""},{"$f":"IF('811000 - Cambios en Polític...'!$F$36=\"\",\"\",'811000 - Cambios en Polític...'!$F$36)","v":""},{"$f":"IF('811000 - Cambios en Polític...'!$F$37=\"\",\"\",'811000 - Cambios en Polític...'!$F$37)","v":""},{"$f":"IF('811000 - Cambios en Polític...'!$F$38=\"\",\"\",'811000 - Cambios en Polític...'!$F$38)","v":""},{"$f":"IF('811000 - Cambios en Polític...'!$F$39=\"\",\"\",'811000 - Cambios en Polític...'!$F$39)","v":""},{"$f":"IF('811000 - Cambios en Polític...'!$F$40=\"\",\"\",'811000 - Cambios en Polític...'!$F$40)","v":""}]
[null,"0;1","co-svsp-core:DescripcionDelCambioEnPoliticaEstimacionOError","Descripción del cambio en política, estimación o error",null,{"$f":"IF('811000 - Cambios en Polític...'!$G$16=\"\",\"\",'811000 - Cambios en Polític...'!$G$16)","v":""},{"$f":"IF('811000 - Cambios en Polític...'!$G$17=\"\",\"\",'811000 - Cambios en Polític...'!$G$17)","v":""},{"$f":"IF('811000 - Cambios en Polític...'!$G$18=\"\",\"\",'811000 - Cambios en Polític...'!$G$18)","v":""},{"$f":"IF('811000 - Cambios en Polític...'!$G$19=\"\",\"\",'811000 - Cambios en Polític...'!$G$19)","v":""},{"$f":"IF('811000 - Cambios en Polític...'!$G$20=\"\",\"\",'811000 - Cambios en Polític...'!$G$20)","v":""},{"$f":"IF('811000 - Cambios en Polític...'!$G$21=\"\",\"\",'811000 - Cambios en Polític...'!$G$21)","v":""},{"$f":"IF('811000 - Cambios en Polític...'!$G$22=\"\",\"\",'811000 - Cambios en Polític...'!$G$22)","v":""},{"$f":"IF('811000 - Cambios en Polític...'!$G$23=\"\",\"\",'811000 - Cambios en Polític...'!$G$23)","v":""},{"$f":"IF('811000 - Cambios en Polític...'!$G$24=\"\",\"\",'811000 - Cambios en Polític...'!$G$24)","v":""},{"$f":"IF('811000 - Cambios en Polític...'!$G$25=\"\",\"\",'811000 - Cambios en Polític...'!$G$25)","v":""},{"$f":"IF('811000 - Cambios en Polític...'!$G$26=\"\",\"\",'811000 - Cambios en Polític...'!$G$26)","v":""},{"$f":"IF('811000 - Cambios en Polític...'!$G$27=\"\",\"\",'811000 - Cambios en Polític...'!$G$27)","v":""},{"$f":"IF('811000 - Cambios en Polític...'!$G$28=\"\",\"\",'811000 - Cambios en Polític...'!$G$28)","v":""},{"$f":"IF('811000 - Cambios en Polític...'!$G$29=\"\",\"\",'811000 - Cambios en Polític...'!$G$29)","v":""},{"$f":"IF('811000 - Cambios en Polític...'!$G$30=\"\",\"\",'811000 - Cambios en Polític...'!$G$30)","v":""},{"$f":"IF('811000 - Cambios en Polític...'!$G$31=\"\",\"\",'811000 - Cambios en Polític...'!$G$31)","v":""},{"$f":"IF('811000 - Cambios en Polític...'!$G$32=\"\",\"\",'811000 - Cambios en Polític...'!$G$32)","v":""},{"$f":"IF('811000 - Cambios en Polític...'!$G$33=\"\",\"\",'811000 - Cambios en Polític...'!$G$33)","v":""},{"$f":"IF('811000 - Cambios en Polític...'!$G$34=\"\",\"\",'811000 - Cambios en Polític...'!$G$34)","v":""},{"$f":"IF('811000 - Cambios en Polític...'!$G$35=\"\",\"\",'811000 - Cambios en Polític...'!$G$35)","v":""},{"$f":"IF('811000 - Cambios en Polític...'!$G$36=\"\",\"\",'811000 - Cambios en Polític...'!$G$36)","v":""},{"$f":"IF('811000 - Cambios en Polític...'!$G$37=\"\",\"\",'811000 - Cambios en Polític...'!$G$37)","v":""},{"$f":"IF('811000 - Cambios en Polític...'!$G$38=\"\",\"\",'811000 - Cambios en Polític...'!$G$38)","v":""},{"$f":"IF('811000 - Cambios en Polític...'!$G$39=\"\",\"\",'811000 - Cambios en Polític...'!$G$39)","v":""},{"$f":"IF('811000 - Cambios en Polític...'!$G$40=\"\",\"\",'811000 - Cambios en Polític...'!$G$40)","v":""}]
[null,"0;1","co-svsp-core:ImpactoEnElActivoPorCambioPorPoliticaEstimacionOError","Impacto en el activo por cambio por política, estimación o error",null,{"$f":"IF('811000 - Cambios en Polític...'!$H$16=\"\",\"\",'811000 - Cambios en Polític...'!$H$16)","v":""},{"$f":"IF('811000 - Cambios en Polític...'!$H$17=\"\",\"\",'811000 - Cambios en Polític...'!$H$17)","v":""},{"$f":"IF('811000 - Cambios en Polític...'!$H$18=\"\",\"\",'811000 - Cambios en Polític...'!$H$18)","v":""},{"$f":"IF('811000 - Cambios en Polític...'!$H$19=\"\",\"\",'811000 - Cambios en Polític...'!$H$19)","v":""},{"$f":"IF('811000 - Cambios en Polític...'!$H$20=\"\",\"\",'811000 - Cambios en Polític...'!$H$20)","v":""},{"$f":"IF('811000 - Cambios en Polític...'!$H$21=\"\",\"\",'811000 - Cambios en Polític...'!$H$21)","v":""},{"$f":"IF('811000 - Cambios en Polític...'!$H$22=\"\",\"\",'811000 - Cambios en Polític...'!$H$22)","v":""},{"$f":"IF('811000 - Cambios en Polític...'!$H$23=\"\",\"\",'811000 - Cambios en Polític...'!$H$23)","v":""},{"$f":"IF('811000 - Cambios en Polític...'!$H$24=\"\",\"\",'811000 - Cambios en Polític...'!$H$24)","v":""},{"$f":"IF('811000 - Cambios en Polític...'!$H$25=\"\",\"\",'811000 - Cambios en Polític...'!$H$25)","v":""},{"$f":"IF('811000 - Cambios en Polític...'!$H$26=\"\",\"\",'811000 - Cambios en Polític...'!$H$26)","v":""},{"$f":"IF('811000 - Cambios en Polític...'!$H$27=\"\",\"\",'811000 - Cambios en Polític...'!$H$27)","v":""},{"$f":"IF('811000 - Cambios en Polític...'!$H$28=\"\",\"\",'811000 - Cambios en Polític...'!$H$28)","v":""},{"$f":"IF('811000 - Cambios en Polític...'!$H$29=\"\",\"\",'811000 - Cambios en Polític...'!$H$29)","v":""},{"$f":"IF('811000 - Cambios en Polític...'!$H$30=\"\",\"\",'811000 - Cambios en Polític...'!$H$30)","v":""},{"$f":"IF('811000 - Cambios en Polític...'!$H$31=\"\",\"\",'811000 - Cambios en Polític...'!$H$31)","v":""},{"$f":"IF('811000 - Cambios en Polític...'!$H$32=\"\",\"\",'811000 - Cambios en Polític...'!$H$32)","v":""},{"$f":"IF('811000 - Cambios en Polític...'!$H$33=\"\",\"\",'811000 - Cambios en Polític...'!$H$33)","v":""},{"$f":"IF('811000 - Cambios en Polític...'!$H$34=\"\",\"\",'811000 - Cambios en Polític...'!$H$34)","v":""},{"$f":"IF('811000 - Cambios en Polític...'!$H$35=\"\",\"\",'811000 - Cambios en Polític...'!$H$35)","v":""},{"$f":"IF('811000 - Cambios en Polític...'!$H$36=\"\",\"\",'811000 - Cambios en Polític...'!$H$36)","v":""},{"$f":"IF('811000 - Cambios en Polític...'!$H$37=\"\",\"\",'811000 - Cambios en Polític...'!$H$37)","v":""},{"$f":"IF('811000 - Cambios en Polític...'!$H$38=\"\",\"\",'811000 - Cambios en Polític...'!$H$38)","v":""},{"$f":"IF('811000 - Cambios en Polític...'!$H$39=\"\",\"\",'811000 - Cambios en Polític...'!$H$39)","v":""},{"$f":"IF('811000 - Cambios en Polític...'!$H$40=\"\",\"\",'811000 - Cambios en Polític...'!$H$40)","v":""}]
[null,"0;1","co-svsp-core:ImpactoEnElPasivoPorCambioPorPoliticaEstimacionOError","Impacto en el pasivo por cambio por política, estimación o error",null,{"$f":"IF('811000 - Cambios en Polític...'!$I$16=\"\",\"\",'811000 - Cambios en Polític...'!$I$16)","v":""},{"$f":"IF('811000 - Cambios en Polític...'!$I$17=\"\",\"\",'811000 - Cambios en Polític...'!$I$17)","v":""},{"$f":"IF('811000 - Cambios en Polític...'!$I$18=\"\",\"\",'811000 - Cambios en Polític...'!$I$18)","v":""},{"$f":"IF('811000 - Cambios en Polític...'!$I$19=\"\",\"\",'811000 - Cambios en Polític...'!$I$19)","v":""},{"$f":"IF('811000 - Cambios en Polític...'!$I$20=\"\",\"\",'811000 - Cambios en Polític...'!$I$20)","v":""},{"$f":"IF('811000 - Cambios en Polític...'!$I$21=\"\",\"\",'811000 - Cambios en Polític...'!$I$21)","v":""},{"$f":"IF('811000 - Cambios en Polític...'!$I$22=\"\",\"\",'811000 - Cambios en Polític...'!$I$22)","v":""},{"$f":"IF('811000 - Cambios en Polític...'!$I$23=\"\",\"\",'811000 - Cambios en Polític...'!$I$23)","v":""},{"$f":"IF('811000 - Cambios en Polític...'!$I$24=\"\",\"\",'811000 - Cambios en Polític...'!$I$24)","v":""},{"$f":"IF('811000 - Cambios en Polític...'!$I$25=\"\",\"\",'811000 - Cambios en Polític...'!$I$25)","v":""},{"$f":"IF('811000 - Cambios en Polític...'!$I$26=\"\",\"\",'811000 - Cambios en Polític...'!$I$26)","v":""},{"$f":"IF('811000 - Cambios en Polític...'!$I$27=\"\",\"\",'811000 - Cambios en Polític...'!$I$27)","v":""},{"$f":"IF('811000 - Cambios en Polític...'!$I$28=\"\",\"\",'811000 - Cambios en Polític...'!$I$28)","v":""},{"$f":"IF('811000 - Cambios en Polític...'!$I$29=\"\",\"\",'811000 - Cambios en Polític...'!$I$29)","v":""},{"$f":"IF('811000 - Cambios en Polític...'!$I$30=\"\",\"\",'811000 - Cambios en Polític...'!$I$30)","v":""},{"$f":"IF('811000 - Cambios en Polític...'!$I$31=\"\",\"\",'811000 - Cambios en Polític...'!$I$31)","v":""},{"$f":"IF('811000 - Cambios en Polític...'!$I$32=\"\",\"\",'811000 - Cambios en Polític...'!$I$32)","v":""},{"$f":"IF('811000 - Cambios en Polític...'!$I$33=\"\",\"\",'811000 - Cambios en Polític...'!$I$33)","v":""},{"$f":"IF('811000 - Cambios en Polític...'!$I$34=\"\",\"\",'811000 - Cambios en Polític...'!$I$34)","v":""},{"$f":"IF('811000 - Cambios en Polític...'!$I$35=\"\",\"\",'811000 - Cambios en Polític...'!$I$35)","v":""},{"$f":"IF('811000 - Cambios en Polític...'!$I$36=\"\",\"\",'811000 - Cambios en Polític...'!$I$36)","v":""},{"$f":"IF('811000 - Cambios en Polític...'!$I$37=\"\",\"\",'811000 - Cambios en Polític...'!$I$37)","v":""},{"$f":"IF('811000 - Cambios en Polític...'!$I$38=\"\",\"\",'811000 - Cambios en Polític...'!$I$38)","v":""},{"$f":"IF('811000 - Cambios en Polític...'!$I$39=\"\",\"\",'811000 - Cambios en Polític...'!$I$39)","v":""},{"$f":"IF('811000 - Cambios en Polític...'!$I$40=\"\",\"\",'811000 - Cambios en Polític...'!$I$40)","v":""}]
[null,"0;1","co-svsp-core:ImpactoEnElPatrimonioPorCambioPorPoliticaEstimacionOError","Impacto en el patrimonio por cambio por política, estimación o error",null,{"$f":"IF('811000 - Cambios en Polític...'!$J$16=\"\",\"\",'811000 - Cambios en Polític...'!$J$16)","v":""},{"$f":"IF('811000 - Cambios en Polític...'!$J$17=\"\",\"\",'811000 - Cambios en Polític...'!$J$17)","v":""},{"$f":"IF('811000 - Cambios en Polític...'!$J$18=\"\",\"\",'811000 - Cambios en Polític...'!$J$18)","v":""},{"$f":"IF('811000 - Cambios en Polític...'!$J$19=\"\",\"\",'811000 - Cambios en Polític...'!$J$19)","v":""},{"$f":"IF('811000 - Cambios en Polític...'!$J$20=\"\",\"\",'811000 - Cambios en Polític...'!$J$20)","v":""},{"$f":"IF('811000 - Cambios en Polític...'!$J$21=\"\",\"\",'811000 - Cambios en Polític...'!$J$21)","v":""},{"$f":"IF('811000 - Cambios en Polític...'!$J$22=\"\",\"\",'811000 - Cambios en Polític...'!$J$22)","v":""},{"$f":"IF('811000 - Cambios en Polític...'!$J$23=\"\",\"\",'811000 - Cambios en Polític...'!$J$23)","v":""},{"$f":"IF('811000 - Cambios en Polític...'!$J$24=\"\",\"\",'811000 - Cambios en Polític...'!$J$24)","v":""},{"$f":"IF('811000 - Cambios en Polític...'!$J$25=\"\",\"\",'811000 - Cambios en Polític...'!$J$25)","v":""},{"$f":"IF('811000 - Cambios en Polític...'!$J$26=\"\",\"\",'811000 - Cambios en Polític...'!$J$26)","v":""},{"$f":"IF('811000 - Cambios en Polític...'!$J$27=\"\",\"\",'811000 - Cambios en Polític...'!$J$27)","v":""},{"$f":"IF('811000 - Cambios en Polític...'!$J$28=\"\",\"\",'811000 - Cambios en Polític...'!$J$28)","v":""},{"$f":"IF('811000 - Cambios en Polític...'!$J$29=\"\",\"\",'811000 - Cambios en Polític...'!$J$29)","v":""},{"$f":"IF('811000 - Cambios en Polític...'!$J$30=\"\",\"\",'811000 - Cambios en Polític...'!$J$30)","v":""},{"$f":"IF('811000 - Cambios en Polític...'!$J$31=\"\",\"\",'811000 - Cambios en Polític...'!$J$31)","v":""},{"$f":"IF('811000 - Cambios en Polític...'!$J$32=\"\",\"\",'811000 - Cambios en Polític...'!$J$32)","v":""},{"$f":"IF('811000 - Cambios en Polític...'!$J$33=\"\",\"\",'811000 - Cambios en Polític...'!$J$33)","v":""},{"$f":"IF('811000 - Cambios en Polític...'!$J$34=\"\",\"\",'811000 - Cambios en Polític...'!$J$34)","v":""},{"$f":"IF('811000 - Cambios en Polític...'!$J$35=\"\",\"\",'811000 - Cambios en Polític...'!$J$35)","v":""},{"$f":"IF('811000 - Cambios en Polític...'!$J$36=\"\",\"\",'811000 - Cambios en Polític...'!$J$36)","v":""},{"$f":"IF('811000 - Cambios en Polític...'!$J$37=\"\",\"\",'811000 - Cambios en Polític...'!$J$37)","v":""},{"$f":"IF('811000 - Cambios en Polític...'!$J$38=\"\",\"\",'811000 - Cambios en Polític...'!$J$38)","v":""},{"$f":"IF('811000 - Cambios en Polític...'!$J$39=\"\",\"\",'811000 - Cambios en Polític...'!$J$39)","v":""},{"$f":"IF('811000 - Cambios en Polític...'!$J$40=\"\",\"\",'811000 - Cambios en Polític...'!$J$40)","v":""}]
[null,"0;1","co-svsp-core:ImpactoEnElResultadoPorCambioPorPoliticaEstimacionOError","Impacto en el resultado por cambio por política, estimación o error",null,{"$f":"IF('811000 - Cambios en Polític...'!$K$16=\"\",\"\",'811000 - Cambios en Polític...'!$K$16)","v":""},{"$f":"IF('811000 - Cambios en Polític...'!$K$17=\"\",\"\",'811000 - Cambios en Polític...'!$K$17)","v":""},{"$f":"IF('811000 - Cambios en Polític...'!$K$18=\"\",\"\",'811000 - Cambios en Polític...'!$K$18)","v":""},{"$f":"IF('811000 - Cambios en Polític...'!$K$19=\"\",\"\",'811000 - Cambios en Polític...'!$K$19)","v":""},{"$f":"IF('811000 - Cambios en Polític...'!$K$20=\"\",\"\",'811000 - Cambios en Polític...'!$K$20)","v":""},{"$f":"IF('811000 - Cambios en Polític...'!$K$21=\"\",\"\",'811000 - Cambios en Polític...'!$K$21)","v":""},{"$f":"IF('811000 - Cambios en Polític...'!$K$22=\"\",\"\",'811000 - Cambios en Polític...'!$K$22)","v":""},{"$f":"IF('811000 - Cambios en Polític...'!$K$23=\"\",\"\",'811000 - Cambios en Polític...'!$K$23)","v":""},{"$f":"IF('811000 - Cambios en Polític...'!$K$24=\"\",\"\",'811000 - Cambios en Polític...'!$K$24)","v":""},{"$f":"IF('811000 - Cambios en Polític...'!$K$25=\"\",\"\",'811000 - Cambios en Polític...'!$K$25)","v":""},{"$f":"IF('811000 - Cambios en Polític...'!$K$26=\"\",\"\",'811000 - Cambios en Polític...'!$K$26)","v":""},{"$f":"IF('811000 - Cambios en Polític...'!$K$27=\"\",\"\",'811000 - Cambios en Polític...'!$K$27)","v":""},{"$f":"IF('811000 - Cambios en Polític...'!$K$28=\"\",\"\",'811000 - Cambios en Polític...'!$K$28)","v":""},{"$f":"IF('811000 - Cambios en Polític...'!$K$29=\"\",\"\",'811000 - Cambios en Polític...'!$K$29)","v":""},{"$f":"IF('811000 - Cambios en Polític...'!$K$30=\"\",\"\",'811000 - Cambios en Polític...'!$K$30)","v":""},{"$f":"IF('811000 - Cambios en Polític...'!$K$31=\"\",\"\",'811000 - Cambios en Polític...'!$K$31)","v":""},{"$f":"IF('811000 - Cambios en Polític...'!$K$32=\"\",\"\",'811000 - Cambios en Polític...'!$K$32)","v":""},{"$f":"IF('811000 - Cambios en Polític...'!$K$33=\"\",\"\",'811000 - Cambios en Polític...'!$K$33)","v":""},{"$f":"IF('811000 - Cambios en Polític...'!$K$34=\"\",\"\",'811000 - Cambios en Polític...'!$K$34)","v":""},{"$f":"IF('811000 - Cambios en Polític...'!$K$35=\"\",\"\",'811000 - Cambios en Polític...'!$K$35)","v":""},{"$f":"IF('811000 - Cambios en Polític...'!$K$36=\"\",\"\",'811000 - Cambios en Polític...'!$K$36)","v":""},{"$f":"IF('811000 - Cambios en Polític...'!$K$37=\"\",\"\",'811000 - Cambios en Polític...'!$K$37)","v":""},{"$f":"IF('811000 - Cambios en Polític...'!$K$38=\"\",\"\",'811000 - Cambios en Polític...'!$K$38)","v":""},{"$f":"IF('811000 - Cambios en Polític...'!$K$39=\"\",\"\",'811000 - Cambios en Polític...'!$K$39)","v":""},{"$f":"IF('811000 - Cambios en Polític...'!$K$40=\"\",\"\",'811000 - Cambios en Polític...'!$K$40)","v":""}]

{"sheet":"Lists","index":15,"n_rows":497,"n_cols":101,"rows_kept":497,"cut":false,"hidden":true,"merged":[]}
[]
[null,null,null,null,null,null,null,null,null,null,null,null,null,null,null,null,{"$f":"MID('110000 - Carátula'!F32,1,2)","v":""},{"$f":"VLOOKUP(Q2,Q3:R35,2,FALSE)","v":{"$error":"#N/A"}},null,null,null,null,null,null,null,null,null,null,null,null,"AMAZONAS",null,"ANTIOQUIA",null,"ARAUCA",null,"ATLANTICO",null,"BOGOTA",null,"BOLIVAR",null,"BOYACA",null,"CALDAS",null,"CAQUETA",null,"CASANARE",null,"CAUCA",null,"CESAR",null,"CHOCO",null,"CORDOBA",null,"CUNDINAMARCA",null,"GUAINIA",null,"GUAVIARE",null,"HUILA",null,"LA_GUAJIRA",null,"MAGDALENA",null,"META",null,"NARINO",null,"NORTE_DE_SANTANDER",null,"PUTUMAYO",null,"QUINDIO",null,"RISARALDA",null,"SAN_ANDRES_Y_PROVIDENCIA",null,"SANTANDER",null,"SUCRE",null,"TOLIMA",null,"VALLE",null,"VAUPES",null,"VICHADA"]
[null,"01. SI","1","01. SI",null,"A0111 - Cultivo de cereales (excepto arroz), legumbres y semillas oleaginosas",null,"01. GRUPO 1",null,"01. PERSONA JURIDICA",null,"01. SOCIEDAD ANONIMA - SA",null,"01. ACTIVA",null,"05 - ANTIOQUIA",{"$f":"MID(P3,1,2)","v":"05"},"ANTIOQUIA",null,"05001 - MEDELLIN-ANTIOQUIA",null,"01. VIGENTE",null,"01. EMPRESA DE VIGILANCIA Y SEGURIDAD PRIVADAS CON ARMAS",null,null,null,"01. CEDULA DE CIUDADANIA",null,null,"91001 - LETICIA-AMAZONAS",null,"05001 - MEDELLIN-ANTIOQUIA",null,"81001 - ARAUCA-ARAUCA",null,"08001 - BARRANQUILLA-ATLANTICO",null,"11001 - BOGOTA-BOGOTA, D.C.",null,"13001 - CARTAGENA-BOLIVAR",null,"15001 - TUNJA-BOYACA",null,"17001 - MANIZALES-CALDAS",null,"18001 - FLORENCIA-CAQUETA",null,"85001 - YOPAL-CASANARE",null,"19001 - POPAYAN-CAUCA",null,"20001 - VALLEDUPAR-CESAR",null,"27001 - QUIBDO-CHOCO",null,"23001 - MONTERIA-CORDOBA",null,"25001 - AGUA DE DIOS-CUNDINAMARCA",null,"94001 - INIRIDA-GUAINIA",null,"95001 - SAN JOSE DEL GUAVIARE-GUAVIARE",null,"41001 - NEIVA-HUILA",null,"44001 - RIOHACHA-LA GUAJIRA",null,"47001 - SANTA MARTA-MAGDALENA",null,"50001 - VILLAVICENCIO-META",null,"52001 - PASTO-NARIÑO",null,"54001 - CUCUTA-NORTE DE SANTANDER",null,"86001 - MOCOA-PUTUMAYO",null,"63001 - ARMENIA-QUINDIO",null,"66001 - PEREIRA-RISARALDA",null,"88001 - SAN ANDRES-SAN ANDRES Y PROVIDENCIA",null,"68001 - BUCARAMANGA-SANTANDER",null,"70001 - SINCELEJO-SUCRE",null,"73001 - IBAGUE-TOLIMA",null,"76001 - CALI-VALLE DEL CAUCA",null,"97001 - MITU-VAUPES",null,"99001 - PUERTO CARREÑO-VICHADA",null,"CÉDULA DE CIUDADANÍA",null,"013 - AFGANISTAN",null,"01. Cambio voluntario en política contable"]
[null,"02. NO","2","02. NO",null,"A0112 - Cultivo de arroz",null,"02. GRUPO 2",null,"02. PERSONA NATURAL",null,"02. SOCIEDAD DE RESPONSABILIDAD LIMITADA - LTDA",null,"02. CONCORDATO EN TRÁMITE",null,"08 - ATLANTICO",{"$f":"MID(P4,1,2)","v":"08"},"ATLANTICO",null,"05002 - ABEJORRAL-ANTIOQUIA",null,"02. EN TRÁMITE",null,"02. EMPRESA DE VIGILANCIA Y SEGURIDAD PRIVADAS SIN ARMAS",null,null,null,"02. CEDULA DE EXTRANJERIA",null,null,"91263 - EL ENCANTO-AMAZONAS",null,"05002 - ABEJORRAL-ANTIOQUIA",null,"81065 - ARAUQUITA-ARAUCA",null,"08078 - BARANOA-ATLANTICO",null,null,null,"13006 - ACHI-BOLIVAR",null,"15022 - ALMEIDA-BOYACA",null,"17013 - AGUADAS-CALDAS",null,"18029 - ALBANIA-CAQUETA",null,"85010 - AGUAZUL-CASANARE",null,"19022 - ALMAGUER-CAUCA",null,"20011 - AGUACHICA-CESAR",null,"27006 - ACANDI-CHOCO",null,"23068 - AYAPEL-CORDOBA",null,"25019 - ALBAN-CUNDINAMARCA",null,"94343 - BARRANCO MINAS-GUAINIA",null,"95015 - CALAMAR-GUAVIARE",null,"41006 - ACEVEDO-HUILA",null,"44035 - ALBANIA-LA GUAJIRA",null,"47030 - ALGARROBO-MAGDALENA",null,"50006 - ACACIAS-META",null,"52019 - SAN JOSÉ ALBÁN-NARIÑO",null,"54003 - ABREGO-NORTE DE SANTANDER",null,"86219 - COLON-PUTUMAYO",null,"63111 - BUENAVISTA-QUINDIO",null,"66045 - APIA-RISARALDA",null,"88564 - PROVIDENCIA-SAN ANDRES Y PROVIDENCIA",null,"68013 - AGUADA-SANTANDER",null,"70110 - BUENAVISTA-SUCRE",null,"73024 - ALPUJARRA-TOLIMA",null,"76020 - ALCALA-VALLE DEL CAUCA",null,"97161 - CARURU-VAUPES",null,"99524 - LA PRIMAVERA-VICHADA",null,"NIT",null,"017 - ALBANIA",null,"02. Cambio obligatorio en política contable"]
[null,null,"3","03. N/A",null,"A0113 - Cultivo de hortalizas, raíces y tubérculos",null,"03. GRUPO 3",null,null,null,"03. SOCIEDAD POR ACCIONES SIMPLIFICADA - SAS","CEDULA DE CIUDADANIA","03. CONCORDATO EN EJECUCIÓN",null,"11 - BOGOTA D.C.","11","BOGOTA",null,"05004 - ABRIAQUI-ANTIOQUIA",null,"03. EN RECURSO",null,"03. COOPERATIVA DE VIGILANCIA Y SEGURIDAD PRIVADA",null,null,null,"03. PASAPORTE",null,null,"91405 - LA CHORRERA-AMAZONAS",null,"05004 - ABRIAQUI-ANTIOQUIA",null,"81220 - CRAVO NORTE-ARAUCA",null,"08137 - CAMPO DE LA CRUZ-ATLANTICO",null,null,null,"13030 - ALTOS DEL ROSARIO-BOLIVAR",null,"15047 - AQUITANIA-BOYACA",null,"17042 - ANSERMA-CALDAS",null,"18094 - BELEN DE LOS ANDAQUIES-CAQUETA",null,"85015 - CHAMEZA-CASANARE",null,"19050 - ARGELIA-CAUCA",null,"20013 - AGUSTIN CODAZZI-CESAR",null,"27025 - ALTO BAUDO-CHOCO",null,"23079 - BUENAVISTA-CORDOBA",null,"25035 - ANAPOIMA-CUNDINAMARCA",null,"94663 - MAPIRIPANA-GUAINIA",null,"95025 - EL RETORNO-GUAVIARE",null,"41013 - AGRADO-HUILA",null,"44078 - BARRANCAS-LA GUAJIRA",null,"47053 - ARACATACA-MAGDALENA",null,"50110 - BARRANCA DE UPIA-META",null,"52022 - ALDANA-NARIÑO",null,"54051 - ARBOLEDAS-NORTE DE SANTANDER",null,"86320 - ORITO-PUTUMAYO",null,"63130 - CALARCA-QUINDIO",null,"66075 - BALBOA-RISARALDA",null,null,null,"68020 - ALBANIA-SANTANDER",null,"70124 - CAIMITO-SUCRE",null,"73026 - ALVARADO-TOLIMA",null,"76036 - ANDALUCIA-VALLE DEL CAUCA",null,"97511 - PACOA-VAUPES",null,"99624 - SANTA ROSALIA-VICHADA",null,"CEDULA EXTRANJERÍA",null,"023 - ALEMANIA",null,"03. Cambio en estimación contable"]
[null,null,"4",null,null,"A0114 - Cultivo de tabaco",null,null,null,null,null,"04. COOPERATIVA DE TRABAJO ASOCIADO - CTA",null,"04. EN ETAPA PREOPERATIVA",null,"13 - BOLIVAR","13","BOLIVAR",null,"05021 - ALEJANDRIA-ANTIOQUIA",null,null,null,"04. EMPRESA DE TRANSPORTE DE VALORES",null,null,null,null,null,null,"91407 - LA PEDRERA-AMAZONAS",null,"05021 - ALEJANDRIA-ANTIOQUIA",null,"81300 - FORTUL-ARAUCA",null,"08141 - CANDELARIA-ATLANTICO",null,null,null,"13042 - ARENAL-BOLIVAR",null,"15051 - ARCABUCO-BOYACA",null,"17050 - ARANZAZU-CALDAS",null,"18150 - CARTAGENA DEL CHAIRA-CAQUETA",null,"85125 - HATO COROZAL-CASANARE",null,"19075 - BALBOA-CAUCA",null,"20032 - ASTREA-CESAR",null,"27050 - ATRATO-CHOCO",null,"23090 - CANALETE-CORDOBA",null,"25040 - ANOLAIMA-CUNDINAMARCA",null,"94883 - SAN FELIPE-GUAINIA",null,"95200 - MIRAFLORES-GUAVIARE",null,"41016 - AIPE-HUILA",null,"44090 - DIBULLA-LA GUAJIRA",null,"47058 - ARIGUANI-MAGDALENA",null,"50124 - CABUYARO-META",null,"52036 - ANCUYA-NARIÑO",null,"54099 - BOCHALEMA-NORTE DE SANTANDER",null,"86568 - PUERTO ASIS-PUTUMAYO",null,"63190 - CIRCASIA-QUINDIO",null,"66088 - BELEN DE UMBRIA-RISARALDA",null,null,null,"68051 - ARATOCA-SANTANDER",null,"70204 - COLOSO-SUCRE",null,"73030 - AMBALEMA-TOLIMA",null,"76041 - ANSERMANUEVO-VALLE DEL CAUCA",null,"97666 - TARAIRA-VAUPES",null,"99773 - CUMARIBO-VICHADA",null,"PASAPORTE",null,"026 - ARMENIA",null,"04. Cambio por error"]
[null,null,"5",null,null,"A0115 - Cultivo de plantas textiles",null,null,null,null,null,"05. SOCIEDAD EN COMANDITA",null,"05. ACUERDO DE REESTRUCTURACIÓN",null,"15 - BOYACA","15","BOYACA",null,"05030 - AMAGA-ANTIOQUIA",null,null,null,"05. EMPRESA BLINDADORA",null,null,null,null,null,null,"91430 - LA VICTORIA-AMAZONAS",null,"05030 - AMAGA-ANTIOQUIA",null,"81591 - PUERTO RONDON-ARAUCA",null,"08296 - GALAPA-ATLANTICO",null,null,null,"13052 - ARJONA-BOLIVAR",null,"15087 - BELEN-BOYACA",null,"17088 - BELALCAZAR-CALDAS",null,"18205 - CURILLO-CAQUETA",null,"85136 - LA SALINA-CASANARE",null,"19100 - BOLIVAR-CAUCA",null,"20045 - BECERRIL-CESAR",null,"27073 - BAGADO-CHOCO",null,"23162 - CERETE-CORDOBA",null,"25053 - ARBELAEZ-CUNDINAMARCA",null,"94884 - PUERTO COLOMBIA-GUAINIA",null,null,null,"41020 - ALGECIRAS-HUILA",null,"44098 - DISTRACCION-LA GUAJIRA",null,"47161 - CERRO SAN ANTONIO-MAGDALENA",null,"50150 - CASTILLA LA NUEVA-META",null,"52051 - ARBOLEDA - BERRUECOS-NARIÑO",null,"54109 - BUCARASICA-NORTE DE SANTANDER",null,"86569 - PUERTO CAICEDO-PUTUMAYO",null,"63212 - CORDOBA-QUINDIO",null,"66170 - DOSQUEBRADAS-RISARALDA",null,null,null,"68077 - BARBOSA-SANTANDER",null,"70215 - COROZAL-SUCRE",null,"73043 - ANZOATEGUI-TOLIMA",null,"76054 - ARGELIA-VALLE DEL CAUCA",null,"97777 - PAPUNAUA-VAUPES",null,null,null,"TARJETA DE IDENTIDAD",null,"027 - ARUBA"]
[null,null,"6",null,null,"A0119 - Otros cultivos transitorios n.c.p.",null,null,null,null,null,"06. EMPRESA UNIPERSONAL",null,"06. ACUERDO DE REORGANIZACION",null,"17 - CALDAS","17","CALDAS",null,"05031 - AMALFI-ANTIOQUIA",null,null,null,"06. EMPRESA ARRENDADORA DE VEHÍCULOS BLINDADOS",null,null,null,null,null,null,"91460 - MIRITI – PARANA-AMAZONAS",null,"05031 - AMALFI-ANTIOQUIA",null,"81736 - SARAVENA-ARAUCA",null,"08372 - JUAN DE ACOSTA-ATLANTICO",null,null,null,"13062 - ARROYOHONDO-BOLIVAR",null,"15090 - BERBEO-BOYACA",null,"17174 - CHINCHINA-CALDAS",null,"18247 - EL DONCELLO-CAQUETA",null,"85139 - MANI-CASANARE",null,"19110 - BUENOS AIRES-CAUCA",null,"20060 - BOSCONIA-CESAR",null,"27075 - BAHIA SOLANO-CHOCO",null,"23168 - CHIMA-CORDOBA",null,"25086 - BELTRAN-CUNDINAMARCA",null,"94885 - GUADALUPE-GUAINIA",null,null,null,"41026 - ALTAMIRA-HUILA",null,"44110 - EL MOLINO-LA GUAJIRA",null,"47170 - CHIBOLO-MAGDALENA",null,"50223 - CUBARRAL-META",null,"52079 - BARBACOAS-NARIÑO",null,"54125 - CACOTA-NORTE DE SANTANDER",null,"86571 - PUERTO GUZMAN-PUTUMAYO",null,"63272 - FILANDIA-QUINDIO",null,"66318 - GUATICA-RISARALDA",null,null,null,"68079 - BARICHARA-SANTANDER",null,"70221 - COVEÑAS-SUCRE",null,"73055 - ARMERO-TOLIMA",null,"76100 - BOLIVAR-VALLE DEL CAUCA",null,"97889 - YAVARATE-VAUPES",null,null,null,"SOCIEDAD EXTRANJERA SIN NIT EN COLOMBIA",null,"029 - BOSNIA"]
[null,null,"7",null,null,"A0121 - Cultivo de frutas tropicales y subtropicales",null,null,null,null,null,"07. COOPERATIVA",null,"07. EN LIQUIDACIÓN",null,"18 - CAQUETA","18","CAQUETA",null,"05034 - ANDES-ANTIOQUIA",null,null,null,"07. EMPRESA ASESORA, CONSULTORA E INVESTIGADORA EN VIGILANCIA Y SEGURIDAD PRIVADA",null,null,null,null,null,null,"91530 - PUERTO ALEGRIA-AMAZONAS",null,"05034 - ANDES-ANTIOQUIA",null,"81794 - TAME-ARAUCA",null,"08421 - LURUACO-ATLANTICO",null,null,null,"13074 - BARRANCO DE LOBA-BOLIVAR",null,"15092 - BETEITIVA-BOYACA",null,"17272 - FILADELFIA-CALDAS",null,"18256 - EL PAUJIL-CAQUETA",null,"85162 - MONTERREY-CASANARE",null,"19130 - CAJIBIO-CAUCA",null,"20175 - CHIMICHAGUA-CESAR",null,"27077 - BAJO BAUDO-CHOCO",null,"23182 - CHINU-CORDOBA",null,"25095 - BITUIMA-CUNDINAMARCA",null,"94886 - CACAHUAL-GUAINIA",null,null,null,"41078 - BARAYA-HUILA",null,"44279 - FONSECA-LA GUAJIRA",null,"47189 - CIENAGA-MAGDALENA",null,"50226 - CUMARAL-META",null,"52083 - BELEN-NARIÑO",null,"54128 - CACHIRA-NORTE DE SANTANDER",null,"86573 - LEGUIZAMO-PUTUMAYO",null,"63302 - GENOVA-QUINDIO",null,"66383 - LA CELIA-RISARALDA",null,null,null,"68081 - BARRANCABERMEJA-SANTANDER",null,"70230 - CHALAN-SUCRE",null,"73067 - ATACO-TOLIMA",null,"76109 - BUENAVENTURA-VALLE DEL CAUCA",null,null,null,null,null,"PERSONA NATURAL EXTRANJERA SIN IDENTIFICACIÓN",null,"031 -BURKINA FASSO"]
[null,null,"8",null,null,"A0122 - Cultivo de plátano y banano",null,null,null,null,null,"08. JUNTA DE ACCIÓN COMUNAL",null,null,null,"19 - CAUCA","19","CAUCA",null,"05036 - ANGELOPOLIS-ANTIOQUIA",null,null,null,"08. ESCUELA DE CAPACITACIÓN Y ENTRENAMIENTO EN VIGILANCIA Y SEGURIDAD PRIVADA",null,null,null,null,null,null,"91536 - PUERTO ARICA-AMAZONAS",null,"05036 - ANGELOPOLIS-ANTIOQUIA",null,null,null,"08433 - MALAMBO-ATLANTICO",null,null,null,"13140 - CALAMAR-BOLIVAR",null,"15097 - BOAVITA-BOYACA",null,"17380 - LA DORADA-CALDAS",null,"18410 - LA MONTAÑITA-CAQUETA",null,"85225 - NUNCHIA-CASANARE",null,"19137 - CALDONO-CAUCA",null,"20178 - CHIRIGUANA-CESAR",null,"27086 - BELEN DE BAJIRA-CHOCO",null,"23189 - CIENAGA DE ORO-CORDOBA",null,"25099 - BOJACA-CUNDINAMARCA",null,"94887 - PANA PANA-GUAINIA",null,null,null,"41132 - CAMPOALEGRE-HUILA",null,"44378 - HATONUEVO-LA GUAJIRA",null,"47205 - CONCORDIA-MAGDALENA",null,"50245 - EL CALVARIO-META",null,"52110 - BUESACO-NARIÑO",null,"54172 - CHINACOTA-NORTE DE SANTANDER",null,"86749 - SIBUNDOY-PUTUMAYO",null,"63401 - LA TEBAIDA-QUINDIO",null,"66400 - LA VIRGINIA-RISARALDA",null,null,null,"68092 - BETULIA-SANTANDER",null,"70233 - EL ROBLE-SUCRE",null,"73124 - CAJAMARCA-TOLIMA",null,"76111 - GUADALAJARA DE BUGA-VALLE DEL CAUCA",null,null,null,null,null,"REGISTRO CIVIL DE NACIMIENTO",null,"037 - ANDORRA"]
[null,null,"9",null,null,"A0123 - Cultivo de café",null,null,null,null,null,"09. EMPRESA COMUNITARIA",null,null,null,"20 - CESAR","20","CESAR",null,"05038 - ANGOSTURA-ANTIOQUIA",null,null,null,null,null,null,null,null,null,null,"91540 - PUERTO NARIÑO-AMAZONAS",null,"05038 - ANGOSTURA-ANTIOQUIA",null,null,null,"08436 - MANATI-ATLANTICO",null,null,null,"13160 - CANTAGALLO-BOLIVAR",null,"15104 - BOYACA-BOYACA",null,"17388 - LA MERCED-CALDAS",null,"18460 - MILAN-CAQUETA",null,"85230 - OROCUE-CASANARE",null,"19142 - CALOTO-CAUCA",null,"20228 - CURUMANI-CESAR",null,"27099 - BOJAYA-CHOCO",null,"23300 - COTORRA-CORDOBA",null,"25120 - CABRERA-CUNDINAMARCA",null,"94888 - MORICHAL-GUAINIA",null,null,null,"41206 - COLOMBIA-HUILA",null,"44420 - LA JAGUA DEL PILAR-LA GUAJIRA",null,"47245 - EL BANCO-MAGDALENA",null,"50251 - EL CASTILLO-META",null,"52203 - COLON-NARIÑO",null,"54174 - CHITAGA-NORTE DE SANTANDER",null,"86755 - SAN FRANCISCO-PUTUMAYO",null,"63470 - MONTENEGRO-QUINDIO",null,"66440 - MARSELLA-RISARALDA",null,null,null,"68101 - BOLIVAR-SANTANDER",null,"70235 - GALERAS-SUCRE",null,"73148 - CARMEN DE APICALA-TOLIMA",null,"76113 - BUGALAGRANDE-VALLE DEL CAUCA",null,null,null,null,null,"SIN IDENTIFICACIÓN - PARA USO DEFINIDO POR SUPERVIGILANCIA",null,"040 - ANGOLA"]
[null,null,"0",null,null,"A0124 - Cultivo de caña de azúcar",null,null,null,null,null,"10. ENTIDAD SIN ANIMO DE LUCRO",null,null,null,"23 - CORDOBA","23","CORDOBA",null,"05040 - ANORI-ANTIOQUIA",null,null,null,null,null,null,null,null,null,null,"91669 - PUERTO SANTANDER-AMAZONAS",null,"05040 - ANORI-ANTIOQUIA",null,null,null,"08520 - PALMAR DE VARELA-ATLANTICO",null,null,null,"13188 - CICUCO-BOLIVAR",null,"15106 - BRICEÑO-BOYACA",null,"17433 - MANZANARES-CALDAS",null,"18479 - MORELIA-CAQUETA",null,"85250 - PAZ DE ARIPORO-CASANARE",null,"19212 - CORINTO-CAUCA",null,"20238 - EL COPEY-CESAR",null,"27135 - EL CANTON DEL SAN PABLO-CHOCO",null,"23350 - LA APARTADA-CORDOBA",null,"25123 - CACHIPAY-CUNDINAMARCA",null,null,null,null,null,"41244 - ELIAS-HUILA",null,"44430 - MAICAO-LA GUAJIRA",null,"47258 - EL PIÑON-MAGDALENA",null,"50270 - EL DORADO-META",null,"52207 - CONSACA-NARIÑO",null,"54206 - CONVENCION-NORTE DE SANTANDER",null,"86757 - SAN MIGUEL-PUTUMAYO",null,"63548 - PIJAO-QUINDIO",null,"66456 - MISTRATO-RISARALDA",null,null,null,"68121 - CABRERA-SANTANDER",null,"70265 - GUARANDA-SUCRE",null,"73152 - CASABIANCA-TOLIMA",null,"76122 - CAICEDONIA-VALLE DEL CAUCA",null,null,null,null,null,null,null,"041 - ANGUILLA"]
[null,null,null,null,null,"A0125 - Cultivo de flor de corte",null,null,null,null,null,"11. ENTIDAD GUBERNAMENTAL",null,null,null,"25 - CUNDINAMARCA","25","CUNDINAMARCA",null,"05042 - SANTAFE DE ANTIOQUIA-ANTIOQUIA",null,null,null,null,null,null,null,null,null,null,"91798 - TARAPACA-AMAZONAS",null,"05042 - SANTAFE DE ANTIOQUIA-ANTIOQUIA",null,null,null,"08549 - PIOJO-ATLANTICO",null,null,null,"13212 - CORDOBA-BOLIVAR",null,"15109 - BUENAVISTA-BOYACA",null,"17442 - MARMATO-CALDAS",null,"18592 - PUERTO RICO-CAQUETA",null,"85263 - PORE-CASANARE",null,"19256 - EL TAMBO-CAUCA",null,"20250 - EL PASO-CESAR",null,"27150 - CARMEN DEL DARIEN-CHOCO",null,"23417 - LORICA-CORDOBA",null,"25126 - CAJICA-CUNDINAMARCA",null,null,null,null,null,"41298 - GARZON-HUILA",null,"44560 - MANAURE-LA GUAJIRA",null,"47268 - EL RETEN-MAGDALENA",null,"50287 - FUENTE DE ORO-META",null,"52210 - CONTADERO-NARIÑO",null,"54223 - CUCUTILLA-NORTE DE SANTANDER",null,"86760 - SANTIAGO-PUTUMAYO",null,"63594 - QUIMBAYA-QUINDIO",null,"66572 - PUEBLO RICO-RISARALDA",null,null,null,"68132 - CALIFORNIA-SANTANDER",null,"70400 - LA UNION-SUCRE",null,"73168 - CHAPARRAL-TOLIMA",null,"76126 - CALIMA-VALLE DEL CAUCA",null,null,null,null,null,null,null,"043 - ANTIGUA Y BARBUDA"]
[null,null,null,null,null,"A0126 - Cultivo de palma para aceite (palma africana) y otros frutos oleaginosos",null,null,null,null,null,null,null,null,null,"27 - CHOCO","27","CHOCO",null,"05044 - ANZA-ANTIOQUIA",null,null,null,null,null,null,null,null,null,null,null,null,"05044 - ANZA-ANTIOQUIA",null,null,null,"08558 - POLONUEVO-ATLANTICO",null,null,null,"13222 - CLEMENCIA-BOLIVAR",null,"15114 - BUSBANZA-BOYACA",null,"17444 - MARQUETALIA-CALDAS",null,"18610 - SAN JOSE DEL FRAGUA-CAQUETA",null,"85279 - RECETOR-CASANARE",null,"19290 - FLORENCIA-CAUCA",null,"20295 - GAMARRA-CESAR",null,"27160 - CERTEGUI-CHOCO",null,"23419 - LOS CORDOBAS-CORDOBA",null,"25148 - CAPARRAPI-CUNDINAMARCA",null,null,null,null,null,"41306 - GIGANTE-HUILA",null,"44650 - SAN JUAN DEL CESAR-LA GUAJIRA",null,"47288 - FUNDACION-MAGDALENA",null,"50313 - GRANADA-META",null,"52215 - CORDOBA-NARIÑO",null,"54239 - DURANIA-NORTE DE SANTANDER",null,"86865 - VALLE DEL GUAMUEZ-PUTUMAYO",null,"63690 - SALENTO-QUINDIO",null,"66594 - QUINCHIA-RISARALDA",null,null,null,"68147 - CAPITANEJO-SANTANDER",null,"70418 - LOS PALMITOS-SUCRE",null,"73200 - COELLO-TOLIMA",null,"76130 - CANDELARIA-VALLE DEL CAUCA",null,null,null,null,null,null,null,"047 - ANTILLAS HOLANDESAS"]
[null,null,null,null,null,"A0127 - Cultivo de plantas con las que se preparan bebidas",null,null,null,null,null,null,null,null,null,"41 - HUILA","41","HUILA",null,"05045 - APARTADO-ANTIOQUIA",null,null,null,null,null,null,null,null,null,null,null,null,"05045 - APARTADO-ANTIOQUIA",null,null,null,"08560 - PONEDERA-ATLANTICO",null,null,null,"13244 - EL CARMEN DE BOLIVAR-BOLIVAR",null,"15131 - CALDAS-BOYACA",null,"17446 - MARULANDA-CALDAS",null,"18753 - SAN VICENTE DEL CAGUAN-CAQUETA",null,"85300 - SABANALARGA-CASANARE",null,"19318 - GUAPI-CAUCA",null,"20310 - GONZALEZ-CESAR",null,"27205 - CONDOTO-CHOCO",null,"23464 - MOMIL-CORDOBA",null,"25151 - CAQUEZA-CUNDINAMARCA",null,null,null,null,null,"41319 - GUADALUPE-HUILA",null,"44847 - URIBIA-LA GUAJIRA",null,"47318 - GUAMAL-MAGDALENA",null,"50318 - GUAMAL-META",null,"52224 - CUASPUD-NARIÑO",null,"54245 - EL CARMEN-NORTE DE SANTANDER",null,"86885 - VILLAGARZON-PUTUMAYO",null,null,null,"66682 - SANTA ROSA DE CABAL-RISARALDA",null,null,null,"68152 - CARCASI-SANTANDER",null,"70429 - MAJAGUAL-SUCRE",null,"73217 - COYAIMA-TOLIMA",null,"76147 - CARTAGO-VALLE DEL CAUCA",null,null,null,null,null,null,null,"053 - ARABIA SAUDITA"]
[null,null,null,null,null,"A0128 - Cultivo de especias y de plantas aromáticas y medicinales",null,null,null,null,null,null,null,null,null,"44 - LA GUAJIRA","44","LA_GUAJIRA",null,"05051 - ARBOLETES-ANTIOQUIA",null,null,null,null,null,null,null,null,null,null,null,null,"05051 - ARBOLETES-ANTIOQUIA",null,null,null,"08573 - PUERTO COLOMBIA-ATLANTICO",null,null,null,"13248 - EL GUAMO-BOLIVAR",null,"15135 - CAMPOHERMOSO-BOYACA",null,"17486 - NEIRA-CALDAS",null,"18756 - SOLANO-CAQUETA",null,"85315 - SACAMA-CASANARE",null,"19355 - INZA-CAUCA",null,"20383 - LA GLORIA-CESAR",null,"27245 - EL CARMEN DE ATRATO-CHOCO",null,"23466 - MONTELIBANO-CORDOBA",null,"25154 - CARMEN DE CARUPA-CUNDINAMARCA",null,null,null,null,null,"41349 - HOBO-HUILA",null,"44855 - URUMITA-LA GUAJIRA",null,"47460 - NUEVA GRANADA-MAGDALENA",null,"50325 - MAPIRIPAN-META",null,"52227 - CUMBAL-NARIÑO",null,"54250 - EL TARRA-NORTE DE SANTANDER",null,null,null,null,null,"66687 - SANTUARIO-RISARALDA",null,null,null,"68160 - CEPITA-SANTANDER",null,"70473 - MORROA-SUCRE",null,"73226 - CUNDAY-TOLIMA",null,"76233 - DAGUA-VALLE DEL CAUCA",null,null,null,null,null,null,null,"059 - ARGELIA"]
[null,null,null,null,null,"A0129 - Otros cultivos permanentes n.c.p.",null,null,null,null,null,null,null,null,null,"47 - MAGDALENA","47","MAGDALENA",null,"05055 - ARGELIA-ANTIOQUIA",null,null,null,null,null,null,null,null,null,null,null,null,"05055 - ARGELIA-ANTIOQUIA",null,null,null,"08606 - REPELON-ATLANTICO",null,null,null,"13268 - EL PEÑON-BOLIVAR",null,"15162 - CERINZA-BOYACA",null,"17495 - NORCASIA-CALDAS",null,"18785 - SOLITA-CAQUETA",null,"85325 - SAN LUIS DE PALENQUE-CASANARE",null,"19364 - JAMBALO-CAUCA",null,"20400 - LA JAGUA DE IBIRICO-CESAR",null,"27250 - EL LITORAL DEL SAN JUAN-CHOCO",null,"23500 - MOÑITOS-CORDOBA",null,"25168 - CHAGUANI-CUNDINAMARCA",null,null,null,null,null,"41357 - IQUIRA-HUILA",null,"44874 - VILLANUEVA-LA GUAJIRA",null,"47541 - PEDRAZA-MAGDALENA",null,"50330 - MESETAS-META",null,"52233 - CUMBITARA-NARIÑO",null,"54261 - EL ZULIA-NORTE DE SANTANDER",null,null,null,null,null,null,null,null,null,"68162 - CERRITO-SANTANDER",null,"70508 - OVEJAS-SUCRE",null,"73236 - DOLORES-TOLIMA",null,"76243 - EL AGUILA-VALLE DEL CAUCA",null,null,null,null,null,null,null,"063 - ARGENTINA"]
[null,null,null,null,null,"A0130 - Propagación de plantas (actividades de los viveros, excepto viveros forestales)",null,null,null,null,null,null,null,null,null,"50 - META","50","META",null,"05059 - ARMENIA-ANTIOQUIA",null,null,null,null,null,null,null,null,null,null,null,null,"05059 - ARMENIA-ANTIOQUIA",null,null,null,"08634 - SABANAGRANDE-ATLANTICO",null,null,null,"13300 - HATILLO DE LOBA-BOLIVAR",null,"15172 - CHINAVITA-BOYACA",null,"17513 - PACORA-CALDAS",null,"18860 - VALPARAISO-CAQUETA",null,"85400 - TAMARA-CASANARE",null,"19392 - LA SIERRA-CAUCA",null,"20443 - MANAURE-CESAR",null,"27361 - ISTMINA-CHOCO",null,"23555 - PLANETA RICA-CORDOBA",null,"25175 - CHIA-CUNDINAMARCA",null,null,null,null,null,"41359 - ISNOS-HUILA",null,null,null,"47545 - PIJIÑO DEL CARMEN-MAGDALENA",null,"50350 - LA MACARENA-META",null,"52240 - CHACHAGÜI-NARIÑO",null,"54313 - GRAMALOTE-NORTE DE SANTANDER",null,null,null,null,null,null,null,null,null,"68167 - CHARALA-SANTANDER",null,"70523 - PALMITO-SUCRE",null,"73268 - ESPINAL-TOLIMA",null,"76246 - EL CAIRO-VALLE DEL CAUCA",null,null,null,null,null,null,null,"069 - AUSTRALIA"]
[null,null,null,null,null,"A0141 - Cría de ganado bovino y bufalino",null,null,null,null,null,null,null,null,null,"52 - NARIÑO","52","NARINO",null,"05079 - BARBOSA-ANTIOQUIA",null,null,null,null,null,null,null,null,null,null,null,null,"05079 - BARBOSA-ANTIOQUIA",null,null,null,"08638 - SABANALARGA-ATLANTICO",null,null,null,"13430 - MAGANGUE-BOLIVAR",null,"15176 - CHIQUINQUIRA-BOYACA",null,"17524 - PALESTINA-CALDAS",null,null,null,"85410 - TAURAMENA-CASANARE",null,"19397 - LA VEGA-CAUCA",null,"20517 - PAILITAS-CESAR",null,"27372 - JURADO-CHOCO",null,"23570 - PUEBLO NUEVO-CORDOBA",null,"25178 - CHIPAQUE-CUNDINAMARCA",null,null,null,null,null,"41378 - LA ARGENTINA-HUILA",null,null,null,"47551 - PIVIJAY-MAGDALENA",null,"50370 - URIBE-META",null,"52250 - EL CHARCO-NARIÑO",null,"54344 - HACARI-NORTE DE SANTANDER",null,null,null,null,null,null,null,null,null,"68169 - CHARTA-SANTANDER",null,"70670 - SAMPUES-SUCRE",null,"73270 - FALAN-TOLIMA",null,"76248 - EL CERRITO-VALLE DEL CAUCA",null,null,null,null,null,null,null,"072 - AUSTRIA"]
[null,null,null,null,null,"A0142 - Cría de caballos y otros equinos",null,null,null,null,null,null,null,null,null,"54 - NORTE DE SANTANDER","54","NORTE_DE_SANTANDER",null,"05086 - BELMIRA-ANTIOQUIA",null,null,null,null,null,null,null,null,null,null,null,null,"05086 - BELMIRA-ANTIOQUIA",null,null,null,"08675 - SANTA LUCIA-ATLANTICO",null,null,null,"13433 - MAHATES-BOLIVAR",null,"15180 - CHISCAS-BOYACA",null,"17541 - PENSILVANIA-CALDAS",null,null,null,"85430 - TRINIDAD-CASANARE",null,"19418 - LOPEZ-CAUCA",null,"20550 - PELAYA-CESAR",null,"27413 - LLORO-CHOCO",null,"23574 - PUERTO ESCONDIDO-CORDOBA",null,"25181 - CHOACHI-CUNDINAMARCA",null,null,null,null,null,"41396 - LA PLATA-HUILA",null,null,null,"47555 - PLATO-MAGDALENA",null,"50400 - LEJANIAS-META",null,"52254 - EL PEÑOL-NARIÑO",null,"54347 - HERRAN-NORTE DE SANTANDER",null,null,null,null,null,null,null,null,null,"68176 - CHIMA-SANTANDER",null,"70678 - SAN BENITO ABAD-SUCRE",null,"73275 - FLANDES-TOLIMA",null,"76250 - EL DOVIO-VALLE DEL CAUCA",null,null,null,null,null,null,null,"074 - AZERBAIJAN"]
[null,null,null,null,null,"A0143 - Cría de ovejas y cabras",null,null,null,null,null,null,null,null,null,"63 - QUINDIO","63","QUINDIO",null,"05088 - BELLO-ANTIOQUIA",null,null,null,null,null,null,null,null,null,null,null,null,"05088 - BELLO-ANTIOQUIA",null,null,null,"08685 - SANTO TOMAS-ATLANTICO",null,null,null,"13440 - MARGARITA-BOLIVAR",null,"15183 - CHITA-BOYACA",null,"17614 - RIOSUCIO-CALDAS",null,null,null,"85440 - VILLANUEVA-CASANARE",null,"19450 - MERCADERES-CAUCA",null,"20570 - PUEBLO BELLO-CESAR",null,"27425 - MEDIO ATRATO-CHOCO",null,"23580 - PUERTO LIBERTADOR-CORDOBA",null,"25183 - CHOCONTA-CUNDINAMARCA",null,null,null,null,null,"41483 - NATAGA-HUILA",null,null,null,"47570 - PUEBLOVIEJO-MAGDALENA",null,"50450 - PUERTO CONCORDIA-META",null,"52256 - EL ROSARIO-NARIÑO",null,"54377 - LABATECA-NORTE DE SANTANDER",null,null,null,null,null,null,null,null,null,"68179 - CHIPATA-SANTANDER",null,"70702 - SAN JUAN DE BETULIA-SUCRE",null,"73283 - FRESNO-TOLIMA",null,"76275 - FLORIDA-VALLE DEL CAUCA",null,null,null,null,null,null,null,"077 - BAHAMAS"]
[null,null,null,null,null,"A0144 - Cría de ganado porcino",null,null,null,null,null,null,null,null,null,"66 - RISARALDA","66","RISARALDA",null,"05091 - BETANIA-ANTIOQUIA",null,null,null,null,null,null,null,null,null,null,null,null,"05091 - BETANIA-ANTIOQUIA",null,null,null,"08758 - SOLEDAD-ATLANTICO",null,null,null,"13442 - MARIA LA BAJA-BOLIVAR",null,"15185 - CHITARAQUE-BOYACA",null,"17616 - RISARALDA-CALDAS",null,null,null,null,null,"19455 - MIRANDA-CAUCA",null,"20614 - RIO DE ORO-CESAR",null,"27430 - MEDIO BAUDO-CHOCO",null,"23586 - PURISIMA-CORDOBA",null,"25200 - COGUA-CUNDINAMARCA",null,null,null,null,null,"41503 - OPORAPA-HUILA",null,null,null,"47605 - REMOLINO-MAGDALENA",null,"50568 - PUERTO GAITAN-META",null,"52258 - EL TABLON DE GOMEZ-NARIÑO",null,"54385 - LA ESPERANZA-NORTE DE SANTANDER",null,null,null,null,null,null,null,null,null,"68190 - CIMITARRA-SANTANDER",null,"70708 - SAN MARCOS-SUCRE",null,"73319 - GUAMO-TOLIMA",null,"76306 - GINEBRA-VALLE DEL CAUCA",null,null,null,null,null,null,null,"080 - BAHREIN"]
[null,null,null,null,null,"A0145 - Cría de aves de corral",null,null,null,null,null,null,null,null,null,"68 - SANTANDER","68","SANTANDER",null,"05093 - BETULIA-ANTIOQUIA",null,null,null,null,null,null,null,null,null,null,null,null,"05093 - BETULIA-ANTIOQUIA",null,null,null,"08770 - SUAN-ATLANTICO",null,null,null,"13458 - MONTECRISTO-BOLIVAR",null,"15187 - CHIVATA-BOYACA",null,"17653 - SALAMINA-CALDAS",null,null,null,null,null,"19473 - MORALES-CAUCA",null,"20621 - LA PAZ-CESAR",null,"27450 - MEDIO SAN JUAN-CHOCO",null,"23660 - SAHAGUN-CORDOBA",null,"25214 - COTA-CUNDINAMARCA",null,null,null,null,null,"41518 - PAICOL-HUILA",null,null,null,"47660 - SABANAS DE SAN ANGEL-MAGDALENA",null,"50573 - PUERTO LOPEZ-META",null,"52260 - EL TAMBO-NARIÑO",null,"54398 - LA PLAYA-NORTE DE SANTANDER",null,null,null,null,null,null,null,null,null,"68207 - CONCEPCION-SANTANDER",null,"70713 - SAN ONOFRE-SUCRE",null,"73347 - HERVEO-TOLIMA",null,"76318 - GUACARI-VALLE DEL CAUCA",null,null,null,null,null,null,null,"081 - BANGLADESH"]
[null,null,null,null,null,"A0149 - Cría de otros animales n.c.p.",null,null,null,null,null,null,null,null,null,"70 - SUCRE","70","SUCRE",null,"05101 - CIUDAD BOLIVAR-ANTIOQUIA",null,null,null,null,null,null,null,null,null,null,null,null,"05101 - CIUDAD BOLIVAR-ANTIOQUIA",null,null,null,"08832 - TUBARA-ATLANTICO",null,null,null,"13468 - MOMPOS-BOLIVAR",null,"15189 - CIENEGA-BOYACA",null,"17662 - SAMANA-CALDAS",null,null,null,null,null,"19513 - PADILLA-CAUCA",null,"20710 - SAN ALBERTO-CESAR",null,"27491 - NOVITA-CHOCO",null,"23670 - SAN ANDRES SOTAVENTO-CORDOBA",null,"25224 - CUCUNUBA-CUNDINAMARCA",null,null,null,null,null,"41524 - PALERMO-HUILA",null,null,null,"47675 - SALAMINA-MAGDALENA",null,"50577 - PUERTO LLERAS-META",null,"52287 - FUNES-NARIÑO",null,"54405 - LOS PATIOS-NORTE DE SANTANDER",null,null,null,null,null,null,null,null,null,"68209 - CONFINES-SANTANDER",null,"70717 - SAN PEDRO-SUCRE",null,"73349 - HONDA-TOLIMA",null,"76364 - JAMUNDI-VALLE DEL CAUCA",null,null,null,null,null,null,null,"083 - BARBADOS"]
[null,null,null,null,null,"A0150 - Explotación mixta (agrícola y pecuaria)",null,null,null,null,null,null,null,null,null,"73 - TOLIMA","73","TOLIMA",null,"05107 - BRICEÑO-ANTIOQUIA",null,null,null,null,null,null,null,null,null,null,null,null,"05107 - BRICEÑO-ANTIOQUIA",null,null,null,"08849 - USIACURI-ATLANTICO",null,null,null,"13473 - MORALES-BOLIVAR",null,"15204 - COMBITA-BOYACA",null,"17665 - SAN JOSE-CALDAS",null,null,null,null,null,"19517 - PAEZ-CAUCA",null,"20750 - SAN DIEGO-CESAR",null,"27495 - NUQUI-CHOCO",null,"23672 - SAN ANTERO-CORDOBA",null,"25245 - EL COLEGIO-CUNDINAMARCA",null,null,null,null,null,"41530 - PALESTINA-HUILA",null,null,null,"47692 - SAN SEBASTIAN DE BUENAVISTA-MAGDALENA",null,"50590 - PUERTO RICO-META",null,"52317 - GUACHUCAL-NARIÑO",null,"54418 - LOURDES-NORTE DE SANTANDER",null,null,null,null,null,null,null,null,null,"68211 - CONTRATACION-SANTANDER",null,"70742 - SAN LUIS DE SINCE-SUCRE",null,"73352 - ICONONZO-TOLIMA",null,"76377 - LA CUMBRE-VALLE DEL CAUCA",null,null,null,null,null,null,null,"087 - BELGICA"]
[null,null,null,null,null,"A0161 - Actividades de apoyo a la agricultura",null,null,null,null,null,null,null,null,null,"76 - VALLE DEL CAUCA","76","VALLE",null,"05113 - BURITICA-ANTIOQUIA",null,null,null,null,null,null,null,null,null,null,null,null,"05113 - BURITICA-ANTIOQUIA",null,null,null,null,null,null,null,"13549 - PINILLOS-BOLIVAR",null,"15212 - COPER-BOYACA",null,"17777 - SUPIA-CALDAS",null,null,null,null,null,"19532 - PATIA-CAUCA",null,"20770 - SAN MARTIN-CESAR",null,"27580 - RIO IRO-CHOCO",null,"23675 - SAN BERNARDO DEL VIENTO-CORDOBA",null,"25258 - EL PEÑON-CUNDINAMARCA",null,null,null,null,null,"41548 - PITAL-HUILA",null,null,null,"47703 - SAN ZENON-MAGDALENA",null,"50606 - RESTREPO-META",null,"52320 - GUAITARILLA-NARIÑO",null,"54480 - MUTISCUA-NORTE DE SANTANDER",null,null,null,null,null,null,null,null,null,"68217 - COROMORO-SANTANDER",null,"70771 - SUCRE-SUCRE",null,"73408 - LERIDA-TOLIMA",null,"76400 - LA UNION-VALLE DEL CAUCA",null,null,null,null,null,null,null,"088 - BELICE"]
[null,null,null,null,null,"A0162 - Actividades de apoyo a la ganadería",null,null,null,null,null,null,null,null,null,"81 - ARAUCA","81","ARAUCA",null,"05120 - CACERES-ANTIOQUIA",null,null,null,null,null,null,null,null,null,null,null,null,"05120 - CACERES-ANTIOQUIA",null,null,null,null,null,null,null,"13580 - REGIDOR-BOLIVAR",null,"15215 - CORRALES-BOYACA",null,"17867 - VICTORIA-CALDAS",null,null,null,null,null,"19533 - PIAMONTE-CAUCA",null,"20787 - TAMALAMEQUE-CESAR",null,"27600 - RIO QUITO-CHOCO",null,"23678 - SAN CARLOS-CORDOBA",null,"25260 - EL ROSAL-CUNDINAMARCA",null,null,null,null,null,"41551 - PITALITO-HUILA",null,null,null,"47707 - SANTA ANA-MAGDALENA",null,"50680 - SAN CARLOS DE GUAROA-META",null,"52323 - GUALMATAN-NARIÑO",null,"54498 - OCAÑA-NORTE DE SANTANDER",null,null,null,null,null,null,null,null,null,"68229 - CURITI-SANTANDER",null,"70820 - SANTIAGO DE TOLU-SUCRE",null,"73411 - LIBANO-TOLIMA",null,"76403 - LA VICTORIA-VALLE DEL CAUCA",null,null,null,null,null,null,null,"090 - BERMUDAS"]
[null,null,null,null,null,"A0163 - Actividades posteriores a la cosecha",null,null,null,null,null,null,null,null,null,"85 - CASANARE","85","CASANARE",null,"05125 - CAICEDO-ANTIOQUIA",null,null,null,null,null,null,null,null,null,null,null,null,"05125 - CAICEDO-ANTIOQUIA",null,null,null,null,null,null,null,"13600 - RIO VIEJO-BOLIVAR",null,"15218 - COVARACHIA-BOYACA",null,"17873 - VILLAMARIA-CALDAS",null,null,null,null,null,"19548 - PIENDAMO-CAUCA",null,null,null,"27615 - BELEN DE BAJIRA (CASERIO DE RIOSUCIO)-CHOCO",null,"23686 - SAN PELAYO-CORDOBA",null,"25269 - FACATATIVA-CUNDINAMARCA",null,null,null,null,null,"41615 - RIVERA-HUILA",null,null,null,"47720 - SANTA BARBARA DE PINTO-MAGDALENA",null,"50683 - SAN JUAN DE ARAMA-META",null,"52352 - ILES-NARIÑO",null,"54518 - PAMPLONA-NORTE DE SANTANDER",null,null,null,null,null,null,null,null,null,"68235 - EL CARMEN DE CHUCURI-SANTANDER",null,"70823 - TOLU VIEJO-SUCRE",null,"73443 - MARIQUITA-TOLIMA",null,"76497 - OBANDO-VALLE DEL CAUCA",null,null,null,null,null,null,null,"091 - BELARUS"]
[null,null,null,null,null,"A0164 - Tratamiento de semillas para propagación",null,null,null,null,null,null,null,null,null,"86 - PUTUMAYO","86","PUTUMAYO",null,"05129 - CALDAS-ANTIOQUIA",null,null,null,null,null,null,null,null,null,null,null,null,"05129 - CALDAS-ANTIOQUIA",null,null,null,null,null,null,null,"13620 - SAN CRISTOBAL-BOLIVAR",null,"15223 - CUBARA-BOYACA",null,"17877 - VITERBO-CALDAS",null,null,null,null,null,"19573 - PUERTO TEJADA-CAUCA",null,null,null,"27660 - SAN JOSE DEL PALMAR-CHOCO",null,"23807 - TIERRALTA-CORDOBA",null,"25279 - FOMEQUE-CUNDINAMARCA",null,null,null,null,null,"41660 - SALADOBLANCO-HUILA",null,null,null,"47745 - SITIONUEVO-MAGDALENA",null,"50686 - SAN JUANITO-META",null,"52354 - IMUES-NARIÑO",null,"54520 - PAMPLONITA-NORTE DE SANTANDER",null,null,null,null,null,null,null,null,null,"68245 - EL GUACAMAYO-SANTANDER",null,null,null,"73449 - MELGAR-TOLIMA",null,"76520 - PALMIRA-VALLE DEL CAUCA",null,null,null,null,null,null,null,"093 - BIRMANIA (MYANMAR)"]
[null,null,null,null,null,"A0170 - Caza ordinaria y mediante trampas y actividades de servicios conexas",null,null,null,null,null,null,null,null,null,"88 - SAN ANDRES Y PROVIDENCIA","88","SAN_ANDRES_Y_PROVIDENCIA",null,"05134 - CAMPAMENTO-ANTIOQUIA",null,null,null,null,null,null,null,null,null,null,null,null,"05134 - CAMPAMENTO-ANTIOQUIA",null,null,null,null,null,null,null,"13647 - SAN ESTANISLAO-BOLIVAR",null,"15224 - CUCAITA-BOYACA",null,null,null,null,null,null,null,"19585 - PURACE-CAUCA",null,null,null,"27745 - SIPI-CHOCO",null,"23855 - VALENCIA-CORDOBA",null,"25281 - FOSCA-CUNDINAMARCA",null,null,null,null,null,"41668 - SAN AGUSTIN-HUILA",null,null,null,"47798 - TENERIFE-MAGDALENA",null,"50689 - SAN MARTIN-META",null,"52356 - IPIALES-NARIÑO",null,"54553 - PUERTO SANTANDER-NORTE DE SANTANDER",null,null,null,null,null,null,null,null,null,"68250 - EL PEÑON-SANTANDER",null,null,null,"73461 - MURILLO-TOLIMA",null,"76563 - PRADERA-VALLE DEL CAUCA",null,null,null,null,null,null,null,"097 - BOLIVIA"]
[null,null,null,null,null,"A0210 - Silvicultura y otras actividades forestales",null,null,null,null,null,null,null,null,null,"91 - AMAZONAS","91","AMAZONAS",null,"05138 - CAÑASGORDAS-ANTIOQUIA",null,null,null,null,null,null,null,null,null,null,null,null,"05138 - CAÑASGORDAS-ANTIOQUIA",null,null,null,null,null,null,null,"13650 - SAN FERNANDO-BOLIVAR",null,"15226 - CUITIVA-BOYACA",null,null,null,null,null,null,null,"19622 - ROSAS-CAUCA",null,null,null,"27787 - TADO-CHOCO",null,null,null,"25286 - FUNZA-CUNDINAMARCA",null,null,null,null,null,"41676 - SANTA MARIA-HUILA",null,null,null,"47960 - ZAPAYAN-MAGDALENA",null,"50711 - VISTAHERMOSA-META",null,"52378 - LA CRUZ-NARIÑO",null,"54599 - RAGONVALIA-NORTE DE SANTANDER",null,null,null,null,null,null,null,null,null,"68255 - EL PLAYON-SANTANDER",null,null,null,"73483 - NATAGAIMA-TOLIMA",null,"76606 - RESTREPO-VALLE DEL CAUCA",null,null,null,null,null,null,null,"101 - BOTSWANA"]
[null,null,null,null,null,"A0220 - Extracción de madera",null,null,null,null,null,null,null,null,null,"94 - GUAINIA","94","GUAINIA",null,"05142 - CARACOLI-ANTIOQUIA",null,null,null,null,null,null,null,null,null,null,null,null,"05142 - CARACOLI-ANTIOQUIA",null,null,null,null,null,null,null,"13654 - SAN JACINTO-BOLIVAR",null,"15232 - CHIQUIZA-BOYACA",null,null,null,null,null,null,null,"19693 - SAN SEBASTIAN-CAUCA",null,null,null,"27800 - UNGUIA-CHOCO",null,null,null,"25288 - FUQUENE-CUNDINAMARCA",null,null,null,null,null,"41770 - SUAZA-HUILA",null,null,null,"47980 - ZONA BANANERA-MAGDALENA",null,null,null,"52381 - LA FLORIDA-NARIÑO",null,"54660 - SALAZAR-NORTE DE SANTANDER",null,null,null,null,null,null,null,null,null,"68264 - ENCINO-SANTANDER",null,null,null,"73504 - ORTEGA-TOLIMA",null,"76616 - RIOFRIO-VALLE DEL CAUCA",null,null,null,null,null,null,null,"105 - BRASIL"]
[null,null,null,null,null,"A0230 - Recolección de productos forestales diferentes a la madera",null,null,null,null,null,null,null,null,null,"95 - GUAVIARE","95","GUAVIARE",null,"05145 - CARAMANTA-ANTIOQUIA",null,null,null,null,null,null,null,null,null,null,null,null,"05145 - CARAMANTA-ANTIOQUIA",null,null,null,null,null,null,null,"13655 - SAN JACINTO DEL CAUCA-BOLIVAR",null,"15236 - CHIVOR-BOYACA",null,null,null,null,null,null,null,"19698 - SANTANDER DE QUILICHAO-CAUCA",null,null,null,"27810 - UNION PANAMERICANA-CHOCO",null,null,null,"25290 - FUSAGASUGA-CUNDINAMARCA",null,null,null,null,null,"41791 - TARQUI-HUILA",null,null,null,null,null,null,null,"52385 - LA LLANADA-NARIÑO",null,"54670 - SAN CALIXTO-NORTE DE SANTANDER",null,null,null,null,null,null,null,null,null,"68266 - ENCISO-SANTANDER",null,null,null,"73520 - PALOCABILDO-TOLIMA",null,"76622 - ROLDANILLO-VALLE DEL CAUCA",null,null,null,null,null,null,null,"108 - BRUNEI DARUSSALAM"]
[null,null,null,null,null,"A0240 - Servicios de apoyo a la silvicultura",null,null,null,null,null,null,null,null,null,"97 - VAUPES","97","VAUPES",null,"05147 - CAREPA-ANTIOQUIA",null,null,null,null,null,null,null,null,null,null,null,null,"05147 - CAREPA-ANTIOQUIA",null,null,null,null,null,null,null,"13657 - SAN JUAN NEPOMUCENO-BOLIVAR",null,"15238 - DUITAMA-BOYACA",null,null,null,null,null,null,null,"19701 - SANTA ROSA-CAUCA",null,null,null,null,null,null,null,"25293 - GACHALA-CUNDINAMARCA",null,null,null,null,null,"41797 - TESALIA-HUILA",null,null,null,null,null,null,null,"52390 - LA TOLA-NARIÑO",null,"54673 - SAN CAYETANO-NORTE DE SANTANDER",null,null,null,null,null,null,null,null,null,"68271 - FLORIAN-SANTANDER",null,null,null,"73547 - PIEDRAS-TOLIMA",null,"76670 - SAN PEDRO-VALLE DEL CAUCA",null,null,null,null,null,null,null,"111 - BULGARIA"]
[null,null,null,null,null,"A0311 - Pesca marítima",null,null,null,null,null,null,null,null,null,"99 - VICHADA","99","VICHADA",null,"05148 - EL CARMEN DE VIBORAL-ANTIOQUIA",null,null,null,null,null,null,null,null,null,null,null,null,"05148 - EL CARMEN DE VIBORAL-ANTIOQUIA",null,null,null,null,null,null,null,"13667 - SAN MARTIN DE LOBA-BOLIVAR",null,"15244 - EL COCUY-BOYACA",null,null,null,null,null,null,null,"19743 - SILVIA-CAUCA",null,null,null,null,null,null,null,"25295 - GACHANCIPA-CUNDINAMARCA",null,null,null,null,null,"41799 - TELLO-HUILA",null,null,null,null,null,null,null,"52399 - LA UNION-NARIÑO",null,"54680 - SANTIAGO-NORTE DE SANTANDER",null,null,null,null,null,null,null,null,null,"68276 - FLORIDABLANCA-SANTANDER",null,null,null,"73555 - PLANADAS-TOLIMA",null,"76736 - SEVILLA-VALLE DEL CAUCA",null,null,null,null,null,null,null,"115 - BURUNDI"]
[null,null,null,null,null,"A0312 - Pesca de agua dulce",null,null,null,null,null,null,null,null,null,null,null,null,null,"05150 - CAROLINA-ANTIOQUIA",null,null,null,null,null,null,null,null,null,null,null,null,"05150 - CAROLINA-ANTIOQUIA",null,null,null,null,null,null,null,"13670 - SAN PABLO-BOLIVAR",null,"15248 - EL ESPINO-BOYACA",null,null,null,null,null,null,null,"19760 - SOTARA-CAUCA",null,null,null,null,null,null,null,"25297 - GACHETA-CUNDINAMARCA",null,null,null,null,null,"41801 - TERUEL-HUILA",null,null,null,null,null,null,null,"52405 - LEIVA-NARIÑO",null,"54720 - SARDINATA-NORTE DE SANTANDER",null,null,null,null,null,null,null,null,null,"68296 - GALAN-SANTANDER",null,null,null,"73563 - PRADO-TOLIMA",null,"76823 - TORO-VALLE DEL CAUCA",null,null,null,null,null,null,null,"119 - BUTAN"]
[null,null,null,null,null,"A0321 - Acuicultura marítima",null,null,null,null,null,null,null,null,null,null,null,null,null,"05154 - CAUCASIA-ANTIOQUIA",null,null,null,null,null,null,null,null,null,null,null,null,"05154 - CAUCASIA-ANTIOQUIA",null,null,null,null,null,null,null,"13673 - SANTA CATALINA-BOLIVAR",null,"15272 - FIRAVITOBA-BOYACA",null,null,null,null,null,null,null,"19780 - SUAREZ-CAUCA",null,null,null,null,null,null,null,"25299 - GAMA-CUNDINAMARCA",null,null,null,null,null,"41807 - TIMANA-HUILA",null,null,null,null,null,null,null,"52411 - LINARES-NARIÑO",null,"54743 - SILOS-NORTE DE SANTANDER",null,null,null,null,null,null,null,null,null,"68298 - GAMBITA-SANTANDER",null,null,null,"73585 - PURIFICACION-TOLIMA",null,"76828 - TRUJILLO-VALLE DEL CAUCA",null,null,null,null,null,null,null,"127 - CABO VERDE"]
[null,null,null,null,null,"A0322 - Acuicultura de agua dulce",null,null,null,null,null,null,null,null,null,null,null,null,null,"05172 - CHIGORODO-ANTIOQUIA",null,null,null,null,null,null,null,null,null,null,null,null,"05172 - CHIGORODO-ANTIOQUIA",null,null,null,null,null,null,null,"13683 - SANTA ROSA-BOLIVAR",null,"15276 - FLORESTA-BOYACA",null,null,null,null,null,null,null,"19785 - SUCRE-CAUCA",null,null,null,null,null,null,null,"25307 - GIRARDOT-CUNDINAMARCA",null,null,null,null,null,"41872 - VILLAVIEJA-HUILA",null,null,null,null,null,null,null,"52418 - LOS ANDES-NARIÑO",null,"54800 - TEORAMA-NORTE DE SANTANDER",null,null,null,null,null,null,null,null,null,"68307 - GIRON-SANTANDER",null,null,null,"73616 - RIOBLANCO-TOLIMA",null,"76834 - TULUA-VALLE DEL CAUCA",null,null,null,null,null,null,null,"137 - CAIMAN - ISLAS"]
[null,null,null,null,null,"B0510 - Extracción de hulla (carbón de piedra)",null,null,null,null,null,null,null,null,null,null,null,null,null,"05190 - CISNEROS-ANTIOQUIA",null,null,null,null,null,null,null,null,null,null,null,null,"05190 - CISNEROS-ANTIOQUIA",null,null,null,null,null,null,null,"13688 - SANTA ROSA DEL SUR-BOLIVAR",null,"15293 - GACHANTIVA-BOYACA",null,null,null,null,null,null,null,"19807 - TIMBIO-CAUCA",null,null,null,null,null,null,null,"25312 - GRANADA-CUNDINAMARCA",null,null,null,null,null,"41885 - YAGUARA-HUILA",null,null,null,null,null,null,null,"52427 - MAGÜI-NARIÑO",null,"54810 - TIBU-NORTE DE SANTANDER",null,null,null,null,null,null,null,null,null,"68318 - GUACA-SANTANDER",null,null,null,"73622 - RONCESVALLES-TOLIMA",null,"76845 - ULLOA-VALLE DEL CAUCA",null,null,null,null,null,null,null,"141 - CAMBOYA (KAMPUCHEA)"]
[null,null,null,null,null,"B0520 - Extracción de carbón lignito",null,null,null,null,null,null,null,null,null,null,null,null,null,"05197 - COCORNA-ANTIOQUIA",null,null,null,null,null,null,null,null,null,null,null,null,"05197 - COCORNA-ANTIOQUIA",null,null,null,null,null,null,null,"13744 - SIMITI-BOLIVAR",null,"15296 - GAMEZA-BOYACA",null,null,null,null,null,null,null,"19809 - TIMBIQUI-CAUCA",null,null,null,null,null,null,null,"25317 - GUACHETA-CUNDINAMARCA",null,null,null,null,null,null,null,null,null,null,null,null,null,"52435 - MALLAMA-NARIÑO",null,"54820 - TOLEDO-NORTE DE SANTANDER",null,null,null,null,null,null,null,null,null,"68320 - GUADALUPE-SANTANDER",null,null,null,"73624 - ROVIRA-TOLIMA",null,"76863 - VERSALLES-VALLE DEL CAUCA",null,null,null,null,null,null,null,"145 - CAMERUN - REPUBLICA UNIDA DEL"]
[null,null,null,null,null,"B0610 - Extracción de petróleo crudo",null,null,null,null,null,null,null,null,null,null,null,null,null,"05206 - CONCEPCION-ANTIOQUIA",null,null,null,null,null,null,null,null,null,null,null,null,"05206 - CONCEPCION-ANTIOQUIA",null,null,null,null,null,null,null,"13760 - SOPLAVIENTO-BOLIVAR",null,"15299 - GARAGOA-BOYACA",null,null,null,null,null,null,null,"19821 - TORIBIO-CAUCA",null,null,null,null,null,null,null,"25320 - GUADUAS-CUNDINAMARCA",null,null,null,null,null,null,null,null,null,null,null,null,null,"52473 - MOSQUERA-NARIÑO",null,"54871 - VILLA CARO-NORTE DE SANTANDER",null,null,null,null,null,null,null,null,null,"68322 - GUAPOTA-SANTANDER",null,null,null,"73671 - SALDAÑA-TOLIMA",null,"76869 - VIJES-VALLE DEL CAUCA",null,null,null,null,null,null,null,"149 - CANADA"]
[null,null,null,null,null,"B0620 - Extracción de gas natural",null,null,null,null,null,null,null,null,null,null,null,null,null,"05209 - CONCORDIA-ANTIOQUIA",null,null,null,null,null,null,null,null,null,null,null,null,"05209 - CONCORDIA-ANTIOQUIA",null,null,null,null,null,null,null,"13780 - TALAIGUA NUEVO-BOLIVAR",null,"15317 - GUACAMAYAS-BOYACA",null,null,null,null,null,null,null,"19824 - TOTORO-CAUCA",null,null,null,null,null,null,null,"25322 - GUASCA-CUNDINAMARCA",null,null,null,null,null,null,null,null,null,null,null,null,null,"52480 - NARIÑO-NARIÑO",null,"54874 - VILLA DEL ROSARIO-NORTE DE SANTANDER",null,null,null,null,null,null,null,null,null,"68324 - GUAVATA-SANTANDER",null,null,null,"73675 - SAN ANTONIO-TOLIMA",null,"76890 - YOTOCO-VALLE DEL CAUCA",null,null,null,null,null,null,null,"159 - SANTA SEDE"]
[null,null,null,null,null,"B0710 - Extracción de minerales de hierro",null,null,null,null,null,null,null,null,null,null,null,null,null,"05212 - COPACABANA-ANTIOQUIA",null,null,null,null,null,null,null,null,null,null,null,null,"05212 - COPACABANA-ANTIOQUIA",null,null,null,null,null,null,null,"13810 - TIQUISIO-BOLIVAR",null,"15322 - GUATEQUE-BOYACA",null,null,null,null,null,null,null,"19835 - TUMACO-CAUCA",null,null,null,null,null,null,null,"25324 - GUATAQUI-CUNDINAMARCA",null,null,null,null,null,null,null,null,null,null,null,null,null,"52490 - OLAYA HERRERA-NARIÑO",null,null,null,null,null,null,null,null,null,null,null,"68327 - GÜEPSA-SANTANDER",null,null,null,"73678 - SAN LUIS-TOLIMA",null,"76892 - YUMBO-VALLE DEL CAUCA",null,null,null,null,null,null,null,"165 - COCOS (KEELING) - ISLAS"]
[null,null,null,null,null,"B0721 - Extracción de minerales de uranio y de torio",null,null,null,null,null,null,null,null,null,null,null,null,null,"05234 - DABEIBA-ANTIOQUIA",null,null,null,null,null,null,null,null,null,null,null,null,"05234 - DABEIBA-ANTIOQUIA",null,null,null,null,null,null,null,"13836 - TURBACO-BOLIVAR",null,"15325 - GUAYATA-BOYACA",null,null,null,null,null,null,null,"19845 - VILLA RICA-CAUCA",null,null,null,null,null,null,null,"25326 - GUATAVITA-CUNDINAMARCA",null,null,null,null,null,null,null,null,null,null,null,null,null,"52506 - OSPINA-NARIÑO",null,null,null,null,null,null,null,null,null,null,null,"68344 - HATO-SANTANDER",null,null,null,"73686 - SANTA ISABEL-TOLIMA",null,"76895 - ZARZAL-VALLE DEL CAUCA",null,null,null,null,null,null,null,"169 - COLOMBIA"]
[null,null,null,null,null,"B0722 - Extracción de oro y otros metales preciosos",null,null,null,null,null,null,null,null,null,null,null,null,null,"05237 - DON MATIAS-ANTIOQUIA",null,null,null,null,null,null,null,null,null,null,null,null,"05237 - DON MATIAS-ANTIOQUIA",null,null,null,null,null,null,null,"13838 - TURBANA-BOLIVAR",null,"15332 - GÜICAN-BOYACA",null,null,null,null,null,null,null,null,null,null,null,null,null,null,null,"25328 - GUAYABAL DE SIQUIMA-CUNDINAMARCA",null,null,null,null,null,null,null,null,null,null,null,null,null,"52520 - FRANCISCO PIZARRO-NARIÑO",null,null,null,null,null,null,null,null,null,null,null,"68368 - JESUS MARIA-SANTANDER",null,null,null,"73770 - SUAREZ-TOLIMA",null,null,null,null,null,null,null,null,null,"173 - COMORAS"]
[null,null,null,null,null,"B0723 - Extracción de minerales de níquel",null,null,null,null,null,null,null,null,null,null,null,null,null,"05240 - EBEJICO-ANTIOQUIA",null,null,null,null,null,null,null,null,null,null,null,null,"05240 - EBEJICO-ANTIOQUIA",null,null,null,null,null,null,null,"13873 - VILLANUEVA-BOLIVAR",null,"15362 - IZA-BOYACA",null,null,null,null,null,null,null,null,null,null,null,null,null,null,null,"25335 - GUAYABETAL-CUNDINAMARCA",null,null,null,null,null,null,null,null,null,null,null,null,null,"52540 - POLICARPA-NARIÑO",null,null,null,null,null,null,null,null,null,null,null,"68370 - JORDAN-SANTANDER",null,null,null,"73854 - VALLE DE SAN JUAN-TOLIMA",null,null,null,null,null,null,null,null,null,"177 - CONGO"]
[null,null,null,null,null,"B0729 - Extracción de otros minerales metalíferos no ferrosos n.c.p.",null,null,null,null,null,null,null,null,null,null,null,null,null,"05250 - EL BAGRE-ANTIOQUIA",null,null,null,null,null,null,null,null,null,null,null,null,"05250 - EL BAGRE-ANTIOQUIA",null,null,null,null,null,null,null,"13894 - ZAMBRANO-BOLIVAR",null,"15367 - JENESANO-BOYACA",null,null,null,null,null,null,null,null,null,null,null,null,null,null,null,"25339 - GUTIERREZ-CUNDINAMARCA",null,null,null,null,null,null,null,null,null,null,null,null,null,"52560 - POTOSI-NARIÑO",null,null,null,null,null,null,null,null,null,null,null,"68377 - LA BELLEZA-SANTANDER",null,null,null,"73861 - VENADILLO-TOLIMA",null,null,null,null,null,null,null,null,null,"183 - COOK - ISLAS"]
[null,null,null,null,null,"B0811 - Extracción de piedra, arena, arcillas comunes, yeso y anhidrita",null,null,null,null,null,null,null,null,null,null,null,null,null,"05264 - ENTRERRIOS-ANTIOQUIA",null,null,null,null,null,null,null,null,null,null,null,null,"05264 - ENTRERRIOS-ANTIOQUIA",null,null,null,null,null,null,null,null,null,"15368 - JERICO-BOYACA",null,null,null,null,null,null,null,null,null,null,null,null,null,null,null,"25368 - JERUSALEN-CUNDINAMARCA",null,null,null,null,null,null,null,null,null,null,null,null,null,"52565 - PROVIDENCIA-NARIÑO",null,null,null,null,null,null,null,null,null,null,null,"68385 - LANDAZURI-SANTANDER",null,null,null,"73870 - VILLAHERMOSA-TOLIMA",null,null,null,null,null,null,null,null,null,"187 - COREA (NORTE) - REPUBLICA POPULAR DEMOCRATICA DE"]
[null,null,null,null,null,"B0812 - Extracción de arcillas de uso industrial, caliza, caolín y bentonitas",null,null,null,null,null,null,null,null,null,null,null,null,null,"05266 - ENVIGADO-ANTIOQUIA",null,null,null,null,null,null,null,null,null,null,null,null,"05266 - ENVIGADO-ANTIOQUIA",null,null,null,null,null,null,null,null,null,"15377 - LABRANZAGRANDE-BOYACA",null,null,null,null,null,null,null,null,null,null,null,null,null,null,null,"25372 - JUNIN-CUNDINAMARCA",null,null,null,null,null,null,null,null,null,null,null,null,null,"52573 - PUERRES-NARIÑO",null,null,null,null,null,null,null,null,null,null,null,"68397 - LA PAZ-SANTANDER",null,null,null,"73873 - VILLARRICA-TOLIMA",null,null,null,null,null,null,null,null,null,"190 - COREA (SUR) - REPUBLICA DE"]
[null,null,null,null,null,"B0820 - Extracción de esmeraldas, piedras preciosas y semipreciosas",null,null,null,null,null,null,null,null,null,null,null,null,null,"05282 - FREDONIA-ANTIOQUIA",null,null,null,null,null,null,null,null,null,null,null,null,"05282 - FREDONIA-ANTIOQUIA",null,null,null,null,null,null,null,null,null,"15380 - LA CAPILLA-BOYACA",null,null,null,null,null,null,null,null,null,null,null,null,null,null,null,"25377 - LA CALERA-CUNDINAMARCA",null,null,null,null,null,null,null,null,null,null,null,null,null,"52585 - PUPIALES-NARIÑO",null,null,null,null,null,null,null,null,null,null,null,"68406 - LEBRIJA-SANTANDER",null,null,null,null,null,null,null,null,null,null,null,null,null,"193 - COSTA DE MARFIL"]
[null,null,null,null,null,"B0891 - Extracción de minerales para la fabricación de abonos y productos químicos",null,null,null,null,null,null,null,null,null,null,null,null,null,"05284 - FRONTINO-ANTIOQUIA",null,null,null,null,null,null,null,null,null,null,null,null,"05284 - FRONTINO-ANTIOQUIA",null,null,null,null,null,null,null,null,null,"15401 - LA VICTORIA-BOYACA",null,null,null,null,null,null,null,null,null,null,null,null,null,null,null,"25386 - LA MESA-CUNDINAMARCA",null,null,null,null,null,null,null,null,null,null,null,null,null,"52612 - RICAURTE-NARIÑO",null,null,null,null,null,null,null,null,null,null,null,"68418 - LOS SANTOS-SANTANDER",null,null,null,null,null,null,null,null,null,null,null,null,null,"196 - COSTA RICA"]
[null,null,null,null,null,"B0892 - Extracción de halita (sal)",null,null,null,null,null,null,null,null,null,null,null,null,null,"05306 - GIRALDO-ANTIOQUIA",null,null,null,null,null,null,null,null,null,null,null,null,"05306 - GIRALDO-ANTIOQUIA",null,null,null,null,null,null,null,null,null,"15403 - LA UVITA-BOYACA",null,null,null,null,null,null,null,null,null,null,null,null,null,null,null,"25394 - LA PALMA-CUNDINAMARCA",null,null,null,null,null,null,null,null,null,null,null,null,null,"52621 - ROBERTO PAYAN-NARIÑO",null,null,null,null,null,null,null,null,null,null,null,"68425 - MACARAVITA-SANTANDER",null,null,null,null,null,null,null,null,null,null,null,null,null,"198 - CROACIA"]
[null,null,null,null,null,"B0899 - Extracción de otros minerales no metálicos n.c.p.",null,null,null,null,null,null,null,null,null,null,null,null,null,"05308 - GIRARDOTA-ANTIOQUIA",null,null,null,null,null,null,null,null,null,null,null,null,"05308 - GIRARDOTA-ANTIOQUIA",null,null,null,null,null,null,null,null,null,"15407 - VILLA DE LEYVA-BOYACA",null,null,null,null,null,null,null,null,null,null,null,null,null,null,null,"25398 - LA PEÑA-CUNDINAMARCA",null,null,null,null,null,null,null,null,null,null,null,null,null,"52678 - SAMANIEGO-NARIÑO",null,null,null,null,null,null,null,null,null,null,null,"68432 - MALAGA-SANTANDER",null,null,null,null,null,null,null,null,null,null,null,null,null,"199 - CUBA"]
[null,null,null,null,null,"B0910 - Actividades de apoyo para la extracción de petróleo y de gas natural",null,null,null,null,null,null,null,null,null,null,null,null,null,"05310 - GOMEZ PLATA-ANTIOQUIA",null,null,null,null,null,null,null,null,null,null,null,null,"05310 - GOMEZ PLATA-ANTIOQUIA",null,null,null,null,null,null,null,null,null,"15425 - MACANAL-BOYACA",null,null,null,null,null,null,null,null,null,null,null,null,null,null,null,"25402 - LA VEGA-CUNDINAMARCA",null,null,null,null,null,null,null,null,null,null,null,null,null,"52683 - SANDONA-NARIÑO",null,null,null,null,null,null,null,null,null,null,null,"68444 - MATANZA-SANTANDER",null,null,null,null,null,null,null,null,null,null,null,null,null,"203 - CHAD"]
[null,null,null,null,null,"B0990 - Actividades de apoyo para otras actividades de explotación de minas y canteras",null,null,null,null,null,null,null,null,null,null,null,null,null,"05313 - GRANADA-ANTIOQUIA",null,null,null,null,null,null,null,null,null,null,null,null,"05313 - GRANADA-ANTIOQUIA",null,null,null,null,null,null,null,null,null,"15442 - MARIPI-BOYACA",null,null,null,null,null,null,null,null,null,null,null,null,null,null,null,"25407 - LENGUAZAQUE-CUNDINAMARCA",null,null,null,null,null,null,null,null,null,null,null,null,null,"52685 - SAN BERNARDO-NARIÑO",null,null,null,null,null,null,null,null,null,null,null,"68464 - MOGOTES-SANTANDER",null,null,null,null,null,null,null,null,null,null,null,null,null,"211 - CHILE"]
[null,null,null,null,null,"C1011 - Procesamiento y conservación de carne y productos cárnicos",null,null,null,null,null,null,null,null,null,null,null,null,null,"05315 - GUADALUPE-ANTIOQUIA",null,null,null,null,null,null,null,null,null,null,null,null,"05315 - GUADALUPE-ANTIOQUIA",null,null,null,null,null,null,null,null,null,"15455 - MIRAFLORES-BOYACA",null,null,null,null,null,null,null,null,null,null,null,null,null,null,null,"25426 - MACHETA-CUNDINAMARCA",null,null,null,null,null,null,null,null,null,null,null,null,null,"52687 - SAN LORENZO-NARIÑO",null,null,null,null,null,null,null,null,null,null,null,"68468 - MOLAGAVITA-SANTANDER",null,null,null,null,null,null,null,null,null,null,null,null,null,"215 - CHINA"]
[null,null,null,null,null,"C1012 - Procesamiento y conservación de pescados, crustáceos y moluscos",null,null,null,null,null,null,null,null,null,null,null,null,null,"05318 - GUARNE-ANTIOQUIA",null,null,null,null,null,null,null,null,null,null,null,null,"05318 - GUARNE-ANTIOQUIA",null,null,null,null,null,null,null,null,null,"15464 - MONGUA-BOYACA",null,null,null,null,null,null,null,null,null,null,null,null,null,null,null,"25430 - MADRID-CUNDINAMARCA",null,null,null,null,null,null,null,null,null,null,null,null,null,"52693 - SAN PABLO-NARIÑO",null,null,null,null,null,null,null,null,null,null,null,"68498 - OCAMONTE-SANTANDER",null,null,null,null,null,null,null,null,null,null,null,null,null,"218 - TAIWAN (FORMOSA)"]
[null,null,null,null,null,"C1020 - Procesamiento y conservación de frutas, legumbres, hortalizas y tubérculos",null,null,null,null,null,null,null,null,null,null,null,null,null,"05321 - GUATAPE-ANTIOQUIA",null,null,null,null,null,null,null,null,null,null,null,null,"05321 - GUATAPE-ANTIOQUIA",null,null,null,null,null,null,null,null,null,"15466 - MONGUI-BOYACA",null,null,null,null,null,null,null,null,null,null,null,null,null,null,null,"25436 - MANTA-CUNDINAMARCA",null,null,null,null,null,null,null,null,null,null,null,null,null,"52694 - SAN PEDRO DE CARTAGO-NARIÑO",null,null,null,null,null,null,null,null,null,null,null,"68500 - OIBA-SANTANDER",null,null,null,null,null,null,null,null,null,null,null,null,null,"221 - CHIPRE"]
[null,null,null,null,null,"C1030 - Elaboración de aceites y grasas de origen vegetal y animal",null,null,null,null,null,null,null,null,null,null,null,null,null,"05347 - HELICONIA-ANTIOQUIA",null,null,null,null,null,null,null,null,null,null,null,null,"05347 - HELICONIA-ANTIOQUIA",null,null,null,null,null,null,null,null,null,"15469 - MONIQUIRA-BOYACA",null,null,null,null,null,null,null,null,null,null,null,null,null,null,null,"25438 - MEDINA-CUNDINAMARCA",null,null,null,null,null,null,null,null,null,null,null,null,null,"52696 - SANTA BARBARA-NARIÑO",null,null,null,null,null,null,null,null,null,null,null,"68502 - ONZAGA-SANTANDER",null,null,null,null,null,null,null,null,null,null,null,null,null,"229 - BENIN"]
[null,null,null,null,null,"C1040 - Elaboración de productos lácteos",null,null,null,null,null,null,null,null,null,null,null,null,null,"05353 - HISPANIA-ANTIOQUIA",null,null,null,null,null,null,null,null,null,null,null,null,"05353 - HISPANIA-ANTIOQUIA",null,null,null,null,null,null,null,null,null,"15476 - MOTAVITA-BOYACA",null,null,null,null,null,null,null,null,null,null,null,null,null,null,null,"25473 - MOSQUERA-CUNDINAMARCA",null,null,null,null,null,null,null,null,null,null,null,null,null,"52699 - SANTACRUZ-NARIÑO",null,null,null,null,null,null,null,null,null,null,null,"68522 - PALMAR-SANTANDER",null,null,null,null,null,null,null,null,null,null,null,null,null,"232 - DINAMARCA"]
[null,null,null,null,null,"C1051 - Elaboración de productos de molinería",null,null,null,null,null,null,null,null,null,null,null,null,null,"05360 - ITAGÜI-ANTIOQUIA",null,null,null,null,null,null,null,null,null,null,null,null,"05360 - ITAGÜI-ANTIOQUIA",null,null,null,null,null,null,null,null,null,"15480 - MUZO-BOYACA",null,null,null,null,null,null,null,null,null,null,null,null,null,null,null,"25483 - NARIÑO-CUNDINAMARCA",null,null,null,null,null,null,null,null,null,null,null,null,null,"52720 - SAPUYES-NARIÑO",null,null,null,null,null,null,null,null,null,null,null,"68524 - PALMAS DEL SOCORRO-SANTANDER",null,null,null,null,null,null,null,null,null,null,null,null,null,"235 - DOMINICA"]
[null,null,null,null,null,"C1052 - Elaboración de almidones y productos derivados del almidón",null,null,null,null,null,null,null,null,null,null,null,null,null,"05361 - ITUANGO-ANTIOQUIA",null,null,null,null,null,null,null,null,null,null,null,null,"05361 - ITUANGO-ANTIOQUIA",null,null,null,null,null,null,null,null,null,"15491 - NOBSA-BOYACA",null,null,null,null,null,null,null,null,null,null,null,null,null,null,null,"25486 - NEMOCON-CUNDINAMARCA",null,null,null,null,null,null,null,null,null,null,null,null,null,"52786 - TAMINANGO-NARIÑO",null,null,null,null,null,null,null,null,null,null,null,"68533 - PARAMO-SANTANDER",null,null,null,null,null,null,null,null,null,null,null,null,null,"239 - ECUADOR"]
[null,null,null,null,null,"C1061 - Trilla de café",null,null,null,null,null,null,null,null,null,null,null,null,null,"05364 - JARDIN-ANTIOQUIA",null,null,null,null,null,null,null,null,null,null,null,null,"05364 - JARDIN-ANTIOQUIA",null,null,null,null,null,null,null,null,null,"15494 - NUEVO COLON-BOYACA",null,null,null,null,null,null,null,null,null,null,null,null,null,null,null,"25488 - NILO-CUNDINAMARCA",null,null,null,null,null,null,null,null,null,null,null,null,null,"52788 - TANGUA-NARIÑO",null,null,null,null,null,null,null,null,null,null,null,"68547 - PIEDECUESTA-SANTANDER",null,null,null,null,null,null,null,null,null,null,null,null,null,"240 - EGIPTO"]
[null,null,null,null,null,"C1062 - Descafeinado, tostión y molienda del café",null,null,null,null,null,null,null,null,null,null,null,null,null,"05368 - JERICO-ANTIOQUIA",null,null,null,null,null,null,null,null,null,null,null,null,"05368 - JERICO-ANTIOQUIA",null,null,null,null,null,null,null,null,null,"15500 - OICATA-BOYACA",null,null,null,null,null,null,null,null,null,null,null,null,null,null,null,"25489 - NIMAIMA-CUNDINAMARCA",null,null,null,null,null,null,null,null,null,null,null,null,null,"52835 - SAN ANDRES DE TUMACO-NARIÑO",null,null,null,null,null,null,null,null,null,null,null,"68549 - PINCHOTE-SANTANDER",null,null,null,null,null,null,null,null,null,null,null,null,null,"242 - EL SALVADOR"]
[null,null,null,null,null,"C1063 - Otros derivados del café",null,null,null,null,null,null,null,null,null,null,null,null,null,"05376 - LA CEJA-ANTIOQUIA",null,null,null,null,null,null,null,null,null,null,null,null,"05376 - LA CEJA-ANTIOQUIA",null,null,null,null,null,null,null,null,null,"15507 - OTANCHE-BOYACA",null,null,null,null,null,null,null,null,null,null,null,null,null,null,null,"25491 - NOCAIMA-CUNDINAMARCA",null,null,null,null,null,null,null,null,null,null,null,null,null,"52838 - TUQUERRES-NARIÑO",null,null,null,null,null,null,null,null,null,null,null,"68572 - PUENTE NACIONAL-SANTANDER",null,null,null,null,null,null,null,null,null,null,null,null,null,"243 - ERITREA"]
[null,null,null,null,null,"C1071 - Elaboración y refinación de azúcar",null,null,null,null,null,null,null,null,null,null,null,null,null,"05380 - LA ESTRELLA-ANTIOQUIA",null,null,null,null,null,null,null,null,null,null,null,null,"05380 - LA ESTRELLA-ANTIOQUIA",null,null,null,null,null,null,null,null,null,"15511 - PACHAVITA-BOYACA",null,null,null,null,null,null,null,null,null,null,null,null,null,null,null,"25506 - VENECIA-CUNDINAMARCA",null,null,null,null,null,null,null,null,null,null,null,null,null,"52885 - YACUANQUER-NARIÑO",null,null,null,null,null,null,null,null,null,null,null,"68573 - PUERTO PARRA-SANTANDER",null,null,null,null,null,null,null,null,null,null,null,null,null,"244 - EMIRATOS ARABES UNIDOS"]
[null,null,null,null,null,"C1072 - Elaboración de panela",null,null,null,null,null,null,null,null,null,null,null,null,null,"05390 - LA PINTADA-ANTIOQUIA",null,null,null,null,null,null,null,null,null,null,null,null,"05390 - LA PINTADA-ANTIOQUIA",null,null,null,null,null,null,null,null,null,"15514 - PAEZ-BOYACA",null,null,null,null,null,null,null,null,null,null,null,null,null,null,null,"25513 - PACHO-CUNDINAMARCA",null,null,null,null,null,null,null,null,null,null,null,null,null,null,null,null,null,null,null,null,null,null,null,null,null,"68575 - PUERTO WILCHES-SANTANDER",null,null,null,null,null,null,null,null,null,null,null,null,null,"245 - ESPAÑA"]
[null,null,null,null,null,"C1081 - Elaboración de productos de panadería",null,null,null,null,null,null,null,null,null,null,null,null,null,"05400 - LA UNION-ANTIOQUIA",null,null,null,null,null,null,null,null,null,null,null,null,"05400 - LA UNION-ANTIOQUIA",null,null,null,null,null,null,null,null,null,"15516 - PAIPA-BOYACA",null,null,null,null,null,null,null,null,null,null,null,null,null,null,null,"25518 - PAIME-CUNDINAMARCA",null,null,null,null,null,null,null,null,null,null,null,null,null,null,null,null,null,null,null,null,null,null,null,null,null,"68615 - RIONEGRO-SANTANDER",null,null,null,null,null,null,null,null,null,null,null,null,null,"246 - ESLOVAQUIA"]
[null,null,null,null,null,"C1082 - Elaboración de cacao, chocolate y productos de confitería",null,null,null,null,null,null,null,null,null,null,null,null,null,"05411 - LIBORINA-ANTIOQUIA",null,null,null,null,null,null,null,null,null,null,null,null,"05411 - LIBORINA-ANTIOQUIA",null,null,null,null,null,null,null,null,null,"15518 - PAJARITO-BOYACA",null,null,null,null,null,null,null,null,null,null,null,null,null,null,null,"25524 - PANDI-CUNDINAMARCA",null,null,null,null,null,null,null,null,null,null,null,null,null,null,null,null,null,null,null,null,null,null,null,null,null,"68655 - SABANA DE TORRES-SANTANDER",null,null,null,null,null,null,null,null,null,null,null,null,null,"247 - ESLOVENIA"]
[null,null,null,null,null,"C1083 - Elaboración de macarrones, fideos, alcuzcuz y productos farináceos similares",null,null,null,null,null,null,null,null,null,null,null,null,null,"05425 - MACEO-ANTIOQUIA",null,null,null,null,null,null,null,null,null,null,null,null,"05425 - MACEO-ANTIOQUIA",null,null,null,null,null,null,null,null,null,"15522 - PANQUEBA-BOYACA",null,null,null,null,null,null,null,null,null,null,null,null,null,null,null,"25530 - PARATEBUENO-CUNDINAMARCA",null,null,null,null,null,null,null,null,null,null,null,null,null,null,null,null,null,null,null,null,null,null,null,null,null,"68669 - SAN ANDRES-SANTANDER",null,null,null,null,null,null,null,null,null,null,null,null,null,"249 - ESTADOS UNIDOS"]
[null,null,null,null,null,"C1084 - Elaboración de comidas y platos preparados",null,null,null,null,null,null,null,null,null,null,null,null,null,"05440 - MARINILLA-ANTIOQUIA",null,null,null,null,null,null,null,null,null,null,null,null,"05440 - MARINILLA-ANTIOQUIA",null,null,null,null,null,null,null,null,null,"15531 - PAUNA-BOYACA",null,null,null,null,null,null,null,null,null,null,null,null,null,null,null,"25535 - PASCA-CUNDINAMARCA",null,null,null,null,null,null,null,null,null,null,null,null,null,null,null,null,null,null,null,null,null,null,null,null,null,"68673 - SAN BENITO-SANTANDER",null,null,null,null,null,null,null,null,null,null,null,null,null,"251- ESTONIA"]
[null,null,null,null,null,"C1089 - Elaboración de otros productos alimenticios n.c.p.",null,null,null,null,null,null,null,null,null,null,null,null,null,"05467 - MONTEBELLO-ANTIOQUIA",null,null,null,null,null,null,null,null,null,null,null,null,"05467 - MONTEBELLO-ANTIOQUIA",null,null,null,null,null,null,null,null,null,"15533 - PAYA-BOYACA",null,null,null,null,null,null,null,null,null,null,null,null,null,null,null,"25572 - PUERTO SALGAR-CUNDINAMARCA",null,null,null,null,null,null,null,null,null,null,null,null,null,null,null,null,null,null,null,null,null,null,null,null,null,"68679 - SAN GIL-SANTANDER",null,null,null,null,null,null,null,null,null,null,null,null,null,"253 - ETIOPIA"]
[null,null,null,null,null,"C1090 - Elaboración de alimentos preparados para animales",null,null,null,null,null,null,null,null,null,null,null,null,null,"05475 - MURINDO-ANTIOQUIA",null,null,null,null,null,null,null,null,null,null,null,null,"05475 - MURINDO-ANTIOQUIA",null,null,null,null,null,null,null,null,null,"15537 - PAZ DE RIO-BOYACA",null,null,null,null,null,null,null,null,null,null,null,null,null,null,null,"25580 - PULI-CUNDINAMARCA",null,null,null,null,null,null,null,null,null,null,null,null,null,null,null,null,null,null,null,null,null,null,null,null,null,"68682 - SAN JOAQUIN-SANTANDER",null,null,null,null,null,null,null,null,null,null,null,null,null,"259 - FEROE - ISLAS"]
[null,null,null,null,null,"C1101 - Destilación, rectificación y mezcla de bebidas alcohólicas",null,null,null,null,null,null,null,null,null,null,null,null,null,"05480 - MUTATA-ANTIOQUIA",null,null,null,null,null,null,null,null,null,null,null,null,"05480 - MUTATA-ANTIOQUIA",null,null,null,null,null,null,null,null,null,"15542 - PESCA-BOYACA",null,null,null,null,null,null,null,null,null,null,null,null,null,null,null,"25592 - QUEBRADANEGRA-CUNDINAMARCA",null,null,null,null,null,null,null,null,null,null,null,null,null,null,null,null,null,null,null,null,null,null,null,null,null,"68684 - SAN JOSE DE MIRANDA-SANTANDER",null,null,null,null,null,null,null,null,null,null,null,null,null,"267 - FILIPINAS"]
[null,null,null,null,null,"C1102 - Elaboración de bebidas fermentadas no destiladas",null,null,null,null,null,null,null,null,null,null,null,null,null,"05483 - NARIÑO-ANTIOQUIA",null,null,null,null,null,null,null,null,null,null,null,null,"05483 - NARIÑO-ANTIOQUIA",null,null,null,null,null,null,null,null,null,"15550 - PISBA-BOYACA",null,null,null,null,null,null,null,null,null,null,null,null,null,null,null,"25594 - QUETAME-CUNDINAMARCA",null,null,null,null,null,null,null,null,null,null,null,null,null,null,null,null,null,null,null,null,null,null,null,null,null,"68686 - SAN MIGUEL-SANTANDER",null,null,null,null,null,null,null,null,null,null,null,null,null,"271 - FINLANDIA"]
[null,null,null,null,null,"C1103 - Producción de malta, elaboración de cervezas y otras bebidas malteadas",null,null,null,null,null,null,null,null,null,null,null,null,null,"05490 - NECOCLI-ANTIOQUIA",null,null,null,null,null,null,null,null,null,null,null,null,"05490 - NECOCLI-ANTIOQUIA",null,null,null,null,null,null,null,null,null,"15572 - PUERTO BOYACA-BOYACA",null,null,null,null,null,null,null,null,null,null,null,null,null,null,null,"25596 - QUIPILE-CUNDINAMARCA",null,null,null,null,null,null,null,null,null,null,null,null,null,null,null,null,null,null,null,null,null,null,null,null,null,"68689 - SAN VICENTE DE CHUCURI-SANTANDER",null,null,null,null,null,null,null,null,null,null,null,null,null,"275 - FRANCIA"]
[null,null,null,null,null,"C1104 - Elaboración de bebidas no alcohólicas, producción de aguas minerales y de otras aguas embotelladas",null,null,null,null,null,null,null,null,null,null,null,null,null,"05495 - NECHI-ANTIOQUIA",null,null,null,null,null,null,null,null,null,null,null,null,"05495 - NECHI-ANTIOQUIA",null,null,null,null,null,null,null,null,null,"15580 - QUIPAMA-BOYACA",null,null,null,null,null,null,null,null,null,null,null,null,null,null,null,"25599 - APULO-CUNDINAMARCA",null,null,null,null,null,null,null,null,null,null,null,null,null,null,null,null,null,null,null,null,null,null,null,null,null,"68705 - SANTA BARBARA-SANTANDER",null,null,null,null,null,null,null,null,null,null,null,null,null,"281 - GABON"]
[null,null,null,null,null,"C1200 - Elaboración de productos de tabaco",null,null,null,null,null,null,null,null,null,null,null,null,null,"05501 - OLAYA-ANTIOQUIA",null,null,null,null,null,null,null,null,null,null,null,null,"05501 - OLAYA-ANTIOQUIA",null,null,null,null,null,null,null,null,null,"15599 - RAMIRIQUI-BOYACA",null,null,null,null,null,null,null,null,null,null,null,null,null,null,null,"25612 - RICAURTE-CUNDINAMARCA",null,null,null,null,null,null,null,null,null,null,null,null,null,null,null,null,null,null,null,null,null,null,null,null,null,"68720 - SANTA HELENA DEL OPON-SANTANDER",null,null,null,null,null,null,null,null,null,null,null,null,null,"285 - GAMBIA"]
[null,null,null,null,null,"C1311 - Preparación e hilatura de fibras textiles",null,null,null,null,null,null,null,null,null,null,null,null,null,"05541 - PEÑOL-ANTIOQUIA",null,null,null,null,null,null,null,null,null,null,null,null,"05541 - PEÑOL-ANTIOQUIA",null,null,null,null,null,null,null,null,null,"15600 - RAQUIRA-BOYACA",null,null,null,null,null,null,null,null,null,null,null,null,null,null,null,"25645 - SAN ANTONIO DEL TEQUENDAMA-CUNDINAMARCA",null,null,null,null,null,null,null,null,null,null,null,null,null,null,null,null,null,null,null,null,null,null,null,null,null,"68745 - SIMACOTA-SANTANDER",null,null,null,null,null,null,null,null,null,null,null,null,null,"287 - GEORGIA"]
[null,null,null,null,null,"C1312 - Tejeduría de productos textiles",null,null,null,null,null,null,null,null,null,null,null,null,null,"05543 - PEQUE-ANTIOQUIA",null,null,null,null,null,null,null,null,null,null,null,null,"05543 - PEQUE-ANTIOQUIA",null,null,null,null,null,null,null,null,null,"15621 - RONDON-BOYACA",null,null,null,null,null,null,null,null,null,null,null,null,null,null,null,"25649 - SAN BERNARDO-CUNDINAMARCA",null,null,null,null,null,null,null,null,null,null,null,null,null,null,null,null,null,null,null,null,null,null,null,null,null,"68755 - SOCORRO-SANTANDER",null,null,null,null,null,null,null,null,null,null,null,null,null,"289 - GHANA"]
[null,null,null,null,null,"C1313 - Acabado de productos textiles",null,null,null,null,null,null,null,null,null,null,null,null,null,"05576 - PUEBLORRICO-ANTIOQUIA",null,null,null,null,null,null,null,null,null,null,null,null,"05576 - PUEBLORRICO-ANTIOQUIA",null,null,null,null,null,null,null,null,null,"15632 - SABOYA-BOYACA",null,null,null,null,null,null,null,null,null,null,null,null,null,null,null,"25653 - SAN CAYETANO-CUNDINAMARCA",null,null,null,null,null,null,null,null,null,null,null,null,null,null,null,null,null,null,null,null,null,null,null,null,null,"68770 - SUAITA-SANTANDER",null,null,null,null,null,null,null,null,null,null,null,null,null,"293 - GIBRALTAR"]
[null,null,null,null,null,"C1391 - Fabricación de tejidos de punto y ganchillo",null,null,null,null,null,null,null,null,null,null,null,null,null,"05579 - PUERTO BERRIO-ANTIOQUIA",null,null,null,null,null,null,null,null,null,null,null,null,"05579 - PUERTO BERRIO-ANTIOQUIA",null,null,null,null,null,null,null,null,null,"15638 - SACHICA-BOYACA",null,null,null,null,null,null,null,null,null,null,null,null,null,null,null,"25658 - SAN FRANCISCO-CUNDINAMARCA",null,null,null,null,null,null,null,null,null,null,null,null,null,null,null,null,null,null,null,null,null,null,null,null,null,"68773 - SUCRE-SANTANDER",null,null,null,null,null,null,null,null,null,null,null,null,null,"297 - GRANADA"]
[null,null,null,null,null,"C1392 - Confección de artículos con materiales textiles, excepto prendas de vestir",null,null,null,null,null,null,null,null,null,null,null,null,null,"05585 - PUERTO NARE-ANTIOQUIA",null,null,null,null,null,null,null,null,null,null,null,null,"05585 - PUERTO NARE-ANTIOQUIA",null,null,null,null,null,null,null,null,null,"15646 - SAMACA-BOYACA",null,null,null,null,null,null,null,null,null,null,null,null,null,null,null,"25662 - SAN JUAN DE RIO SECO-CUNDINAMARCA",null,null,null,null,null,null,null,null,null,null,null,null,null,null,null,null,null,null,null,null,null,null,null,null,null,"68780 - SURATA-SANTANDER",null,null,null,null,null,null,null,null,null,null,null,null,null,"301 - GRECIA"]
[null,null,null,null,null,"C1393 - Fabricación de tapetes y alfombras para pisos",null,null,null,null,null,null,null,null,null,null,null,null,null,"05591 - PUERTO TRIUNFO-ANTIOQUIA",null,null,null,null,null,null,null,null,null,null,null,null,"05591 - PUERTO TRIUNFO-ANTIOQUIA",null,null,null,null,null,null,null,null,null,"15660 - SAN EDUARDO-BOYACA",null,null,null,null,null,null,null,null,null,null,null,null,null,null,null,"25718 - SASAIMA-CUNDINAMARCA",null,null,null,null,null,null,null,null,null,null,null,null,null,null,null,null,null,null,null,null,null,null,null,null,null,"68820 - TONA-SANTANDER",null,null,null,null,null,null,null,null,null,null,null,null,null,"305 - GROENLANDIA"]
[null,null,null,null,null,"C1394 - Fabricación de cuerdas, cordeles, cables, bramantes y redes",null,null,null,null,null,null,null,null,null,null,null,null,null,"05604 - REMEDIOS-ANTIOQUIA",null,null,null,null,null,null,null,null,null,null,null,null,"05604 - REMEDIOS-ANTIOQUIA",null,null,null,null,null,null,null,null,null,"15664 - SAN JOSE DE PARE-BOYACA",null,null,null,null,null,null,null,null,null,null,null,null,null,null,null,"25736 - SESQUILE-CUNDINAMARCA",null,null,null,null,null,null,null,null,null,null,null,null,null,null,null,null,null,null,null,null,null,null,null,null,null,"68855 - VALLE DE SAN JOSE-SANTANDER",null,null,null,null,null,null,null,null,null,null,null,null,null,"309 - GUADALUPE"]
[null,null,null,null,null,"C1399 - Fabricación de otros artículos textiles n.c.p.",null,null,null,null,null,null,null,null,null,null,null,null,null,"05607 - RETIRO-ANTIOQUIA",null,null,null,null,null,null,null,null,null,null,null,null,"05607 - RETIRO-ANTIOQUIA",null,null,null,null,null,null,null,null,null,"15667 - SAN LUIS DE GACENO-BOYACA",null,null,null,null,null,null,null,null,null,null,null,null,null,null,null,"25740 - SIBATE-CUNDINAMARCA",null,null,null,null,null,null,null,null,null,null,null,null,null,null,null,null,null,null,null,null,null,null,null,null,null,"68861 - VELEZ-SANTANDER",null,null,null,null,null,null,null,null,null,null,null,null,null,"313 - GUAM"]
[null,null,null,null,null,"C1410 - Confección de prendas de vestir, excepto prendas de piel",null,null,null,null,null,null,null,null,null,null,null,null,null,"05615 - RIONEGRO-ANTIOQUIA",null,null,null,null,null,null,null,null,null,null,null,null,"05615 - RIONEGRO-ANTIOQUIA",null,null,null,null,null,null,null,null,null,"15673 - SAN MATEO-BOYACA",null,null,null,null,null,null,null,null,null,null,null,null,null,null,null,"25743 - SILVANIA-CUNDINAMARCA",null,null,null,null,null,null,null,null,null,null,null,null,null,null,null,null,null,null,null,null,null,null,null,null,null,"68867 - VETAS-SANTANDER",null,null,null,null,null,null,null,null,null,null,null,null,null,"317 - GUATEMALA"]
[null,null,null,null,null,"C1420 - Fabricación de artículos de piel",null,null,null,null,null,null,null,null,null,null,null,null,null,"05628 - SABANALARGA-ANTIOQUIA",null,null,null,null,null,null,null,null,null,null,null,null,"05628 - SABANALARGA-ANTIOQUIA",null,null,null,null,null,null,null,null,null,"15676 - SAN MIGUEL DE SEMA-BOYACA",null,null,null,null,null,null,null,null,null,null,null,null,null,null,null,"25745 - SIMIJACA-CUNDINAMARCA",null,null,null,null,null,null,null,null,null,null,null,null,null,null,null,null,null,null,null,null,null,null,null,null,null,"68872 - VILLANUEVA-SANTANDER",null,null,null,null,null,null,null,null,null,null,null,null,null,"325 - GUAYANA FRANCESA"]
[null,null,null,null,null,"C1430 - Fabricación de artículos de punto y ganchillo",null,null,null,null,null,null,null,null,null,null,null,null,null,"05631 - SABANETA-ANTIOQUIA",null,null,null,null,null,null,null,null,null,null,null,null,"05631 - SABANETA-ANTIOQUIA",null,null,null,null,null,null,null,null,null,"15681 - SAN PABLO DE BORBUR-BOYACA",null,null,null,null,null,null,null,null,null,null,null,null,null,null,null,"25754 - SOACHA-CUNDINAMARCA",null,null,null,null,null,null,null,null,null,null,null,null,null,null,null,null,null,null,null,null,null,null,null,null,null,"68895 - ZAPATOCA-SANTANDER",null,null,null,null,null,null,null,null,null,null,null,null,null,"329 - GUINEA"]
[null,null,null,null,null,"C1511 - Curtido y recurtido de cueros; recurtido y teñido de pieles",null,null,null,null,null,null,null,null,null,null,null,null,null,"05642 - SALGAR-ANTIOQUIA",null,null,null,null,null,null,null,null,null,null,null,null,"05642 - SALGAR-ANTIOQUIA",null,null,null,null,null,null,null,null,null,"15686 - SANTANA-BOYACA",null,null,null,null,null,null,null,null,null,null,null,null,null,null,null,"25758 - SOPO-CUNDINAMARCA",null,null,null,null,null,null,null,null,null,null,null,null,null,null,null,null,null,null,null,null,null,null,null,null,null,null,null,null,null,null,null,null,null,null,null,null,null,null,null,"331- GUINEA ECUATORIAL"]
[null,null,null,null,null,"C1512 - Fabricación de artículos de viaje, bolsos de mano y artículos similares elaborados en cuero, y fabricación de artículos de talabartería y guarnicionería",null,null,null,null,null,null,null,null,null,null,null,null,null,"05647 - SAN ANDRES  DE CUERQUIA-ANTIOQUIA",null,null,null,null,null,null,null,null,null,null,null,null,"05647 - SAN ANDRES  DE CUERQUIA-ANTIOQUIA",null,null,null,null,null,null,null,null,null,"15690 - SANTA MARIA-BOYACA",null,null,null,null,null,null,null,null,null,null,null,null,null,null,null,"25769 - SUBACHOQUE-CUNDINAMARCA",null,null,null,null,null,null,null,null,null,null,null,null,null,null,null,null,null,null,null,null,null,null,null,null,null,null,null,null,null,null,null,null,null,null,null,null,null,null,null,"334 - GUINEA"]
[null,null,null,null,null,"C1513 - Fabricación de artículos de viaje, bolsos de mano y artículos similares; artículos de talabartería y guarnicionería elaborados en otros materiales",null,null,null,null,null,null,null,null,null,null,null,null,null,"05649 - SAN CARLOS-ANTIOQUIA",null,null,null,null,null,null,null,null,null,null,null,null,"05649 - SAN CARLOS-ANTIOQUIA",null,null,null,null,null,null,null,null,null,"15693 - SANTA ROSA DE VITERBO-BOYACA",null,null,null,null,null,null,null,null,null,null,null,null,null,null,null,"25772 - SUESCA-CUNDINAMARCA",null,null,null,null,null,null,null,null,null,null,null,null,null,null,null,null,null,null,null,null,null,null,null,null,null,null,null,null,null,null,null,null,null,null,null,null,null,null,null,"337 - GUYANA"]
[null,null,null,null,null,"C1521 - Fabricación de calzado de cuero y piel, con cualquier tipo de suela",null,null,null,null,null,null,null,null,null,null,null,null,null,"05652 - SAN FRANCISCO-ANTIOQUIA",null,null,null,null,null,null,null,null,null,null,null,null,"05652 - SAN FRANCISCO-ANTIOQUIA",null,null,null,null,null,null,null,null,null,"15696 - SANTA SOFIA-BOYACA",null,null,null,null,null,null,null,null,null,null,null,null,null,null,null,"25777 - SUPATA-CUNDINAMARCA",null,null,null,null,null,null,null,null,null,null,null,null,null,null,null,null,null,null,null,null,null,null,null,null,null,null,null,null,null,null,null,null,null,null,null,null,null,null,null,"341 - HAITI"]
[null,null,null,null,null,"C1522 - Fabricación de otros tipos de calzado, excepto calzado de cuero y piel",null,null,null,null,null,null,null,null,null,null,null,null,null,"05656 - SAN JERONIMO-ANTIOQUIA",null,null,null,null,null,null,null,null,null,null,null,null,"05656 - SAN JERONIMO-ANTIOQUIA",null,null,null,null,null,null,null,null,null,"15720 - SATIVANORTE-BOYACA",null,null,null,null,null,null,null,null,null,null,null,null,null,null,null,"25779 - SUSA-CUNDINAMARCA",null,null,null,null,null,null,null,null,null,null,null,null,null,null,null,null,null,null,null,null,null,null,null,null,null,null,null,null,null,null,null,null,null,null,null,null,null,null,null,"345 - HONDURAS"]
[null,null,null,null,null,"C1523 - Fabricación de partes del calzado",null,null,null,null,null,null,null,null,null,null,null,null,null,"05658 - SAN JOSE DE LA MONTAÑA-ANTIOQUIA",null,null,null,null,null,null,null,null,null,null,null,null,"05658 - SAN JOSE DE LA MONTAÑA-ANTIOQUIA",null,null,null,null,null,null,null,null,null,"15723 - SATIVASUR-BOYACA",null,null,null,null,null,null,null,null,null,null,null,null,null,null,null,"25781 - SUTATAUSA-CUNDINAMARCA",null,null,null,null,null,null,null,null,null,null,null,null,null,null,null,null,null,null,null,null,null,null,null,null,null,null,null,null,null,null,null,null,null,null,null,null,null,null,null,"351 - HONG KONG"]
[null,null,null,null,null,"C1610 - Aserrado, acepillado e impregnación de la madera",null,null,null,null,null,null,null,null,null,null,null,null,null,"05659 - SAN JUAN DE URABA-ANTIOQUIA",null,null,null,null,null,null,null,null,null,null,null,null,"05659 - SAN JUAN DE URABA-ANTIOQUIA",null,null,null,null,null,null,null,null,null,"15740 - SIACHOQUE-BOYACA",null,null,null,null,null,null,null,null,null,null,null,null,null,null,null,"25785 - TABIO-CUNDINAMARCA",null,null,null,null,null,null,null,null,null,null,null,null,null,null,null,null,null,null,null,null,null,null,null,null,null,null,null,null,null,null,null,null,null,null,null,null,null,null,null,"355 - HUNGRIA"]
[null,null,null,null,null,"C1620 - Fabricación de hojas de madera para enchapado; fabricación de tableros contrachapados, tableros laminados, tableros de partículas y otros tableros y paneles",null,null,null,null,null,null,null,null,null,null,null,null,null,"05660 - SAN LUIS-ANTIOQUIA",null,null,null,null,null,null,null,null,null,null,null,null,"05660 - SAN LUIS-ANTIOQUIA",null,null,null,null,null,null,null,null,null,"15753 - SOATA-BOYACA",null,null,null,null,null,null,null,null,null,null,null,null,null,null,null,"25793 - TAUSA-CUNDINAMARCA",null,null,null,null,null,null,null,null,null,null,null,null,null,null,null,null,null,null,null,null,null,null,null,null,null,null,null,null,null,null,null,null,null,null,null,null,null,null,null,"361 - INDIA"]
[null,null,null,null,null,"C1630 - Fabricación de partes y piezas de madera, de carpintería y ebanistería para la construcción",null,null,null,null,null,null,null,null,null,null,null,null,null,"05664 - SAN PEDRO DE LOS MILAGROS-ANTIOQUIA",null,null,null,null,null,null,null,null,null,null,null,null,"05664 - SAN PEDRO DE LOS MILAGROS-ANTIOQUIA",null,null,null,null,null,null,null,null,null,"15755 - SOCOTA-BOYACA",null,null,null,null,null,null,null,null,null,null,null,null,null,null,null,"25797 - TENA-CUNDINAMARCA",null,null,null,null,null,null,null,null,null,null,null,null,null,null,null,null,null,null,null,null,null,null,null,null,null,null,null,null,null,null,null,null,null,null,null,null,null,null,null,"365 - INDONESIA"]
[null,null,null,null,null,"C1640 - Fabricación de recipientes de madera",null,null,null,null,null,null,null,null,null,null,null,null,null,"05665 - SAN PEDRO DE URABA-ANTIOQUIA",null,null,null,null,null,null,null,null,null,null,null,null,"05665 - SAN PEDRO DE URABA-ANTIOQUIA",null,null,null,null,null,null,null,null,null,"15757 - SOCHA-BOYACA",null,null,null,null,null,null,null,null,null,null,null,null,null,null,null,"25799 - TENJO-CUNDINAMARCA",null,null,null,null,null,null,null,null,null,null,null,null,null,null,null,null,null,null,null,null,null,null,null,null,null,null,null,null,null,null,null,null,null,null,null,null,null,null,null,"369 - IRAK"]
[null,null,null,null,null,"C1690 - Fabricación de otros productos de madera; fabricación de artículos de corcho, cestería y espartería",null,null,null,null,null,null,null,null,null,null,null,null,null,"05667 - SAN RAFAEL-ANTIOQUIA",null,null,null,null,null,null,null,null,null,null,null,null,"05667 - SAN RAFAEL-ANTIOQUIA",null,null,null,null,null,null,null,null,null,"15759 - SOGAMOSO-BOYACA",null,null,null,null,null,null,null,null,null,null,null,null,null,null,null,"25805 - TIBACUY-CUNDINAMARCA",null,null,null,null,null,null,null,null,null,null,null,null,null,null,null,null,null,null,null,null,null,null,null,null,null,null,null,null,null,null,null,null,null,null,null,null,null,null,null,"372 - IRAN - REPUBLICA ISLAMICA DEL"]
[null,null,null,null,null,"C1701 - Fabricación de pulpas (pastas) celulósicas; papel y cartón",null,null,null,null,null,null,null,null,null,null,null,null,null,"05670 - SAN ROQUE-ANTIOQUIA",null,null,null,null,null,null,null,null,null,null,null,null,"05670 - SAN ROQUE-ANTIOQUIA",null,null,null,null,null,null,null,null,null,"15761 - SOMONDOCO-BOYACA",null,null,null,null,null,null,null,null,null,null,null,null,null,null,null,"25807 - TIBIRITA-CUNDINAMARCA",null,null,null,null,null,null,null,null,null,null,null,null,null,null,null,null,null,null,null,null,null,null,null,null,null,null,null,null,null,null,null,null,null,null,null,null,null,null,null,"375 - IRLANDA (EIRE)"]
[null,null,null,null,null,"C1702 - Fabricación de papel y cartón ondulado (corrugado); fabricación de envases, empaques y de embalajes de papel y cartón",null,null,null,null,null,null,null,null,null,null,null,null,null,"05674 - SAN VICENTE-ANTIOQUIA",null,null,null,null,null,null,null,null,null,null,null,null,"05674 - SAN VICENTE-ANTIOQUIA",null,null,null,null,null,null,null,null,null,"15762 - SORA-BOYACA",null,null,null,null,null,null,null,null,null,null,null,null,null,null,null,"25815 - TOCAIMA-CUNDINAMARCA",null,null,null,null,null,null,null,null,null,null,null,null,null,null,null,null,null,null,null,null,null,null,null,null,null,null,null,null,null,null,null,null,null,null,null,null,null,null,null,"379 - ISLANDIA"]
[null,null,null,null,null,"C1709 - Fabricación de otros artículos de papel y cartón",null,null,null,null,null,null,null,null,null,null,null,null,null,"05679 - SANTA BARBARA-ANTIOQUIA",null,null,null,null,null,null,null,null,null,null,null,null,"05679 - SANTA BARBARA-ANTIOQUIA",null,null,null,null,null,null,null,null,null,"15763 - SOTAQUIRA-BOYACA",null,null,null,null,null,null,null,null,null,null,null,null,null,null,null,"25817 - TOCANCIPA-CUNDINAMARCA",null,null,null,null,null,null,null,null,null,null,null,null,null,null,null,null,null,null,null,null,null,null,null,null,null,null,null,null,null,null,null,null,null,null,null,null,null,null,null,"383 - ISRAEL"]
[null,null,null,null,null,"C1811 - Actividades de impresión",null,null,null,null,null,null,null,null,null,null,null,null,null,"05686 - SANTA ROSA DE OSOS-ANTIOQUIA",null,null,null,null,null,null,null,null,null,null,null,null,"05686 - SANTA ROSA DE OSOS-ANTIOQUIA",null,null,null,null,null,null,null,null,null,"15764 - SORACA-BOYACA",null,null,null,null,null,null,null,null,null,null,null,null,null,null,null,"25823 - TOPAIPI-CUNDINAMARCA",null,null,null,null,null,null,null,null,null,null,null,null,null,null,null,null,null,null,null,null,null,null,null,null,null,null,null,null,null,null,null,null,null,null,null,null,null,null,null,"386 - ITALIA"]
[null,null,null,null,null,"C1812 - Actividades de servicios relacionados con la impresión",null,null,null,null,null,null,null,null,null,null,null,null,null,"05690 - SANTO DOMINGO-ANTIOQUIA",null,null,null,null,null,null,null,null,null,null,null,null,"05690 - SANTO DOMINGO-ANTIOQUIA",null,null,null,null,null,null,null,null,null,"15774 - SUSACON-BOYACA",null,null,null,null,null,null,null,null,null,null,null,null,null,null,null,"25839 - UBALA-CUNDINAMARCA",null,null,null,null,null,null,null,null,null,null,null,null,null,null,null,null,null,null,null,null,null,null,null,null,null,null,null,null,null,null,null,null,null,null,null,null,null,null,null,"391 - JAMAICA"]
[null,null,null,null,null,"C1820 - Producción de copias a partir de grabaciones originales",null,null,null,null,null,null,null,null,null,null,null,null,null,"05697 - EL SANTUARIO-ANTIOQUIA",null,null,null,null,null,null,null,null,null,null,null,null,"05697 - EL SANTUARIO-ANTIOQUIA",null,null,null,null,null,null,null,null,null,"15776 - SUTAMARCHAN-BOYACA",null,null,null,null,null,null,null,null,null,null,null,null,null,null,null,"25841 - UBAQUE-CUNDINAMARCA",null,null,null,null,null,null,null,null,null,null,null,null,null,null,null,null,null,null,null,null,null,null,null,null,null,null,null,null,null,null,null,null,null,null,null,null,null,null,null,"399 - JAPON"]
[null,null,null,null,null,"C1910 - Fabricación de productos de hornos de coque",null,null,null,null,null,null,null,null,null,null,null,null,null,"05736 - SEGOVIA-ANTIOQUIA",null,null,null,null,null,null,null,null,null,null,null,null,"05736 - SEGOVIA-ANTIOQUIA",null,null,null,null,null,null,null,null,null,"15778 - SUTATENZA-BOYACA",null,null,null,null,null,null,null,null,null,null,null,null,null,null,null,"25843 - VILLA DE SAN DIEGO DE UBATE-CUNDINAMARCA",null,null,null,null,null,null,null,null,null,null,null,null,null,null,null,null,null,null,null,null,null,null,null,null,null,null,null,null,null,null,null,null,null,null,null,null,null,null,null,"403 - JORDANIA"]
[null,null,null,null,null,"C1921 - Fabricación de productos de la refinación del petróleo",null,null,null,null,null,null,null,null,null,null,null,null,null,"05756 - SONSON-ANTIOQUIA",null,null,null,null,null,null,null,null,null,null,null,null,"05756 - SONSON-ANTIOQUIA",null,null,null,null,null,null,null,null,null,"15790 - TASCO-BOYACA",null,null,null,null,null,null,null,null,null,null,null,null,null,null,null,"25845 - UNE-CUNDINAMARCA",null,null,null,null,null,null,null,null,null,null,null,null,null,null,null,null,null,null,null,null,null,null,null,null,null,null,null,null,null,null,null,null,null,null,null,null,null,null,null,"406 - KAZAJSTAN"]
[null,null,null,null,null,"C1922 - Actividad de mezcla de combustibles",null,null,null,null,null,null,null,null,null,null,null,null,null,"05761 - SOPETRAN-ANTIOQUIA",null,null,null,null,null,null,null,null,null,null,null,null,"05761 - SOPETRAN-ANTIOQUIA",null,null,null,null,null,null,null,null,null,"15798 - TENZA-BOYACA",null,null,null,null,null,null,null,null,null,null,null,null,null,null,null,"25851 - UTICA-CUNDINAMARCA",null,null,null,null,null,null,null,null,null,null,null,null,null,null,null,null,null,null,null,null,null,null,null,null,null,null,null,null,null,null,null,null,null,null,null,null,null,null,null,"410 - KENIA"]
[null,null,null,null,null,"C2011 - Fabricación de sustancias y productos químicos básicos",null,null,null,null,null,null,null,null,null,null,null,null,null,"05789 - TAMESIS-ANTIOQUIA",null,null,null,null,null,null,null,null,null,null,null,null,"05789 - TAMESIS-ANTIOQUIA",null,null,null,null,null,null,null,null,null,"15804 - TIBANA-BOYACA",null,null,null,null,null,null,null,null,null,null,null,null,null,null,null,"25862 - VERGARA-CUNDINAMARCA",null,null,null,null,null,null,null,null,null,null,null,null,null,null,null,null,null,null,null,null,null,null,null,null,null,null,null,null,null,null,null,null,null,null,null,null,null,null,null,"411 - KIRIBATI"]
[null,null,null,null,null,"C2012 - Fabricación de abonos y compuestos inorgánicos nitrogenados",null,null,null,null,null,null,null,null,null,null,null,null,null,"05790 - TARAZA-ANTIOQUIA",null,null,null,null,null,null,null,null,null,null,null,null,"05790 - TARAZA-ANTIOQUIA",null,null,null,null,null,null,null,null,null,"15806 - TIBASOSA-BOYACA",null,null,null,null,null,null,null,null,null,null,null,null,null,null,null,"25867 - VIANI-CUNDINAMARCA",null,null,null,null,null,null,null,null,null,null,null,null,null,null,null,null,null,null,null,null,null,null,null,null,null,null,null,null,null,null,null,null,null,null,null,null,null,null,null,"412 - KIRGUIZISTAN"]
[null,null,null,null,null,"C2013 - Fabricación de plásticos en formas primarias",null,null,null,null,null,null,null,null,null,null,null,null,null,"05792 - TARSO-ANTIOQUIA",null,null,null,null,null,null,null,null,null,null,null,null,"05792 - TARSO-ANTIOQUIA",null,null,null,null,null,null,null,null,null,"15808 - TINJACA-BOYACA",null,null,null,null,null,null,null,null,null,null,null,null,null,null,null,"25871 - VILLAGOMEZ-CUNDINAMARCA",null,null,null,null,null,null,null,null,null,null,null,null,null,null,null,null,null,null,null,null,null,null,null,null,null,null,null,null,null,null,null,null,null,null,null,null,null,null,null,"413 - KUWAIT"]
[null,null,null,null,null,"C2014 - Fabricación de caucho sintético en formas primarias",null,null,null,null,null,null,null,null,null,null,null,null,null,"05809 - TITIRIBI-ANTIOQUIA",null,null,null,null,null,null,null,null,null,null,null,null,"05809 - TITIRIBI-ANTIOQUIA",null,null,null,null,null,null,null,null,null,"15810 - TIPACOQUE-BOYACA",null,null,null,null,null,null,null,null,null,null,null,null,null,null,null,"25873 - VILLAPINZON-CUNDINAMARCA",null,null,null,null,null,null,null,null,null,null,null,null,null,null,null,null,null,null,null,null,null,null,null,null,null,null,null,null,null,null,null,null,null,null,null,null,null,null,null,"420 - LAOS - REPUBLICA POPULAR DEMOCRATICA DE"]
[null,null,null,null,null,"C2021 - Fabricación de plaguicidas y otros productos químicos de uso agropecuario",null,null,null,null,null,null,null,null,null,null,null,null,null,"05819 - TOLEDO-ANTIOQUIA",null,null,null,null,null,null,null,null,null,null,null,null,"05819 - TOLEDO-ANTIOQUIA",null,null,null,null,null,null,null,null,null,"15814 - TOCA-BOYACA",null,null,null,null,null,null,null,null,null,null,null,null,null,null,null,"25875 - VILLETA-CUNDINAMARCA",null,null,null,null,null,null,null,null,null,null,null,null,null,null,null,null,null,null,null,null,null,null,null,null,null,null,null,null,null,null,null,null,null,null,null,null,null,null,null,"426 - LESOTHO"]
[null,null,null,null,null,"C2022 - Fabricación de pinturas, barnices y revestimientos similares, tintas para impresión y masillas",null,null,null,null,null,null,null,null,null,null,null,null,null,"05837 - TURBO-ANTIOQUIA",null,null,null,null,null,null,null,null,null,null,null,null,"05837 - TURBO-ANTIOQUIA",null,null,null,null,null,null,null,null,null,"15816 - TOGÜI-BOYACA",null,null,null,null,null,null,null,null,null,null,null,null,null,null,null,"25878 - VIOTA-CUNDINAMARCA",null,null,null,null,null,null,null,null,null,null,null,null,null,null,null,null,null,null,null,null,null,null,null,null,null,null,null,null,null,null,null,null,null,null,null,null,null,null,null,"429 - LETONIA"]
[null,null,null,null,null,"C2023 - Fabricación de jabones y detergentes, preparados para limpiar y pulir; perfumes y preparados de tocador",null,null,null,null,null,null,null,null,null,null,null,null,null,"05842 - URAMITA-ANTIOQUIA",null,null,null,null,null,null,null,null,null,null,null,null,"05842 - URAMITA-ANTIOQUIA",null,null,null,null,null,null,null,null,null,"15820 - TOPAGA-BOYACA",null,null,null,null,null,null,null,null,null,null,null,null,null,null,null,"25885 - YACOPI-CUNDINAMARCA",null,null,null,null,null,null,null,null,null,null,null,null,null,null,null,null,null,null,null,null,null,null,null,null,null,null,null,null,null,null,null,null,null,null,null,null,null,null,null,"431 - LIBANO"]
[null,null,null,null,null,"C2029 - Fabricación de otros productos químicos n.c.p.",null,null,null,null,null,null,null,null,null,null,null,null,null,"05847 - URRAO-ANTIOQUIA",null,null,null,null,null,null,null,null,null,null,null,null,"05847 - URRAO-ANTIOQUIA",null,null,null,null,null,null,null,null,null,"15822 - TOTA-BOYACA",null,null,null,null,null,null,null,null,null,null,null,null,null,null,null,"25898 - ZIPACON-CUNDINAMARCA",null,null,null,null,null,null,null,null,null,null,null,null,null,null,null,null,null,null,null,null,null,null,null,null,null,null,null,null,null,null,null,null,null,null,null,null,null,null,null,"434 - LIBERIA"]
[null,null,null,null,null,"C2030 - Fabricación de fibras sintéticas y artificiales",null,null,null,null,null,null,null,null,null,null,null,null,null,"05854 - VALDIVIA-ANTIOQUIA",null,null,null,null,null,null,null,null,null,null,null,null,"05854 - VALDIVIA-ANTIOQUIA",null,null,null,null,null,null,null,null,null,"15832 - TUNUNGUA-BOYACA",null,null,null,null,null,null,null,null,null,null,null,null,null,null,null,"25899 - ZIPAQUIRA-CUNDINAMARCA",null,null,null,null,null,null,null,null,null,null,null,null,null,null,null,null,null,null,null,null,null,null,null,null,null,null,null,null,null,null,null,null,null,null,null,null,null,null,null,"438 - LIBIA (INCLUYE FEZZAN)"]
[null,null,null,null,null,"C2100 - Fabricación de productos farmacéuticos, sustancias químicas medicinales y productos botánicos de uso farmacéutico",null,null,null,null,null,null,null,null,null,null,null,null,null,"05856 - VALPARAISO-ANTIOQUIA",null,null,null,null,null,null,null,null,null,null,null,null,"05856 - VALPARAISO-ANTIOQUIA",null,null,null,null,null,null,null,null,null,"15835 - TURMEQUE-BOYACA",null,null,null,null,null,null,null,null,null,null,null,null,null,null,null,null,null,null,null,null,null,null,null,null,null,null,null,null,null,null,null,null,null,null,null,null,null,null,null,null,null,null,null,null,null,null,null,null,null,null,null,null,null,null,null,"440 - LIECHTENSTEIN"]
[null,null,null,null,null,"C2211 - Fabricación de llantas y neumáticos de caucho",null,null,null,null,null,null,null,null,null,null,null,null,null,"05858 - VEGACHI-ANTIOQUIA",null,null,null,null,null,null,null,null,null,null,null,null,"05858 - VEGACHI-ANTIOQUIA",null,null,null,null,null,null,null,null,null,"15837 - TUTA-BOYACA",null,null,null,null,null,null,null,null,null,null,null,null,null,null,null,null,null,null,null,null,null,null,null,null,null,null,null,null,null,null,null,null,null,null,null,null,null,null,null,null,null,null,null,null,null,null,null,null,null,null,null,null,null,null,null,"443 - LITUANIA"]
[null,null,null,null,null,"C2212 - Reencauche de llantas usadas",null,null,null,null,null,null,null,null,null,null,null,null,null,"05861 - VENECIA-ANTIOQUIA",null,null,null,null,null,null,null,null,null,null,null,null,"05861 - VENECIA-ANTIOQUIA",null,null,null,null,null,null,null,null,null,"15839 - TUTAZA-BOYACA",null,null,null,null,null,null,null,null,null,null,null,null,null,null,null,null,null,null,null,null,null,null,null,null,null,null,null,null,null,null,null,null,null,null,null,null,null,null,null,null,null,null,null,null,null,null,null,null,null,null,null,null,null,null,null,"445 - LUXEMBURGO"]
[null,null,null,null,null,"C2219 - Fabricación de formas básicas de caucho y otros productos de caucho n.c.p.",null,null,null,null,null,null,null,null,null,null,null,null,null,"05873 - VIGIA DEL FUERTE-ANTIOQUIA",null,null,null,null,null,null,null,null,null,null,null,null,"05873 - VIGIA DEL FUERTE-ANTIOQUIA",null,null,null,null,null,null,null,null,null,"15842 - UMBITA-BOYACA",null,null,null,null,null,null,null,null,null,null,null,null,null,null,null,null,null,null,null,null,null,null,null,null,null,null,null,null,null,null,null,null,null,null,null,null,null,null,null,null,null,null,null,null,null,null,null,null,null,null,null,null,null,null,null,"447 - MACAO"]
[null,null,null,null,null,"C2221 - Fabricación de formas básicas de plástico",null,null,null,null,null,null,null,null,null,null,null,null,null,"05885 - YALI-ANTIOQUIA",null,null,null,null,null,null,null,null,null,null,null,null,"05885 - YALI-ANTIOQUIA",null,null,null,null,null,null,null,null,null,"15861 - VENTAQUEMADA-BOYACA",null,null,null,null,null,null,null,null,null,null,null,null,null,null,null,null,null,null,null,null,null,null,null,null,null,null,null,null,null,null,null,null,null,null,null,null,null,null,null,null,null,null,null,null,null,null,null,null,null,null,null,null,null,null,null,"448 - MACEDONIA"]
[null,null,null,null,null,"C2229 - Fabricación de artículos de plástico n.c.p.",null,null,null,null,null,null,null,null,null,null,null,null,null,"05887 - YARUMAL-ANTIOQUIA",null,null,null,null,null,null,null,null,null,null,null,null,"05887 - YARUMAL-ANTIOQUIA",null,null,null,null,null,null,null,null,null,"15879 - VIRACACHA-BOYACA",null,null,null,null,null,null,null,null,null,null,null,null,null,null,null,null,null,null,null,null,null,null,null,null,null,null,null,null,null,null,null,null,null,null,null,null,null,null,null,null,null,null,null,null,null,null,null,null,null,null,null,null,null,null,null,"450 - MADAGASCAR"]
[null,null,null,null,null,"C2310 - Fabricación de vidrio y productos de vidrio",null,null,null,null,null,null,null,null,null,null,null,null,null,"05890 - YOLOMBO-ANTIOQUIA",null,null,null,null,null,null,null,null,null,null,null,null,"05890 - YOLOMBO-ANTIOQUIA",null,null,null,null,null,null,null,null,null,"15897 - ZETAQUIRA-BOYACA",null,null,null,null,null,null,null,null,null,null,null,null,null,null,null,null,null,null,null,null,null,null,null,null,null,null,null,null,null,null,null,null,null,null,null,null,null,null,null,null,null,null,null,null,null,null,null,null,null,null,null,null,null,null,null,"455 - MALAYSIA"]
[null,null,null,null,null,"C2391 - Fabricación de productos refractarios",null,null,null,null,null,null,null,null,null,null,null,null,null,"05893 - YONDO-ANTIOQUIA",null,null,null,null,null,null,null,null,null,null,null,null,"05893 - YONDO-ANTIOQUIA",null,null,null,null,null,null,null,null,null,null,null,null,null,null,null,null,null,null,null,null,null,null,null,null,null,null,null,null,null,null,null,null,null,null,null,null,null,null,null,null,null,null,null,null,null,null,null,null,null,null,null,null,null,null,null,null,null,null,null,null,null,null,null,null,null,"458 - MALAWI"]
[null,null,null,null,null,"C2392 - Fabricación de materiales de arcilla para la construcción",null,null,null,null,null,null,null,null,null,null,null,null,null,"05895 - ZARAGOZA-ANTIOQUIA",null,null,null,null,null,null,null,null,null,null,null,null,"05895 - ZARAGOZA-ANTIOQUIA",null,null,null,null,null,null,null,null,null,null,null,null,null,null,null,null,null,null,null,null,null,null,null,null,null,null,null,null,null,null,null,null,null,null,null,null,null,null,null,null,null,null,null,null,null,null,null,null,null,null,null,null,null,null,null,null,null,null,null,null,null,null,null,null,null,"461 - MALDIVAS"]
[null,null,null,null,null,"C2393 - Fabricación de otros productos de cerámica y porcelana",null,null,null,null,null,null,null,null,null,null,null,null,null,null,null,null,null,null,null,null,null,null,null,null,null,null,null,null,null,null,null,null,null,null,null,null,null,null,null,null,null,null,null,null,null,null,null,null,null,null,null,null,null,null,null,null,null,null,null,null,null,null,null,null,null,null,null,null,null,null,null,null,null,null,null,null,null,null,null,null,null,null,null,null,null,null,null,null,null,null,null,null,"464 - MALI"]
[null,null,null,null,null,"C2394 - Fabricación de cemento, cal y yeso",null,null,null,null,null,null,null,null,null,null,null,null,null,null,null,null,null,null,null,null,null,null,null,null,null,null,null,null,null,null,null,null,null,null,null,null,null,null,null,null,null,null,null,null,null,null,null,null,null,null,null,null,null,null,null,null,null,null,null,null,null,null,null,null,null,null,null,null,null,null,null,null,null,null,null,null,null,null,null,null,null,null,null,null,null,null,null,null,null,null,null,null,"467 - MALTA"]
[null,null,null,null,null,"C2395 - Fabricación de artículos de hormigón, cemento y yeso",null,null,null,null,null,null,null,null,null,null,null,null,null,null,null,null,null,null,null,null,null,null,null,null,null,null,null,null,null,null,null,null,null,null,null,null,null,null,null,null,null,null,null,null,null,null,null,null,null,null,null,null,null,null,null,null,null,null,null,null,null,null,null,null,null,null,null,null,null,null,null,null,null,null,null,null,null,null,null,null,null,null,null,null,null,null,null,null,null,null,null,null,"469 - MARIANAS DEL NORTE - ISLAS"]
[null,null,null,null,null,"C2396 - Corte, tallado y acabado de la piedra",null,null,null,null,null,null,null,null,null,null,null,null,null,null,null,null,null,null,null,null,null,null,null,null,null,null,null,null,null,null,null,null,null,null,null,null,null,null,null,null,null,null,null,null,null,null,null,null,null,null,null,null,null,null,null,null,null,null,null,null,null,null,null,null,null,null,null,null,null,null,null,null,null,null,null,null,null,null,null,null,null,null,null,null,null,null,null,null,null,null,null,null,"472 - MARSHALL - ISLAS"]
[null,null,null,null,null,"C2399 - Fabricación de otros productos minerales no metálicos n.c.p.",null,null,null,null,null,null,null,null,null,null,null,null,null,null,null,null,null,null,null,null,null,null,null,null,null,null,null,null,null,null,null,null,null,null,null,null,null,null,null,null,null,null,null,null,null,null,null,null,null,null,null,null,null,null,null,null,null,null,null,null,null,null,null,null,null,null,null,null,null,null,null,null,null,null,null,null,null,null,null,null,null,null,null,null,null,null,null,null,null,null,null,null,"474 - MARRUECOS"]
[null,null,null,null,null,"C2410 - Industrias básicas de hierro y de acero",null,null,null,null,null,null,null,null,null,null,null,null,null,null,null,null,null,null,null,null,null,null,null,null,null,null,null,null,null,null,null,null,null,null,null,null,null,null,null,null,null,null,null,null,null,null,null,null,null,null,null,null,null,null,null,null,null,null,null,null,null,null,null,null,null,null,null,null,null,null,null,null,null,null,null,null,null,null,null,null,null,null,null,null,null,null,null,null,null,null,null,null,"477 - MARTINICA"]
[null,null,null,null,null,"C2421 - Industrias básicas de metales preciosos",null,null,null,null,null,null,null,null,null,null,null,null,null,null,null,null,null,null,null,null,null,null,null,null,null,null,null,null,null,null,null,null,null,null,null,null,null,null,null,null,null,null,null,null,null,null,null,null,null,null,null,null,null,null,null,null,null,null,null,null,null,null,null,null,null,null,null,null,null,null,null,null,null,null,null,null,null,null,null,null,null,null,null,null,null,null,null,null,null,null,null,null,"485 - MAURICIO"]
[null,null,null,null,null,"C2429 - Industrias básicas de otros metales no ferrosos",null,null,null,null,null,null,null,null,null,null,null,null,null,null,null,null,null,null,null,null,null,null,null,null,null,null,null,null,null,null,null,null,null,null,null,null,null,null,null,null,null,null,null,null,null,null,null,null,null,null,null,null,null,null,null,null,null,null,null,null,null,null,null,null,null,null,null,null,null,null,null,null,null,null,null,null,null,null,null,null,null,null,null,null,null,null,null,null,null,null,null,null,"488 - MAURITANIA"]
[null,null,null,null,null,"C2431 - Fundición de hierro y de acero",null,null,null,null,null,null,null,null,null,null,null,null,null,null,null,null,null,null,null,null,null,null,null,null,null,null,null,null,null,null,null,null,null,null,null,null,null,null,null,null,null,null,null,null,null,null,null,null,null,null,null,null,null,null,null,null,null,null,null,null,null,null,null,null,null,null,null,null,null,null,null,null,null,null,null,null,null,null,null,null,null,null,null,null,null,null,null,null,null,null,null,null,"493 - MEXICO"]
[null,null,null,null,null,"C2432 - Fundición de metales no ferrosos",null,null,null,null,null,null,null,null,null,null,null,null,null,null,null,null,null,null,null,null,null,null,null,null,null,null,null,null,null,null,null,null,null,null,null,null,null,null,null,null,null,null,null,null,null,null,null,null,null,null,null,null,null,null,null,null,null,null,null,null,null,null,null,null,null,null,null,null,null,null,null,null,null,null,null,null,null,null,null,null,null,null,null,null,null,null,null,null,null,null,null,null,"494 - MICRONESIA - ESTADOS FEDERADOS DE"]
[null,null,null,null,null,"C2511 - Fabricación de productos metálicos para uso estructural",null,null,null,null,null,null,null,null,null,null,null,null,null,null,null,null,null,null,null,null,null,null,null,null,null,null,null,null,null,null,null,null,null,null,null,null,null,null,null,null,null,null,null,null,null,null,null,null,null,null,null,null,null,null,null,null,null,null,null,null,null,null,null,null,null,null,null,null,null,null,null,null,null,null,null,null,null,null,null,null,null,null,null,null,null,null,null,null,null,null,null,null,"496 - MOLDAVIA"]
[null,null,null,null,null,"C2512 - Fabricación de tanques, depósitos y recipientes de metal, excepto los utilizados para el envase o transporte de mercancías",null,null,null,null,null,null,null,null,null,null,null,null,null,null,null,null,null,null,null,null,null,null,null,null,null,null,null,null,null,null,null,null,null,null,null,null,null,null,null,null,null,null,null,null,null,null,null,null,null,null,null,null,null,null,null,null,null,null,null,null,null,null,null,null,null,null,null,null,null,null,null,null,null,null,null,null,null,null,null,null,null,null,null,null,null,null,null,null,null,null,null,null,"497 - MONGOLIA"]
[null,null,null,null,null,"C2513 - Fabricación de generadores de vapor, excepto calderas de agua caliente para calefacción central",null,null,null,null,null,null,null,null,null,null,null,null,null,null,null,null,null,null,null,null,null,null,null,null,null,null,null,null,null,null,null,null,null,null,null,null,null,null,null,null,null,null,null,null,null,null,null,null,null,null,null,null,null,null,null,null,null,null,null,null,null,null,null,null,null,null,null,null,null,null,null,null,null,null,null,null,null,null,null,null,null,null,null,null,null,null,null,null,null,null,null,null,"498 -MONACO"]
[null,null,null,null,null,"C2520 - Fabricación de armas y municiones",null,null,null,null,null,null,null,null,null,null,null,null,null,null,null,null,null,null,null,null,null,null,null,null,null,null,null,null,null,null,null,null,null,null,null,null,null,null,null,null,null,null,null,null,null,null,null,null,null,null,null,null,null,null,null,null,null,null,null,null,null,null,null,null,null,null,null,null,null,null,null,null,null,null,null,null,null,null,null,null,null,null,null,null,null,null,null,null,null,null,null,null,"501 - MONSERRAT - ISLA"]
[null,null,null,null,null,"C2591 - Forja, prensado, estampado y laminado de metal; pulvimetalurgia",null,null,null,null,null,null,null,null,null,null,null,null,null,null,null,null,null,null,null,null,null,null,null,null,null,null,null,null,null,null,null,null,null,null,null,null,null,null,null,null,null,null,null,null,null,null,null,null,null,null,null,null,null,null,null,null,null,null,null,null,null,null,null,null,null,null,null,null,null,null,null,null,null,null,null,null,null,null,null,null,null,null,null,null,null,null,null,null,null,null,null,null,"505 - MOZAMBIQUE"]
[null,null,null,null,null,"C2592 - Tratamiento y revestimiento de metales; mecanizado",null,null,null,null,null,null,null,null,null,null,null,null,null,null,null,null,null,null,null,null,null,null,null,null,null,null,null,null,null,null,null,null,null,null,null,null,null,null,null,null,null,null,null,null,null,null,null,null,null,null,null,null,null,null,null,null,null,null,null,null,null,null,null,null,null,null,null,null,null,null,null,null,null,null,null,null,null,null,null,null,null,null,null,null,null,null,null,null,null,null,null,null,"507- NAMIBIA"]
[null,null,null,null,null,"C2593 - Fabricación de artículos de cuchillería, herramientas de mano y artículos de ferretería",null,null,null,null,null,null,null,null,null,null,null,null,null,null,null,null,null,null,null,null,null,null,null,null,null,null,null,null,null,null,null,null,null,null,null,null,null,null,null,null,null,null,null,null,null,null,null,null,null,null,null,null,null,null,null,null,null,null,null,null,null,null,null,null,null,null,null,null,null,null,null,null,null,null,null,null,null,null,null,null,null,null,null,null,null,null,null,null,null,null,null,null,"508 - NAURU"]
[null,null,null,null,null,"C2599 - Fabricación de otros productos elaborados de metal n.c.p.",null,null,null,null,null,null,null,null,null,null,null,null,null,null,null,null,null,null,null,null,null,null,null,null,null,null,null,null,null,null,null,null,null,null,null,null,null,null,null,null,null,null,null,null,null,null,null,null,null,null,null,null,null,null,null,null,null,null,null,null,null,null,null,null,null,null,null,null,null,null,null,null,null,null,null,null,null,null,null,null,null,null,null,null,null,null,null,null,null,null,null,null,"511 - NAVIDAD (CHRISTMAS) - ISLAS"]
[null,null,null,null,null,"C2610 - Fabricación de componentes y tableros electrónicos",null,null,null,null,null,null,null,null,null,null,null,null,null,null,null,null,null,null,null,null,null,null,null,null,null,null,null,null,null,null,null,null,null,null,null,null,null,null,null,null,null,null,null,null,null,null,null,null,null,null,null,null,null,null,null,null,null,null,null,null,null,null,null,null,null,null,null,null,null,null,null,null,null,null,null,null,null,null,null,null,null,null,null,null,null,null,null,null,null,null,null,null,"517 - NEPAL"]
[null,null,null,null,null,"C2620 - Fabricación de computadoras y de equipo periférico",null,null,null,null,null,null,null,null,null,null,null,null,null,null,null,null,null,null,null,null,null,null,null,null,null,null,null,null,null,null,null,null,null,null,null,null,null,null,null,null,null,null,null,null,null,null,null,null,null,null,null,null,null,null,null,null,null,null,null,null,null,null,null,null,null,null,null,null,null,null,null,null,null,null,null,null,null,null,null,null,null,null,null,null,null,null,null,null,null,null,null,null,"521 - NICARAGUA"]
[null,null,null,null,null,"C2630 - Fabricación de equipos de comunicación",null,null,null,null,null,null,null,null,null,null,null,null,null,null,null,null,null,null,null,null,null,null,null,null,null,null,null,null,null,null,null,null,null,null,null,null,null,null,null,null,null,null,null,null,null,null,null,null,null,null,null,null,null,null,null,null,null,null,null,null,null,null,null,null,null,null,null,null,null,null,null,null,null,null,null,null,null,null,null,null,null,null,null,null,null,null,null,null,null,null,null,null,"525 - NIGER"]
[null,null,null,null,null,"C2640 - Fabricación de aparatos electrónicos de consumo",null,null,null,null,null,null,null,null,null,null,null,null,null,null,null,null,null,null,null,null,null,null,null,null,null,null,null,null,null,null,null,null,null,null,null,null,null,null,null,null,null,null,null,null,null,null,null,null,null,null,null,null,null,null,null,null,null,null,null,null,null,null,null,null,null,null,null,null,null,null,null,null,null,null,null,null,null,null,null,null,null,null,null,null,null,null,null,null,null,null,null,null,"528 - NIGERIA"]
[null,null,null,null,null,"C2651 - Fabricación de equipo de medición, prueba, navegación y control",null,null,null,null,null,null,null,null,null,null,null,null,null,null,null,null,null,null,null,null,null,null,null,null,null,null,null,null,null,null,null,null,null,null,null,null,null,null,null,null,null,null,null,null,null,null,null,null,null,null,null,null,null,null,null,null,null,null,null,null,null,null,null,null,null,null,null,null,null,null,null,null,null,null,null,null,null,null,null,null,null,null,null,null,null,null,null,null,null,null,null,null,"531 - NIUE - ISLA"]
[null,null,null,null,null,"C2652 - Fabricación de relojes",null,null,null,null,null,null,null,null,null,null,null,null,null,null,null,null,null,null,null,null,null,null,null,null,null,null,null,null,null,null,null,null,null,null,null,null,null,null,null,null,null,null,null,null,null,null,null,null,null,null,null,null,null,null,null,null,null,null,null,null,null,null,null,null,null,null,null,null,null,null,null,null,null,null,null,null,null,null,null,null,null,null,null,null,null,null,null,null,null,null,null,null,"535 - NORFOLK - ISLA"]
[null,null,null,null,null,"C2660 - Fabricación de equipo de irradiación y equipo electrónico de uso médico y terapéutico",null,null,null,null,null,null,null,null,null,null,null,null,null,null,null,null,null,null,null,null,null,null,null,null,null,null,null,null,null,null,null,null,null,null,null,null,null,null,null,null,null,null,null,null,null,null,null,null,null,null,null,null,null,null,null,null,null,null,null,null,null,null,null,null,null,null,null,null,null,null,null,null,null,null,null,null,null,null,null,null,null,null,null,null,null,null,null,null,null,null,null,null,"538 - NORUEGA"]
[null,null,null,null,null,"C2670 - Fabricación de instrumentos ópticos y equipo fotográfico",null,null,null,null,null,null,null,null,null,null,null,null,null,null,null,null,null,null,null,null,null,null,null,null,null,null,null,null,null,null,null,null,null,null,null,null,null,null,null,null,null,null,null,null,null,null,null,null,null,null,null,null,null,null,null,null,null,null,null,null,null,null,null,null,null,null,null,null,null,null,null,null,null,null,null,null,null,null,null,null,null,null,null,null,null,null,null,null,null,null,null,null,"542 - NUEVA CALEDONIA"]
[null,null,null,null,null,"C2680 - Fabricación de medios magnéticos y ópticos para almacenamiento de datos",null,null,null,null,null,null,null,null,null,null,null,null,null,null,null,null,null,null,null,null,null,null,null,null,null,null,null,null,null,null,null,null,null,null,null,null,null,null,null,null,null,null,null,null,null,null,null,null,null,null,null,null,null,null,null,null,null,null,null,null,null,null,null,null,null,null,null,null,null,null,null,null,null,null,null,null,null,null,null,null,null,null,null,null,null,null,null,null,null,null,null,null,"545 - PAPUASIA NUEVA GUINEA"]
[null,null,null,null,null,"C2711 - Fabricación de motores, generadores y transformadores eléctricos",null,null,null,null,null,null,null,null,null,null,null,null,null,null,null,null,null,null,null,null,null,null,null,null,null,null,null,null,null,null,null,null,null,null,null,null,null,null,null,null,null,null,null,null,null,null,null,null,null,null,null,null,null,null,null,null,null,null,null,null,null,null,null,null,null,null,null,null,null,null,null,null,null,null,null,null,null,null,null,null,null,null,null,null,null,null,null,null,null,null,null,null,"548 - NUEVA ZELANDIA"]
[null,null,null,null,null,"C2712 - Fabricación de aparatos de distribución y control de la energía eléctrica",null,null,null,null,null,null,null,null,null,null,null,null,null,null,null,null,null,null,null,null,null,null,null,null,null,null,null,null,null,null,null,null,null,null,null,null,null,null,null,null,null,null,null,null,null,null,null,null,null,null,null,null,null,null,null,null,null,null,null,null,null,null,null,null,null,null,null,null,null,null,null,null,null,null,null,null,null,null,null,null,null,null,null,null,null,null,null,null,null,null,null,null,"551 - VANUATU"]
[null,null,null,null,null,"C2720 - Fabricación de pilas, baterías y acumuladores eléctricos",null,null,null,null,null,null,null,null,null,null,null,null,null,null,null,null,null,null,null,null,null,null,null,null,null,null,null,null,null,null,null,null,null,null,null,null,null,null,null,null,null,null,null,null,null,null,null,null,null,null,null,null,null,null,null,null,null,null,null,null,null,null,null,null,null,null,null,null,null,null,null,null,null,null,null,null,null,null,null,null,null,null,null,null,null,null,null,null,null,null,null,null,"556 - OMAN"]
[null,null,null,null,null,"C2731 - Fabricación de hilos y cables eléctricos y de fibra óptica",null,null,null,null,null,null,null,null,null,null,null,null,null,null,null,null,null,null,null,null,null,null,null,null,null,null,null,null,null,null,null,null,null,null,null,null,null,null,null,null,null,null,null,null,null,null,null,null,null,null,null,null,null,null,null,null,null,null,null,null,null,null,null,null,null,null,null,null,null,null,null,null,null,null,null,null,null,null,null,null,null,null,null,null,null,null,null,null,null,null,null,null,"566 - PACIFICO - ISLAS (USA)"]
[null,null,null,null,null,"C2732 - Fabricación de dispositivos de cableado",null,null,null,null,null,null,null,null,null,null,null,null,null,null,null,null,null,null,null,null,null,null,null,null,null,null,null,null,null,null,null,null,null,null,null,null,null,null,null,null,null,null,null,null,null,null,null,null,null,null,null,null,null,null,null,null,null,null,null,null,null,null,null,null,null,null,null,null,null,null,null,null,null,null,null,null,null,null,null,null,null,null,null,null,null,null,null,null,null,null,null,null,"573 - PAISES BAJOS (HOLANDA)"]
[null,null,null,null,null,"C2740 - Fabricación de equipos eléctricos de iluminación",null,null,null,null,null,null,null,null,null,null,null,null,null,null,null,null,null,null,null,null,null,null,null,null,null,null,null,null,null,null,null,null,null,null,null,null,null,null,null,null,null,null,null,null,null,null,null,null,null,null,null,null,null,null,null,null,null,null,null,null,null,null,null,null,null,null,null,null,null,null,null,null,null,null,null,null,null,null,null,null,null,null,null,null,null,null,null,null,null,null,null,null,"576 - PAKISTAN"]
[null,null,null,null,null,"C2750 - Fabricación de aparatos de uso doméstico",null,null,null,null,null,null,null,null,null,null,null,null,null,null,null,null,null,null,null,null,null,null,null,null,null,null,null,null,null,null,null,null,null,null,null,null,null,null,null,null,null,null,null,null,null,null,null,null,null,null,null,null,null,null,null,null,null,null,null,null,null,null,null,null,null,null,null,null,null,null,null,null,null,null,null,null,null,null,null,null,null,null,null,null,null,null,null,null,null,null,null,null,"578 - PALAU - ISLAS"]
[null,null,null,null,null,"C2790 - Fabricación de otros tipos de equipo eléctrico n.c.p.",null,null,null,null,null,null,null,null,null,null,null,null,null,null,null,null,null,null,null,null,null,null,null,null,null,null,null,null,null,null,null,null,null,null,null,null,null,null,null,null,null,null,null,null,null,null,null,null,null,null,null,null,null,null,null,null,null,null,null,null,null,null,null,null,null,null,null,null,null,null,null,null,null,null,null,null,null,null,null,null,null,null,null,null,null,null,null,null,null,null,null,null,"580 - PANAMA"]
[null,null,null,null,null,"C2811 - Fabricación de motores, turbinas, y partes para motores de combustión interna",null,null,null,null,null,null,null,null,null,null,null,null,null,null,null,null,null,null,null,null,null,null,null,null,null,null,null,null,null,null,null,null,null,null,null,null,null,null,null,null,null,null,null,null,null,null,null,null,null,null,null,null,null,null,null,null,null,null,null,null,null,null,null,null,null,null,null,null,null,null,null,null,null,null,null,null,null,null,null,null,null,null,null,null,null,null,null,null,null,null,null,null,"586 - PARAGUAY"]
[null,null,null,null,null,"C2812 - Fabricación de equipos de potencia hidráulica y neumática",null,null,null,null,null,null,null,null,null,null,null,null,null,null,null,null,null,null,null,null,null,null,null,null,null,null,null,null,null,null,null,null,null,null,null,null,null,null,null,null,null,null,null,null,null,null,null,null,null,null,null,null,null,null,null,null,null,null,null,null,null,null,null,null,null,null,null,null,null,null,null,null,null,null,null,null,null,null,null,null,null,null,null,null,null,null,null,null,null,null,null,null,"589 - PERU"]
[null,null,null,null,null,"C2813 - Fabricación de otras bombas, compresores, grifos y válvulas",null,null,null,null,null,null,null,null,null,null,null,null,null,null,null,null,null,null,null,null,null,null,null,null,null,null,null,null,null,null,null,null,null,null,null,null,null,null,null,null,null,null,null,null,null,null,null,null,null,null,null,null,null,null,null,null,null,null,null,null,null,null,null,null,null,null,null,null,null,null,null,null,null,null,null,null,null,null,null,null,null,null,null,null,null,null,null,null,null,null,null,null,"593 - PITCAIRN - ISLA"]
[null,null,null,null,null,"C2814 - Fabricación de cojinetes, engranajes, trenes de engranajes y piezas de transmisión",null,null,null,null,null,null,null,null,null,null,null,null,null,null,null,null,null,null,null,null,null,null,null,null,null,null,null,null,null,null,null,null,null,null,null,null,null,null,null,null,null,null,null,null,null,null,null,null,null,null,null,null,null,null,null,null,null,null,null,null,null,null,null,null,null,null,null,null,null,null,null,null,null,null,null,null,null,null,null,null,null,null,null,null,null,null,null,null,null,null,null,null,"599 - POLINESIA FRANCESA"]
[null,null,null,null,null,"C2815 - Fabricación de hornos, hogares y quemadores industriales",null,null,null,null,null,null,null,null,null,null,null,null,null,null,null,null,null,null,null,null,null,null,null,null,null,null,null,null,null,null,null,null,null,null,null,null,null,null,null,null,null,null,null,null,null,null,null,null,null,null,null,null,null,null,null,null,null,null,null,null,null,null,null,null,null,null,null,null,null,null,null,null,null,null,null,null,null,null,null,null,null,null,null,null,null,null,null,null,null,null,null,null,"603 - POLONIA"]
[null,null,null,null,null,"C2816 - Fabricación de equipo de elevación y manipulación",null,null,null,null,null,null,null,null,null,null,null,null,null,null,null,null,null,null,null,null,null,null,null,null,null,null,null,null,null,null,null,null,null,null,null,null,null,null,null,null,null,null,null,null,null,null,null,null,null,null,null,null,null,null,null,null,null,null,null,null,null,null,null,null,null,null,null,null,null,null,null,null,null,null,null,null,null,null,null,null,null,null,null,null,null,null,null,null,null,null,null,null,"607 - PORTUGAL"]
[null,null,null,null,null,"C2817 - Fabricación de maquinaria y equipo de oficina (excepto computadoras y equipo periférico)",null,null,null,null,null,null,null,null,null,null,null,null,null,null,null,null,null,null,null,null,null,null,null,null,null,null,null,null,null,null,null,null,null,null,null,null,null,null,null,null,null,null,null,null,null,null,null,null,null,null,null,null,null,null,null,null,null,null,null,null,null,null,null,null,null,null,null,null,null,null,null,null,null,null,null,null,null,null,null,null,null,null,null,null,null,null,null,null,null,null,null,null,"611 - PUERTO RICO"]
[null,null,null,null,null,"C2818 - Fabricación de herramientas manuales con motor",null,null,null,null,null,null,null,null,null,null,null,null,null,null,null,null,null,null,null,null,null,null,null,null,null,null,null,null,null,null,null,null,null,null,null,null,null,null,null,null,null,null,null,null,null,null,null,null,null,null,null,null,null,null,null,null,null,null,null,null,null,null,null,null,null,null,null,null,null,null,null,null,null,null,null,null,null,null,null,null,null,null,null,null,null,null,null,null,null,null,null,null,"618 - QATAR"]
[null,null,null,null,null,"C2819 - Fabricación de otros tipos de maquinaria y equipo de uso general n.c.p.",null,null,null,null,null,null,null,null,null,null,null,null,null,null,null,null,null,null,null,null,null,null,null,null,null,null,null,null,null,null,null,null,null,null,null,null,null,null,null,null,null,null,null,null,null,null,null,null,null,null,null,null,null,null,null,null,null,null,null,null,null,null,null,null,null,null,null,null,null,null,null,null,null,null,null,null,null,null,null,null,null,null,null,null,null,null,null,null,null,null,null,null,"628 - REINO UNIDO"]
[null,null,null,null,null,"C2821 - Fabricación de maquinaria agropecuaria y forestal",null,null,null,null,null,null,null,null,null,null,null,null,null,null,null,null,null,null,null,null,null,null,null,null,null,null,null,null,null,null,null,null,null,null,null,null,null,null,null,null,null,null,null,null,null,null,null,null,null,null,null,null,null,null,null,null,null,null,null,null,null,null,null,null,null,null,null,null,null,null,null,null,null,null,null,null,null,null,null,null,null,null,null,null,null,null,null,null,null,null,null,null,"640 - REPUBLICA CENTROAFRICANA"]
[null,null,null,null,null,"C2822 - Fabricación de máquinas formadoras de metal y de máquinas herramienta",null,null,null,null,null,null,null,null,null,null,null,null,null,null,null,null,null,null,null,null,null,null,null,null,null,null,null,null,null,null,null,null,null,null,null,null,null,null,null,null,null,null,null,null,null,null,null,null,null,null,null,null,null,null,null,null,null,null,null,null,null,null,null,null,null,null,null,null,null,null,null,null,null,null,null,null,null,null,null,null,null,null,null,null,null,null,null,null,null,null,null,null,"644 - REPUBLICA CHECA"]
[null,null,null,null,null,"C2823 - Fabricación de maquinaria para la metalurgia",null,null,null,null,null,null,null,null,null,null,null,null,null,null,null,null,null,null,null,null,null,null,null,null,null,null,null,null,null,null,null,null,null,null,null,null,null,null,null,null,null,null,null,null,null,null,null,null,null,null,null,null,null,null,null,null,null,null,null,null,null,null,null,null,null,null,null,null,null,null,null,null,null,null,null,null,null,null,null,null,null,null,null,null,null,null,null,null,null,null,null,null,"647 - REPUBLICA DOMINICANA"]
[null,null,null,null,null,"C2824 - Fabricación de maquinaria para explotación de minas y canteras y para obras de construcción",null,null,null,null,null,null,null,null,null,null,null,null,null,null,null,null,null,null,null,null,null,null,null,null,null,null,null,null,null,null,null,null,null,null,null,null,null,null,null,null,null,null,null,null,null,null,null,null,null,null,null,null,null,null,null,null,null,null,null,null,null,null,null,null,null,null,null,null,null,null,null,null,null,null,null,null,null,null,null,null,null,null,null,null,null,null,null,null,null,null,null,null,"660 - REUNION"]
[null,null,null,null,null,"C2825 - Fabricación de maquinaria para la elaboración de alimentos, bebidas y tabaco",null,null,null,null,null,null,null,null,null,null,null,null,null,null,null,null,null,null,null,null,null,null,null,null,null,null,null,null,null,null,null,null,null,null,null,null,null,null,null,null,null,null,null,null,null,null,null,null,null,null,null,null,null,null,null,null,null,null,null,null,null,null,null,null,null,null,null,null,null,null,null,null,null,null,null,null,null,null,null,null,null,null,null,null,null,null,null,null,null,null,null,null,"665 - ZIMBABWE"]
[null,null,null,null,null,"C2826 - Fabricación de maquinaria para la elaboración de productos textiles, prendas de vestir y cueros",null,null,null,null,null,null,null,null,null,null,null,null,null,null,null,null,null,null,null,null,null,null,null,null,null,null,null,null,null,null,null,null,null,null,null,null,null,null,null,null,null,null,null,null,null,null,null,null,null,null,null,null,null,null,null,null,null,null,null,null,null,null,null,null,null,null,null,null,null,null,null,null,null,null,null,null,null,null,null,null,null,null,null,null,null,null,null,null,null,null,null,null,"670 - RUMANIA"]
[null,null,null,null,null,"C2829 - Fabricación de otros tipos de maquinaria y equipo de uso especial n.c.p.",null,null,null,null,null,null,null,null,null,null,null,null,null,null,null,null,null,null,null,null,null,null,null,null,null,null,null,null,null,null,null,null,null,null,null,null,null,null,null,null,null,null,null,null,null,null,null,null,null,null,null,null,null,null,null,null,null,null,null,null,null,null,null,null,null,null,null,null,null,null,null,null,null,null,null,null,null,null,null,null,null,null,null,null,null,null,null,null,null,null,null,null,"675 - RUANDA"]
[null,null,null,null,null,"C2910 - Fabricación de vehículos automotores y sus motores",null,null,null,null,null,null,null,null,null,null,null,null,null,null,null,null,null,null,null,null,null,null,null,null,null,null,null,null,null,null,null,null,null,null,null,null,null,null,null,null,null,null,null,null,null,null,null,null,null,null,null,null,null,null,null,null,null,null,null,null,null,null,null,null,null,null,null,null,null,null,null,null,null,null,null,null,null,null,null,null,null,null,null,null,null,null,null,null,null,null,null,null,"676 - RUSIA"]
[null,null,null,null,null,"C2920 - Fabricación de carrocerías para vehículos automotores; fabricación de remolques y semirremolques",null,null,null,null,null,null,null,null,null,null,null,null,null,null,null,null,null,null,null,null,null,null,null,null,null,null,null,null,null,null,null,null,null,null,null,null,null,null,null,null,null,null,null,null,null,null,null,null,null,null,null,null,null,null,null,null,null,null,null,null,null,null,null,null,null,null,null,null,null,null,null,null,null,null,null,null,null,null,null,null,null,null,null,null,null,null,null,null,null,null,null,null,"677 - SALOMON - ISLAS"]
[null,null,null,null,null,"C2930 - Fabricación de partes, piezas (autopartes) y accesorios (lujos) para vehículos automotores",null,null,null,null,null,null,null,null,null,null,null,null,null,null,null,null,null,null,null,null,null,null,null,null,null,null,null,null,null,null,null,null,null,null,null,null,null,null,null,null,null,null,null,null,null,null,null,null,null,null,null,null,null,null,null,null,null,null,null,null,null,null,null,null,null,null,null,null,null,null,null,null,null,null,null,null,null,null,null,null,null,null,null,null,null,null,null,null,null,null,null,null,"685 - SAHARA OCCIDENTAL"]
[null,null,null,null,null,"C3011 - Construcción de barcos y de estructuras flotantes",null,null,null,null,null,null,null,null,null,null,null,null,null,null,null,null,null,null,null,null,null,null,null,null,null,null,null,null,null,null,null,null,null,null,null,null,null,null,null,null,null,null,null,null,null,null,null,null,null,null,null,null,null,null,null,null,null,null,null,null,null,null,null,null,null,null,null,null,null,null,null,null,null,null,null,null,null,null,null,null,null,null,null,null,null,null,null,null,null,null,null,null,"687 - SAMOA"]
[null,null,null,null,null,"C3012 - Construcción de embarcaciones de recreo y deporte",null,null,null,null,null,null,null,null,null,null,null,null,null,null,null,null,null,null,null,null,null,null,null,null,null,null,null,null,null,null,null,null,null,null,null,null,null,null,null,null,null,null,null,null,null,null,null,null,null,null,null,null,null,null,null,null,null,null,null,null,null,null,null,null,null,null,null,null,null,null,null,null,null,null,null,null,null,null,null,null,null,null,null,null,null,null,null,null,null,null,null,null,"690 - SAMOA NORTEAMERICANA"]
[null,null,null,null,null,"C3020 - Fabricación de locomotoras y de material rodante para ferrocarriles",null,null,null,null,null,null,null,null,null,null,null,null,null,null,null,null,null,null,null,null,null,null,null,null,null,null,null,null,null,null,null,null,null,null,null,null,null,null,null,null,null,null,null,null,null,null,null,null,null,null,null,null,null,null,null,null,null,null,null,null,null,null,null,null,null,null,null,null,null,null,null,null,null,null,null,null,null,null,null,null,null,null,null,null,null,null,null,null,null,null,null,null,"695 - SAN CRISTOBAL Y NIEVES"]
[null,null,null,null,null,"C3030 - Fabricación de aeronaves, naves espaciales y de maquinaria conexa",null,null,null,null,null,null,null,null,null,null,null,null,null,null,null,null,null,null,null,null,null,null,null,null,null,null,null,null,null,null,null,null,null,null,null,null,null,null,null,null,null,null,null,null,null,null,null,null,null,null,null,null,null,null,null,null,null,null,null,null,null,null,null,null,null,null,null,null,null,null,null,null,null,null,null,null,null,null,null,null,null,null,null,null,null,null,null,null,null,null,null,null,"697 - SAN MARINO"]
[null,null,null,null,null,"C3040 - Fabricación de vehículos militares de combate",null,null,null,null,null,null,null,null,null,null,null,null,null,null,null,null,null,null,null,null,null,null,null,null,null,null,null,null,null,null,null,null,null,null,null,null,null,null,null,null,null,null,null,null,null,null,null,null,null,null,null,null,null,null,null,null,null,null,null,null,null,null,null,null,null,null,null,null,null,null,null,null,null,null,null,null,null,null,null,null,null,null,null,null,null,null,null,null,null,null,null,null,"700 - SAN PEDRO Y MIGUELON"]
[null,null,null,null,null,"C3091 - Fabricación de motocicletas",null,null,null,null,null,null,null,null,null,null,null,null,null,null,null,null,null,null,null,null,null,null,null,null,null,null,null,null,null,null,null,null,null,null,null,null,null,null,null,null,null,null,null,null,null,null,null,null,null,null,null,null,null,null,null,null,null,null,null,null,null,null,null,null,null,null,null,null,null,null,null,null,null,null,null,null,null,null,null,null,null,null,null,null,null,null,null,null,null,null,null,null,"705 - SAN VICENTE Y LAS GRANADINAS"]
[null,null,null,null,null,"C3092 - Fabricación de bicicletas y de sillas de ruedas para personas con discapacidad",null,null,null,null,null,null,null,null,null,null,null,null,null,null,null,null,null,null,null,null,null,null,null,null,null,null,null,null,null,null,null,null,null,null,null,null,null,null,null,null,null,null,null,null,null,null,null,null,null,null,null,null,null,null,null,null,null,null,null,null,null,null,null,null,null,null,null,null,null,null,null,null,null,null,null,null,null,null,null,null,null,null,null,null,null,null,null,null,null,null,null,null,"710 - SANTA ELENA"]
[null,null,null,null,null,"C3099 - Fabricación de otros tipos de equipo de transporte n.c.p.",null,null,null,null,null,null,null,null,null,null,null,null,null,null,null,null,null,null,null,null,null,null,null,null,null,null,null,null,null,null,null,null,null,null,null,null,null,null,null,null,null,null,null,null,null,null,null,null,null,null,null,null,null,null,null,null,null,null,null,null,null,null,null,null,null,null,null,null,null,null,null,null,null,null,null,null,null,null,null,null,null,null,null,null,null,null,null,null,null,null,null,null,"715 - SANTA LUCIA"]
[null,null,null,null,null,"C3110 - Fabricación de muebles",null,null,null,null,null,null,null,null,null,null,null,null,null,null,null,null,null,null,null,null,null,null,null,null,null,null,null,null,null,null,null,null,null,null,null,null,null,null,null,null,null,null,null,null,null,null,null,null,null,null,null,null,null,null,null,null,null,null,null,null,null,null,null,null,null,null,null,null,null,null,null,null,null,null,null,null,null,null,null,null,null,null,null,null,null,null,null,null,null,null,null,null,"720 - SANTO TOME Y PRINCIPE"]
[null,null,null,null,null,"C3120 - Fabricación de colchones y somieres",null,null,null,null,null,null,null,null,null,null,null,null,null,null,null,null,null,null,null,null,null,null,null,null,null,null,null,null,null,null,null,null,null,null,null,null,null,null,null,null,null,null,null,null,null,null,null,null,null,null,null,null,null,null,null,null,null,null,null,null,null,null,null,null,null,null,null,null,null,null,null,null,null,null,null,null,null,null,null,null,null,null,null,null,null,null,null,null,null,null,null,null,"728 - SENEGAL"]
[null,null,null,null,null,"C3210 - Fabricación de joyas, bisutería y artículos conexos",null,null,null,null,null,null,null,null,null,null,null,null,null,null,null,null,null,null,null,null,null,null,null,null,null,null,null,null,null,null,null,null,null,null,null,null,null,null,null,null,null,null,null,null,null,null,null,null,null,null,null,null,null,null,null,null,null,null,null,null,null,null,null,null,null,null,null,null,null,null,null,null,null,null,null,null,null,null,null,null,null,null,null,null,null,null,null,null,null,null,null,null,"731 - SEYCHELLES"]
[null,null,null,null,null,"C3220 - Fabricación de instrumentos musicales",null,null,null,null,null,null,null,null,null,null,null,null,null,null,null,null,null,null,null,null,null,null,null,null,null,null,null,null,null,null,null,null,null,null,null,null,null,null,null,null,null,null,null,null,null,null,null,null,null,null,null,null,null,null,null,null,null,null,null,null,null,null,null,null,null,null,null,null,null,null,null,null,null,null,null,null,null,null,null,null,null,null,null,null,null,null,null,null,null,null,null,null,"735 - SIERRA LEONA"]
[null,null,null,null,null,"C3230 - Fabricación de artículos y equipo para la práctica del deporte",null,null,null,null,null,null,null,null,null,null,null,null,null,null,null,null,null,null,null,null,null,null,null,null,null,null,null,null,null,null,null,null,null,null,null,null,null,null,null,null,null,null,null,null,null,null,null,null,null,null,null,null,null,null,null,null,null,null,null,null,null,null,null,null,null,null,null,null,null,null,null,null,null,null,null,null,null,null,null,null,null,null,null,null,null,null,null,null,null,null,null,null,"741- SINGAPUR"]
[null,null,null,null,null,"C3240 - Fabricación de juegos, juguetes y rompecabezas",null,null,null,null,null,null,null,null,null,null,null,null,null,null,null,null,null,null,null,null,null,null,null,null,null,null,null,null,null,null,null,null,null,null,null,null,null,null,null,null,null,null,null,null,null,null,null,null,null,null,null,null,null,null,null,null,null,null,null,null,null,null,null,null,null,null,null,null,null,null,null,null,null,null,null,null,null,null,null,null,null,null,null,null,null,null,null,null,null,null,null,null,"744 - SIRIA - REPUBLICA ARABE DE"]
[null,null,null,null,null,"C3250 - Fabricación de instrumentos, aparatos y materiales médicos y odontológicos (incluido mobiliario)",null,null,null,null,null,null,null,null,null,null,null,null,null,null,null,null,null,null,null,null,null,null,null,null,null,null,null,null,null,null,null,null,null,null,null,null,null,null,null,null,null,null,null,null,null,null,null,null,null,null,null,null,null,null,null,null,null,null,null,null,null,null,null,null,null,null,null,null,null,null,null,null,null,null,null,null,null,null,null,null,null,null,null,null,null,null,null,null,null,null,null,null,"748 - SOMALIA"]
[null,null,null,null,null,"C3290 - Otras industrias manufactureras n.c.p.",null,null,null,null,null,null,null,null,null,null,null,null,null,null,null,null,null,null,null,null,null,null,null,null,null,null,null,null,null,null,null,null,null,null,null,null,null,null,null,null,null,null,null,null,null,null,null,null,null,null,null,null,null,null,null,null,null,null,null,null,null,null,null,null,null,null,null,null,null,null,null,null,null,null,null,null,null,null,null,null,null,null,null,null,null,null,null,null,null,null,null,null,"750 - SRI LANKA"]
[null,null,null,null,null,"C3311 - Mantenimiento y reparación especializado de productos elaborados en metal",null,null,null,null,null,null,null,null,null,null,null,null,null,null,null,null,null,null,null,null,null,null,null,null,null,null,null,null,null,null,null,null,null,null,null,null,null,null,null,null,null,null,null,null,null,null,null,null,null,null,null,null,null,null,null,null,null,null,null,null,null,null,null,null,null,null,null,null,null,null,null,null,null,null,null,null,null,null,null,null,null,null,null,null,null,null,null,null,null,null,null,null,"756 - SUDAFRICA - REPUBLICA DE"]
[null,null,null,null,null,"C3312 - Mantenimiento y reparación especializado de maquinaria y equipo",null,null,null,null,null,null,null,null,null,null,null,null,null,null,null,null,null,null,null,null,null,null,null,null,null,null,null,null,null,null,null,null,null,null,null,null,null,null,null,null,null,null,null,null,null,null,null,null,null,null,null,null,null,null,null,null,null,null,null,null,null,null,null,null,null,null,null,null,null,null,null,null,null,null,null,null,null,null,null,null,null,null,null,null,null,null,null,null,null,null,null,null,"759 - SUDAN"]
[null,null,null,null,null,"C3313 - Mantenimiento y reparación especializado de equipo electrónico y óptico",null,null,null,null,null,null,null,null,null,null,null,null,null,null,null,null,null,null,null,null,null,null,null,null,null,null,null,null,null,null,null,null,null,null,null,null,null,null,null,null,null,null,null,null,null,null,null,null,null,null,null,null,null,null,null,null,null,null,null,null,null,null,null,null,null,null,null,null,null,null,null,null,null,null,null,null,null,null,null,null,null,null,null,null,null,null,null,null,null,null,null,null,"764 - SUECIA"]
[null,null,null,null,null,"C3314 - Mantenimiento y reparación especializado de equipo eléctrico",null,null,null,null,null,null,null,null,null,null,null,null,null,null,null,null,null,null,null,null,null,null,null,null,null,null,null,null,null,null,null,null,null,null,null,null,null,null,null,null,null,null,null,null,null,null,null,null,null,null,null,null,null,null,null,null,null,null,null,null,null,null,null,null,null,null,null,null,null,null,null,null,null,null,null,null,null,null,null,null,null,null,null,null,null,null,null,null,null,null,null,null,"767 - SUIZA"]
[null,null,null,null,null,"C3315 - Mantenimiento y reparación especializado de equipo de transporte, excepto los vehículos automotores, motocicletas y bicicletas",null,null,null,null,null,null,null,null,null,null,null,null,null,null,null,null,null,null,null,null,null,null,null,null,null,null,null,null,null,null,null,null,null,null,null,null,null,null,null,null,null,null,null,null,null,null,null,null,null,null,null,null,null,null,null,null,null,null,null,null,null,null,null,null,null,null,null,null,null,null,null,null,null,null,null,null,null,null,null,null,null,null,null,null,null,null,null,null,null,null,null,null,"770 - SURINAM"]
[null,null,null,null,null,"C3319 - Mantenimiento y reparación de otros tipos de equipos y sus componentes n.c.p.",null,null,null,null,null,null,null,null,null,null,null,null,null,null,null,null,null,null,null,null,null,null,null,null,null,null,null,null,null,null,null,null,null,null,null,null,null,null,null,null,null,null,null,null,null,null,null,null,null,null,null,null,null,null,null,null,null,null,null,null,null,null,null,null,null,null,null,null,null,null,null,null,null,null,null,null,null,null,null,null,null,null,null,null,null,null,null,null,null,null,null,null,"773 - SWAZILANDIA"]
[null,null,null,null,null,"C3320 - Instalación especializada de maquinaria y equipo industrial",null,null,null,null,null,null,null,null,null,null,null,null,null,null,null,null,null,null,null,null,null,null,null,null,null,null,null,null,null,null,null,null,null,null,null,null,null,null,null,null,null,null,null,null,null,null,null,null,null,null,null,null,null,null,null,null,null,null,null,null,null,null,null,null,null,null,null,null,null,null,null,null,null,null,null,null,null,null,null,null,null,null,null,null,null,null,null,null,null,null,null,null,"774 - TADJIKISTAN"]
[null,null,null,null,null,"D3511 - Generación de energía eléctrica",null,null,null,null,null,null,null,null,null,null,null,null,null,null,null,null,null,null,null,null,null,null,null,null,null,null,null,null,null,null,null,null,null,null,null,null,null,null,null,null,null,null,null,null,null,null,null,null,null,null,null,null,null,null,null,null,null,null,null,null,null,null,null,null,null,null,null,null,null,null,null,null,null,null,null,null,null,null,null,null,null,null,null,null,null,null,null,null,null,null,null,null,"776 - TAILANDIA"]
[null,null,null,null,null,"D3512 - Transmisión de energía eléctrica",null,null,null,null,null,null,null,null,null,null,null,null,null,null,null,null,null,null,null,null,null,null,null,null,null,null,null,null,null,null,null,null,null,null,null,null,null,null,null,null,null,null,null,null,null,null,null,null,null,null,null,null,null,null,null,null,null,null,null,null,null,null,null,null,null,null,null,null,null,null,null,null,null,null,null,null,null,null,null,null,null,null,null,null,null,null,null,null,null,null,null,null,"780 - TANZANIA - REPUBLICA UNIDA DE"]
[null,null,null,null,null,"D3513 - Distribución de energía eléctrica",null,null,null,null,null,null,null,null,null,null,null,null,null,null,null,null,null,null,null,null,null,null,null,null,null,null,null,null,null,null,null,null,null,null,null,null,null,null,null,null,null,null,null,null,null,null,null,null,null,null,null,null,null,null,null,null,null,null,null,null,null,null,null,null,null,null,null,null,null,null,null,null,null,null,null,null,null,null,null,null,null,null,null,null,null,null,null,null,null,null,null,null,"783- DJIBOUTI"]
[null,null,null,null,null,"D3514 - Comercialización de energía eléctrica",null,null,null,null,null,null,null,null,null,null,null,null,null,null,null,null,null,null,null,null,null,null,null,null,null,null,null,null,null,null,null,null,null,null,null,null,null,null,null,null,null,null,null,null,null,null,null,null,null,null,null,null,null,null,null,null,null,null,null,null,null,null,null,null,null,null,null,null,null,null,null,null,null,null,null,null,null,null,null,null,null,null,null,null,null,null,null,null,null,null,null,null,"787 - TERRITORIO BRITANICO DEL OCEANO INDICO"]
[null,null,null,null,null,"D3520 - Producción de gas; distribución de combustibles gaseosos por tuberías",null,null,null,null,null,null,null,null,null,null,null,null,null,null,null,null,null,null,null,null,null,null,null,null,null,null,null,null,null,null,null,null,null,null,null,null,null,null,null,null,null,null,null,null,null,null,null,null,null,null,null,null,null,null,null,null,null,null,null,null,null,null,null,null,null,null,null,null,null,null,null,null,null,null,null,null,null,null,null,null,null,null,null,null,null,null,null,null,null,null,null,null,"788 - TIMOR DEL ESTE"]
[null,null,null,null,null,"D3530 - Suministro de vapor y aire acondicionado",null,null,null,null,null,null,null,null,null,null,null,null,null,null,null,null,null,null,null,null,null,null,null,null,null,null,null,null,null,null,null,null,null,null,null,null,null,null,null,null,null,null,null,null,null,null,null,null,null,null,null,null,null,null,null,null,null,null,null,null,null,null,null,null,null,null,null,null,null,null,null,null,null,null,null,null,null,null,null,null,null,null,null,null,null,null,null,null,null,null,null,null,"800 - TOGO"]
[null,null,null,null,null,"E3600 - Captación, tratamiento y distribución de agua",null,null,null,null,null,null,null,null,null,null,null,null,null,null,null,null,null,null,null,null,null,null,null,null,null,null,null,null,null,null,null,null,null,null,null,null,null,null,null,null,null,null,null,null,null,null,null,null,null,null,null,null,null,null,null,null,null,null,null,null,null,null,null,null,null,null,null,null,null,null,null,null,null,null,null,null,null,null,null,null,null,null,null,null,null,null,null,null,null,null,null,null,"805 - TOKELAU"]
[null,null,null,null,null,"E3700 - Evacuación y tratamiento de aguas residuales",null,null,null,null,null,null,null,null,null,null,null,null,null,null,null,null,null,null,null,null,null,null,null,null,null,null,null,null,null,null,null,null,null,null,null,null,null,null,null,null,null,null,null,null,null,null,null,null,null,null,null,null,null,null,null,null,null,null,null,null,null,null,null,null,null,null,null,null,null,null,null,null,null,null,null,null,null,null,null,null,null,null,null,null,null,null,null,null,null,null,null,null,"810 - TONGA"]
[null,null,null,null,null,"E3811 - Recolección de desechos no peligrosos",null,null,null,null,null,null,null,null,null,null,null,null,null,null,null,null,null,null,null,null,null,null,null,null,null,null,null,null,null,null,null,null,null,null,null,null,null,null,null,null,null,null,null,null,null,null,null,null,null,null,null,null,null,null,null,null,null,null,null,null,null,null,null,null,null,null,null,null,null,null,null,null,null,null,null,null,null,null,null,null,null,null,null,null,null,null,null,null,null,null,null,null,"815 - TRINIDAD Y TOBAGO"]
[null,null,null,null,null,"E3812 - Recolección de desechos peligrosos",null,null,null,null,null,null,null,null,null,null,null,null,null,null,null,null,null,null,null,null,null,null,null,null,null,null,null,null,null,null,null,null,null,null,null,null,null,null,null,null,null,null,null,null,null,null,null,null,null,null,null,null,null,null,null,null,null,null,null,null,null,null,null,null,null,null,null,null,null,null,null,null,null,null,null,null,null,null,null,null,null,null,null,null,null,null,null,null,null,null,null,null,"820 - TUNICIA"]
[null,null,null,null,null,"E3821 - Tratamiento y disposición de desechos no peligrosos",null,null,null,null,null,null,null,null,null,null,null,null,null,null,null,null,null,null,null,null,null,null,null,null,null,null,null,null,null,null,null,null,null,null,null,null,null,null,null,null,null,null,null,null,null,null,null,null,null,null,null,null,null,null,null,null,null,null,null,null,null,null,null,null,null,null,null,null,null,null,null,null,null,null,null,null,null,null,null,null,null,null,null,null,null,null,null,null,null,null,null,null,"823 - TURCAS Y CAICOS - ISLAS"]
[null,null,null,null,null,"E3822 - Tratamiento y disposición de desechos peligrosos",null,null,null,null,null,null,null,null,null,null,null,null,null,null,null,null,null,null,null,null,null,null,null,null,null,null,null,null,null,null,null,null,null,null,null,null,null,null,null,null,null,null,null,null,null,null,null,null,null,null,null,null,null,null,null,null,null,null,null,null,null,null,null,null,null,null,null,null,null,null,null,null,null,null,null,null,null,null,null,null,null,null,null,null,null,null,null,null,null,null,null,null,"825 - TURKMENISTAN"]
[null,null,null,null,null,"E3830 - Recuperación de materiales",null,null,null,null,null,null,null,null,null,null,null,null,null,null,null,null,null,null,null,null,null,null,null,null,null,null,null,null,null,null,null,null,null,null,null,null,null,null,null,null,null,null,null,null,null,null,null,null,null,null,null,null,null,null,null,null,null,null,null,null,null,null,null,null,null,null,null,null,null,null,null,null,null,null,null,null,null,null,null,null,null,null,null,null,null,null,null,null,null,null,null,null,"827 - TURQUIA"]
[null,null,null,null,null,"E3900 - Actividades de saneamiento ambiental y otros servicios de gestión de desechos",null,null,null,null,null,null,null,null,null,null,null,null,null,null,null,null,null,null,null,null,null,null,null,null,null,null,null,null,null,null,null,null,null,null,null,null,null,null,null,null,null,null,null,null,null,null,null,null,null,null,null,null,null,null,null,null,null,null,null,null,null,null,null,null,null,null,null,null,null,null,null,null,null,null,null,null,null,null,null,null,null,null,null,null,null,null,null,null,null,null,null,null,"828 - TUVALU"]
[null,null,null,null,null,"F4111 - Construcción de edificios residenciales",null,null,null,null,null,null,null,null,null,null,null,null,null,null,null,null,null,null,null,null,null,null,null,null,null,null,null,null,null,null,null,null,null,null,null,null,null,null,null,null,null,null,null,null,null,null,null,null,null,null,null,null,null,null,null,null,null,null,null,null,null,null,null,null,null,null,null,null,null,null,null,null,null,null,null,null,null,null,null,null,null,null,null,null,null,null,null,null,null,null,null,null,"830 - UCRANIA"]
[null,null,null,null,null,"F4112 - Construcción de edificios no residenciales",null,null,null,null,null,null,null,null,null,null,null,null,null,null,null,null,null,null,null,null,null,null,null,null,null,null,null,null,null,null,null,null,null,null,null,null,null,null,null,null,null,null,null,null,null,null,null,null,null,null,null,null,null,null,null,null,null,null,null,null,null,null,null,null,null,null,null,null,null,null,null,null,null,null,null,null,null,null,null,null,null,null,null,null,null,null,null,null,null,null,null,null,"833 - UGANDA"]
[null,null,null,null,null,"F4210 - Construcción de carreteras y vías de ferrocarril",null,null,null,null,null,null,null,null,null,null,null,null,null,null,null,null,null,null,null,null,null,null,null,null,null,null,null,null,null,null,null,null,null,null,null,null,null,null,null,null,null,null,null,null,null,null,null,null,null,null,null,null,null,null,null,null,null,null,null,null,null,null,null,null,null,null,null,null,null,null,null,null,null,null,null,null,null,null,null,null,null,null,null,null,null,null,null,null,null,null,null,null,"845 - URUGUAY"]
[null,null,null,null,null,"F4220 - Construcción de proyectos de servicio público",null,null,null,null,null,null,null,null,null,null,null,null,null,null,null,null,null,null,null,null,null,null,null,null,null,null,null,null,null,null,null,null,null,null,null,null,null,null,null,null,null,null,null,null,null,null,null,null,null,null,null,null,null,null,null,null,null,null,null,null,null,null,null,null,null,null,null,null,null,null,null,null,null,null,null,null,null,null,null,null,null,null,null,null,null,null,null,null,null,null,null,null,"847 - UZBEKISTAN"]
[null,null,null,null,null,"F4290 - Construcción de otras obras de ingeniería civil",null,null,null,null,null,null,null,null,null,null,null,null,null,null,null,null,null,null,null,null,null,null,null,null,null,null,null,null,null,null,null,null,null,null,null,null,null,null,null,null,null,null,null,null,null,null,null,null,null,null,null,null,null,null,null,null,null,null,null,null,null,null,null,null,null,null,null,null,null,null,null,null,null,null,null,null,null,null,null,null,null,null,null,null,null,null,null,null,null,null,null,null,"850 - VENEZUELA"]
[null,null,null,null,null,"F4311 - Demolición",null,null,null,null,null,null,null,null,null,null,null,null,null,null,null,null,null,null,null,null,null,null,null,null,null,null,null,null,null,null,null,null,null,null,null,null,null,null,null,null,null,null,null,null,null,null,null,null,null,null,null,null,null,null,null,null,null,null,null,null,null,null,null,null,null,null,null,null,null,null,null,null,null,null,null,null,null,null,null,null,null,null,null,null,null,null,null,null,null,null,null,null,"855 - VIET NAM"]
[null,null,null,null,null,"F4312 - Preparación del terreno",null,null,null,null,null,null,null,null,null,null,null,null,null,null,null,null,null,null,null,null,null,null,null,null,null,null,null,null,null,null,null,null,null,null,null,null,null,null,null,null,null,null,null,null,null,null,null,null,null,null,null,null,null,null,null,null,null,null,null,null,null,null,null,null,null,null,null,null,null,null,null,null,null,null,null,null,null,null,null,null,null,null,null,null,null,null,null,null,null,null,null,null,"863 - VIRGENES - ISLAS (BRITANICAS)"]
[null,null,null,null,null,"F4321 - Instalaciones eléctricas",null,null,null,null,null,null,null,null,null,null,null,null,null,null,null,null,null,null,null,null,null,null,null,null,null,null,null,null,null,null,null,null,null,null,null,null,null,null,null,null,null,null,null,null,null,null,null,null,null,null,null,null,null,null,null,null,null,null,null,null,null,null,null,null,null,null,null,null,null,null,null,null,null,null,null,null,null,null,null,null,null,null,null,null,null,null,null,null,null,null,null,null,"866 - VIRGENES - ISLAS (NORTEAMERICANAS)"]
[null,null,null,null,null,"F4322 - Instalaciones de fontanería, calefacción y aire acondicionado",null,null,null,null,null,null,null,null,null,null,null,null,null,null,null,null,null,null,null,null,null,null,null,null,null,null,null,null,null,null,null,null,null,null,null,null,null,null,null,null,null,null,null,null,null,null,null,null,null,null,null,null,null,null,null,null,null,null,null,null,null,null,null,null,null,null,null,null,null,null,null,null,null,null,null,null,null,null,null,null,null,null,null,null,null,null,null,null,null,null,null,null,"870 - FIJI"]
[null,null,null,null,null,"F4329 - Otras instalaciones especializadas",null,null,null,null,null,null,null,null,null,null,null,null,null,null,null,null,null,null,null,null,null,null,null,null,null,null,null,null,null,null,null,null,null,null,null,null,null,null,null,null,null,null,null,null,null,null,null,null,null,null,null,null,null,null,null,null,null,null,null,null,null,null,null,null,null,null,null,null,null,null,null,null,null,null,null,null,null,null,null,null,null,null,null,null,null,null,null,null,null,null,null,null,"875 - WALLIS Y FORTUNA - ISLAS"]
[null,null,null,null,null,"F4330 - Terminación y acabado de edificios y obras de ingeniería civil",null,null,null,null,null,null,null,null,null,null,null,null,null,null,null,null,null,null,null,null,null,null,null,null,null,null,null,null,null,null,null,null,null,null,null,null,null,null,null,null,null,null,null,null,null,null,null,null,null,null,null,null,null,null,null,null,null,null,null,null,null,null,null,null,null,null,null,null,null,null,null,null,null,null,null,null,null,null,null,null,null,null,null,null,null,null,null,null,null,null,null,null,"880 - YEMEN"]
[null,null,null,null,null,"F4390 - Otras actividades especializadas para la construcción de edificios y obras de ingeniería civil",null,null,null,null,null,null,null,null,null,null,null,null,null,null,null,null,null,null,null,null,null,null,null,null,null,null,null,null,null,null,null,null,null,null,null,null,null,null,null,null,null,null,null,null,null,null,null,null,null,null,null,null,null,null,null,null,null,null,null,null,null,null,null,null,null,null,null,null,null,null,null,null,null,null,null,null,null,null,null,null,null,null,null,null,null,null,null,null,null,null,null,null,"885 - YUGOSLAVIA"]
[null,null,null,null,null,"G4511 - Comercio de vehículos automotores nuevos",null,null,null,null,null,null,null,null,null,null,null,null,null,null,null,null,null,null,null,null,null,null,null,null,null,null,null,null,null,null,null,null,null,null,null,null,null,null,null,null,null,null,null,null,null,null,null,null,null,null,null,null,null,null,null,null,null,null,null,null,null,null,null,null,null,null,null,null,null,null,null,null,null,null,null,null,null,null,null,null,null,null,null,null,null,null,null,null,null,null,null,null,"888 - ZAIRE"]
[null,null,null,null,null,"G4512 - Comercio de vehículos automotores usados",null,null,null,null,null,null,null,null,null,null,null,null,null,null,null,null,null,null,null,null,null,null,null,null,null,null,null,null,null,null,null,null,null,null,null,null,null,null,null,null,null,null,null,null,null,null,null,null,null,null,null,null,null,null,null,null,null,null,null,null,null,null,null,null,null,null,null,null,null,null,null,null,null,null,null,null,null,null,null,null,null,null,null,null,null,null,null,null,null,null,null,null,"890 - ZAMBIA"]
[null,null,null,null,null,"G4520 - Mantenimiento y reparación de vehículos automotores",null,null,null,null,null,null,null,null,null,null,null,null,null,null,null,null,null,null,null,null,null,null,null,null,null,null,null,null,null,null,null,null,null,null,null,null,null,null,null,null,null,null,null,null,null,null,null,null,null,null,null,null,null,null,null,null,null,null,null,null,null,null,null,null,null,null,null,null,null,null,null,null,null,null,null,null,null,null,null,null,null,null,null,null,null,null,null,null,null,null,null,null,"897 - ZONA NEUTRAL PALESTINA"]
[null,null,null,null,null,"G4530 - Comercio de partes, piezas (autopartes) y accesorios (lujos) para vehículos automotores"]
[null,null,null,null,null,"G4541 - Comercio de motocicletas y de sus partes, piezas y accesorios"]
[null,null,null,null,null,"G4542 - Mantenimiento y reparación de motocicletas y de sus partes y piezas"]
[null,null,null,null,null,"G4610 - Comercio al por mayor a cambio de una retribución o por contrata"]
[null,null,null,null,null,"G4620 - Comercio al por mayor de materias primas agropecuarias; animales vivos"]
[null,null,null,null,null,"G4631 - Comercio al por mayor de productos alimenticios"]
[null,null,null,null,null,"G4632 - Comercio al por mayor de bebidas y tabaco"]
[null,null,null,null,null,"G4641 - Comercio al por mayor de productos textiles, productos confeccionados para uso doméstico"]
[null,null,null,null,null,"G4642 - Comercio al por mayor de prendas de vestir"]
[null,null,null,null,null,"G4643 - Comercio al por mayor de calzado"]
[null,null,null,null,null,"G4644 - Comercio al por mayor de aparatos y equipo de uso doméstico"]
[null,null,null,null,null,"G4645 - Comercio al por mayor de productos farmacéuticos, medicinales, cosméticos y de tocador"]
[null,null,null,null,null,"G4649 - Comercio al por mayor de otros utensilios domésticos n.c.p."]
[null,null,null,null,null,"G4651 - Comercio al por mayor de computadores, equipo periférico y programas de informática"]
[null,null,null,null,null,"G4652 - Comercio al por mayor de equipo, partes y piezas electrónicos y de telecomunicaciones"]
[null,null,null,null,null,"G4653 - Comercio al por mayor de maquinaria y equipo agropecuarios"]
[null,null,null,null,null,"G4659 - Comercio al por mayor de otros tipos de maquinaria y equipo n.c.p."]
[null,null,null,null,null,"G4661 - Comercio al por mayor de combustibles sólidos, líquidos, gaseosos y productos conexos"]
[null,null,null,null,null,"G4662 - Comercio al por mayor de metales y productos metalíferos"]
[null,null,null,null,null,"G4663 - Comercio al por mayor de materiales de construcción, artículos de ferretería, pinturas, productos de vidrio, equipo y materiales de fontanería y calefacción"]
[null,null,null,null,null,"G4664 - Comercio al por mayor de productos químicos básicos, cauchos y plásticos en formas primarias y productos químicos de uso agropecuario"]
[null,null,null,null,null,"G4665 - Comercio al por mayor de desperdicios, desechos y chatarra"]
[null,null,null,null,null,"G4669 - Comercio al por mayor de otros productos n.c.p."]
[null,null,null,null,null,"G4690 - Comercio al por mayor no especializado"]
[null,null,null,null,null,"G4711 - Comercio al por menor en establecimientos no especializados con surtido compuesto principalmente por alimentos, bebidas o tabaco"]
[null,null,null,null,null,"G4719 - Comercio al por menor en establecimientos no especializados, con surtido compuesto principalmente por productos diferentes de alimentos (víveres en general), bebidas y tabaco"]
[null,null,null,null,null,"G4721 - Comercio al por menor de productos agrícolas para el consumo en establecimientos especializados"]
[null,null,null,null,null,"G4722 - Comercio al por menor de leche, productos lácteos y huevos, en establecimientos especializados"]
[null,null,null,null,null,"G4723 - Comercio al por menor de carnes (incluye aves de corral), productos cárnicos, pescados y productos de mar, en establecimientos especializados"]
[null,null,null,null,null,"G4724 - Comercio al por menor de bebidas y productos del tabaco, en establecimientos especializados"]
[null,null,null,null,null,"G4729 - Comercio al por menor de otros productos alimenticios n.c.p., en establecimientos especializados"]
[null,null,null,null,null,"G4731 - Comercio al por menor de combustible para automotores"]
[null,null,null,null,null,"G4732 - Comercio al por menor de lubricantes (aceites, grasas), aditivos y productos de limpieza para vehículos automotores"]
[null,null,null,null,null,"G4741 - Comercio al por menor de computadores, equipos periféricos, programas de informática y equipos de telecomunicaciones en establecimientos especializados"]
[null,null,null,null,null,"G4742 - Comercio al por menor de equipos y aparatos de sonido y de video, en establecimientos especializados"]
[null,null,null,null,null,"G4751 - Comercio al por menor de productos textiles en establecimientos especializados"]
[null,null,null,null,null,"G4752 - Comercio al por menor de artículos de ferretería, pinturas y productos de vidrio en establecimientos especializados"]
[null,null,null,null,null,"G4753 - Comercio al por menor de tapices, alfombras y cubrimientos para paredes y pisos en establecimientos especializados"]
[null,null,null,null,null,"G4754 - Comercio al por menor de electrodomésticos y gasodomésticos de uso doméstico, muebles y equipos de iluminación"]
[null,null,null,null,null,"G4755 - Comercio al por menor de artículos y utensilios de uso doméstico"]
[null,null,null,null,null,"G4759 - Comercio al por menor de otros artículos domésticos en establecimientos especializados"]
[null,null,null,null,null,"G4761 - Comercio al por menor de libros, periódicos, materiales y artículos de papelería y escritorio, en establecimientos especializados"]
[null,null,null,null,null,"G4762 - Comercio al por menor de artículos deportivos, en establecimientos especializados"]
[null,null,null,null,null,"G4769 - Comercio al por menor de otros artículos culturales y de entretenimiento n.c.p. en establecimientos especializados"]
[null,null,null,null,null,"G4771 - Comercio al por menor de prendas de vestir y sus accesorios (incluye artículos de piel) en establecimientos especializados"]
[null,null,null,null,null,"G4772 - Comercio al por menor de todo tipo de calzado y artículos de cuero y sucedáneos del cuero en establecimientos especializados"]
[null,null,null,null,null,"G4773 - Comercio al por menor de productos farmacéuticos y medicinales, cosméticos y artículos de tocador en establecimientos especializados"]
[null,null,null,null,null,"G4774 - Comercio al por menor de otros productos nuevos en establecimientos especializados"]
[null,null,null,null,null,"G4775 - Comercio al por menor de artículos de segunda mano"]
[null,null,null,null,null,"G4781 - Comercio al por menor de alimentos, bebidas y tabaco, en puestos de venta móviles"]
[null,null,null,null,null,"G4782 - Comercio al por menor de productos textiles, prendas de vestir y calzado, en puestos de venta móviles"]
[null,null,null,null,null,"G4789 - Comercio al por menor de otros productos en puestos de venta móviles"]
[null,null,null,null,null,"G4791 - Comercio al por menor realizado a través de internet"]
[null,null,null,null,null,"G4792 - Comercio al por menor realizado a través de casas de venta o por correo"]
[null,null,null,null,null,"G4799 - Otros tipos de comercio al por menor no realizado en establecimientos, puestos de venta o mercados"]
[null,null,null,null,null,"H4911 - Transporte férreo de pasajeros"]
[null,null,null,null,null,"H4912 - Transporte férreo de carga"]
[null,null,null,null,null,"H4921 - Transporte de pasajeros"]
[null,null,null,null,null,"H4922 - Transporte mixto"]
[null,null,null,null,null,"H4923 - Transporte de carga por carretera"]
[null,null,null,null,null,"H4930 - Transporte por tuberías"]
[null,null,null,null,null,"H5011 - Transporte de pasajeros marítimo y de cabotaje"]
[null,null,null,null,null,"H5012 - Transporte de carga marítimo y de cabotaje"]
[null,null,null,null,null,"H5021 - Transporte fluvial de pasajeros"]
[null,null,null,null,null,"H5022 - Transporte fluvial de carga"]
[null,null,null,null,null,"H5111 - Transporte aéreo nacional de pasajeros"]
[null,null,null,null,null,"H5112 - Transporte aéreo internacional de pasajeros"]
[null,null,null,null,null,"H5121 - Transporte aéreo nacional de carga"]
[null,null,null,null,null,"H5122 - Transporte aéreo internacional de carga"]
[null,null,null,null,null,"H5210 - Almacenamiento y depósito"]
[null,null,null,null,null,"H5221 - Actividades de estaciones, vías y servicios complementarios para el transporte terrestre"]
[null,null,null,null,null,"H5222 - Actividades de puertos y servicios complementarios para el transporte acuático"]
[null,null,null,null,null,"H5223 - Actividades de aeropuertos, servicios de navegación aérea y demás actividades conexas al transporte aéreo"]
[null,null,null,null,null,"H5224 - Manipulación de carga"]
[null,null,null,null,null,"H5229 - Otras actividades complementarias al transporte"]
[null,null,null,null,null,"H5310 - Actividades postales nacionales"]
[null,null,null,null,null,"H5320 - Actividades de mensajería"]
[null,null,null,null,null,"I5511 - Alojamiento en hoteles"]
[null,null,null,null,null,"I5512 - Alojamiento en apartahoteles"]
[null,null,null,null,null,"I5513 - Alojamiento en centros vacacionales"]
[null,null,null,null,null,"I5514 - Alojamiento rural"]
[null,null,null,null,null,"I5519 - Otros tipos de alojamientos para visitantes"]
[null,null,null,null,null,"I5520 - Actividades de zonas de camping y parques para vehículos recreacionales"]
[null,null,null,null,null,"I5530 - Servicio por horas"]
[null,null,null,null,null,"I5590 - Otros tipos de alojamiento n.c.p."]
[null,null,null,null,null,"I5611 - Expendio a la mesa de comidas preparadas"]
[null,null,null,null,null,"I5612 - Expendio por autoservicio de comidas preparadas"]
[null,null,null,null,null,"I5613 - Expendio de comidas preparadas en cafeterías"]
[null,null,null,null,null,"I5619 - Otros tipos de expendio de comidas preparadas n.c.p."]
[null,null,null,null,null,"I5621 - Catering para eventos"]
[null,null,null,null,null,"I5629 - Actividades de otros servicios de comidas"]
[null,null,null,null,null,"I5630 - Expendio de bebidas alcohólicas para el consumo dentro del establecimiento"]
[null,null,null,null,null,"J5811 - Edición de libros"]
[null,null,null,null,null,"J5812 - Edición de directorios y listas de correo"]
[null,null,null,null,null,"J5813 - Edición de periódicos, revistas y otras publicaciones periódicas"]
[null,null,null,null,null,"J5819 - Otros trabajos de edición"]
[null,null,null,null,null,"J5820 - Edición de programas de informática (software)"]
[null,null,null,null,null,"J5911 - Actividades de producción de películas cinematográficas, videos, programas, anuncios y comerciales de televisión"]
[null,null,null,null,null,"J5912 - Actividades de posproducción de películas cinematográficas, videos, programas, anuncios y comerciales de televisión"]
[null,null,null,null,null,"J5913 - Actividades de distribución de películas cinematográficas, videos, programas, anuncios y comerciales de televisión"]
[null,null,null,null,null,"J5914 - Actividades de exhibición de películas cinematográficas y videos"]
[null,null,null,null,null,"J5920 - Actividades de grabación de sonido y edición de música"]
[null,null,null,null,null,"J6010 - Actividades de programación y transmisión en el servicio de radiodifusión sonora"]
[null,null,null,null,null,"J6020 - Actividades de programación y transmisión de televisión"]
[null,null,null,null,null,"J6110 - Actividades de telecomunicaciones alámbricas"]
[null,null,null,null,null,"J6120 - Actividades de telecomunicaciones inalámbricas"]
[null,null,null,null,null,"J6130 - Actividades de telecomunicación satelital"]
[null,null,null,null,null,"J6190 - Otras actividades de telecomunicaciones"]
[null,null,null,null,null,"J6201 - Actividades de desarrollo de sistemas informáticos (planificación, análisis, diseño, programación, pruebas)"]
[null,null,null,null,null,"J6202 - Actividades de consultoría informática y actividades de administración de instalaciones informáticas"]
[null,null,null,null,null,"J6209 - Otras actividades de tecnologías de información y actividades de servicios informáticos"]
[null,null,null,null,null,"J6311 - Procesamiento de datos, alojamiento (hosting) y actividades relacionadas"]
[null,null,null,null,null,"J6312 - Portales web"]
[null,null,null,null,null,"J6391 - Actividades de agencias de noticias"]
[null,null,null,null,null,"J6399 - Otras actividades de servicio de información n.c.p."]
[null,null,null,null,null,"K6411 - Banco Central"]
[null,null,null,null,null,"K6412 - Bancos comerciales"]
[null,null,null,null,null,"K6421 - Actividades de las corporaciones financieras"]
[null,null,null,null,null,"K6422 - Actividades de las compañías de financiamiento"]
[null,null,null,null,null,"K6423 - Banca de segundo piso"]
[null,null,null,null,null,"K6424 - Actividades de las cooperativas financieras"]
[null,null,null,null,null,"K6431 - Fideicomisos, fondos y entidades financieras similares"]
[null,null,null,null,null,"K6432 - Fondos de cesantías"]
[null,null,null,null,null,"K6491 - Leasing financiero (arrendamiento financiero)"]
[null,null,null,null,null,"K6492 - Actividades financieras de fondos de empleados y otras formas asociativas del sector solidario"]
[null,null,null,null,null,"K6493 - Actividades de compra de cartera o factoring"]
[null,null,null,null,null,"K6494 - Otras actividades de distribución de fondos"]
[null,null,null,null,null,"K6495 - Instituciones especiales oficiales"]
[null,null,null,null,null,"K6499 - Otras actividades de servicio financiero, excepto las de seguros y pensiones n.c.p."]
[null,null,null,null,null,"K6511 - Seguros generales"]
[null,null,null,null,null,"K6512 - Seguros de vida"]
[null,null,null,null,null,"K6513 - Reaseguros"]
[null,null,null,null,null,"K6514 - Capitalización"]
[null,null,null,null,null,"K6521 - Servicios de seguros sociales de salud"]
[null,null,null,null,null,"K6522 - Servicios de seguros sociales de riesgos profesionales"]
[null,null,null,null,null,"K6531 - Régimen de prima media con prestación definida (RPM)"]
[null,null,null,null,null,"K6532 - Régimen de ahorro individual (RAI)"]
[null,null,null,null,null,"K6611 - Administración de mercados financieros"]
[null,null,null,null,null,"K6612 - Corretaje de valores y de contratos de productos básicos"]
[null,null,null,null,null,"K6613 - Otras actividades relacionadas con el mercado de valores"]
[null,null,null,null,null,"K6614 - Actividades de las casas de cambio"]
[null,null,null,null,null,"K6615 - Actividades de los profesionales de compra y venta de divisas"]
[null,null,null,null,null,"K6619 - Otras actividades auxiliares de las actividades de servicios financieros n.c.p."]
[null,null,null,null,null,"K6621 - Actividades de agentes y corredores de seguros"]
[null,null,null,null,null,"K6629 - Evaluación de riesgos y daños, y otras actividades de servicios auxiliares"]
[null,null,null,null,null,"K6630 - Actividades de administración de fondos"]
[null,null,null,null,null,"L6810 - Actividades inmobiliarias realizadas con bienes propios o arrendados"]
[null,null,null,null,null,"L6820 - Actividades inmobiliarias realizadas a cambio de una retribución o por contrata"]
[null,null,null,null,null,"M6910 - Actividades jurídicas"]
[null,null,null,null,null,"M6920 - Actividades de contabilidad, teneduría de libros, auditoría financiera y asesoría tributaria"]
[null,null,null,null,null,"M7010 - Actividades de administración empresarial"]
[null,null,null,null,null,"M7020 - Actividades de consultaría de gestión"]
[null,null,null,null,null,"M7110 - Actividades de arquitectura e ingeniería y otras actividades conexas de consultoría técnica"]
[null,null,null,null,null,"M7120 - Ensayos y análisis técnicos"]
[null,null,null,null,null,"M7210 - Investigaciones y desarrollo experimental en el campo de las ciencias naturales y la ingeniería"]
[null,null,null,null,null,"M7220 - Investigaciones y desarrollo experimental en el campo de las ciencias sociales y las humanidades"]
[null,null,null,null,null,"M7310 - Publicidad"]
[null,null,null,null,null,"M7320 - Estudios de mercado y realización de encuestas de opinión pública"]
[null,null,null,null,null,"M7410 - Actividades especializadas de diseño"]
[null,null,null,null,null,"M7420 - Actividades de fotografía"]
[null,null,null,null,null,"M7490 - Otras actividades profesionales, científicas y técnicas n.c.p."]
[null,null,null,null,null,"M7500 - Actividades veterinarias"]
[null,null,null,null,null,"N7710 - Alquiler y arrendamiento de vehículos automotores"]
[null,null,null,null,null,"N7721 - Alquiler y arrendamiento de equipo recreativo y deportivo"]
[null,null,null,null,null,"N7722 - Alquiler de videos y discos"]
[null,null,null,null,null,"N7729 - Alquiler y arrendamiento de otros efectos personales y enseres domésticos n.c.p."]
[null,null,null,null,null,"N7730 - Alquiler y arrendamiento de otros tipos de maquinaria, equipo y bienes tangibles n.c.p."]
[null,null,null,null,null,"N7740 - Arrendamiento de propiedad intelectual y productos similares, excepto obras protegidas por derechos de autor"]
[null,null,null,null,null,"N7810 - Actividades de agencias de empleo"]
[null,null,null,null,null,"N7820 - Actividades de agencias de empleo temporal"]
[null,null,null,null,null,"N7830 - Otras actividades de suministro de recurso humano"]
[null,null,null,null,null,"N7911 - Actividades de las agencias de viaje"]
[null,null,null,null,null,"N7912 - Actividades de operadores turísticos"]
[null,null,null,null,null,"N7990 - Otros servicios de reserva y actividades relacionadas"]
[null,null,null,null,null,"N8010 - Actividades de seguridad privada"]
[null,null,null,null,null,"N8020 - Actividades de servicios de sistemas de seguridad"]
[null,null,null,null,null,"N8030 - Actividades de detectives e investigadores privados"]
[null,null,null,null,null,"N8110 - Actividades combinadas de apoyo a instalaciones"]
[null,null,null,null,null,"N8121 - Limpieza general interior de edificios"]
[null,null,null,null,null,"N8129 - Otras actividades de limpieza de edificios e instalaciones industriales"]
[null,null,null,null,null,"N8130 - Actividades de paisajismo y servicios de mantenimiento conexos"]
[null,null,null,null,null,"N8211 - Actividades combinadas de servicios administrativos de oficina"]
[null,null,null,null,null,"N8219 - Fotocopiado, preparación de documentos y otras actividades especializadas de apoyo a oficina"]
[null,null,null,null,null,"N8220 - Actividades de centros de llamadas (Call center)"]
[null,null,null,null,null,"N8230 - Organización de convenciones y eventos comerciales"]
[null,null,null,null,null,"N8291 - Actividades de agencias de cobranza y oficinas de calificación crediticia"]
[null,null,null,null,null,"N8292 - Actividades de envase y empaque"]
[null,null,null,null,null,"N8299 - Otras actividades de servicio de apoyo a las empresas n.c.p."]
[null,null,null,null,null,"O8411 - Actividades legislativas de la administración pública"]
[null,null,null,null,null,"O8412 - Actividades ejecutivas de la administración pública"]
[null,null,null,null,null,"O8413 - Regulación de las actividades de organismos que prestan servicios de salud, educativos, culturales y otros servicios sociales, excepto servicios de seguridad social"]
[null,null,null,null,null,"O8414 - Actividades reguladoras y facilitadoras de la actividad económica"]
[null,null,null,null,null,"O8415 - Actividades de los otros órganos de control"]
[null,null,null,null,null,"O8421 - Relaciones exteriores"]
[null,null,null,null,null,"O8422 - Actividades de defensa"]
[null,null,null,null,null,"O8423 - Orden público y actividades de seguridad"]
[null,null,null,null,null,"O8424 - Administración de justicia"]
[null,null,null,null,null,"O8430 - Actividades de planes de seguridad social de afiliación obligatoria"]
[null,null,null,null,null,"P8511 - Educación de la primera infancia"]
[null,null,null,null,null,"P8512 - Educación preescolar"]
[null,null,null,null,null,"P8513 - Educación básica primaria"]
[null,null,null,null,null,"P8521 - Educación básica secundaria"]
[null,null,null,null,null,"P8522 - Educación media académica"]
[null,null,null,null,null,"P8523 - Educación media técnica y de formación laboral"]
[null,null,null,null,null,"P8530 - Establecimientos que combinan diferentes niveles de educación"]
[null,null,null,null,null,"P8541 - Educación técnica profesional"]
[null,null,null,null,null,"P8542 - Educación tecnológica"]
[null,null,null,null,null,"P8543 - Educación de instituciones universitarias o de escuelas tecnológicas"]
[null,null,null,null,null,"P8544 - Educación de universidades"]
[null,null,null,null,null,"P8551 - Formación académica no formal"]
[null,null,null,null,null,"P8552 - Enseñanza deportiva y recreativa"]
[null,null,null,null,null,"P8553 - Enseñanza cultural"]
[null,null,null,null,null,"P8559 - Otros tipos de educación n.c.p."]
[null,null,null,null,null,"P8560 - Actividades de apoyo a la educación"]
[null,null,null,null,null,"Q8610 - Actividades de hospitales y clínicas, con internación"]
[null,null,null,null,null,"Q8621 - Actividades de la práctica médica, sin internación"]
[null,null,null,null,null,"Q8622 - Actividades de la práctica odontológica"]
[null,null,null,null,null,"Q8691 - Actividades de apoyo diagnóstico"]
[null,null,null,null,null,"Q8692 - Actividades de apoyo terapéutico"]
[null,null,null,null,null,"Q8699 - Otras actividades de atención de la salud humana"]
[null,null,null,null,null,"Q8710 - Actividades de atención residencial medicalizada de tipo general"]
[null,null,null,null,null,"Q8720 - Actividades de atención residencial, para el cuidado de pacientes con retardo mental, enfermedad mental y consumo de sustancias psicoactivas"]
[null,null,null,null,null,"Q8730 - Actividades de atención en instituciones para el cuidado de personas mayores y/o discapacitadas"]
[null,null,null,null,null,"Q8790 - Otras actividades de atención en instituciones con alojamiento"]
[null,null,null,null,null,"Q8810 - Actividades de asistencia social sin alojamiento para personas mayores y discapacitadas"]
[null,null,null,null,null,"Q8890 - Otras actividades de asistencia social sin alojamiento"]
[null,null,null,null,null,"R9001 - Creación literaria"]
[null,null,null,null,null,"R9002 - Creación musical"]
[null,null,null,null,null,"R9003 - Creación teatral"]
[null,null,null,null,null,"R9004 - Creación audiovisual"]
[null,null,null,null,null,"R9005 - Artes plásticas y visuales"]
[null,null,null,null,null,"R9006 - Actividades teatrales"]
[null,null,null,null,null,"R9007 - Actividades de espectáculos musicales en vivo"]
[null,null,null,null,null,"R9008 - Otras actividades de espectáculos en vivo"]
[null,null,null,null,null,"R9101 - Actividades de bibliotecas y archivos"]
[null,null,null,null,null,"R9102 - Actividades y funcionamiento de museos, conservación de edificios y sitios históricos"]
[null,null,null,null,null,"R9103 - Actividades de jardines botánicos, zoológicos y reservas naturales"]
[null,null,null,null,null,"R9200 - Actividades de juegos de azar y apuestas"]
[null,null,null,null,null,"R9311 - Gestión de instalaciones deportivas"]
[null,null,null,null,null,"R9312 - Actividades de clubes deportivos"]
[null,null,null,null,null,"R9319 - Otras actividades deportivas"]
[null,null,null,null,null,"R9321 - Actividades de parques de atracciones y parques temáticos"]
[null,null,null,null,null,"R9329 - Otras actividades recreativas y de esparcimiento n.c.p."]
[null,null,null,null,null,"S9411 - Actividades de asociaciones empresariales y de empleadores"]
[null,null,null,null,null,"S9412 - Actividades de asociaciones profesionales"]
[null,null,null,null,null,"S9420 - Actividades de sindicatos de empleados"]
[null,null,null,null,null,"S9491 - Actividades de asociaciones religiosas"]
[null,null,null,null,null,"S9492 - Actividades de asociaciones políticas"]
[null,null,null,null,null,"S9499 - Actividades de otras asociaciones n.c.p."]
[null,null,null,null,null,"S9511 - Mantenimiento y reparación de computadores y de equipo periférico"]
[null,null,null,null,null,"S9512 - Mantenimiento y reparación de equipos de comunicación"]
[null,null,null,null,null,"S9521 - Mantenimiento y reparación de aparatos electrónicos de consumo"]
[null,null,null,null,null,"S9522 - Mantenimiento y reparación de aparatos y equipos domésticos y de jardinería"]
[null,null,null,null,null,"S9523 - Reparación de calzado y artículos de cuero"]
[null,null,null,null,null,"S9524 - Reparación de muebles y accesorios para el hogar"]
[null,null,null,null,null,"S9529 - Mantenimiento y reparación de otros efectos personales y enseres domésticos"]
[null,null,null,null,null,"S9601 - Lavado y limpieza, incluso la limpieza en seco, de productos textiles y de piel"]
[null,null,null,null,null,"S9602 - Peluquería y otros tratamientos de belleza"]
[null,null,null,null,null,"S9603 - Pompas fúnebres y actividades relacionadas"]
[null,null,null,null,null,"S9609 - Otras actividades de servicios personales n.c.p."]
[null,null,null,null,null,"T9700 - Actividades de los hogares individuales como empleadores de personal doméstico"]
[null,null,null,null,null,"T9810 - Actividades no diferenciadas de los hogares individuales como productores de bienes para uso propio"]
[null,null,null,null,null,"T9820 - Actividades no diferenciadas de los hogares individuales como productores de servicios para uso propio"]
[null,null,null,null,null,"U9900 - Actividades de organizaciones y entidades extraterritoriales"]

{"sheet":"822100 - Nota. Prop, plan y eq.","index":16,"n_rows":71,"n_cols":26,"rows_kept":71,"cut":false,"hidden":false,"merged":[[10,5,10,23],[11,5,11,23],[43,5,43,23],[44,5,44,23],[6,5,8,13],[6,14,8,23]]}
[]
[]
[]
[]
[]
[]
[null,null,null,null,null,"822100 - Nota. Propiedades, planta y equipo (Para 2019 y 2018)",null,null,null,null,null,null,null,null,"822100 - Nota. Propiedades, planta y equipo (Para 2019 y 2018)"]
[]
[]
[]
[null,null,null,null,null,"Periodo Actual 31/12/2019"]
[null,null,null,null,null,"Propiedades, planta y equipo",null,null,null,null,null,null,null,null,null,null,null,null,null,null,null,null,null,null,null,{"$f":"IF(AD12=0,\"Formulario 'Nota de Propiedades, planta y equipo' Válido\",\"Formulario 'Nota de Propiedades, planta y equipo' con \"&AD12&\" inconsistencias\")","v":"Formulario 'Nota de Propiedades, planta y equipo' Válido"}]
[null,null,null,null,null,"ifrs-smes:LandMember","ifrs-smes:BuildingsMember","ifrs-smes:LandAndBuildingsMember","ifrs-smes:MachineryMember","ifrs-smes:ShipsMember","ifrs-smes:AircraftMember","co-svsp-core:AutomovilesBlindandosMiembro","co-svsp-core:OtrosVehiculosMiembro","ifrs-smes:MotorVehiclesMember","ifrs-smes:VehiclesMember","ifrs-smes:FixturesAndFittingsMember","ifrs-smes:OfficeEquipmentMember","ifrs-smes:TangibleExplorationAndEvaluationAssetsMember","ifrs-smes:ConstructionInProgressMember","co-svsp-core:CaninosMiembro","co-svsp-core:EquinosMiembro","co-svsp-core:AnimalesMiembro","co-svsp-core:Otras_PPE","ifrs-smes:OtherPropertyPlantAndEquipmentMember"]
[null,null,null,null,"co-svsp-core:PropiedadesPlantaYEquipoEje_G2","Terrenos [miembro]","Edificios [miembro]","Terrenos y construcciones [miembro]","Maquinaria [miembro]","Buques [miembro]","Aeronaves [miembro]","Automóviles Blindados [miembro]","Otros vehículos [miembro]","Equipos de Transporte [miembro]","Vehículos [miembro]","Enseres y accesorios [miembro]","Equipos de oficina [miembro]","Activos tangibles de exploración y evaluación [miembro]","Construcciones en proceso [miembro]","Caninos [miembro]","Equinos [miembro]","Animales [miembro]","Otras [miembro]","Total propiedades, planta y equipo [miembro]"]
[null,null,"1;1","ifrs-smes:DisclosureOfPropertyPlantAndEquipmentLineItems","Información a revelar detallada sobre propiedades, planta y equipo [partidas de los estados financieros]"]
[null,null,"0;1","ifrs-smes:MeasurementBasesPropertyPlantAndEquipment","Bases de medición, propiedades, planta y equipo"]
[null,null,"0;1","ifrs-smes:DepreciationMethodPropertyPlantAndEquipment","Método de depreciación, propiedades, planta y equipo"]
[null,null,"0;1","ifrs-smes:UsefulLivesOrDepreciationRatesPropertyPlantAndEquipment","Vidas útiles o tasas de depreciación, propiedades, planta y equipo"]
[null,null,"1;1","ifrs-smes:ReconciliationOfChangesInPropertyPlantAndEquipmentAbstract","Conciliación de cambios en propiedades, planta y equipo [resumen]"]
[null,null,"1;2","ifrs-smes:PropertyPlantAndEquipment","Propiedades, planta y equipo al comienzo del periodo",{"$f":"+F67","v":0},{"$f":"+G67","v":0},{"$f":"IF(AND(F20=\"\",G20=\"\"),\"\",F20+G20)","v":0},{"$f":"+I67","v":0},{"$f":"+J67","v":0},{"$f":"+K67","v":0},{"$f":"+L67","v":0},{"$f":"+M67","v":0},{"$f":"IF(AND(L20=\"\",M20=\"\"),\"\",L20+M20)","v":0},{"$f":"IF(AND(J20=\"\",K20=\"\",L20=\"\",M20=\"\"),\"\",J20+K20+L20+M20)","v":0},{"$f":"+P67","v":0},0,0,0,0,0,{"$f":"IF(AND(T20=\"\",U20=\"\"),\"\",T20+U20)","v":0},{"$f":"+W67","v":0},{"$f":"IF(AND(F20=\"\",G20=\"\",I20=\"\",J20=\"\",K20=\"\",L20=\"\",M20=\"\",P20=\"\",Q20=\"\",R20=\"\",S20=\"\",T20=\"\",U20=\"\",W20=\"\"),\"\",F20+G20+I20+J20+K20+L20+M20+P20+Q20+R20+S20+T20+U20+W20)","v":0}]
[null,null,"0;1","ifrs-smes:ChangesInPropertyPlantAndEquipmentAbstract","Cambios en propiedades, planta y equipo [resumen]"]
[null,null,"0;1","ifrs-smes:AdditionsOtherThanThroughBusinessCombinationsPropertyPlantAndEquipment","Incrementos distintos de los procedentes de combinaciones de negocios, propiedades, planta y equipo",null,null,{"$f":"IF(AND(F22=\"\",G22=\"\"),\"\",F22+G22)","v":""},null,null,null,null,null,{"$f":"IF(AND(L22=\"\",M22=\"\"),\"\",L22+M22)","v":""},{"$f":"IF(AND(J22=\"\",K22=\"\",L22=\"\",M22=\"\"),\"\",J22+K22+L22+M22)","v":""},null,null,null,null,null,null,{"$f":"IF(AND(T22=\"\",U22=\"\"),\"\",T22+U22)","v":""},null,{"$f":"IF(AND(F22=\"\",G22=\"\",I22=\"\",J22=\"\",K22=\"\",L22=\"\",M22=\"\",P22=\"\",Q22=\"\",R22=\"\",S22=\"\",T22=\"\",U22=\"\",W22=\"\"),\"\",F22+G22+I22+J22+K22+L22+M22+P22+Q22+R22+S22+T22+U22+W22)","v":""}]
[null,null,"0;1","ifrs-smes:AcquisitionsThroughBusinessCombinationsPropertyPlantAndEquipment","Adquisiciones realizadas mediante combinaciones de negocios, propiedades, planta y equipo",null,null,"",null,null,null,null,null,"","",null,null,null,null,null,null,"",null,""]
[null,null,"0;1","ifrs-smes:IncreaseDecreaseThroughNetExchangeDifferencesPropertyPlantAndEquipment","Incremento (disminución) por diferencias de cambio netas, propiedades, planta y equipo",null,null,"",null,null,null,null,null,"","",null,null,null,null,null,null,"",null,""]
[null,null,"0;1","ifrs-smes:DepreciationPropertyPlantAndEquipment","Depreciación, propiedades, planta y equipo",null,null,"",null,null,null,null,null,"","",null,null,null,null,null,null,"",null,""]
[null,null,"0;1","ifrs-smes:RevaluationIncreaseDecreasePropertyPlantAndEquipment","Incrementos (disminuciones) de revaluaciones, propiedades, planta y equipo",null,null,"",null,null,null,null,null,"","",null,null,null,null,null,null,"",null,""]
[null,null,"0;1","ifrs-smes:ImpairmentLossRecognisedInOtherComprehensiveIncomePropertyPlantAndEquipment","Pérdidas por deterioro de valor reconocidas en otro resultado integral, propiedades, planta y equipo",null,null,"",null,null,null,null,null,"","",null,null,null,null,null,null,"",null,""]
[null,null,"0;1","ifrs-smes:ReversalOfImpairmentLossRecognisedInOtherComprehensiveIncomePropertyPlantAndEquipment","Reversión de pérdidas por deterioro de valor reconocidas en otro resultado integral, propiedades, planta y equipo",null,null,"",null,null,null,null,null,"","",null,null,null,null,null,null,"",null,""]
[null,null,"0;1","ifrs-smes:ImpairmentLossRecognisedInProfitOrLossPropertyPlantAndEquipment","Pérdidas por deterioro de valor reconocidas en el resultado del periodo, propiedades, planta y equipo",null,null,"",null,null,null,null,null,"","",null,null,null,null,null,null,"",null,""]
[null,null,"0;1","ifrs-smes:ReversalOfImpairmentLossRecognisedInProfitOrLossPropertyPlantAndEquipment","Reversión de pérdidas por deterioro de valor reconocidas en el resultado del periodo, propiedades, planta y equipo",null,null,"",null,null,null,null,null,"","",null,null,null,null,null,null,"",null,""]
[null,null,"0;1","ifrs-smes:IncreaseDecreaseThroughOtherChangesPropertyPlantAndEquipment","Incrementos (disminuciones) por otros cambios, propiedades, planta y equipo",null,null,"",null,null,null,null,null,"","",null,null,null,null,null,null,"",null,""]
[null,null,"0;1","ifrs-smes:DisposalsPropertyPlantAndEquipment","Disposiciones, propiedades, planta y equipo",null,null,"",null,null,null,null,null,"","",null,null,null,null,null,null,"",null,""]
[null,null,"0;1","ifrs-smes:ChangesInPropertyPlantAndEquipment","Total incremento (disminución) en propiedades, planta y equipo",{"$f":"F22+F23+F24-F25+F26-F27+F28-F29+F30+F31-F32","v":0},{"$f":"G22+G23+G24-G25+G26-G27+G28-G29+G30+G31-G32","v":0},0,{"$f":"I22+I23+I24-I25+I26-I27+I28-I29+I30+I31-I32","v":0},0,0,0,0,0,0,{"$f":"P22+P23+P24-P25+P26-P27+P28-P29+P30+P31-P32","v":0},0,0,0,0,0,0,{"$f":"W22+W23+W24-W25+W26-W27+W28-W29+W30+W31-W32","v":0},{"$f":"IF(AND(F33=\"\",G33=\"\",I33=\"\",J33=\"\",K33=\"\",L33=\"\",M33=\"\",P33=\"\",Q33=\"\",R33=\"\",S33=\"\",T33=\"\",U33=\"\",W33=\"\"),\"\",F33+G33+I33+J33+K33+L33+M33+P33+Q33+R33+S33+T33+U33+W33)","v":0}]
[null,null,"1;1","ifrs-smes:PropertyPlantAndEquipment","Propiedades, planta y equipo al final del periodo",{"$f":"+F20+F33","v":0},{"$f":"+G20+G33","v":0},0,{"$f":"+I20+I33","v":0},{"$f":"+J20+J33","v":0},{"$f":"+K20+K33","v":0},{"$f":"+L20+L33","v":0},{"$f":"+M20+M33","v":0},0,0,{"$f":"+P20+P33","v":0},0,0,0,0,0,0,{"$f":"+W20+W33","v":0},{"$f":"IF(AND(F34=\"\",G34=\"\",I34=\"\",J34=\"\",K34=\"\",L34=\"\",M34=\"\",P34=\"\",Q34=\"\",R34=\"\",S34=\"\",T34=\"\",U34=\"\",W34=\"\"),\"\",F34+G34+I34+J34+K34+L34+M34+P34+Q34+R34+S34+T34+U34+W34)","v":0}]
[null,null,"0;1","ifrs-smes:EffectiveDateOfRevaluationPropertyPlantAndEquipment","Fecha de vigencia de revaluación, propiedades, planta y equipo"]
[null,null,"0;1","ifrs-smes:ExplanationOfInvolvementOfIndependentValuerInRevaluationPropertyPlantAndEquipment","Explicación de la implicación del tasador independiente en la revaluación, propiedades, planta y equipo"]
[null,null,"0;1","ifrs-smes:ExplanationOfRevaluationMethodsAndSignificantAssumptionsPropertyPlantAndEquipment","Explicación de los métodos de revaluación y suposiciones significativas, propiedades, planta y equipo"]
[null,null,"1;1","ifrs-smes:PropertyPlantAndEquipmentRevaluedAssetsAtCost","Propiedades, planta y equipo, activos revaluados, al costo"]
[]
[]
[]
[]
[]
[null,null,null,null,null,"Periodo Anterior 31/12/2018"]
[null,null,null,null,null,"Propiedades, planta y equipo"]
[null,null,null,null,null,"ifrs-smes:LandMember","ifrs-smes:BuildingsMember","ifrs-smes:LandAndBuildingsMember","ifrs-smes:MachineryMember","ifrs-smes:ShipsMember","ifrs-smes:AircraftMember","co-svsp-core:AutomovilesBlindandosMiembro","co-svsp-core:OtrosVehiculosMiembro","ifrs-smes:MotorVehiclesMember","ifrs-smes:VehiclesMember","ifrs-smes:FixturesAndFittingsMember","ifrs-smes:OfficeEquipmentMember","ifrs-smes:TangibleExplorationAndEvaluationAssetsMember","ifrs-smes:ConstructionInProgressMember","co-svsp-core:CaninosMiembro","co-svsp-core:EquinosMiembro","co-svsp-core:AnimalesMiembro","co-svsp-core:Otras_PPE","ifrs-smes:OtherPropertyPlantAndEquipmentMember"]
[null,null,null,null,"co-svsp-core:PropiedadesPlantaYEquipoEje_G2","Terrenos [miembro]","Edificios [miembro]","Terrenos y construcciones [miembro]","Maquinaria [miembro]","Buques [miembro]","Aeronaves [miembro]","Automóviles Blindados [miembro]","Otros vehículos [miembro]","Equipos de Transporte [miembro]","Vehículos [miembro]","Enseres y accesorios [miembro]","Equipos de oficina [miembro]","Activos tangibles de exploración y evaluación [miembro]","Construcciones en proceso [miembro]","Caninos [miembro]","Equinos [miembro]","Animales [miembro]","Otras [miembro]","Total propiedades, planta y equipo [miembro]"]
[null,null,"1;2","ifrs-smes:DisclosureOfPropertyPlantAndEquipmentLineItems","Información a revelar detallada sobre propiedades, planta y equipo [partidas de los estados financieros]"]
[null,null,"0;2","ifrs-smes:MeasurementBasesPropertyPlantAndEquipment","Bases de medición, propiedades, planta y equipo"]
[null,null,"0;2","ifrs-smes:DepreciationMethodPropertyPlantAndEquipment","Método de depreciación, propiedades, planta y equipo"]
[null,null,"0;2","ifrs-smes:UsefulLivesOrDepreciationRatesPropertyPlantAndEquipment","Vidas útiles o tasas de depreciación, propiedades, planta y equipo"]
[null,null,"1;2","ifrs-smes:ReconciliationOfChangesInPropertyPlantAndEquipmentAbstract","Conciliación de cambios en propiedades, planta y equipo [resumen]"]
[null,null,"1;3","ifrs-smes:PropertyPlantAndEquipment","Propiedades, planta y equipo al comienzo del periodo",null,null,{"$f":"IF(AND(F53=\"\",G53=\"\"),\"\",F53+G53)","v":""},null,null,null,null,null,{"$f":"IF(AND(L53=\"\",M53=\"\"),\"\",L53+M53)","v":""},{"$f":"IF(AND(J53=\"\",K53=\"\",L53=\"\",M53=\"\"),\"\",J53+K53+L53+M53)","v":""},null,null,null,null,null,null,{"$f":"IF(AND(T53=\"\",U53=\"\"),\"\",T53+U53)","v":""},null,{"$f":"IF(AND(F53=\"\",G53=\"\",I53=\"\",J53=\"\",K53=\"\",L53=\"\",M53=\"\",P53=\"\",Q53=\"\",R53=\"\",S53=\"\",T53=\"\",U53=\"\",W53=\"\"),\"\",F53+G53+I53+J53+K53+L53+M53+P53+Q53+R53+S53+T53+U53+W53)","v":""}]
[null,null,"0;2","ifrs-smes:ChangesInPropertyPlantAndEquipmentAbstract","Cambios en propiedades, planta y equipo [resumen]"]
[null,null,"0;2","ifrs-smes:AdditionsOtherThanThroughBusinessCombinationsPropertyPlantAndEquipment","Incrementos distintos de los procedentes de combinaciones de negocios, propiedades, planta y equipo",null,null,{"$f":"IF(AND(F55=\"\",G55=\"\"),\"\",F55+G55)","v":""},null,null,null,null,null,{"$f":"IF(AND(L55=\"\",M55=\"\"),\"\",L55+M55)","v":""},{"$f":"IF(AND(J55=\"\",K55=\"\",L55=\"\",M55=\"\"),\"\",J55+K55+L55+M55)","v":""},null,null,null,null,null,null,{"$f":"IF(AND(T55=\"\",U55=\"\"),\"\",T55+U55)","v":""},null,{"$f":"IF(AND(F55=\"\",G55=\"\",I55=\"\",J55=\"\",K55=\"\",L55=\"\",M55=\"\",P55=\"\",Q55=\"\",R55=\"\",S55=\"\",T55=\"\",U55=\"\",W55=\"\"),\"\",F55+G55+I55+J55+K55+L55+M55+P55+Q55+R55+S55+T55+U55+W55)","v":""}]
[null,null,"0;2","ifrs-smes:AcquisitionsThroughBusinessCombinationsPropertyPlantAndEquipment","Adquisiciones realizadas mediante combinaciones de negocios, propiedades, planta y equipo",null,null,"",null,null,null,null,null,"","",null,null,null,null,null,null,"",null,""]
[null,null,"0;2","ifrs-smes:IncreaseDecreaseThroughNetExchangeDifferencesPropertyPlantAndEquipment","Incremento (disminución) por diferencias de cambio netas, propiedades, planta y equipo",null,null,"",null,null,null,null,null,"","",null,null,null,null,null,null,"",null,""]
[null,null,"0;2","ifrs-smes:DepreciationPropertyPlantAndEquipment","Depreciación, propiedades, planta y equipo",null,null,"",null,null,null,null,null,"","",null,null,null,null,null,null,"",null,""]
[null,null,"0;2","ifrs-smes:RevaluationIncreaseDecreasePropertyPlantAndEquipment","Incrementos (disminuciones) de revaluaciones, propiedades, planta y equipo",null,null,"",null,null,null,null,null,"","",null,null,null,null,null,null,"",null,""]
[null,null,"0;2","ifrs-smes:ImpairmentLossRecognisedInOtherComprehensiveIncomePropertyPlantAndEquipment","Pérdidas por deterioro de valor reconocidas en otro resultado integral, propiedades, planta y equipo",null,null,"",null,null,null,null,null,"","",null,null,null,null,null,null,"",null,""]
[null,null,"0;2","ifrs-smes:ReversalOfImpairmentLossRecognisedInOtherComprehensiveIncomePropertyPlantAndEquipment","Reversión de pérdidas por deterioro de valor reconocidas en otro resultado integral, propiedades, planta y equipo",null,null,"",null,null,null,null,null,"","",null,null,null,null,null,null,"",null,""]
[null,null,"0;2","ifrs-smes:ImpairmentLossRecognisedInProfitOrLossPropertyPlantAndEquipment","Pérdidas por deterioro de valor reconocidas en el resultado del periodo, propiedades, planta y equipo",null,null,"",null,null,null,null,null,"","",null,null,null,null,null,null,"",null,""]
[null,null,"0;2","ifrs-smes:ReversalOfImpairmentLossRecognisedInProfitOrLossPropertyPlantAndEquipment","Reversión de pérdidas por deterioro de valor reconocidas en el resultado del periodo, propiedades, planta y equipo",null,null,"",null,null,null,null,null,"","",null,null,null,null,null,null,"",null,""]
[null,null,"0;2","ifrs-smes:IncreaseDecreaseThroughOtherChangesPropertyPlantAndEquipment","Incrementos (disminuciones) por otros cambios, propiedades, planta y equipo",null,null,"",null,null,null,null,null,"","",null,null,null,null,null,null,"",null,""]
[null,null,"0;2","ifrs-smes:DisposalsPropertyPlantAndEquipment","Disposiciones, propiedades, planta y equipo",null,null,"",null,null,null,null,null,"","",null,null,null,null,null,null,"",null,""]
[null,null,"0;2","ifrs-smes:ChangesInPropertyPlantAndEquipment","Total incremento (disminución) en propiedades, planta y equipo",{"$f":"F55+F56+F57-F58+F59-F60+F61-F62+F63+F64-F65","v":0},{"$f":"G55+G56+G57-G58+G59-G60+G61-G62+G63+G64-G65","v":0},0,{"$f":"I55+I56+I57-I58+I59-I60+I61-I62+I63+I64-I65","v":0},0,0,0,0,0,0,{"$f":"P55+P56+P57-P58+P59-P60+P61-P62+P63+P64-P65","v":0},0,0,0,0,0,0,{"$f":"W55+W56+W57-W58+W59-W60+W61-W62+W63+W64-W65","v":0},{"$f":"IF(AND(F66=\"\",G66=\"\",I66=\"\",J66=\"\",K66=\"\",L66=\"\",M66=\"\",P66=\"\",Q66=\"\",R66=\"\",S66=\"\",T66=\"\",U66=\"\",W66=\"\"),\"\",F66+G66+I66+J66+K66+L66+M66+P66+Q66++R66+S66+T66+U66+W66)","v":0}]
[null,null,"1;2","ifrs-smes:PropertyPlantAndEquipment","Propiedades, planta y equipo al final del periodo",{"$f":"+F53+F66","v":0},{"$f":"+G53+G66","v":0},0,{"$f":"+I53+I66","v":0},{"$f":"+J53+J66","v":0},{"$f":"+K53+K66","v":0},{"$f":"+L53+L66","v":0},{"$f":"+M53+M66","v":0},0,0,{"$f":"+P53+P66","v":0},0,0,0,0,0,0,{"$f":"+W53+W66","v":0},{"$f":"IF(AND(F67=\"\",G67=\"\",I67=\"\",J67=\"\",K67=\"\",L67=\"\",M67=\"\",P67=\"\",Q67=\"\",R67=\"\",S67=\"\",T67=\"\",U67=\"\",W67=\"\"),\"\",F67+G67+I67+J67+K67+L67+M67+P67+Q67+R67+S67+T67+U67+W67)","v":0}]
[null,null,"0;2","ifrs-smes:EffectiveDateOfRevaluationPropertyPlantAndEquipment","Fecha de vigencia de revaluación, propiedades, planta y equipo"]
[null,null,"0;2","ifrs-smes:ExplanationOfInvolvementOfIndependentValuerInRevaluationPropertyPlantAndEquipment","Explicación de la implicación del tasador independiente en la revaluación, propiedades, planta y equipo"]
[null,null,"0;2","ifrs-smes:ExplanationOfRevaluationMethodsAndSignificantAssumptionsPropertyPlantAndEquipment","Explicación de los métodos de revaluación y suposiciones significativas, propiedades, planta y equipo"]
[null,null,"1;2","ifrs-smes:PropertyPlantAndEquipmentRevaluedAssetsAtCost","Propiedades, planta y equipo, activos revaluados, al costo"]

{"sheet":"823180 - Nota. Activos Intang.","index":17,"n_rows":55,"n_cols":20,"rows_kept":55,"cut":false,"hidden":false,"merged":[[6,4,8,16],[12,5,12,14],[35,5,35,14]]}
[]
[]
[]
[]
[]
[]
[null,null,null,null,"828000 - Activos intangibles (Para 2019 y 2018)"]
[]
[]
[]
[]
[]
[null,null,null,null,null,"Periodo Actual 31/12/2019",null,null,null,null,null,null,null,null,null,null,{"$f":"IF(T13=0,\"Formulario 'Nota de Activos Intangibles' Válido\",\"Formulario 'Nota de Activos Intangibles' con \"&T13&\" inconsistencias\")","v":"Formulario 'Nota de Activos Intangibles' Válido"},null,null,0]
[null,null,null,null,null,"ifrs-smes:BrandNamesMember","co-svsp-core:PatentesMiembro","ifrs-smes:ComputerSoftwareMember","ifrs-smes:LicencesAndFranchisesMember","co-svsp-core:DerechosMiembro","co-svsp-core:KnowhowMiembro","ifrs-smes:IntangibleExplorationAndEvaluationAssetsMember","co-svsp-core:ServiceConcessionArrangementsClassifiedAsIntangibleAssetsMember","ifrs-smes:OtherIntangibleAssetsMember","ifrs-smes:IntangibleAssetsOtherThanGoodwillMember",null,null,null,null,{"$f":"SUM(T16:T18)","v":3}]
[null,null,null,null,"co-svsp-core:ActivosIntangibles_Eje_G2","Marcas comerciales [miembro]","Patentes [Miembro]","Programas de computador [miembro]","Licencias y franquicias [miembro]","Derechos [Miembro]","Knowhow [Miembro]","Activos intangibles de exploración y evaluación [miembro]","Acuerdos de concesión de servicios clasficados como intangibles [Miembro]","Otros activos intangibles [miembro] ","Total Activos intangibles distintos de la plusvalía [miembro]"]
[null,null,"0;1","ifrs-smes:DisclosureOfIntangibleAssetsLineItems","Información a revelar detallada sobre activos intangibles [partidas de los estados financieros]",null,null,null,null,null,null,null,null,null,null,null,null,null,null,{"$f":"IF(Q16=\"CORRECTO\",0,1)","v":1}]
[null,null,"0;1","ifrs-smes:AmortisationMethodIntangibleAssetsOtherThanGoodwill","Método de amortización, activos intangibles distintos de la plusvalía",null,null,null,null,null,null,null,null,null,null,null,null,null,null,{"$f":"IF(Q17=\"CORRECTO\",0,1)","v":1}]
[null,null,"0;1","ifrs-smes:UsefulLivesOrAmortisationRatesIntangibleAssetsOtherThanGoodwill","Vidas útiles o tasas de amortización, activos intangibles distintos de la plusvalía",null,null,null,null,null,null,null,null,null,null,null,null,null,null,{"$f":"IF(Q18=\"CORRECTO\",0,1)","v":1}]
[null,null,"0;1","co-svsp-core:GrossCarryingAmount","Importe en libros en términos brutos",null,null,null,null,null,null,null,null,null,{"$f":"SUM(F19:N19)","v":0}]
[null,null,"0;1","co-svsp-core:AccumulatedDepreciationAndAmortisation","Depreciación y amortización acumuladas",null,null,null,null,null,null,null,null,null,{"$f":"SUM(F20:N20)","v":0}]
[null,null,"0;1","co-svsp-core:AccumulatedImpairment","Deterioro de valor acumulado",null,null,null,null,null,null,null,null,null,{"$f":"SUM(F21:N21)","v":0}]
[null,null,"0;1","ifrs-smes:ReconciliationOfChangesInIntangibleAssetsOtherThanGoodwillAbstract","Conciliación de cambios en activos intangibles distintos de la plusvalía [resumen]"]
[null,null,"1;2","ifrs-smes:IntangibleAssetsOtherThanGoodwill","Activos intangibles distintos de la plusvalía al inicio del periodo",{"$f":"+F55","v":0},{"$f":"+G55","v":0},0,0,0,0,0,0,0,{"$f":"SUM(F23:N23)","v":0}]
[null,null,"0;1","ifrs-smes:AdditionsOtherThanThroughBusinessCombinationsIntangibleAssetsOtherThanGoodwill","Incrementos distintos de los procedentes de combinaciones de negocios, activos intangibles distintos de la plusvalía",null,null,null,null,null,null,null,null,null,0]
[null,null,"0;1","ifrs-smes:AcquisitionsThroughBusinessCombinationsIntangibleAssetsOtherThanGoodwill","Adquisiciones realizadas mediante combinaciones de negocios, activos intangibles distintos a la plusvalía",null,null,null,null,null,null,null,null,null,0]
[null,null,"0;1","ifrs-smes:AmortisationIntangibleAssetsOtherThanGoodwill","Amortización, activos intangibles distintos de la plusvalía",null,null,null,null,null,null,null,null,null,0]
[null,null,"0;1","ifrs-smes:ImpairmentLossRecognisedInProfitOrLossIntangibleAssetsOtherThanGoodwill","Pérdidas por deterioro de valor reconocidas en el resultado del periodo, activos intangibles distintos de la plusvalía",null,null,null,null,null,null,null,null,null,0]
[null,null,"0;1","ifrs-smes:ReversalOfImpairmentLossRecognisedInProfitOrLossIntangibleAssetsOtherThanGoodwill","Reversión de pérdidas por deterioro de valor reconocidas en el resultado del periodo, activos intangibles distintos de la plusvalía",null,null,null,null,null,null,null,null,null,0]
[null,null,"0;1","ifrs-smes:IncreaseDecreaseThroughOtherChangesIntangibleAssetsOtherThanGoodwill","Incrementos (disminuciones) por otros cambios, activos intangibles distintos de la plusvalía",null,null,null,null,null,null,null,null,null,0]
[null,null,"0;1","ifrs-smes:DisposalsIntangibleAssetsOtherThanGoodwill","Disposiciones, activos intangibles distintos de la plusvalía",null,null,null,null,null,null,null,null,null,0]
[null,null,"0;1","ifrs-smes:ChangesInIntangibleAssetsOtherThanGoodwill","Incremento (disminución) en activos intangibles distintos de la plusvalía",{"$f":"+F24+F25-F26-F27+F28+F29-+F30","v":0},{"$f":"+G24+G25-G26-G27+G28+G29-+G30","v":0},0,0,0,0,0,0,0,{"$f":"+O24+O25-O26-O27+O28+O29-+O30","v":0}]
[null,null,"1;1","ifrs-smes:IntangibleAssetsOtherThanGoodwill","Activos intangibles distintos de la plusvalía al final del periodo",{"$f":"+F23+F31","v":0},0,0,0,0,0,0,0,0,0]
[]
[]
[]
[null,null,null,null,null,"Periodo Anterior 31/12/2018"]
[null,null,null,null,null,"ifrs-smes:BrandNamesMember","co-svsp-core:PatentesMiembro","ifrs-smes:ComputerSoftwareMember","ifrs-smes:LicencesAndFranchisesMember","co-svsp-core:DerechosMiembro","co-svsp-core:KnowhowMiembro","ifrs-smes:IntangibleExplorationAndEvaluationAssetsMember","co-svsp-core:ServiceConcessionArrangementsClassifiedAsIntangibleAssetsMember","ifrs-smes:OtherIntangibleAssetsMember","ifrs-smes:IntangibleAssetsOtherThanGoodwillMember"]
[null,null,null,null,"co-svsp-core:ActivosIntangibles_Eje_G2","Marcas comerciales [miembro]","Patentes [Miembro]","Programas de computador [miembro]","Licencias y franquicias [miembro]","Derechos [Miembro]","Knowhow [Miembro]","Activos intangibles de exploración y evaluación [miembro]","Acuerdos de concesión de servicios clasficados como intangibles [Miembro]","Otros activos intangibles [miembro] ","Total Activos intangibles distintos de la plusvalía [miembro]"]
[null,null,"0;2","ifrs-smes:DisclosureOfIntangibleAssetsLineItems","Información a revelar detallada sobre activos intangibles [partidas de los estados financieros]"]
[null,null,"0;2","ifrs-smes:AmortisationMethodIntangibleAssetsOtherThanGoodwill","Método de amortización, activos intangibles distintos de la plusvalía"]
[null,null,"0;2","ifrs-smes:UsefulLivesOrAmortisationRatesIntangibleAssetsOtherThanGoodwill","Vidas útiles o tasas de amortización, activos intangibles distintos de la plusvalía"]
[null,null,"0;2","co-svsp-core:GrossCarryingAmount","Importe en libros en términos brutos",null,null,null,null,null,null,null,null,null,{"$f":"SUM(F42:N42)","v":0}]
[null,null,"0;2","co-svsp-core:AccumulatedDepreciationAndAmortisation","Depreciación y amortización acumuladas",null,null,null,null,null,null,null,null,null,{"$f":"SUM(F43:N43)","v":0}]
[null,null,"0;2","co-svsp-core:AccumulatedImpairment","Deterioro de valor acumulado",null,null,null,null,null,null,null,null,null,{"$f":"SUM(F44:N44)","v":0},null,null,null,null,{"$f":"SUM(T46:T48)","v":3}]
[null,null,"0;2","ifrs-smes:ReconciliationOfChangesInIntangibleAssetsOtherThanGoodwillAbstract","Conciliación de cambios en activos intangibles distintos de la plusvalía [resumen]"]
[null,null,"1;3","ifrs-smes:IntangibleAssetsOtherThanGoodwill","Activos intangibles distintos de la plusvalía al inicio del periodo",null,null,null,null,null,null,null,null,null,{"$f":"SUM(F46:N46)","v":0},null,null,null,null,{"$f":"IF(Q46=\"CORRECTO\",0,1)","v":1}]
[null,null,"0;2","ifrs-smes:AdditionsOtherThanThroughBusinessCombinationsIntangibleAssetsOtherThanGoodwill","Incrementos distintos de los procedentes de combinaciones de negocios, activos intangibles distintos de la plusvalía",null,null,null,null,null,null,null,null,null,{"$f":"SUM(F47:N47)","v":0},null,null,null,null,{"$f":"IF(Q47=\"CORRECTO\",0,1)","v":1}]
[null,null,"0;2","ifrs-smes:AcquisitionsThroughBusinessCombinationsIntangibleAssetsOtherThanGoodwill","Adquisiciones realizadas mediante combinaciones de negocios, activos intangibles distintos a la plusvalía",null,null,null,null,null,null,null,null,null,0,null,null,null,null,{"$f":"IF(Q48=\"CORRECTO\",0,1)","v":1}]
[null,null,"0;2","ifrs-smes:AmortisationIntangibleAssetsOtherThanGoodwill","Amortización, activos intangibles distintos de la plusvalía",null,null,null,null,null,null,null,null,null,0]
[null,null,"0;2","ifrs-smes:ImpairmentLossRecognisedInProfitOrLossIntangibleAssetsOtherThanGoodwill","Pérdidas por deterioro de valor reconocidas en el resultado del periodo, activos intangibles distintos de la plusvalía",null,null,null,null,null,null,null,null,null,0]
[null,null,"0;2","ifrs-smes:ReversalOfImpairmentLossRecognisedInProfitOrLossIntangibleAssetsOtherThanGoodwill","Reversión de pérdidas por deterioro de valor reconocidas en el resultado del periodo, activos intangibles distintos de la plusvalía",null,null,null,null,null,null,null,null,null,0]
[null,null,"0;2","ifrs-smes:IncreaseDecreaseThroughOtherChangesIntangibleAssetsOtherThanGoodwill","Incrementos (disminuciones) por otros cambios, activos intangibles distintos de la plusvalía",null,null,null,null,null,null,null,null,null,0]
[null,null,"0;2","ifrs-smes:DisposalsIntangibleAssetsOtherThanGoodwill","Disposiciones, activos intangibles distintos de la plusvalía",null,null,null,null,null,null,null,null,null,0]
[null,null,"0;2","ifrs-smes:ChangesInIntangibleAssetsOtherThanGoodwill","Incremento (disminución) en activos intangibles distintos de la plusvalía",{"$f":"+F47+F48-F49-F50+F51+F52-+F53","v":0},{"$f":"+G47+G48-G49-G50+G51+G52-+G53","v":0},0,0,0,0,0,0,0,{"$f":"+O47+O48-O49-O50+O51+O52-+O53","v":0}]
[null,null,"1;2","ifrs-smes:IntangibleAssetsOtherThanGoodwill","Activos intangibles distintos de la plusvalía al final del periodo",{"$f":"+F46+F54","v":0},0,0,0,0,0,0,0,0,0]

{"sheet":"828000 - Nota. Cuentas x pagar","index":18,"n_rows":33,"n_cols":28,"rows_kept":33,"cut":false,"hidden":false,"merged":[[24,5,24,9],[24,10,24,15],[6,4,8,18],[10,5,10,15],[11,5,11,9],[11,10,11,15],[23,5,23,15]]}
[]
[]
[]
[]
[]
[]
[null,null,null,null,"828000 - Nota. Cuentas por pagar (Para 2019 y 2018)"]
[]
[]
[]
[null,null,null,null,null,"Periodo Actual 31/12/2019"]
[null,null,null,null,null,"Nacional o del exterior [miembro]",null,null,null,null,"Bandas de tiempo acumuladas [miembro]",null,null,null,null,null,null,null,{"$f":"IF(W12=0,\"Formulario 'Nota de Cuentas por pagar' Válido\",\"Formulario 'Nota de Cuentas por pagar' con \"&W12&\" inconsistencias\")","v":"Formulario 'Nota de Cuentas por pagar' Válido"},null,null,null,{"$f":"SUM(W16:W32)","v":0},{"$f":"SUM(W18:X20)","v":0}]
[null,null,null,null,null,"co-svsp-core:Nacionales_corrientes_CxP_Miembro","co-svsp-core:En_el_exterior_corrientes_CxP_Miembro","co-svsp-core:Nacionales_no_corrientes_CxP_Miembro","co-svsp-core:En_el_exterior_no_corrientes_CxP_Miembro","co-svsp-core:Total_Saldo_del_ejercicio_CxP_Miembro","co-svsp-core:Numero_de_obligaciones_vencidas_CxP_Miembro","co-svsp-core:CxP_Vencidas_1_a_90_dias_Miembro","co-svsp-core:CxP_Vencidas_91_a_180_dias_Miembro","co-svsp-core:CxP_Vencidas_181_a_360_dias_Miembro","co-svsp-core:CxP_Vencidas_mas_de_360_dias_Miembro","co-svsp-core:Obligaciones_vencidas_CxP_Miembro"]
[null,null,null,null,"co-svsp-core:CuentasXPagar_Eje","Nacionales corrientes [miembro]","En el exterior corrientes [miembro]","Nacionales no corrientes [miembro]","En el exterior no corrientes [miembro]","Total Saldo del ejercicio [miembro]","Número de obligaciones vencidas  [miembro]","Valor obligaciones vencidas de 1 a 90 días [miembro]","Valor obligaciones vencidas de 91 a 180 días [miembro]","Valor obligaciones vencidas de 181 a 360 días  [miembro]","Valor obligaciones vencidas de mas de 360 días [miembro]","Total obligaciones vencidas [miembro]"]
[null,null,"1;1","co-svsp-core:CxP_Cuentas_comerciales_por_pagar_otras_cuentas_por_pagar_y_otros_pasivos_financieros_items","Cuentas comerciales por pagar, otras cuentas por pagar y otros pasivos financieros items"]
[null,null,"1;1","co-svsp-core:CxP_Cuentas_por_pagar_comerciales","Cuentas comerciales por pagar",null,null,null,null,{"$f":"F16+G16+H16+I16","v":0},null,null,null,null,null,{"$f":"L16+M16+N16+O16","v":0},null,null,{"$f":"IF(AB16=\"CORRECTO\",\"CORRECTO\",\"Al indicar que se tienen cuentas vencidas para '\"&E16&\"', debe indicarse el monto en la columna correspondiente y viceversa.\")","v":"CORRECTO"},null,null,null,{"$f":"IF(S16=\"CORRECTO\",0,1)","v":0},null,{"$f":"IF(OR(K16=\"\",K16=0),0,1)","v":0},{"$f":"L16+M16+N16+O16","v":0},null,{"$f":"IF(AND(Y16=0,Z16=0),\"CORRECTO\",IF(AND(Y16<>0,Z16<>0),\"CORRECTO\",\"INCORRECTO\"))","v":"CORRECTO"}]
[null,null,"1;1","co-svsp-core:CxP_Otras_cuentas_por_pagar","Otras cuentas por pagar",null,null,null,null,{"$f":"F17+G17+H17+I17","v":0},null,null,null,null,null,{"$f":"L17+M17+N17+O17","v":0},null,null,{"$f":"IF(AB17=\"CORRECTO\",\"CORRECTO\",\"Al indicar que se tienen cuentas vencidas para '\"&E17&\"', debe indicarse el monto en la columna correspondiente y viceversa.\")","v":"CORRECTO"},null,null,null,{"$f":"IF(S17=\"CORRECTO\",0,1)","v":0},null,{"$f":"IF(OR(K17=\"\",K17=0),0,1)","v":0},{"$f":"L17+M17+N17+O17","v":0},null,{"$f":"IF(AND(Y17=0,Z17=0),\"CORRECTO\",IF(AND(Y17<>0,Z17<>0),\"CORRECTO\",\"INCORRECTO\"))","v":"CORRECTO"}]
[null,null,"1;1","co-svsp-core:CxP_Total_cuentas_comerciales_por_pagar_y_otras_cuentas_por_pagar","Total cuentas comerciales por pagar y otras cuentas por pagar",{"$f":"F16+F17","v":0},0,0,0,0,0,0,0,0,0,0]
[null,null,"1;1","co-svsp-core:CxP_Otros_Pasivos_financieros","Otros Pasivos financieros",null,null,null,null,{"$f":"F19+G19+H19+I19","v":0},null,null,null,null,null,{"$f":"L19+M19+N19+O19","v":0},null,null,{"$f":"IF(AB19=\"CORRECTO\",\"CORRECTO\",\"Al indicar que se tienen cuentas vencidas para '\"&E19&\"', debe indicarse el monto en la columna correspondiente y viceversa.\")","v":"CORRECTO"},null,null,null,{"$f":"IF(S19=\"CORRECTO\",0,1)","v":0},null,{"$f":"IF(OR(K19=\"\",K19=0),0,1)","v":0},{"$f":"L19+M19+N19+O19","v":0},null,{"$f":"IF(AND(Y19=0,Z19=0),\"CORRECTO\",IF(AND(Y19<>0,Z19<>0),\"CORRECTO\",\"INCORRECTO\"))","v":"CORRECTO"}]
[null,null,"1;1","co-svsp-core:CxP_Total_cuentas_comerciales_por_pagar_otras_cuentas_por_pagar_y_otros_pasivos_financieros","Total cuentas comerciales por pagar, otras cuentas por pagar y otros pasivos financieros",{"$f":"F18+F19","v":0},{"$f":"G18+G19","v":0},{"$f":"H18+H19","v":0},{"$f":"I18+I19","v":0},{"$f":"F20+G20+H20+I20","v":0},{"$f":"K18+K19","v":0},0,0,0,0,0]
[]
[]
[]
[null,null,null,null,null,"Periodo Anterior 31/12/2018"]
[null,null,null,null,null,"Nacional o del exterior [miembro]",null,null,null,null,"Bandas de tiempo acumuladas [miembro]",null,null,null,null,null,null,null,null,null,null,null,null,{"$f":"SUM(W31:X33)","v":0}]
[null,null,null,null,null,"co-svsp-core:Nacionales_corrientes_CxP_Miembro","co-svsp-core:En_el_exterior_corrientes_CxP_Miembro","co-svsp-core:Nacionales_no_corrientes_CxP_Miembro","co-svsp-core:En_el_exterior_no_corrientes_CxP_Miembro","co-svsp-core:Total_Saldo_del_ejercicio_CxP_Miembro","co-svsp-core:Numero_de_obligaciones_vencidas_CxP_Miembro","co-svsp-core:CxP_Vencidas_1_a_90_dias_Miembro","co-svsp-core:CxP_Vencidas_91_a_180_dias_Miembro","co-svsp-core:CxP_Vencidas_181_a_360_dias_Miembro","co-svsp-core:CxP_Vencidas_mas_de_360_dias_Miembro","co-svsp-core:Obligaciones_vencidas_CxP_Miembro"]
[null,null,null,null,"co-svsp-core:CuentasXPagar_Eje","Nacionales corrientes [miembro]","En el exterior corrientes [miembro]","Nacionales no corrientes [miembro]","En el exterior no corrientes [miembro]","Total Saldo del ejercicio [miembro]","Número de obligaciones vencidas  [miembro]","Valor obligaciones vencidas de 1 a 90 días [miembro]","Valor obligaciones vencidas de 91 a 180 días [miembro]","Valor obligaciones vencidas de 181 a 360 días  [miembro]","Valor obligaciones vencidas de mas de 360 días [miembro]","Total obligaciones vencidas [miembro]"]
[null,null,"1;2","co-svsp-core:CxP_Cuentas_comerciales_por_pagar_otras_cuentas_por_pagar_y_otros_pasivos_financieros_items","Cuentas comerciales por pagar, otras cuentas por pagar y otros pasivos financieros items"]
[null,null,"1;2","co-svsp-core:CxP_Cuentas_por_pagar_comerciales","Cuentas comerciales por pagar",null,null,null,null,{"$f":"F29+G29+H29+I29","v":0},null,null,null,null,null,{"$f":"L29+M29+N29+O29","v":0},null,null,{"$f":"IF(AB29=\"CORRECTO\",\"CORRECTO\",\"Al indicar que se tienen cuentas vencidas para '\"&E29&\"', debe indicarse el monto en la columna correspondiente y viceversa.\")","v":"CORRECTO"},null,null,null,{"$f":"IF(S29=\"CORRECTO\",0,1)","v":0},null,{"$f":"IF(OR(K29=\"\",K29=0),0,1)","v":0},{"$f":"L29+M29+N29+O29","v":0},null,{"$f":"IF(AND(Y29=0,Z29=0),\"CORRECTO\",IF(AND(Y29<>0,Z29<>0),\"CORRECTO\",\"INCORRECTO\"))","v":"CORRECTO"}]
[null,null,"1;2","co-svsp-core:CxP_Otras_cuentas_por_pagar","Otras cuentas por pagar",null,null,null,null,{"$f":"F30+G30+H30+I30","v":0},null,null,null,null,null,{"$f":"L30+M30+N30+O30","v":0},null,null,{"$f":"IF(AB30=\"CORRECTO\",\"CORRECTO\",\"Al indicar que se tienen cuentas vencidas para '\"&E30&\"', debe indicarse el monto en la columna correspondiente y viceversa.\")","v":"CORRECTO"},null,null,null,{"$f":"IF(S30=\"CORRECTO\",0,1)","v":0},null,{"$f":"IF(OR(K30=\"\",K30=0),0,1)","v":0},{"$f":"L30+M30+N30+O30","v":0},null,{"$f":"IF(AND(Y30=0,Z30=0),\"CORRECTO\",IF(AND(Y30<>0,Z30<>0),\"CORRECTO\",\"INCORRECTO\"))","v":"CORRECTO"}]
[null,null,"1;2","co-svsp-core:CxP_Total_cuentas_comerciales_por_pagar_y_otras_cuentas_por_pagar","Total cuentas comerciales por pagar y otras cuentas por pagar",{"$f":"F29+F30","v":0},0,0,0,0,0,0,0,0,0,0]
[null,null,"1;2","co-svsp-core:CxP_Otros_Pasivos_financieros","Otros Pasivos financieros",null,null,null,null,{"$f":"F32+G32+H32+I32","v":0},null,null,null,null,null,{"$f":"L32+M32+N32+O32","v":0},null,null,{"$f":"IF(AB32=\"CORRECTO\",\"CORRECTO\",\"Al indicar que se tienen cuentas vencidas para '\"&E32&\"', debe indicarse el monto en la columna correspondiente y viceversa.\")","v":"CORRECTO"},null,null,null,{"$f":"IF(S32=\"CORRECTO\",0,1)","v":0},null,{"$f":"IF(OR(K32=\"\",K32=0),0,1)","v":0},{"$f":"L32+M32+N32+O32","v":0},null,{"$f":"IF(AND(Y32=0,Z32=0),\"CORRECTO\",IF(AND(Y32<>0,Z32<>0),\"CORRECTO\",\"INCORRECTO\"))","v":"CORRECTO"}]
[null,null,"1;2","co-svsp-core:CxP_Total_cuentas_comerciales_por_pagar_otras_cuentas_por_pagar_y_otros_pasivos_financieros","Total cuentas comerciales por pagar, otras cuentas por pagar y otros pasivos financieros",{"$f":"F31+F32","v":0},{"$f":"G31+G32","v":0},{"$f":"H31+H32","v":0},{"$f":"I31+I32","v":0},{"$f":"F33+G33+H33+I33","v":0},{"$f":"K31+K32","v":0},0,0,0,0,0]

{"sheet":"210000 - Est. Situa. Financiera","index":19,"n_rows":83,"n_cols":14,"rows_kept":83,"cut":false,"hidden":false,"merged":[[6,4,8,9],[12,8,12,9]]}
[]
[]
[]
[]
[]
[]
[null,null,null,null,"210000 - ESTADO DE SITUACIÓN FINANCIERA"]
[]
[]
[]
[]
[null,null,null,null,null,1,2]
[null,null,null,null,null,"2019-12-31","2018-12-31",null,{"$f":"IF(M13=0,\"Formulario 'Estado de Situación Financiera' Válido\",\"Formulario 'Estado de Situación Financiera' con \"&M13&\" inconsistencias\")","v":"Formulario 'Estado de Situación Financiera' con 6 inconsistencias"},null,null,null,{"$f":"SUM(M14:N80)","v":6}]
[null,null,1,"ifrs-smes:StatementOfFinancialPositionAbstract","Estado de situación financiera [sinopsis]",null,null,null,null,null,null,null,{"$f":"IF(F82=\"CORRECTO\",0,1)","v":1}]
[null,null,1,"ifrs-smes:AssetsAbstract","Activos [sinopsis]",null,null,null,null,null,null,null,{"$f":"IF(G82=\"CORRECTO\",0,1)","v":0}]
[null,null,1,"ifrs-smes:CurrentAssetsAbstract","Activos corrientes [sinopsis]"]
[null,null,1,"ifrs-smes:CashAndCashEquivalents","Efectivo y equivalentes al efectivo",{"$f":"+'800101 - Nota. Efect. y Equiv.'!F25","v":0},{"$f":"+'800101 - Nota. Efect. y Equiv.'!G25","v":0}]
[null,null,1,"ifrs-smes:TradeAndOtherCurrentReceivables","Cuentas comerciales por cobrar y otras cuentas por cobrar corrientes",{"$f":"'800111 - Nota. Cuentas x cobrar'!F28+'800111 - Nota. Cuentas x cobrar'!G28","v":0},{"$f":"'800111 - Nota. Cuentas x cobrar'!F52+'800111 - Nota. Cuentas x cobrar'!G52","v":0}]
[null,null,1,"ifrs-smes:Inventories","Inventarios corrientes"]
[null,null,1,"ifrs-smes:CurrentTaxAssetsCurrent","Activos por impuestos corrientes, corriente"]
[null,null,1,"ifrs-smes:CurrentBiologicalAssetsAtCost","Activos biológicos corrientes, al costo menos depreciación acumulada y deterioro de valor"]
[null,null,1,"ifrs-smes:CurrentBiologicalAssetsAtFairValue","Activos biológicos corrientes, al valor razonable"]
[null,null,1,"ifrs-smes:OtherCurrentFinancialAssets","Otros activos financieros corrientes"]
[null,null,1,"ifrs-smes:OtherCurrentNonfinancialAssets","Otros activos no financieros corrientes"]
[null,null,1,"ifrs-smes:CurrentNoncashAssetsPledgedAsCollateralForWhichTransfereeHasRightByContractOrCustomToSellOrRepledgeCollateral","Activos corrientes distintos al efectivo pignorados como garantía colateral para la cual el receptor de la transferencia tiene derecho por contrato o costumbre a vender o pignorar nuevamente la garantía colateral"]
[null,null,1,"ifrs-smes:CurrentAssets","Activos corrientes totales",{"$f":"IF(SUM(F17:F25)=0,\"\",SUM(F17:F25))","v":""},{"$f":"IF(SUM(G17:G25)=0,\"\",SUM(G17:G25))","v":""}]
[null,null,1,"ifrs-smes:NoncurrentAssetsAbstract","Activos no corrientes [sinopsis]"]
[null,null,1,"ifrs-smes:InvestmentProperty","Propiedades de inversión a valor razonable con cambios en resultados"]
[null,null,1,"ifrs-smes:PropertyPlantAndEquipment","Propiedades, planta y equipo",{"$f":"+'822100 - Nota. Prop, plan y eq.'!X34","v":0},{"$f":"+'822100 - Nota. Prop, plan y eq.'!X20","v":0}]
[null,null,1,"ifrs-smes:Goodwill","Plusvalía"]
[null,null,1,"ifrs-smes:IntangibleAssetsOtherThanGoodwill","Activos intangibles distintos de la plusvalía",{"$f":"+'823180 - Nota. Activos Intang.'!O32","v":0},{"$f":"+'823180 - Nota. Activos Intang.'!O55","v":0}]
[null,null,1,"ifrs-smes:InvestmentsInAssociates","Inversiones en asociadas"]
[null,null,1,"ifrs-smes:InvestmentsInJointVentures","Inversiones en negocios conjuntos"]
[null,null,1,"ifrs-smes:NoncurrentBiologicalAssetsAtCost","Activos biológicos no corrientes, al costo menos depreciación acumulada y deterioro del valor"]
[null,null,1,"ifrs-smes:NoncurrentBiologicalAssetsAtFairValue","Activos biológicos no corrientes, al valor razonable"]
[null,null,1,"ifrs-smes:NoncurrentReceivables","Cuentas comerciales por cobrar y otras cuentas por cobrar no corrientes",{"$f":"'800111 - Nota. Cuentas x cobrar'!H28+'800111 - Nota. Cuentas x cobrar'!I28","v":0},{"$f":"'800111 - Nota. Cuentas x cobrar'!H52+'800111 - Nota. Cuentas x cobrar'!I52","v":0}]
[null,null,1,"ifrs-smes:NoncurrentInventories","Inventarios no corrientes"]
[null,null,1,"ifrs-smes:DeferredTaxAssets","Activos por impuestos diferidos"]
[null,null,1,"ifrs-smes:CurrentTaxAssetsNoncurrent","Activos por impuestos corrientes, no corriente"]
[null,null,1,"ifrs-smes:OtherNoncurrentFinancialAssets","Otros activos financieros no corrientes"]
[null,null,1,"ifrs-smes:OtherNoncurrentNonfinancialAssets","Otros activos no financieros no corrientes"]
[null,null,1,"ifrs-smes:NoncurrentNoncashAssetsPledgedAsCollateralForWhichTransfereeHasRightByContractOrCustomToSellOrRepledgeCollateral","Activos no corrientes distintos al efectivo pignorados como garantía colateral para la cual el receptor de la transferencia tiene derecho por contrato o costumbre a vender o pignorar nuevamente la garantía colateral"]
[null,null,1,"ifrs-smes:NoncurrentAssets","Total de activos no corrientes",{"$f":"IF(SUM(F28:F42)=0,\"\",SUM(F28:F42))","v":""},{"$f":"IF(SUM(G28:G42)=0,\"\",SUM(G28:G42))","v":""}]
[null,null,1,"ifrs-smes:Assets","Total de activos",{"$f":"IF(SUM(F17:F25)+SUM(F28:F42)=0,\"\",SUM(F17:F25)+SUM(F28:F42))","v":""},{"$f":"SUM(G17:G25)+SUM(G28:G42)","v":0},null,{"$f":"IF(F44<>\"\",\"CORRECTO\",\"Debe registrar información para '\"&E44&\"' en la columna correspondiente al periodo actual.\")","v":"Debe registrar información para 'Total de activos' en la columna correspondiente al periodo actual."},{"$f":"IF(G44<>\"\",\"CORRECTO\",\"Debe registrar información para '\"&E44&\"' en la columna correspondiente al periodo anterior.\")","v":"CORRECTO"}]
[null,null,1,"ifrs-smes:EquityAndLiabilitiesAbstract","Patrimonio y pasivos [sinopsis]"]
[null,null,1,"ifrs-smes:LiabilitiesAbstract","Pasivos [sinopsis]"]
[null,null,1,"ifrs-smes:CurrentLiabilitiesAbstract","Pasivos corrientes [sinopsis]"]
[null,null,1,"ifrs-smes:CurrentProvisionsAbstract","Provisiones corrientes [sinopsis]"]
[null,null,1,"ifrs-smes:CurrentProvisionsForEmployeeBenefits","Provisiones corrientes por beneficios a los empleados"]
[null,null,1,"ifrs-smes:OtherShorttermProvisions","Otras provisiones corrientes"]
[null,null,1,"ifrs-smes:CurrentProvisions","Total provisiones corrientes",{"$f":"IF(SUM(F49:F50)=0,\"\",SUM(F49:F50))","v":""},{"$f":"IF(SUM(G49:G50)=0,\"\",SUM(G49:G50))","v":""}]
[null,null,1,"ifrs-smes:TradeAndOtherCurrentPayables","Cuentas por pagar comerciales y otras cuentas por pagar",{"$f":"'828000 - Nota. Cuentas x pagar'!F18+'828000 - Nota. Cuentas x pagar'!G18","v":0},{"$f":"'828000 - Nota. Cuentas x pagar'!F31+'828000 - Nota. Cuentas x pagar'!G31","v":0}]
[null,null,1,"ifrs-smes:CurrentTaxLiabilitiesCurrent","Pasivos por impuestos corrientes, corriente"]
[null,null,1,"ifrs-smes:OtherCurrentFinancialLiabilities","Otros pasivos financieros corrientes",{"$f":"'828000 - Nota. Cuentas x pagar'!F19+'828000 - Nota. Cuentas x pagar'!G19","v":0},{"$f":"'828000 - Nota. Cuentas x pagar'!F32+'828000 - Nota. Cuentas x pagar'!G32","v":0}]
[null,null,1,"ifrs-smes:OtherCurrentNonfinancialLiabilities","Otros pasivos no financieros corrientes"]
[null,null,1,"ifrs-smes:CurrentLiabilities","Pasivos corrientes totales",{"$f":"IF(SUM(F49:F50)+SUM(F52:F55)=0,\"\",SUM(F49:F50)+SUM(F52:F55))","v":""},{"$f":"IF(SUM(G49:G50)+SUM(G52:G55)=0,\"\",SUM(G49:G50)+SUM(G52:G55))","v":""}]
[null,null,1,"ifrs-smes:NoncurrentLiabilitiesAbstract","Pasivos no corrientes [sinopsis]"]
[null,null,1,"ifrs-smes:NoncurrentProvisionsAbstract","Provisiones no corrientes [sinopsis]"]
[null,null,1,"ifrs-smes:NoncurrentProvisionsForEmployeeBenefits","Provisiones no corrientes por beneficios a los empleados"]
[null,null,1,"ifrs-smes:OtherLongtermProvisions","Otras provisiones no corrientes"]
[null,null,1,"ifrs-smes:NoncurrentProvisions","Total provisiones no corrientes",{"$f":"IF(SUM(F59:F60)=0,\"\",SUM(F59:F60))","v":""},{"$f":"IF(SUM(G59:G60)=0,\"\",SUM(G59:G60))","v":""}]
[null,null,1,"ifrs-smes:NoncurrentPayables","Cuentas comerciales por pagar y otras cuentas por pagar no corrientes",{"$f":"'828000 - Nota. Cuentas x pagar'!H18+'828000 - Nota. Cuentas x pagar'!I18","v":0},{"$f":"'828000 - Nota. Cuentas x pagar'!H31+'828000 - Nota. Cuentas x pagar'!I31","v":0}]
[null,null,1,"ifrs-smes:DeferredTaxLiabilities","Pasivo por impuestos diferidos"]
[null,null,1,"ifrs-smes:CurrentTaxLiabilitiesNoncurrent","Pasivos por impuestos corrientes, no corriente"]
[null,null,1,"ifrs-smes:OtherNoncurrentFinancialLiabilities","Otros pasivos financieros no corrientes",{"$f":"'828000 - Nota. Cuentas x pagar'!H19+'828000 - Nota. Cuentas x pagar'!I19","v":0},{"$f":"'828000 - Nota. Cuentas x pagar'!H32+'828000 - Nota. Cuentas x pagar'!I32","v":0}]
[null,null,1,"ifrs-smes:OtherNoncurrentNonfinancialLiabilities","Otros pasivos no financieros no corrientes"]
[null,null,1,"ifrs-smes:NoncurrentLiabilities","Total de pasivos no corrientes",{"$f":"IF(SUM(F59:F60)+SUM(F62:F66)=0,\"\",SUM(F59:F60)+SUM(F62:F66))","v":""},{"$f":"IF(SUM(G59:G60)+SUM(G62:G66)=0,\"\",SUM(G59:G60)+SUM(G62:G66))","v":""}]
[null,null,1,"ifrs-smes:Liabilities","Total pasivos",{"$f":"IF(SUM(F49:F50)+SUM(F52:F55)+SUM(F59:F60)+SUM(F62:F66)=0,\"\",SUM(F49:F50)+SUM(F52:F55)+SUM(F59:F60)+SUM(F62:F66))","v":""},{"$f":"SUM(G49:G50)+SUM(G52:G55)+SUM(G59:G60)+SUM(G62:G66)","v":0},null,{"$f":"IF(F68<>\"\",\"CORRECTO\",\"Debe registrar información para '\"&E68&\"' en la columna correspondiente al periodo actual.\")","v":"Debe registrar información para 'Total pasivos' en la columna correspondiente al periodo actual."},{"$f":"IF(G68<>\"\",\"CORRECTO\",\"Debe registrar información para '\"&E68&\"' en la columna correspondiente al periodo anterior.\")","v":"CORRECTO"},null,null,{"$f":"IF(I68=\"CORRECTO\",0,1)","v":1},{"$f":"IF(J68=\"CORRECTO\",0,1)","v":0}]
[null,null,1,"ifrs-smes:EquityAbstract","Patrimonio [sinopsis]"]
[null,null,1,"ifrs-smes:IssuedCapital","Capital emitido: Capital social, Capital suscrito o Aportes sociales",null,null,null,{"$f":"IF(F70<>\"\",\"CORRECTO\",\"Debe registrar información para '\"&E70&\"' en la columna correspondiente al periodo actual.\")","v":"Debe registrar información para 'Capital emitido: Capital social, Capital suscrito o Aportes sociales' en la columna correspondiente al periodo actual."},{"$f":"IF(G70<>\"\",\"CORRECTO\",\"Debe registrar información para '\"&E70&\"' en la columna correspondiente al periodo anterior.\")","v":"Debe registrar información para 'Capital emitido: Capital social, Capital suscrito o Aportes sociales' en la columna correspondiente al periodo anterior."},null,null,{"$f":"IF(I70=\"CORRECTO\",0,1)","v":1},{"$f":"IF(J70=\"CORRECTO\",0,1)","v":1}]
[null,null,1,"ifrs-smes:RetainedEarnings","Ganancias acumuladas"]
[null,null,1,"ifrs-smes:SharePremium","Prima de emisión"]
[null,null,1,"ifrs-smes:TreasuryShares","Acciones propias en cartera"]
[null,null,1,"co-svsp-core:InversionSuplementariaAlCapitalAsignado","Inversión suplementaria al capital asignado"]
[null,null,1,"ifrs-smes:OtherEquityInterest","Otras participaciones en el patrimonio"]
[null,null,1,"ifrs-smes:OtherReserves","Otras reservas"]
[null,null,1,"ifrs-smes:Equity","Patrimonio total",{"$f":"IF(SUM(F70:F76)=0,\"\",F70+F71+F72-F73+F74+F75+F76)","v":""},{"$f":"G70+G71+G72-G73+G74+G75+G76","v":0},null,{"$f":"IF(F77<>\"\",\"CORRECTO\",\"Debe registrar información para '\"&E77&\"' en la columna correspondiente al periodo actual.\")","v":"Debe registrar información para 'Patrimonio total' en la columna correspondiente al periodo actual."},{"$f":"IF(G77<>\"\",\"CORRECTO\",\"Debe registrar información para '\"&E77&\"' en la columna correspondiente al periodo anterior.\")","v":"CORRECTO"},null,null,{"$f":"IF(I77=\"CORRECTO\",0,1)","v":1},{"$f":"IF(J77=\"CORRECTO\",0,1)","v":0}]
[null,null,1,"ifrs-smes:EquityAndLiabilities","Total de patrimonio y pasivos",{"$f":"IF(SUM(F49:F50)+SUM(F52:F55)+SUM(F59:F60)+SUM(F62:F66)+SUM(F70:F76)=0,\"\",SUM(F49:F50)+SUM(F52:F55)+SUM(F59:F60)+SUM(F62:F66)+F70+F71+F72-F73+F74+F75+F76)","v":""},{"$f":"SUM(G49:G50)+SUM(G52:G55)+SUM(G59:G60)+SUM(G62:G66)+G70+G71+G72-G73+G74+G75+G76","v":0},null,"Debe registrar información para 'Total de patrimonio y pasivos' en la columna correspondiente al periodo actual.",{"$f":"IF(G78<>\"\",\"CORRECTO\",\"Debe registrar información para '\"&E78&\"' en la columna correspondiente al periodo anterior.\")","v":"CORRECTO"},null,null,{"$f":"IF(I78=\"CORRECTO\",0,1)","v":1},{"$f":"IF(J78=\"CORRECTO\",0,1)","v":0}]
[]
[]
[]
[null,null,null,null,"Cumplimiento de la Ecuación contable",{"$f":"IF(F83=0,\"CORRECTO\",\"INCORRECTO\")","v":"INCORRECTO"},{"$f":"IF(G83=0,\"CORRECTO\",\"INCORRECTO\")","v":"CORRECTO"}]
[null,null,null,null,"Diferencia entre Activo y Pasivo + Patrimonio",{"$f":"IFERROR(+F44-F78,\"Registre valor en Total Activos y en Total Patrimonio y pasivos\")","v":"Registre valor en Total Activos y en Total Patrimonio y pasivos"},{"$f":"IFERROR(+G44-G78,\"Registre valor en Total Activos y en Total Patrimonio y pasivos\")","v":0}]

{"sheet":"310000 - Est. Resultados","index":20,"n_rows":34,"n_cols":15,"rows_kept":34,"cut":false,"hidden":false,"merged":[[6,3,8,9],[12,8,12,9]]}
[]
[]
[]
[]
[]
[]
[null,null,null,"310000 - ESTADO DE RESULTADOS"]
[]
[]
[]
[]
[null,null,null,null,null,1,2]
[null,null,null,null,null,"2019-12-31","2018-12-31",null,{"$f":"IF(O13=0,\"Formulario 'Estado de Resultados' Válido\",\"Formulario 'Estado de Resultados' con \"&O13&\" inconsistencias\")","v":"Formulario 'Estado de Resultados' con 4 inconsistencias"},null,null,null,null,null,{"$f":"SUM(N16:O31)","v":4}]
[null,null,0,"ifrs-smes:IncomeStatementAbstract","Resultado de periodo [resumen]"]
[null,null,0,"ifrs-smes:ProfitLossAbstract","Ganancia (pérdida) [resumen]"]
[null,null,0,"ifrs-smes:Revenue","Ingresos de actividades ordinarias",null,null,null,{"$f":"IF(F16<>\"\",\"CORRECTO\",\"Debe registrar información para '\"&E16&\"' en la columna correspondiente al periodo actual.\")","v":"Debe registrar información para 'Ingresos de actividades ordinarias' en la columna correspondiente al periodo actual."},{"$f":"IF(G16<>\"\",\"CORRECTO\",\"Debe registrar información para '\"&E16&\"'  en la columna correspondiente al periodo anterior.\")","v":"Debe registrar información para 'Ingresos de actividades ordinarias'  en la columna correspondiente al periodo anterior."},null,null,null,{"$f":"IF(I16=\"CORRECTO\",0,1)","v":1},1]
[null,null,0,"ifrs-smes:CostOfSales","Costo de ventas",null,null,null,{"$f":"IF(F17<>\"\",\"CORRECTO\",\"Debe registrar información para '\"&E17&\"' en la columna correspondiente al periodo actual.\")","v":"Debe registrar información para 'Costo de ventas' en la columna correspondiente al periodo actual."},{"$f":"IF(G17<>\"\",\"CORRECTO\",\"Debe registrar información para '\"&E17&\"'  en la columna correspondiente al periodo anterior.\")","v":"Debe registrar información para 'Costo de ventas'  en la columna correspondiente al periodo anterior."},null,null,null,1,1]
[null,null,0,"ifrs-smes:GrossProfit","Ganancia bruta",{"$f":"F16-F17","v":0},{"$f":"G16-G17","v":0},null,{"$f":"IF(F18<>\"\",\"CORRECTO\",\"Debe registrar información para '\"&E18&\"' en la columna correspondiente al periodo actual.\")","v":"CORRECTO"},{"$f":"IF(G18<>\"\",\"CORRECTO\",\"Debe registrar información para '\"&E18&\"'  en la columna correspondiente al periodo anterior.\")","v":"CORRECTO"},null,null,null,0,0]
[null,null,0,"ifrs-smes:OtherIncome","Otros ingresos"]
[null,null,0,"ifrs-smes:DistributionCosts","Costos de distribución"]
[null,null,0,"ifrs-smes:AdministrativeExpense","Gastos de administración"]
[null,null,0,"ifrs-smes:OtherExpenseByFunction","Otros gastos"]
[null,null,0,"ifrs-smes:OtherGainsLosses","Otras ganancias (pérdidas)"]
[null,null,0,"ifrs-smes:FinanceIncome","Ingresos financieros"]
[null,null,0,"ifrs-smes:FinanceCosts","Costos financieros"]
[null,null,0,"ifrs-smes:ShareOfProfitLossOfAssociatesAndJointVenturesAccountedForUsingEquityMethod","Participación en las ganancias (pérdidas) de asociadas y negocios conjuntos que se contabilicen utilizando el método de la participación"]
[null,null,0,"ifrs-smes:ProfitLossBeforeTax","Ganancia (pérdida), antes de impuestos",{"$f":"F16-F17+F19-F20-F21-F22+F23+F24-F25+F26","v":0},{"$f":"G16-G17+G19-G20-G21-G22+G23+G24-G25+G26","v":0},null,{"$f":"IF(F27<>\"\",\"CORRECTO\",\"Debe registrar información para '\"&E27&\"' en la columna correspondiente al periodo actual.\")","v":"CORRECTO"},{"$f":"IF(G27<>\"\",\"CORRECTO\",\"Debe registrar información para '\"&E27&\"'  en la columna correspondiente al periodo anterior.\")","v":"CORRECTO"},null,null,null,{"$f":"IF(I27=\"CORRECTO\",0,1)","v":0},{"$f":"IF(J27=\"CORRECTO\",0,1)","v":0}]
[null,null,0,"ifrs-smes:IncomeTaxExpenseContinuingOperations","Ingreso (gasto) por impuestos"]
[null,null,0,"ifrs-smes:ProfitLossFromContinuingOperations","Ganancia (pérdida) procedente de operaciones continuadas",{"$f":"IF(F27=\"\",\"\",F27-F28)","v":0},{"$f":"IF(G27=\"\",\"\",G27-G28)","v":0}]
[null,null,0,"ifrs-smes:ProfitLossFromDiscontinuedOperations","Ganancia (pérdida) procedente de operaciones discontinuadas"]
[null,null,0,"ifrs-smes:ProfitLoss","Ganancia (pérdida)",{"$f":"IF(F29=\"\",\"\",F29+F30)","v":0},{"$f":"IF(G29=\"\",\"\",G29+G30)","v":0},null,{"$f":"IF(F31<>\"\",\"CORRECTO\",\"Debe registrar información para '\"&E31&\"' en la columna correspondiente al periodo actual.\")","v":"CORRECTO"},{"$f":"IF(G31<>\"\",\"CORRECTO\",\"Debe registrar información para '\"&E31&\"'  en la columna correspondiente al periodo anterior.\")","v":"CORRECTO"},null,null,null,{"$f":"IF(I31=\"CORRECTO\",0,1)","v":0},{"$f":"IF(J31=\"CORRECTO\",0,1)","v":0}]
[null,null,0,"ifrs-smes:ProfitLossAttributableToAbstract","Ganancia (pérdida), atribuible a [sinopsis]"]
[null,null,0,"ifrs-smes:ProfitLossAttributableToOwnersOfParent","Ganancia (pérdida), atribuible a los propietarios de la controladora"]
[null,null,0,"ifrs-smes:ProfitLossAttributableToNoncontrollingInterests","Ganancia (pérdida), atribuible a participaciones no controladoras"]

{"sheet":"410000 - Est. Resultados ORI","index":21,"n_rows":29,"n_cols":14,"rows_kept":29,"cut":false,"hidden":false,"merged":[[6,4,8,9],[12,8,12,9]]}
[]
[]
[]
[]
[]
[]
[null,null,null,null,"410000 - ESTADO DE RESULTADOS - COMPONENTES ORI"]
[]
[]
[]
[]
[null,null,null,null,null,1,2]
[null,null,null,null,null,"2019-12-31","2018-12-31",null,{"$f":"IF(N13=0,\"Formulario 'Estado de Resultados - ORI' Válido\",\"Formulario 'Estado de Resultados - ORI' con \"&N13&\" inconsistencias\")","v":"Formulario 'Estado de Resultados - ORI' Válido"},null,null,null,null,{"$f":"SUM(M15:N28)","v":0}]
[null,null,0,"ifrs-smes:StatementOfComprehensiveIncomeAbstract","Estado del resultado integral [resumen]"]
[null,null,0,"ifrs-smes:ProfitLoss","Ganancia (pérdida)",{"$f":"IF('310000 - Est. Resultados'!F31=\"\",\"\",'310000 - Est. Resultados'!F31)","v":0},{"$f":"IF('310000 - Est. Resultados'!G31=\"\",\"\",'310000 - Est. Resultados'!G31)","v":0},null,{"$f":"IF(F15<>\"\",\"CORRECTO\",\"Debe registrar información para '\"&E15&\"' en la columna correspondiente al periodo actual.\")","v":"CORRECTO"},{"$f":"IF(G15<>\"\",\"CORRECTO\",\"Debe registrar información para '\"&E15&\"'  en la columna correspondiente al periodo anterior.\")","v":"CORRECTO"},null,null,{"$f":"IF(I15=\"CORRECTO\",0,1)","v":0},{"$f":"IF(J15=\"CORRECTO\",0,1)","v":0}]
[null,null,0,"ifrs-smes:OtherComprehensiveIncomeAbstract","Otro resultado integral [resumen]"]
[null,null,0,"ifrs-smes:ComponentsOfOtherComprehensiveIncomeThatWillNotBeReclassifiedToProfitOrLossNetOfTaxAbstract","Componentes de otro resultado integral que no se reclasificarán al resultado del periodo, neto de impuestos [resumen]"]
[null,null,0,"ifrs-smes:OtherComprehensiveIncomeNetOfTaxExchangeDifferencesOnTranslation","Otro resultado integral, neto de impuestos, diferencias de cambio por conversión"]
[null,null,0,"ifrs-smes:OtherComprehensiveIncomeNetOfTaxActuarialGainsLossesOnDefinedBenefitPlans","Otro resultado integral, neto de impuestos, ganancias (pérdidas) actuariales por planes de beneficios definidos"]
[null,null,0,"ifrs-smes:OtherComprehensiveIncomeNetOfTaxGainsLossesOnRevaluation","Otro resultado integral, neto de impuestos, ganancias (pérdidas) por revaluación"]
[null,null,0,"ifrs-smes:ComponentsOfOtherComprehensiveIncomeThatWillBeReclassifiedToProfitOrLossNetOfTaxAbstract","Componentes de otro resultado integral que se reclasificarán al resultado del periodo, neto de impuestos [resumen]"]
[null,null,0,"ifrs-smes:OtherComprehensiveIncomeNetOfTaxCashFlowHedges","Otro resultado integral, neto de impuestos, coberturas del flujo de efectivo"]
[null,null,0,"ifrs-smes:ShareOfOtherComprehensiveIncomeOfAssociatesAndJointVenturesAccountedForUsingEquityMethod","Participación en otro resultado integral de asociadas y negocios conjuntos que se contabilicen utilizando el método de la participación, neto de impuestos"]
[null,null,0,"ifrs-smes:OtherComprehensiveIncome","Total otro resultado integral",{"$f":"F18+F19+F20+F23","v":0},{"$f":"G18+G19+G20+G23","v":0},null,{"$f":"IFERROR(IF(F24<>\"\",\"CORRECTO\",\"Debe registrar información para '\"&E24&\"' en la columna correspondiente al periodo actual.\"),\"Debe registrar información para '\"&E24&\"' en la columna correspondiente al periodo actual.\")","v":"CORRECTO"},{"$f":"IFERROR(IF(G24<>\"\",\"CORRECTO\",\"Debe registrar información para '\"&G24&\"' en la columna correspondiente al periodo actual.\"),\"Debe registrar información para '\"&E24&\"' en la columna correspondiente al periodo actual.\")","v":"CORRECTO"},null,null,{"$f":"IF(I24=\"CORRECTO\",0,1)","v":0},0]
[null,null,0,"ifrs-smes:ComprehensiveIncome","Resultado integral total",{"$f":"IF(AND('310000 - Est. Resultados'!F31=\"\",F18=\"\",F19=\"\",F20=\"\",F23=\"\"),\"\",'310000 - Est. Resultados'!F31+F18+F19+F20+F23)","v":0},{"$f":"IF(AND('310000 - Est. Resultados'!G31=\"\",G18=\"\",G19=\"\",G20=\"\",G23=\"\"),\"\",'310000 - Est. Resultados'!G31+G18+G19+G20+G23)","v":0},null,{"$f":"IFERROR(IF(F25<>\"\",\"CORRECTO\",\"Debe registrar información para '\"&E25&\"' en la columna correspondiente al periodo actual.\"),\"Debe registrar información para '\"&E25&\"' en la columna correspondiente al periodo actual.\")","v":"CORRECTO"},{"$f":"IFERROR(IF(G25<>\"\",\"CORRECTO\",\"Debe registrar información para '\"&G25&\"' en la columna correspondiente al periodo actual.\"),\"Debe registrar información para '\"&E25&\"' en la columna correspondiente al periodo actual.\")","v":"CORRECTO"},null,null,0,0]
[null,null,0,"ifrs-smes:ComprehensiveIncomeAttributableToAbstract","Resultado integral atribuible a [sinopsis]"]
[null,null,0,"ifrs-smes:ComprehensiveIncomeAttributableToOwnersOfParent","Resultado integral atribuible a los propietarios de la controladora"]
[null,null,0,"ifrs-smes:ComprehensiveIncomeAttributableToNoncontrollingInterests","Resultado integral atribuible a participaciones no controladoras"]
[null,null,0,"ifrs-smes:GainsLossesOnRemeasuringAvailableforsaleFinancialAssetsNetOfTax"]

{"sheet":"520000 - Est. Flujos de Efec.","index":22,"n_rows":77,"n_cols":16,"rows_kept":77,"cut":false,"hidden":false,"merged":[[6,4,8,9],[12,8,12,9]]}
[]
[]
[]
[]
[]
[]
[null,null,null,null,"520000 - ESTADO DE FLUJOS DE EFECTIVO MÉTODO INDIRECTO"]
[]
[]
[]
[]
[null,null,null,null,null,1,2]
[null,null,null,null,null,"2019-12-31","2018-12-31",null,{"$f":"IF(P13=0,\"Formulario 'Estado de Flujos de Efectivo' Válido\",\"Formulario 'Estado de Flujos de Efectivo' con \"&P13&\" inconsistencias\")","v":"Formulario 'Estado de Flujos de Efectivo' Válido"},null,null,null,null,null,null,{"$f":"SUM(O16:P74)","v":0}]
[null,null,0,"ifrs-smes:StatementOfCashFlowsAbstract","Estado de flujos de efectivo [sinopsis]"]
[null,null,0,"co-svsp-core:ActividadesDeOperaciónSinopsis","Actividades de operación [sinopsis]"]
[null,null,0,"ifrs-smes:ProfitLoss","Ganancia (pérdida)",{"$f":"'310000 - Est. Resultados'!F31","v":0},{"$f":"'310000 - Est. Resultados'!G31","v":0},null,{"$f":"IF(F16<>\"\",\"CORRECTO\",\"Debe registrar información para '\"&E16&\"' en la columna correspondiente al periodo actual.\")","v":"CORRECTO"},{"$f":"IF(G16<>\"\",\"CORRECTO\",\"Debe registrar información para '\"&E16&\"'  en la columna correspondiente al periodo anterior.\")","v":"CORRECTO"},null,null,null,null,{"$f":"IF(I16=\"CORRECTO\",0,1)","v":0},{"$f":"IF(J16=\"CORRECTO\",0,1)","v":0}]
[null,null,0,"ifrs-smes:AdjustmentsForReconcileProfitLossAbstract","Ajustes para conciliar la ganancia (pérdida) [sinopsis]"]
[null,null,0,"ifrs-smes:AdjustmentsForIncomeTaxExpense","Ajustes por gasto por impuestos a las ganancias"]
[null,null,0,"ifrs-smes:AdjustmentsForDepreciationAndAmortisationExpense","Ajustes por gastos de depreciación y amortización"]
[null,null,0,"ifrs-smes:AdjustmentsForImpairmentLossReversalOfImpairmentLossRecognisedInProfitOrLoss","Ajustes por deterioro de valor (reversiones de pérdidas por deterioro de valor) reconocidas en el resultado del periodo"]
[null,null,0,"ifrs-smes:AdjustmentsForProvisions","Ajustes por provisiones"]
[null,null,0,"ifrs-smes:AdjustmentsForFinanceCosts","Ajustes por costos financieros"]
[null,null,0,"ifrs-smes:AdjustmentsForUnrealisedForeignExchangeLossesGains","Ajustes por pérdidas (ganancias) de moneda extranjera no realizadas"]
[null,null,0,"ifrs-smes:AdjustmentsForFairValueGainsLosses","Ajustes por pérdidas (ganancias) del valor razonable"]
[null,null,0,"ifrs-smes:AdjustmentsForUndistributedProfitsOfAssociates","Ajustes por ganancias no distribuidas de asociadas"]
[null,null,0,"co-svsp-core:AjustesPorPerdidasGananciasPorDisposicionDeActivosNoCorrientes","Ajustes por pérdidas (ganancias) por la disposición de activos no corrientes"]
[null,null,0,"ifrs-smes:OtherAdjustmentsToReconcileProfitLoss","Otros ajustes para conciliar la ganancia (pérdida)"]
[null,null,0,"ifrs-smes:AdjustmentsForReconcileProfitLoss","Total ajustes para conciliar la ganancia (pérdida)",{"$f":"+F18+F19+F20+F21+F22+F23+F24+F25+F26+F27","v":0},{"$f":"+G18+G19+G20+G21+G22+G23+G24+G25+G26+G27","v":0}]
[null,null,0,"ifrs-smes:CashFlowsFromUsedInOperatingActivitiesAbstract","Flujos de efectivo procedentes de (utilizados en) actividades de operación [sinopsis]"]
[null,null,0,"ifrs-smes:AdjustmentsForDecreaseIncreaseInInventories","Ajustes por disminuciones (incrementos) en los inventarios"]
[null,null,0,"ifrs-smes:AdjustmentsForDecreaseIncreaseInTradeAccountReceivable","Ajustes por la disminución (incremento) de cuentas por cobrar de origen comercial"]
[null,null,0,"ifrs-smes:AdjustmentsForDecreaseIncreaseInOtherOperatingReceivables","Ajustes por disminuciones (incrementos) en otras cuentas por cobrar derivadas de las actividades de operación"]
[null,null,0,"ifrs-smes:AdjustmentsForIncreaseDecreaseInTradeAccountPayable","Ajustes por el incremento (disminución) de cuentas por pagar de origen comercial"]
[null,null,0,"ifrs-smes:AdjustmentsForIncreaseDecreaseInOtherOperatingPayables","Ajustes por incrementos (disminuciones) en otras cuentas por pagar derivadas de las actividades de operación"]
[null,null,0,"ifrs-smes:OtherInflowsOutflowsOfCashClassifiedAsOperatingActivities","Otras entradas (salidas) de efectivo"]
[null,null,0,"ifrs-smes:CashFlowsFromUsedInOperatingActivities","Flujos de efectivo netos procedentes de (utilizados en) actividades de operación",{"$f":"F16+F28+F30+F31+F32+F33+F34+F35","v":0},{"$f":"G16+G28+G30+G31+G32+G33+G34+G35","v":0}]
[null,null,0,"ifrs-smes:CashFlowsFromUsedInInvestingActivitiesAbstract","Flujos de efectivo procedentes de (utilizados en) actividades de inversión [sinopsis]"]
[null,null,0,"ifrs-smes:CashFlowsFromLosingControlOfSubsidiariesOrOtherBusinessesClassifiedAsInvestingActivities","Flujos de efectivo procedentes de la pérdida de control de subsidiarias u otros negocios"]
[null,null,0,"ifrs-smes:CashFlowsUsedInObtainingControlOfSubsidiariesOrOtherBusinessesClassifiedAsInvestingActivities","Flujos de efectivo utilizados para obtener el control de subsidiarias u otros negocios"]
[null,null,0,"ifrs-smes:OtherCashReceiptsFromSalesOfEquityOrDebtInstrumentsOfOtherEntitiesClassifiedAsInvestingActivities","Otros cobros por la venta de patrimonio o instrumentos de deuda de otras entidades"]
[null,null,0,"ifrs-smes:OtherCashPaymentsToAcquireEquityOrDebtInstrumentsOfOtherEntitiesClassifiedAsInvestingActivities","Otros pagos para adquirir patrimonio o instrumentos de deuda de otras entidades"]
[null,null,0,"ifrs-smes:OtherCashReceiptsFromSalesOfInterestsInJointVenturesClassifiedAsInvestingActivities","Otros cobros por la venta de participaciones en negocios conjuntos"]
[null,null,0,"ifrs-smes:OtherCashPaymentsToAcquireInterestsInJointVenturesClassifiedAsInvestingActivities","Otros pagos para adquirir participaciones en negocios conjuntos"]
[null,null,0,"ifrs-smes:ProceedsFromSalesOfPropertyPlantAndEquipmentClassifiedAsInvestingActivities","Importes procedentes de la venta de propiedades, planta y equipo"]
[null,null,0,"ifrs-smes:PurchaseOfPropertyPlantAndEquipmentClassifiedAsInvestingActivities","Compras de propiedades, planta y equipo"]
[null,null,0,"ifrs-smes:ProceedsFromSalesOfIntangibleAssetsClassifiedAsInvestingActivities","Importes procedentes de ventas de activos intangibles"]
[null,null,0,"ifrs-smes:PurchaseOfIntangibleAssetsClassifiedAsInvestingActivities","Compras de activos intangibles"]
[null,null,0,"ifrs-smes:ProceedsFromOtherLongtermAssetsClassifiedAsInvestingActivities","Recursos por ventas de otros activos a largo plazo"]
[null,null,0,"ifrs-smes:PurchaseOfOtherLongtermAssetsClassifiedAsInvestingActivities","Compras de otros activos a largo plazo"]
[null,null,0,"ifrs-smes:CashPaymentsForFutureContractsForwardContractsOptionContractsAndSwapContractsClassifiedAsInvestingActivities","Pagos en efectivo por contratos de futuros, contratos a término, contratos de opciones y contratos de permuta financiera, clasificados como actividades de inversión"]
[null,null,0,"ifrs-smes:CashReceiptsFromFutureContractsForwardContractsOptionContractsAndSwapContractsClassifiedAsInvestingActivities","Cobros en efectivo por contratos de futuros, contratos a término, contratos de opciones y contratos de permuta financiera, clasificados como actividades de inversión"]
[null,null,0,"ifrs-smes:DividendsReceivedClassifiedAsInvestingActivities","Dividendos recibidos"]
[null,null,0,"ifrs-smes:InterestReceivedClassifiedAsInvestingActivities","Intereses recibidos"]
[null,null,0,"ifrs-smes:OtherInflowsOutflowsOfCashClassifiedAsInvestingActivities","Otras entradas (salidas) de efectivo"]
[null,null,0,"ifrs-smes:CashFlowsFromUsedInInvestingActivities","Flujos de efectivo netos procedentes de (utilizados en) actividades de inversión",{"$f":"F38+F39+F40+F41+F42+F43+F44+F45+F46+F47+F48+F49+F50+F51+F52+F53+F54","v":0},{"$f":"G38+G39+G40+G41+G42+G43+G44+G45+G46+G47+G48+G49+G50+G51+G52+G53+G54","v":0}]
[null,null,0,"ifrs-smes:CashFlowsFromUsedInFinancingActivitiesAbstract","Flujos de efectivo procedentes de (utilizados en) actividades de financiación [sinopsis]"]
[null,null,0,"co-svsp-core:ImportesProcedentesDeAumentoDeCapitalYORecolocacionDeAcciones","Importes procedentes de aumento de capital y/o recolocación de acciones"]
[null,null,0,"co-svsp-core:DisminucionDeCapitalDocialYOReadquisicionDeAcciones","Disminución de capital social y/o readquisición de acciones"]
[null,null,0,"ifrs-smes:PaymentsOfOtherEquityInstruments","Pagos por otras participaciones en el patrimonio"]
[null,null,0,"co-svsp-core:ImporteProcedenteDelAumentoPrimaPorEmision","Importe procedente del aumento prima por emisión"]
[null,null,0,"co-svsp-core:DisminucionDePrimaPorEmision","Disminución de prima por emisión"]
[null,null,0,"ifrs-smes:ProceedsFromBorrowingsClassifiedAsFinancingActivities","Importes procedentes de préstamos"]
[null,null,0,"ifrs-smes:RepaymentsOfBorrowingsClassifiedAsFinancingActivities","Reembolsos de préstamos"]
[null,null,0,"ifrs-smes:PaymentsOfFinanceLeaseLiabilitiesClassifiedAsFinancingActivities","Pagos de pasivos por arrendamientos financieros"]
[null,null,0,"ifrs-smes:DividendsPaidClassifiedAsFinancingActivities","Dividendos pagados"]
[null,null,0,"ifrs-smes:InterestPaidClassifiedAsFinancingActivities","Intereses pagados"]
[null,null,0,"ifrs-smes:OtherInflowsOutflowsOfCashClassifiedAsFinancingActivities","Otras entradas (salidas) de efectivo"]
[null,null,0,"ifrs-smes:CashFlowsFromUsedInFinancingActivities","Flujos de efectivo netos procedentes de (utilizados en) actividades de financiación",{"$f":"F57+F58+F59+F60+F61+F62+F63+F64+F65+F66+F67","v":0},{"$f":"G57+G58+G59+G60+G61+G62+G63+G64+G65+G66+G67","v":0}]
[null,null,0,"ifrs-smes:IncreaseDecreaseInCashAndCashEquivalentsBeforeEffectOfExchangeRateChanges","Incremento (disminución) neto de efectivo y equivalentes al efectivo, antes del efecto de los cambios en la tasa de cambio",{"$f":"+F36+F55+F68","v":0},{"$f":"+G36+G55+G68","v":0}]
[null,null,0,"ifrs-smes:EffectOfExchangeRateChangesOnCashAndCashEquivalentsAbstract","Efectos de la variación en la tasa de cambio sobre el efectivo y equivalentes al efectivo [sinopsis]"]
[null,null,0,"ifrs-smes:EffectOfExchangeRateChangesOnCashAndCashEquivalents","Efectos de la variación en la tasa de cambio sobre el efectivo y equivalentes al efectivo"]
[null,null,0,"ifrs-smes:IncreaseDecreaseInCashAndCashEquivalents","Incremento (disminución) neto de efectivo y equivalentes al efectivo",{"$f":"+F69+F71","v":0},{"$f":"+G69+G71","v":0},null,{"$f":"IF(F72=F74-F73,\"CORRECTO\",\"El valor calculado para '\"&E72&\"' debe ser igual a la diferencia entre '\"&E74&\"' menos '\"&E73&\"', en la columna correspondiente al periodo actual.\")","v":"CORRECTO"},{"$f":"IF(G72=G74-G73,\"CORRECTO\",\"El valor calculado para '\"&E72&\"' debe ser igual a la diferencia entre '\"&E74&\"' menos '\"&E73&\"', en la columna correspondiente al periodo actual.\")","v":"CORRECTO"},null,null,null,null,{"$f":"IF(I72=\"CORRECTO\",0,1)","v":0},0]
[null,null,0,"ifrs-smes:CashAndCashEquivalents","Efectivo y equivalentes al efectivo al principio del periodo",{"$f":"+'800101 - Nota. Efect. y Equiv.'!G25","v":0},{"$f":"'800101 - Nota. Efect. y Equiv.'!H25","v":0},null,{"$f":"IF(F73<>\"\",\"CORRECTO\",\"Debe registrar información para '\"&E73&\"' en la columna correspondiente al periodo actual.\")","v":"CORRECTO"},{"$f":"IF(G73<>\"\",\"CORRECTO\",\"Debe registrar información para '\"&E73&\"'  en la columna correspondiente al periodo anterior.\")","v":"CORRECTO"},null,null,null,null,0,0]
[null,null,0,"ifrs-smes:CashAndCashEquivalents","Efectivo y equivalentes al efectivo al final del periodo",{"$f":"+'800101 - Nota. Efect. y Equiv.'!F25","v":0},{"$f":"+'800101 - Nota. Efect. y Equiv.'!G25","v":0},null,{"$f":"IF(F74<>\"\",\"CORRECTO\",\"Debe registrar información para '\"&E74&\"' en la columna correspondiente al periodo actual.\")","v":"CORRECTO"},{"$f":"IF(G74<>\"\",\"CORRECTO\",\"Debe registrar información para '\"&E74&\"'  en la columna correspondiente al periodo anterior.\")","v":"CORRECTO"},null,null,null,null,0,0]
[]
[]
[null,null,null,null,"Diferencia entre los valores calculados en el Esado de Flujos de Efectivo y los registrados para Efectivo y equivalentes del efectivo",{"$f":"F72-(F74-F73)","v":0},{"$f":"G72-(G74-G73)","v":0}]

{"sheet":"610000 - Est. Camb. Patrimonio","index":23,"n_rows":57,"n_cols":21,"rows_kept":57,"cut":false,"hidden":false,"merged":[[6,4,8,16],[12,5,12,14],[36,5,36,14]]}
[]
[]
[]
[]
[]
[]
[null,null,null,null,"610000 - Estado de Cambios en el patrimonio"]
[]
[]
[]
[]
[]
[null,null,null,null,null,"Periodo Actual 31/12/2019",null,null,null,null,null,null,null,null,null,null,{"$f":"IF(U13=0,\"Formulario 'Estado de Cambios en el Patrimonio' Válido\",\"Formulario 'Estado de Cambios en el Patrimonio' con \"&U13&\" inconsistencias\")","v":"Formulario 'Estado de Cambios en el Patrimonio' con 1 inconsistencias"},null,null,null,{"$f":"SUM(U21:U33)+SUM(U45:U57)","v":1}]
[null,null,null,null,null,"ifrs-smes:IssuedCapitalMember","ifrs-smes:SharePremiumMember","ifrs-smes:TreasurySharesMember","ifrs-smes:OtherEquityInterestMember","ifrs-smes:RevaluationSurplusMember","ifrs-smes:ReserveOfExchangeDifferencesOnTranslationMember","ifrs-smes:ReserveOfCashFlowHedgesMember","ifrs-smes:OtherReservesMember","ifrs-smes:RetainedEarningsMember","ifrs-smes:EquityMember"]
[null,null,null,null,"ifrs-smes:ComponentsOfEquityAxis","Capital emitido [miembro]","Prima de emisión [miembro]","Acciones propias en cartera [miembro]","Otras participaciones en el patrimonio [miembro]","Reverva por superávit de revaluación [miembro]","Reserva de diferencias de cambio en conversiones [miembro]","Reserva de coberturas de flujo de efectivo [miembro]","Total Otras reservas [miembro]","Ganancias acumuladas [miembro]","Patrimonio [miembro]"]
[null,null,"0;1","ifrs-smes:StatementOfChangesInEquityAbstract","Estado de cambios en el patrimonio [resumen]"]
[null,null,"0;1","ifrs-smes:StatementOfChangesInEquityLineItems","Estado de cambios en el patrimonio [partidas de los estados financieros]"]
[null,null,"1;2","ifrs-smes:Equity","Patrimonio al comienzo del periodo",{"$f":"+F57","v":0},{"$f":"+G57","v":0},{"$f":"+H57","v":0},0,0,0,0,{"$f":"J18+K18+L18","v":0},{"$f":"+N57","v":0},{"$f":"F18+G18-H18+I18+M18+N18","v":0}]
[null,null,"0;1","ifrs-smes:ChangesInEquityAbstract","Cambios en el patrimonio [resumen]"]
[null,null,"0;1","ifrs-smes:ComprehensiveIncomeAbstract","Resultado integral [resumen]"]
[null,null,"0;1","ifrs-smes:ProfitLoss","Ganancia (pérdida)",null,null,null,null,null,null,null,{"$f":"J21+K21+L21","v":0},null,{"$f":"F21+G21-H21+I21+M21+N21","v":0},null,{"$f":"IF(O21='310000 - Est. Resultados'!F31,\"CORRECTO\",\"La información registrada en este formulario para '\"&E21&\"' en la columna '\"&O15&\"' para del periodo actual, debe ser igual al reportado en el Estado de Resultados\")","v":"CORRECTO"},null,null,null,{"$f":"IF(Q21=\"CORRECTO\",0,1)","v":0}]
[null,null,"0;1","ifrs-smes:OtherComprehensiveIncome","Otro resultado integral",null,null,null,null,null,null,null,{"$f":"J22+K22+L22","v":0},null,0,null,{"$f":"IF(O22='410000 - Est. Resultados ORI'!F24,\"CORRECTO\",\"La información registrada en este formulario para '\"&E22&\"' en la columna '\"&O15&\"' para del periodo actual, debe ser igual al reportado en el formularo ORI\")","v":"CORRECTO"},null,null,null,{"$f":"IF(Q22=\"CORRECTO\",0,1)","v":0}]
[null,null,"0;1","ifrs-smes:ComprehensiveIncome","Resultado integral total",{"$f":"+F21+F22","v":0},{"$f":"+G21+G22","v":0},0,0,0,0,0,0,0,0,null,{"$f":"IF(O23='410000 - Est. Resultados ORI'!F25,\"CORRECTO\",\"La información registrada en este formulario para '\"&E23&\"' en la columna '\"&O15&\"' para del periodo actual, debe ser igual al reportado en el formulario ORI\")","v":"CORRECTO"},null,null,null,{"$f":"IF(Q23=\"CORRECTO\",0,1)","v":0}]
[null,null,"0;1","ifrs-smes:IssueOfEquity","Emisión de patrimonio",null,null,null,null,null,null,null,{"$f":"J24+K24+L24","v":0},null,0]
[null,null,"0;1","ifrs-smes:DividendsPaid","Dividendos reconocidos como distribuciones a los propietarios",null,null,null,null,null,null,null,0,null,0]
[null,null,"0;1","ifrs-smes:IncreaseDecreaseThroughOtherContributionsByOwners","Incrementos por otras aportaciones de los propietarios, patrimonio",null,null,null,null,null,null,null,0,null,0]
[null,null,"0;1","ifrs-smes:IncreaseDecreaseThroughOtherDistributionsToOwners","Disminución por otras distribuciones a los propietarios, patrimonio",null,null,null,null,null,null,null,0,null,0]
[null,null,"0;1","ifrs-smes:IncreaseDecreaseThroughTransfersAndOtherChangesEquity","Incrementos (disminuciones) por otros cambios, patrimonio",null,null,null,null,null,null,null,0,null,0]
[null,null,"0;1","ifrs-smes:IncreaseDecreaseThroughTreasuryShareTransactions","Incrementos (disminuciones) por transacciones con acciones propias, patrimonio",null,null,null,null,null,null,null,0,null,0]
[null,null,"0;1","ifrs-smes:IncreaseDecreaseThroughChangesInOwnershipInterestsInSubsidiariesThatDoNotResultInLossOfControl","Incrementos (disminuciones) por cambios las participaciones en la propiedad de subsidiarias que no dan lugar a pérdida de control, patrimonio",null,null,null,null,null,null,null,0,null,0]
[null,null,"0;1","ifrs-smes:IncreaseDecreaseThroughSharebasedPaymentTransactions","Incrementos (disminuciones) por transacciones con pagos basados en acciones, patrimonio",null,null,null,null,null,null,null,0,null,0]
[null,null,"0;1","ifrs-smes:ChangesInEquity","Total incremento (disminución) en el patrimonio",{"$f":"F23+F24-F25+F26-F27+F28+F29+F30+F31","v":0},{"$f":"G23+G24-G25+G26-G27+G28+G29+G30+G31","v":0},0,0,0,0,0,0,0,{"$f":"O23+O24-O25+O26-O27+O28+O29+O30+O31","v":0}]
[null,null,"1;1","ifrs-smes:Equity","Patrimonio al final del periodo",{"$f":"+F18+F32","v":0},{"$f":"+G18+G32","v":0},0,0,0,0,0,{"$f":"J33+K33+L33","v":0},0,{"$f":"F33+G33-H33+I33+M33+N33","v":0},null,{"$f":"IF(O33='210000 - Est. Situa. Financiera'!F77,\"CORRECTO\",\"La información registrada en este formulario para '\"&E33&\"' en la columna '\"&O15&\"' para del periodo actual, debe ser igual al reportado en el formulario Estado de Situación Financiera\")","v":"La información registrada en este formulario para 'Patrimonio al final del periodo' en la columna 'Patrimonio [miembro]' para del periodo actual, debe ser igual al reportado en el formulario Estado de Situación Financiera"},null,null,null,{"$f":"IF(Q33=\"CORRECTO\",0,1)","v":1}]
[]
[]
[]
[null,null,null,null,null,"Periodo Anterior 31/12/2018"]
[null,null,null,null,null,"ifrs-smes:IssuedCapitalMember","ifrs-smes:SharePremiumMember","ifrs-smes:TreasurySharesMember","ifrs-smes:OtherEquityInterestMember","ifrs-smes:RevaluationSurplusMember","ifrs-smes:ReserveOfExchangeDifferencesOnTranslationMember","ifrs-smes:ReserveOfCashFlowHedgesMember","ifrs-smes:OtherReservesMember","ifrs-smes:RetainedEarningsMember","ifrs-smes:EquityMember"]
[null,null,null,null,"ifrs-smes:ComponentsOfEquityAxis","Capital emitido [miembro]","Prima de emisión [miembro]","Acciones propias en cartera [miembro]","Otras participaciones en el patrimonio [miembro]","Reserva por superávit de revaluación [miembro]","Reserva de diferencias de cambio en conversiones [miembro]","Reserva de coberturas de flujo de efectivo [miembro]","Total Otras reservas [miembro]","Ganancias acumuladas [miembro]","Patrimonio [miembro]"]
[null,null,"0;2","ifrs-smes:StatementOfChangesInEquityAbstract","Estado de cambios en el patrimonio [resumen]"]
[null,null,"0;2","ifrs-smes:StatementOfChangesInEquityLineItems","Estado de cambios en el patrimonio [partidas de los estados financieros]"]
[null,null,"1;3","ifrs-smes:Equity","Patrimonio al comienzo del periodo",null,null,null,null,null,null,null,{"$f":"J42+K42+L42","v":0},null,{"$f":"F42+G42-H42+I42+M42+N42","v":0}]
[null,null,"0;2","ifrs-smes:ChangesInEquityAbstract","Cambios en el patrimonio [resumen]"]
[null,null,"0;2","ifrs-smes:ComprehensiveIncomeAbstract","Resultado integral [resumen]"]
[null,null,"0;2","ifrs-smes:ProfitLoss","Ganancia (pérdida)",null,null,null,null,null,null,null,{"$f":"J45+K45+L45","v":0},null,{"$f":"F45+G45-H45+I45+M45+N45","v":0},null,{"$f":"IF(O45='310000 - Est. Resultados'!G31,\"CORRECTO\",\"La información registrada en este formulario para '\"&E45&\"' en la columna '\"&O39&\"' para del periodo anterior, debe ser igual al reportado en el Estado de Resultados\")","v":"CORRECTO"},null,null,null,{"$f":"IF(Q45=\"CORRECTO\",0,1)","v":0}]
[null,null,"0;2","ifrs-smes:OtherComprehensiveIncome","Otro resultado integral",null,null,null,null,null,null,null,{"$f":"J46+K46+L46","v":0},null,0,null,{"$f":"IF(O46='410000 - Est. Resultados ORI'!G24,\"CORRECTO\",\"La información registrada en este formulario para '\"&E46&\"' en la columna '\"&O39&\"' para del periodo anterior, debe ser igual al reportado en el formularo ORI\")","v":"CORRECTO"},null,null,null,{"$f":"IF(Q46=\"CORRECTO\",0,1)","v":0}]
[null,null,"0;2","ifrs-smes:ComprehensiveIncome","Resultado integral total",{"$f":"+F45+F46","v":0},{"$f":"+G45+G46","v":0},0,0,0,0,0,0,0,0,null,{"$f":"IF(O47='410000 - Est. Resultados ORI'!G25,\"CORRECTO\",\"La información registrada en este formulario para '\"&E47&\"' en la columna '\"&O39&\"' para del periodo anterior, debe ser igual al reportado en el formulario ORI\")","v":"CORRECTO"},null,null,null,{"$f":"IF(Q47=\"CORRECTO\",0,1)","v":0}]
[null,null,"0;2","ifrs-smes:IssueOfEquity","Emisión de patrimonio",null,null,null,null,null,null,null,{"$f":"J48+K48+L48","v":0},null,0]
[null,null,"0;2","ifrs-smes:DividendsPaid","Dividendos reconocidos como distribuciones a los propietarios",null,null,null,null,null,null,null,0,null,0]
[null,null,"0;2","ifrs-smes:IncreaseDecreaseThroughOtherContributionsByOwners","Incrementos por otras aportaciones de los propietarios, patrimonio",null,null,null,null,null,null,null,0,null,0]
[null,null,"0;2","ifrs-smes:IncreaseDecreaseThroughOtherDistributionsToOwners","Disminución por otras distribuciones a los propietarios, patrimonio",null,null,null,null,null,null,null,0,null,0]
[null,null,"0;2","ifrs-smes:IncreaseDecreaseThroughTransfersAndOtherChangesEquity","Incrementos (disminuciones) por otros cambios, patrimonio",null,null,null,null,null,null,null,0,null,0]
[null,null,"0;2","ifrs-smes:IncreaseDecreaseThroughTreasuryShareTransactions","Incrementos (disminuciones) por transacciones con acciones propias, patrimonio",null,null,null,null,null,null,null,0,null,0]
[null,null,"0;2","ifrs-smes:IncreaseDecreaseThroughChangesInOwnershipInterestsInSubsidiariesThatDoNotResultInLossOfControl","Incrementos (disminuciones) por cambios las participaciones en la propiedad de subsidiarias que no dan lugar a pérdida de control, patrimonio",null,null,null,null,null,null,null,0,null,0]
[null,null,"0;2","ifrs-smes:IncreaseDecreaseThroughSharebasedPaymentTransactions","Incrementos (disminuciones) por transacciones con pagos basados en acciones, patrimonio",null,null,null,null,null,null,null,0,null,0]
[null,null,"0;2","ifrs-smes:ChangesInEquity","Total incremento (disminución) en el patrimonio",{"$f":"F47+F48-F49+F50-F51+F52+F53+F54+F55","v":0},{"$f":"G47+G48-G49+G50-G51+G52+G53+G54+G55","v":0},0,0,0,0,0,0,0,{"$f":"O47+O48-O49+O50-O51+O52+O53+O54+O55","v":0}]
[null,null,"1;2","ifrs-smes:Equity","Patrimonio al final del periodo",{"$f":"+F42+F56","v":0},{"$f":"+G42+G56","v":0},0,0,0,0,0,{"$f":"J57+K57+L57","v":0},{"$f":"+N42+N56","v":0},{"$f":"F57+G57-H57+I57+M57+N57","v":0},null,{"$f":"IF(O57='210000 - Est. Situa. Financiera'!G77,\"CORRECTO\",\"La información registrada en este formulario para '\"&E57&\"' en la columna '\"&O39&\"' para del periodo anterior, debe ser igual al reportado en el formulario Estado de Situación Financiera\")","v":"CORRECTO"},null,null,null,{"$f":"IF(Q57=\"CORRECTO\",0,1)","v":0}]

{"sheet":"Anotaciones","index":24,"n_rows":8,"n_cols":3,"rows_kept":8,"cut":false,"hidden":false,"merged":[[4,2,4,11],[7,2,7,11]]}
[]
[]
[]
[]
[null,null,"ANOTACIONES"]
[]
[]
[null,null,"Esta hoja tiene por propósito que el usuario final, quien diligencia la información, pueda tomar las anotaciones que considere convenientes mientras diligencia la información y genera la plantilla. El contenido de esta hoja NO se utilizará al momento de generar el archivo .xbrl que será remitido a la Superintendencia de Vigilancia y Seguridad Privada."]

{"sheet":"Data","index":25,"n_rows":34,"n_cols":25,"rows_kept":34,"cut":false,"hidden":true,"merged":[]}
["RowId","Footnote","Local Primary Item","Primary Item","Decimals","UnitRef","Fact","Identifier","IdentifierSchema","PeriodInitDuration","PeriodEndInstant","Dimension","DimensionMember","Dimension","DimensionMember","Dimension","DimensionMember","Dimension","DimensionMember","Dimension","DimensionMember","Dimension","DimensionMember","Dimension","DimensionMember"]
["/* "]
["/* "]
["/*"]
["/**OutputHeader","xmlns:xbrli = 'http://www.xbrl.org/2003/instance'"]
["/**OutputHeader","xmlns:link = 'http://www.xbrl.org/2003/linkbase'"]
["/**OutputHeader","xmlns:xlink = 'http://www.w3.org/1999/xlink'"]
["/**OutputHeader","xmlns:xsi='http://www.w3.org/2001/XMLSchema-instance'"]
["/**OutputHeader","xmlns:iso4217='http://www.xbrl.org/2003/iso4217'"]
["/**OutputHeader","xmlns:xbrldi='http://xbrl.org/2006/xbrldi'"]
["/**OutputHeader","xmlns:rsu='http://www.reportingstandard.com/userDefinedUnits'"]
["/**OutputHeader","xmlns:ifrs-smes='http://xbrl.ifrs.org/taxonomy/2019-03-27/ifrs-smes'"]
["/**OutputHeader","xmlns:co-svsp-core='http://www.supervigilancia.gov.co/tools/Taxonomias/2019-12-31/'"]
["/**OutputHeader",{"$f":"\"link:schemaRef xlink:type='simple' xlink:href='\"&cHRef&\"'\"","v":"link:schemaRef xlink:type='simple' xlink:href='https://www.supervigilancia.gov.co/tools/Taxonomias/2019-12-31/Grupo2_2019-12-31.xsd'"}]
["/**OutputMiddle","<xbrli:unit id=\"peso\">\n<xbrli:measure>iso4217:COP</xbrli:measure>\n</xbrli:unit>",null,"<xbrli:unit id=\"peso\">\n<xbrli:measure>iso4217:","COP","</xbrli:measure>\n</xbrli:unit>"]
["/**OutputMiddle","<xbrli:unit id=\"entero\">\n<xbrli:measure>xbrli:pure</xbrli:measure>\n</xbrli:unit>",null,"<xbrli:unit id=\"entero\">\n<xbrli:measure>xbrli:","pure","</xbrli:measure>\n</xbrli:unit>"]
["/**OutputMiddle","<xbrli:unit id=\"pesoXaccion\">    <xbrli:divide>\n      <xbrli:unitNumerator>\n      <xbrli:measure>iso4217:COP</xbrli:measure>\n      </xbrli:unitNumerator>\n      <xbrli:unitDenominator>\n      <xbrli:measure>xbrli:shares</xbrli:measure>\n      </xbrli:unitDenominator>\n    </xbrli:divide>\n</xbrli:unit>",null,"<xbrli:unit id=\"pesoXaccion\">","    <xbrli:divide>\n      <xbrli:unitNumerator>\n      <xbrli:measure>iso4217:COP</xbrli:measure>\n      </xbrli:unitNumerator>\n      <xbrli:unitDenominator>\n      <xbrli:measure>xbrli:shares</xbrli:measure>\n      </xbrli:unitDenominator>\n    </xbrli:divide>\n","</xbrli:unit>"]
["/**OutputMiddle","<xbrli:unit id=\"porcentaje\">\n<xbrli:measure>xbrli:pure</xbrli:measure>\n</xbrli:unit>",null,"<xbrli:unit id=\"porcentaje\">\n<xbrli:measure>xbrli:","pure","</xbrli:measure>\n</xbrli:unit>"]
["/**OutputMiddle","<xbrli:unit id=\"decimal\">\n<xbrli:measure>xbrli:pure</xbrli:measure>\n</xbrli:unit>",null,"<xbrli:unit id=\"decimal\">\n<xbrli:measure>xbrli:","pure","</xbrli:measure>\n</xbrli:unit>"]
["/**OutputMiddle","<xbrli:unit id=\"acciones\">\n<xbrli:measure>xbrli:shares</xbrli:measure>\n</xbrli:unit>",null,"<xbrli:unit id=\"acciones\">\n<xbrli:measure>xbrli:","shares","</xbrli:measure>\n</xbrli:unit>"]
["/**OutputMiddle","<xbrli:unit id=\"indefinido\">\n<xbrli:measure>rsu:undefined</xbrli:measure>\n</xbrli:unit>",null,"<xbrli:unit id=\"indefinido\">\n<xbrli:measure>xbrli:","rsu:undefined","</xbrli:measure>\n</xbrli:unit>"]
["/**FootnoteLang","\"en\""]
["/**OutputTail","</xbrli:xbrl>"]
["/*"]
[null,"_1-peso",null,null,0,"peso",null,{"$f":"hwNIT","v":0},"http://www.xbrl.org/scheme/companyName"]
[null,"_2-vacio",null,null,null,null,null,0,"http://www.xbrl.org/scheme/companyName"]
[null,"_3-entero",null,null,0,"entero",null,0,"http://www.xbrl.org/scheme/companyName"]
[null,"_4-pesoXaccion",null,null,"INF","pesoXaccion",null,0,"http://www.xbrl.org/scheme/companyName"]
[null,"_5-porcentaje",null,null,"INF","porcentaje",null,0,"http://www.xbrl.org/scheme/companyName"]
[null,"_6-decimal",null,null,"INF","decimal",null,0,"http://www.xbrl.org/scheme/companyName"]
[null,"_7-acciones",null,null,"INF","acciones",null,0,"http://www.xbrl.org/scheme/companyName"]
[null,"_8-pesomillares",null,null,0,"peso",null,0,"http://www.xbrl.org/scheme/companyName"]
["/*"]
[{"$f":"IF(G34=\"\",\"/*\",\"\")","v":"/*"}]